{"text_format":"1","workbook":"xlsx","n_sheets":10,"sheets":["Comandos","Análises","MG_series_dessazonalizadas","MG_series","Faturamento_MG_setores","Emprego_MG_setores","Horas_Trabalhadas_MG_setores","Massa_Salarial_MG_setores","Rendimento_Médio_MG_setores","UCI_MG_setores"],"not_rendered":{"charts":0,"images":4,"macros":1,"external_links":0,"defined_names":6,"comments":0,"pivot_tables":0},"unopened":[],"bounds":{"document_bytes":16777216,"sheet_cells":100000,"rows_first":2000,"rows_last":500,"rows_between":2000,"halvings":0,"cell_chars":16384,"cell_head_chars":4096},"cells_cut":0,"cells_raw":0,"read":"whole","date_system":"1900"}

{"sheet":"Comandos","index":0,"n_rows":18,"n_cols":15,"rows_kept":18,"cut":false,"hidden":true,"merged":[]}
[null,null,null,null,null,null,null,null,null,null,null,null,null,null,"Arquivo de atualização"]
[null,null,null,null,null,null,null,null,null,null,null,null,null,null,"ATUALIZACAO_SH_INDEX"]
[null,null,null,null,null,null,null,null,null,null,null,null,null,null,"Nomear as abas como \"Deflacionada\" \"Nominal\" e \"RMR\""]
[]
[]
[]
["(a) Clicar nos botões abaixo para atualizar as séries."]
[]
[]
[]
[]
[]
[]
["(b) Salvar o arquivo"]
["(c) Dar um clique duplo na planilha \"Análises\" para esconder as abas e os títulos. "]
["(d) Antes de mandar o arquivo para a Comunicação, Salvar como SH_mes_anodereferencia, ir em \"Exibir\" e desmarcar títulos e fórmulas."]
[]
["IMPORTANTE: NÃO MESCLAR CÉLULAS OU INSERIR LINHAS E COLUNAS NAS TABELAS, POIS COMPROMETE O FUNCIONAMENTO DA PROGRAMAÇÃO!"]

{"sheet":"Análises","index":1,"n_rows":95,"n_cols":58,"rows_kept":95,"cut":false,"hidden":false,"merged":[[10,0,10,1],[0,38,0,39],[0,40,0,41],[0,42,0,43],[12,10,12,13],[12,15,12,18],[12,3,12,8],[11,0,11,1]]}
[null,null,null,null,null,null,null,null,null,null,null,null,null,null,null,null,null,null,null,null,null,null,null,null,null,null,null,null,null,null,null,null,null,null,"Coluna",null,null,null,"Geral",null,"Extrativa",null,"Transformação"]
[null,null,null,null,null,null,null,null,null,null,null,null,null,null,null,null,null,null,null,null,null,null,null,null,null,null,null,null,null,null,"Mês","Ano",null,"Tranf","Ext","Geral",null,null,"Acumulado","12 meses","Acumulado","12 meses","Acumulado","12 meses",null,null,{"$f":"$B$13","v":2023},{"$f":"$AL$13","v":2022},{"$f":"$B$13","v":2023},{"$f":"$AL$13","v":2022},{"$f":"$B$13","v":2023},{"$f":"$AL$13","v":2022},{"$f":"$B$13","v":2023},{"$f":"$AL$13","v":2022},{"$f":"$B$13","v":2023},{"$f":"$AL$13","v":2022},{"$f":"$B$13","v":2023},{"$f":"$AL$13","v":2022}]
[null,null,null,null,null,null,null,null,null,null,null,null,null,null,null,null,null,null,null,null,null,null,null,null,null,null,null,null,null,null,1,2003,null,5,4,3,"Faturamento",true,{"$f":"((AU16/AV16)-1)*100","v":11.622362521562458},{"$f":"((AVERAGE($AM$30:$AM$41)/AVERAGE($AM$18:$AM$29))-1)*100","v":6.4160685031814824},{"$f":"(($AU$33/$AV$33)-1)*100","v":2.3246978648967298},{"$f":"((AVERAGE($AM$57:$AM$68)/AVERAGE($AM$45:$AM$56))-1)*100","v":-8.1569302568812567},{"$f":"(($AU$51/$AV$51)-1)*100","v":12.26149748740939},{"$f":"((AVERAGE($AM$84:$AM$95)/AVERAGE($AM$72:$AM$83))-1)*100","v":7.8709057343966604},null,"Mês/Ano","Faturamento","Faturamento","Horas Trabalhadas",null,"Emprego",null,"Massa salarial",null,"RMR",null,"UCI"]
[null,null,null,null,null,null,null,null,null,null,null,null,null,null,null,null,null,null,null,null,null,null,null,null,null,null,null,null,null,null,2,2004,null,5,4,5,"Horas Trabalhadas",true,{"$f":"((AW16/AX16)-1)*100","v":-6.3294919102452329E-2},{"$f":"((AVERAGE($AN$30:$AN$41)/AVERAGE($AN$18:$AN$29))-1)*100","v":0.76302072695215717},{"$f":"(($AW$33/$AX$33)-1)*100","v":8.8429367304581277},{"$f":"((AVERAGE($AN$57:$AN$68)/AVERAGE($AN$45:$AN$56))-1)*100","v":2.8273500048559219},{"$f":"(($AW$51/$AX$51)-1)*100","v":-0.94483392433923896},{"$f":"((AVERAGE($AN$84:$AN$95)/AVERAGE($AN$72:$AN$83))-1)*100","v":0.55845087485095757},null,1,{"$f":"INDEX(Serie_Encadeada[#All],MATCH($AT4&$AU$2,Serie_Encadeada[[#All],[Mês]],0),Análises!AJ$3)","v":97.357600000000005},{"$f":"INDEX(Serie_Encadeada[#All],MATCH($AT4&$AV$2,Serie_Encadeada[[#All],[Mês]],0),Análises!AJ$3)","v":89.616100000000003},{"$f":"INDEX(Serie_Encadeada[#All],MATCH($AT4&$AU$2,Serie_Encadeada[[#All],[Mês]],0),Análises!AJ$4)","v":99.121099999999998},{"$f":"INDEX(Serie_Encadeada[#All],MATCH($AT4&$AV$2,Serie_Encadeada[[#All],[Mês]],0),Análises!AJ$4)","v":96.608199999999997},{"$f":"INDEX(Serie_Encadeada[#All],MATCH($AT4&$AU$2,Serie_Encadeada[[#All],[Mês]],0),Análises!AJ$5)","v":109.56},{"$f":"INDEX(Serie_Encadeada[#All],MATCH($AT4&$AV$2,Serie_Encadeada[[#All],[Mês]],0),Análises!AJ$5)","v":109.66540000000001},{"$f":"INDEX(Serie_Encadeada[#All],MATCH($AT4&$AU$2,Serie_Encadeada[[#All],[Mês]],0),Análises!AJ$6)","v":130.7268},{"$f":"INDEX(Serie_Encadeada[#All],MATCH($AT4&$AV$2,Serie_Encadeada[[#All],[Mês]],0),Análises!AJ$6)","v":118.3335},{"$f":"INDEX(Serie_Encadeada[#All],MATCH($AT4&$AU$2,Serie_Encadeada[[#All],[Mês]],0),Análises!AJ$7)","v":119.3198},{"$f":"INDEX(Serie_Encadeada[#All],MATCH($AT4&$AV$2,Serie_Encadeada[[#All],[Mês]],0),Análises!AJ$7)","v":107.9041},{"$f":"INDEX(Serie_Encadeada[#All],MATCH($AT4&$AU$2,Serie_Encadeada[[#All],[Mês]],0),Análises!AJ$8)","v":80.0154},{"$f":"INDEX(Serie_Encadeada[#All],MATCH($AT4&$AV$2,Serie_Encadeada[[#All],[Mês]],0),Análises!AJ$8)","v":81.819900000000004}]
[null,null,null,null,null,null,null,null,null,null,null,null,null,null,null,null,null,null,null,null,null,null,null,null,null,null,null,null,null,null,3,2005,null,5,4,4,"Emprego",true,{"$f":"((AY16/AZ16)-1)*100","v":0.42744241546781581},{"$f":"((AVERAGE($AO$30:$AO$41)/AVERAGE($AO$18:$AO$29))-1)*100","v":7.7541381514234509E-2},{"$f":"(($AY$33/$AZ$33)-1)*100","v":-0.84994131825937291},{"$f":"((AVERAGE($AO$57:$AO$68)/AVERAGE($AO$45:$AO$56))-1)*100","v":-2.9661183541664138},{"$f":"(($AY$51/$AZ$51)-1)*100","v":0.54032083192134817},{"$f":"((AVERAGE($AO$84:$AO$95)/AVERAGE($AO$72:$AO$83))-1)*100","v":0.33451304266605142},null,2,{"$f":"IF($AT5 >$A$13,\"-\", INDEX(Serie_Encadeada[#All],MATCH($AT5&$AU$2,Serie_Encadeada[[#All],[Mês]],0),Análises!AJ$3))","v":96.380200000000002},{"$f":"IF($AT5 >$A$13,\"-\",INDEX(Serie_Encadeada[#All],MATCH($AT5&$AV$2,Serie_Encadeada[[#All],[Mês]],0),Análises!$AJ$3))","v":83.949299999999994},{"$f":"IF($AT5 >$A$13,\"-\", INDEX(Serie_Encadeada[#All],MATCH($AT5&$AU$2,Serie_Encadeada[[#All],[Mês]],0),Análises!AJ$4))","v":96.663200000000003},{"$f":"IF($AT5 >$A$13,\"-\",INDEX(Serie_Encadeada[#All],MATCH($AT5&$AV$2,Serie_Encadeada[[#All],[Mês]],0),Análises!$AJ$4))","v":99.3001},{"$f":"IF($AT5 >$A$13,\"-\", INDEX(Serie_Encadeada[#All],MATCH($AT5&$AU$2,Serie_Encadeada[[#All],[Mês]],0),Análises!AJ$5))","v":110.1884},{"$f":"IF($AT5 >$A$13,\"-\",INDEX(Serie_Encadeada[#All],MATCH($AT5&$AV$2,Serie_Encadeada[[#All],[Mês]],0),Análises!$AJ$5))","v":109.1477},{"$f":"IF($AT5 >$A$13,\"-\", INDEX(Serie_Encadeada[#All],MATCH($AT5&$AU$2,Serie_Encadeada[[#All],[Mês]],0),Análises!AJ$6))","v":126.6618},{"$f":"IF($AT5 >$A$13,\"-\",INDEX(Serie_Encadeada[#All],MATCH($AT5&$AV$2,Serie_Encadeada[[#All],[Mês]],0),Análises!$AJ$6))","v":127.3092},{"$f":"IF($AT5 >$A$13,\"-\", INDEX(Serie_Encadeada[#All],MATCH($AT5&$AU$2,Serie_Encadeada[[#All],[Mês]],0),Análises!AJ$7))","v":114.9502},{"$f":"IF($AT5 >$A$13,\"-\",INDEX(Serie_Encadeada[#All],MATCH($AT5&$AV$2,Serie_Encadeada[[#All],[Mês]],0),Análises!$AJ$7))","v":116.63939999999999},{"$f":"IF($AT5 >$A$13,\"-\",INDEX(Serie_Encadeada[#All],MATCH($AT5&$AU$2,Serie_Encadeada[[#All],[Mês]],0),Análises!$AJ$8))","v":79.138199999999998},{"$f":"IF($AT5 >$A$13,\"-\",INDEX(Serie_Encadeada[#All],MATCH($AT5&$AV$2,Serie_Encadeada[[#All],[Mês]],0),Análises!$AJ$8))","v":82.537599999999998}]
[null,null,null,null,null,null,null,null,null,null,null,null,null,null,null,null,null,null,null,null,null,null,null,null,null,null,null,null,null,null,4,2006,null,5,4,6,"Massa salarial",true,{"$f":"((BA16/BB16)-1)*100","v":4.7817012270260806},{"$f":"((AVERAGE($AP$30:$AP$41)/AVERAGE($AP$18:$AP$29))-1)*100","v":4.0988734953849137},{"$f":"(($BA$33/$BB$33)-1)*100","v":-5.4293233755106414},{"$f":"((AVERAGE($AP$57:$AP$68)/AVERAGE($AP$45:$AP$56))-1)*100","v":0.22412317282005656},{"$f":"(($BA$51/$BB$51)-1)*100","v":6.1143160771216065},{"$f":"((AVERAGE($AP$84:$AP$95)/AVERAGE($AP$72:$AP$83))-1)*100","v":4.5569917425899664},null,3,{"$f":"IF($AT6 >$A$13,\"-\", INDEX(Serie_Encadeada[#All],MATCH($AT6&$AU$2,Serie_Encadeada[[#All],[Mês]],0),Análises!AJ$3))","v":"-"},{"$f":"IF($AT6 >$A$13,\"-\",INDEX(Serie_Encadeada[#All],MATCH($AT6&$AV$2,Serie_Encadeada[[#All],[Mês]],0),Análises!$AJ$3))","v":"-"},{"$f":"IF($AT6 >$A$13,\"-\", INDEX(Serie_Encadeada[#All],MATCH($AT6&$AU$2,Serie_Encadeada[[#All],[Mês]],0),Análises!AJ$4))","v":"-"},{"$f":"IF($AT6 >$A$13,\"-\",INDEX(Serie_Encadeada[#All],MATCH($AT6&$AV$2,Serie_Encadeada[[#All],[Mês]],0),Análises!$AJ$4))","v":"-"},{"$f":"IF($AT6 >$A$13,\"-\", INDEX(Serie_Encadeada[#All],MATCH($AT6&$AU$2,Serie_Encadeada[[#All],[Mês]],0),Análises!AJ$5))","v":"-"},{"$f":"IF($AT6 >$A$13,\"-\",INDEX(Serie_Encadeada[#All],MATCH($AT6&$AV$2,Serie_Encadeada[[#All],[Mês]],0),Análises!$AJ$5))","v":"-"},{"$f":"IF($AT6 >$A$13,\"-\", INDEX(Serie_Encadeada[#All],MATCH($AT6&$AU$2,Serie_Encadeada[[#All],[Mês]],0),Análises!AJ$6))","v":"-"},{"$f":"IF($AT6 >$A$13,\"-\",INDEX(Serie_Encadeada[#All],MATCH($AT6&$AV$2,Serie_Encadeada[[#All],[Mês]],0),Análises!$AJ$6))","v":"-"},{"$f":"IF($AT6 >$A$13,\"-\", INDEX(Serie_Encadeada[#All],MATCH($AT6&$AU$2,Serie_Encadeada[[#All],[Mês]],0),Análises!AJ$7))","v":"-"},{"$f":"IF($AT6 >$A$13,\"-\",INDEX(Serie_Encadeada[#All],MATCH($AT6&$AV$2,Serie_Encadeada[[#All],[Mês]],0),Análises!$AJ$7))","v":"-"},{"$f":"IF($AT6 >$A$13,\"-\",INDEX(Serie_Encadeada[#All],MATCH($AT6&$AU$2,Serie_Encadeada[[#All],[Mês]],0),Análises!$AJ$8))","v":"-"},{"$f":"IF($AT6 >$A$13,\"-\",INDEX(Serie_Encadeada[#All],MATCH($AT6&$AV$2,Serie_Encadeada[[#All],[Mês]],0),Análises!$AJ$8))","v":"-"}]
[null,null,null,null,null,null,null,null,null,null,null,null,null,null,null,null,null,null,null,null,null,null,null,null,null,null,null,null,null,null,5,2007,null,5,4,7,"Rendimento",true,{"$f":"((BC16/BD16)-1)*100","v":4.3316773809974451},{"$f":"((AVERAGE($AQ$30:$AQ$41)/AVERAGE($AQ$18:$AQ$29))-1)*100","v":3.971199548369686},{"$f":"(($BC$33/$BD$33)-1)*100","v":-4.7665690265856426},{"$f":"((AVERAGE($AQ$57:$AQ$68)/AVERAGE($AQ$45:$AQ$56))-1)*100","v":3.1489257759518274},{"$f":"(($BC$51/$BD$51)-1)*100","v":5.5507538437902459},{"$f":"((AVERAGE($AQ$84:$AQ$95)/AVERAGE($AQ$72:$AQ$83))-1)*100","v":4.1705663435552154},null,4,{"$f":"IF($AT7 >$A$13,\"-\", INDEX(Serie_Encadeada[#All],MATCH($AT7&$AU$2,Serie_Encadeada[[#All],[Mês]],0),Análises!AJ$3))","v":"-"},{"$f":"IF($AT7 >$A$13,\"-\",INDEX(Serie_Encadeada[#All],MATCH($AT7&$AV$2,Serie_Encadeada[[#All],[Mês]],0),Análises!$AJ$3))","v":"-"},{"$f":"IF($AT7 >$A$13,\"-\", INDEX(Serie_Encadeada[#All],MATCH($AT7&$AU$2,Serie_Encadeada[[#All],[Mês]],0),Análises!AJ$4))","v":"-"},{"$f":"IF($AT7 >$A$13,\"-\",INDEX(Serie_Encadeada[#All],MATCH($AT7&$AV$2,Serie_Encadeada[[#All],[Mês]],0),Análises!$AJ$4))","v":"-"},{"$f":"IF($AT7 >$A$13,\"-\", INDEX(Serie_Encadeada[#All],MATCH($AT7&$AU$2,Serie_Encadeada[[#All],[Mês]],0),Análises!AJ$5))","v":"-"},{"$f":"IF($AT7 >$A$13,\"-\",INDEX(Serie_Encadeada[#All],MATCH($AT7&$AV$2,Serie_Encadeada[[#All],[Mês]],0),Análises!$AJ$5))","v":"-"},{"$f":"IF($AT7 >$A$13,\"-\", INDEX(Serie_Encadeada[#All],MATCH($AT7&$AU$2,Serie_Encadeada[[#All],[Mês]],0),Análises!AJ$6))","v":"-"},{"$f":"IF($AT7 >$A$13,\"-\",INDEX(Serie_Encadeada[#All],MATCH($AT7&$AV$2,Serie_Encadeada[[#All],[Mês]],0),Análises!$AJ$6))","v":"-"},{"$f":"IF($AT7 >$A$13,\"-\", INDEX(Serie_Encadeada[#All],MATCH($AT7&$AU$2,Serie_Encadeada[[#All],[Mês]],0),Análises!AJ$7))","v":"-"},{"$f":"IF($AT7 >$A$13,\"-\",INDEX(Serie_Encadeada[#All],MATCH($AT7&$AV$2,Serie_Encadeada[[#All],[Mês]],0),Análises!$AJ$7))","v":"-"},{"$f":"IF($AT7 >$A$13,\"-\",INDEX(Serie_Encadeada[#All],MATCH($AT7&$AU$2,Serie_Encadeada[[#All],[Mês]],0),Análises!$AJ$8))","v":"-"},{"$f":"IF($AT7 >$A$13,\"-\",INDEX(Serie_Encadeada[#All],MATCH($AT7&$AV$2,Serie_Encadeada[[#All],[Mês]],0),Análises!$AJ$8))","v":"-"}]
[null,null,null,null,null,null,null,null,null,null,null,null,null,null,null,null,null,null,null,null,null,null,null,null,null,null,null,null,null,null,6,2008,null,5,4,8,"UCI",true,{"$f":"ROUNDUP(BE16-BF16,2)&\" p.p.\"","v":"-2,61 p.p."},{"$f":"(ROUNDUP(AVERAGE($AR$30:$AR$41)-AVERAGE($AR$18:$AR$29),2))&\" p.p.\"","v":"-0,11 p.p."},{"$f":"ROUNDUP($BE$33-$BF$33,2)&\" p.p.\"","v":"-14,09 p.p."},{"$f":"(ROUNDUP(AVERAGE($AR$57:$AR$68)-AVERAGE($AR$45:$AR$56),2))&\" p.p.\"","v":"-5,1 p.p."},{"$f":"ROUNDUP($BE$51-$BF$51,2)&\" p.p.\"","v":"-1,91 p.p."},{"$f":"(ROUNDUP(AVERAGE($AR$84:$AR$95)-AVERAGE($AR$72:$AR$83),2))&\" p.p.\"","v":"0,21 p.p."},null,5,{"$f":"IF($AT8 >$A$13,\"-\", INDEX(Serie_Encadeada[#All],MATCH($AT8&$AU$2,Serie_Encadeada[[#All],[Mês]],0),Análises!AJ$3))","v":"-"},{"$f":"IF($AT8 >$A$13,\"-\",INDEX(Serie_Encadeada[#All],MATCH($AT8&$AV$2,Serie_Encadeada[[#All],[Mês]],0),Análises!$AJ$3))","v":"-"},{"$f":"IF($AT8 >$A$13,\"-\", INDEX(Serie_Encadeada[#All],MATCH($AT8&$AU$2,Serie_Encadeada[[#All],[Mês]],0),Análises!AJ$4))","v":"-"},{"$f":"IF($AT8 >$A$13,\"-\",INDEX(Serie_Encadeada[#All],MATCH($AT8&$AV$2,Serie_Encadeada[[#All],[Mês]],0),Análises!$AJ$4))","v":"-"},{"$f":"IF($AT8 >$A$13,\"-\", INDEX(Serie_Encadeada[#All],MATCH($AT8&$AU$2,Serie_Encadeada[[#All],[Mês]],0),Análises!AJ$5))","v":"-"},{"$f":"IF($AT8 >$A$13,\"-\",INDEX(Serie_Encadeada[#All],MATCH($AT8&$AV$2,Serie_Encadeada[[#All],[Mês]],0),Análises!$AJ$5))","v":"-"},{"$f":"IF($AT8 >$A$13,\"-\", INDEX(Serie_Encadeada[#All],MATCH($AT8&$AU$2,Serie_Encadeada[[#All],[Mês]],0),Análises!AJ$6))","v":"-"},{"$f":"IF($AT8 >$A$13,\"-\",INDEX(Serie_Encadeada[#All],MATCH($AT8&$AV$2,Serie_Encadeada[[#All],[Mês]],0),Análises!$AJ$6))","v":"-"},{"$f":"IF($AT8 >$A$13,\"-\", INDEX(Serie_Encadeada[#All],MATCH($AT8&$AU$2,Serie_Encadeada[[#All],[Mês]],0),Análises!AJ$7))","v":"-"},{"$f":"IF($AT8 >$A$13,\"-\",INDEX(Serie_Encadeada[#All],MATCH($AT8&$AV$2,Serie_Encadeada[[#All],[Mês]],0),Análises!$AJ$7))","v":"-"},{"$f":"IF($AT8 >$A$13,\"-\",INDEX(Serie_Encadeada[#All],MATCH($AT8&$AU$2,Serie_Encadeada[[#All],[Mês]],0),Análises!$AJ$8))","v":"-"},{"$f":"IF($AT8 >$A$13,\"-\",INDEX(Serie_Encadeada[#All],MATCH($AT8&$AV$2,Serie_Encadeada[[#All],[Mês]],0),Análises!$AJ$8))","v":"-"}]
[null,null,null,null,null,null,null,null,null,null,null,null,null,null,null,null,null,null,null,null,null,null,null,null,null,null,null,null,null,null,7,2009,null,null,null,null,null,null,null,null,null,null,null,null,null,6,{"$f":"IF($AT9 >$A$13,\"-\", INDEX(Serie_Encadeada[#All],MATCH($AT9&$AU$2,Serie_Encadeada[[#All],[Mês]],0),Análises!AJ$3))","v":"-"},{"$f":"IF($AT9 >$A$13,\"-\",INDEX(Serie_Encadeada[#All],MATCH($AT9&$AV$2,Serie_Encadeada[[#All],[Mês]],0),Análises!$AJ$3))","v":"-"},{"$f":"IF($AT9 >$A$13,\"-\", INDEX(Serie_Encadeada[#All],MATCH($AT9&$AU$2,Serie_Encadeada[[#All],[Mês]],0),Análises!AJ$4))","v":"-"},{"$f":"IF($AT9 >$A$13,\"-\",INDEX(Serie_Encadeada[#All],MATCH($AT9&$AV$2,Serie_Encadeada[[#All],[Mês]],0),Análises!$AJ$4))","v":"-"},{"$f":"IF($AT9 >$A$13,\"-\", INDEX(Serie_Encadeada[#All],MATCH($AT9&$AU$2,Serie_Encadeada[[#All],[Mês]],0),Análises!AJ$5))","v":"-"},{"$f":"IF($AT9 >$A$13,\"-\",INDEX(Serie_Encadeada[#All],MATCH($AT9&$AV$2,Serie_Encadeada[[#All],[Mês]],0),Análises!$AJ$5))","v":"-"},{"$f":"IF($AT9 >$A$13,\"-\", INDEX(Serie_Encadeada[#All],MATCH($AT9&$AU$2,Serie_Encadeada[[#All],[Mês]],0),Análises!AJ$6))","v":"-"},{"$f":"IF($AT9 >$A$13,\"-\",INDEX(Serie_Encadeada[#All],MATCH($AT9&$AV$2,Serie_Encadeada[[#All],[Mês]],0),Análises!$AJ$6))","v":"-"},{"$f":"IF($AT9 >$A$13,\"-\", INDEX(Serie_Encadeada[#All],MATCH($AT9&$AU$2,Serie_Encadeada[[#All],[Mês]],0),Análises!AJ$7))","v":"-"},{"$f":"IF($AT9 >$A$13,\"-\",INDEX(Serie_Encadeada[#All],MATCH($AT9&$AV$2,Serie_Encadeada[[#All],[Mês]],0),Análises!$AJ$7))","v":"-"},{"$f":"IF($AT9 >$A$13,\"-\",INDEX(Serie_Encadeada[#All],MATCH($AT9&$AU$2,Serie_Encadeada[[#All],[Mês]],0),Análises!$AJ$8))","v":"-"},{"$f":"IF($AT9 >$A$13,\"-\",INDEX(Serie_Encadeada[#All],MATCH($AT9&$AV$2,Serie_Encadeada[[#All],[Mês]],0),Análises!$AJ$8))","v":"-"}]
[null,null,null,null,null,null,null,null,null,null,null,null,null,null,null,null,null,null,null,null,null,null,null,null,null,null,null,null,null,null,8,2010,null,null,null,null,"Denominador",null,null,null,null,null,null,null,null,7,{"$f":"IF($AT10 >$A$13,\"-\", INDEX(Serie_Encadeada[#All],MATCH($AT10&$AU$2,Serie_Encadeada[[#All],[Mês]],0),Análises!AJ$3))","v":"-"},{"$f":"IF($AT10 >$A$13,\"-\",INDEX(Serie_Encadeada[#All],MATCH($AT10&$AV$2,Serie_Encadeada[[#All],[Mês]],0),Análises!$AJ$3))","v":"-"},{"$f":"IF($AT10 >$A$13,\"-\", INDEX(Serie_Encadeada[#All],MATCH($AT10&$AU$2,Serie_Encadeada[[#All],[Mês]],0),Análises!AJ$4))","v":"-"},{"$f":"IF($AT10 >$A$13,\"-\",INDEX(Serie_Encadeada[#All],MATCH($AT10&$AV$2,Serie_Encadeada[[#All],[Mês]],0),Análises!$AJ$4))","v":"-"},{"$f":"IF($AT10 >$A$13,\"-\", INDEX(Serie_Encadeada[#All],MATCH($AT10&$AU$2,Serie_Encadeada[[#All],[Mês]],0),Análises!AJ$5))","v":"-"},{"$f":"IF($AT10 >$A$13,\"-\",INDEX(Serie_Encadeada[#All],MATCH($AT10&$AV$2,Serie_Encadeada[[#All],[Mês]],0),Análises!$AJ$5))","v":"-"},{"$f":"IF($AT10 >$A$13,\"-\", INDEX(Serie_Encadeada[#All],MATCH($AT10&$AU$2,Serie_Encadeada[[#All],[Mês]],0),Análises!AJ$6))","v":"-"},{"$f":"IF($AT10 >$A$13,\"-\",INDEX(Serie_Encadeada[#All],MATCH($AT10&$AV$2,Serie_Encadeada[[#All],[Mês]],0),Análises!$AJ$6))","v":"-"},{"$f":"IF($AT10 >$A$13,\"-\", INDEX(Serie_Encadeada[#All],MATCH($AT10&$AU$2,Serie_Encadeada[[#All],[Mês]],0),Análises!AJ$7))","v":"-"},{"$f":"IF($AT10 >$A$13,\"-\",INDEX(Serie_Encadeada[#All],MATCH($AT10&$AV$2,Serie_Encadeada[[#All],[Mês]],0),Análises!$AJ$7))","v":"-"},{"$f":"IF($AT10 >$A$13,\"-\",INDEX(Serie_Encadeada[#All],MATCH($AT10&$AU$2,Serie_Encadeada[[#All],[Mês]],0),Análises!$AJ$8))","v":"-"},{"$f":"IF($AT10 >$A$13,\"-\",INDEX(Serie_Encadeada[#All],MATCH($AT10&$AV$2,Serie_Encadeada[[#All],[Mês]],0),Análises!$AJ$8))","v":"-"}]
["Referência",null,null,null,null,null,null,null,null,null,null,null,null,null,null,null,null,null,null,null,null,null,null,null,null,null,null,null,null,null,9,2011,null,null,null,null,"Mês","Ano",null,null,null,null,null,null,null,8,{"$f":"IF($AT11 >$A$13,\"-\", INDEX(Serie_Encadeada[#All],MATCH($AT11&$AU$2,Serie_Encadeada[[#All],[Mês]],0),Análises!AJ$3))","v":"-"},{"$f":"IF($AT11 >$A$13,\"-\",INDEX(Serie_Encadeada[#All],MATCH($AT11&$AV$2,Serie_Encadeada[[#All],[Mês]],0),Análises!$AJ$3))","v":"-"},{"$f":"IF($AT11 >$A$13,\"-\", INDEX(Serie_Encadeada[#All],MATCH($AT11&$AU$2,Serie_Encadeada[[#All],[Mês]],0),Análises!AJ$4))","v":"-"},{"$f":"IF($AT11 >$A$13,\"-\",INDEX(Serie_Encadeada[#All],MATCH($AT11&$AV$2,Serie_Encadeada[[#All],[Mês]],0),Análises!$AJ$4))","v":"-"},{"$f":"IF($AT11 >$A$13,\"-\", INDEX(Serie_Encadeada[#All],MATCH($AT11&$AU$2,Serie_Encadeada[[#All],[Mês]],0),Análises!AJ$5))","v":"-"},{"$f":"IF($AT11 >$A$13,\"-\",INDEX(Serie_Encadeada[#All],MATCH($AT11&$AV$2,Serie_Encadeada[[#All],[Mês]],0),Análises!$AJ$5))","v":"-"},{"$f":"IF($AT11 >$A$13,\"-\", INDEX(Serie_Encadeada[#All],MATCH($AT11&$AU$2,Serie_Encadeada[[#All],[Mês]],0),Análises!AJ$6))","v":"-"},{"$f":"IF($AT11 >$A$13,\"-\",INDEX(Serie_Encadeada[#All],MATCH($AT11&$AV$2,Serie_Encadeada[[#All],[Mês]],0),Análises!$AJ$6))","v":"-"},{"$f":"IF($AT11 >$A$13,\"-\", INDEX(Serie_Encadeada[#All],MATCH($AT11&$AU$2,Serie_Encadeada[[#All],[Mês]],0),Análises!AJ$7))","v":"-"},{"$f":"IF($AT11 >$A$13,\"-\",INDEX(Serie_Encadeada[#All],MATCH($AT11&$AV$2,Serie_Encadeada[[#All],[Mês]],0),Análises!$AJ$7))","v":"-"},{"$f":"IF($AT11 >$A$13,\"-\",INDEX(Serie_Encadeada[#All],MATCH($AT11&$AU$2,Serie_Encadeada[[#All],[Mês]],0),Análises!$AJ$8))","v":"-"},{"$f":"IF($AT11 >$A$13,\"-\",INDEX(Serie_Encadeada[#All],MATCH($AT11&$AV$2,Serie_Encadeada[[#All],[Mês]],0),Análises!$AJ$8))","v":"-"}]
["Mês","Ano",null,null,null,null,null,null,null,null,null,null,null,null,null,null,null,null,null,null,null,null,null,null,null,null,null,null,null,null,10,2012,null,null,null,"Mensal",{"$f":"IF($A$13=1,$AE$14,$A$13-1)","v":1},{"$f":"IF($A$13=1,$B$13-1,$B$13)","v":2023},null,null,null,null,null,null,null,9,{"$f":"IF($AT12 >$A$13,\"-\", INDEX(Serie_Encadeada[#All],MATCH($AT12&$AU$2,Serie_Encadeada[[#All],[Mês]],0),Análises!AJ$3))","v":"-"},{"$f":"IF($AT12 >$A$13,\"-\",INDEX(Serie_Encadeada[#All],MATCH($AT12&$AV$2,Serie_Encadeada[[#All],[Mês]],0),Análises!$AJ$3))","v":"-"},{"$f":"IF($AT12 >$A$13,\"-\", INDEX(Serie_Encadeada[#All],MATCH($AT12&$AU$2,Serie_Encadeada[[#All],[Mês]],0),Análises!AJ$4))","v":"-"},{"$f":"IF($AT12 >$A$13,\"-\",INDEX(Serie_Encadeada[#All],MATCH($AT12&$AV$2,Serie_Encadeada[[#All],[Mês]],0),Análises!$AJ$4))","v":"-"},{"$f":"IF($AT12 >$A$13,\"-\", INDEX(Serie_Encadeada[#All],MATCH($AT12&$AU$2,Serie_Encadeada[[#All],[Mês]],0),Análises!AJ$5))","v":"-"},{"$f":"IF($AT12 >$A$13,\"-\",INDEX(Serie_Encadeada[#All],MATCH($AT12&$AV$2,Serie_Encadeada[[#All],[Mês]],0),Análises!$AJ$5))","v":"-"},{"$f":"IF($AT12 >$A$13,\"-\", INDEX(Serie_Encadeada[#All],MATCH($AT12&$AU$2,Serie_Encadeada[[#All],[Mês]],0),Análises!AJ$6))","v":"-"},{"$f":"IF($AT12 >$A$13,\"-\",INDEX(Serie_Encadeada[#All],MATCH($AT12&$AV$2,Serie_Encadeada[[#All],[Mês]],0),Análises!$AJ$6))","v":"-"},{"$f":"IF($AT12 >$A$13,\"-\", INDEX(Serie_Encadeada[#All],MATCH($AT12&$AU$2,Serie_Encadeada[[#All],[Mês]],0),Análises!AJ$7))","v":"-"},{"$f":"IF($AT12 >$A$13,\"-\",INDEX(Serie_Encadeada[#All],MATCH($AT12&$AV$2,Serie_Encadeada[[#All],[Mês]],0),Análises!$AJ$7))","v":"-"},{"$f":"IF($AT12 >$A$13,\"-\",INDEX(Serie_Encadeada[#All],MATCH($AT12&$AU$2,Serie_Encadeada[[#All],[Mês]],0),Análises!$AJ$8))","v":"-"},{"$f":"IF($AT12 >$A$13,\"-\",INDEX(Serie_Encadeada[#All],MATCH($AT12&$AV$2,Serie_Encadeada[[#All],[Mês]],0),Análises!$AJ$8))","v":"-"}]
[2,2023,null,"Indústria Geral",null,null,null,null,null,null,"Indústria Extrativa",null,null,null,null,"Indústria de Transformação",null,null,null,null,null,null,null,null,null,null,null,null,null,null,11,2013,null,null,null,"Anual",{"$f":"A13","v":2},{"$f":"IF($AK$13=1, AL12, AL12-1)","v":2022},null,null,null,null,null,null,null,10,{"$f":"IF($AT13 >$A$13,\"-\", INDEX(Serie_Encadeada[#All],MATCH($AT13&$AU$2,Serie_Encadeada[[#All],[Mês]],0),Análises!AJ$3))","v":"-"},{"$f":"IF($AT13 >$A$13,\"-\",INDEX(Serie_Encadeada[#All],MATCH($AT13&$AV$2,Serie_Encadeada[[#All],[Mês]],0),Análises!$AJ$3))","v":"-"},{"$f":"IF($AT13 >$A$13,\"-\", INDEX(Serie_Encadeada[#All],MATCH($AT13&$AU$2,Serie_Encadeada[[#All],[Mês]],0),Análises!AJ$4))","v":"-"},{"$f":"IF($AT13 >$A$13,\"-\",INDEX(Serie_Encadeada[#All],MATCH($AT13&$AV$2,Serie_Encadeada[[#All],[Mês]],0),Análises!$AJ$4))","v":"-"},{"$f":"IF($AT13 >$A$13,\"-\", INDEX(Serie_Encadeada[#All],MATCH($AT13&$AU$2,Serie_Encadeada[[#All],[Mês]],0),Análises!AJ$5))","v":"-"},{"$f":"IF($AT13 >$A$13,\"-\",INDEX(Serie_Encadeada[#All],MATCH($AT13&$AV$2,Serie_Encadeada[[#All],[Mês]],0),Análises!$AJ$5))","v":"-"},{"$f":"IF($AT13 >$A$13,\"-\", INDEX(Serie_Encadeada[#All],MATCH($AT13&$AU$2,Serie_Encadeada[[#All],[Mês]],0),Análises!AJ$6))","v":"-"},{"$f":"IF($AT13 >$A$13,\"-\",INDEX(Serie_Encadeada[#All],MATCH($AT13&$AV$2,Serie_Encadeada[[#All],[Mês]],0),Análises!$AJ$6))","v":"-"},{"$f":"IF($AT13 >$A$13,\"-\", INDEX(Serie_Encadeada[#All],MATCH($AT13&$AU$2,Serie_Encadeada[[#All],[Mês]],0),Análises!AJ$7))","v":"-"},{"$f":"IF($AT13 >$A$13,\"-\",INDEX(Serie_Encadeada[#All],MATCH($AT13&$AV$2,Serie_Encadeada[[#All],[Mês]],0),Análises!$AJ$7))","v":"-"},{"$f":"IF($AT13 >$A$13,\"-\",INDEX(Serie_Encadeada[#All],MATCH($AT13&$AU$2,Serie_Encadeada[[#All],[Mês]],0),Análises!$AJ$8))","v":"-"},{"$f":"IF($AT13 >$A$13,\"-\",INDEX(Serie_Encadeada[#All],MATCH($AT13&$AV$2,Serie_Encadeada[[#All],[Mês]],0),Análises!$AJ$8))","v":"-"}]
[null,null,null,null,null,null,null,null,null,null,null,null,null,null,null,null,null,null,null,null,null,null,null,null,null,null,null,null,null,null,12,2014,null,null,null,"Acumulado",1,null,null,null,null,null,null,null,null,11,{"$f":"IF($AT14 >$A$13,\"-\", INDEX(Serie_Encadeada[#All],MATCH($AT14&$AU$2,Serie_Encadeada[[#All],[Mês]],0),Análises!AJ$3))","v":"-"},{"$f":"IF($AT14 >$A$13,\"-\",INDEX(Serie_Encadeada[#All],MATCH($AT14&$AV$2,Serie_Encadeada[[#All],[Mês]],0),Análises!$AJ$3))","v":"-"},{"$f":"IF($AT14 >$A$13,\"-\", INDEX(Serie_Encadeada[#All],MATCH($AT14&$AU$2,Serie_Encadeada[[#All],[Mês]],0),Análises!AJ$4))","v":"-"},{"$f":"IF($AT14 >$A$13,\"-\",INDEX(Serie_Encadeada[#All],MATCH($AT14&$AV$2,Serie_Encadeada[[#All],[Mês]],0),Análises!$AJ$4))","v":"-"},{"$f":"IF($AT14 >$A$13,\"-\", INDEX(Serie_Encadeada[#All],MATCH($AT14&$AU$2,Serie_Encadeada[[#All],[Mês]],0),Análises!AJ$5))","v":"-"},{"$f":"IF($AT14 >$A$13,\"-\",INDEX(Serie_Encadeada[#All],MATCH($AT14&$AV$2,Serie_Encadeada[[#All],[Mês]],0),Análises!$AJ$5))","v":"-"},{"$f":"IF($AT14 >$A$13,\"-\", INDEX(Serie_Encadeada[#All],MATCH($AT14&$AU$2,Serie_Encadeada[[#All],[Mês]],0),Análises!AJ$6))","v":"-"},{"$f":"IF($AT14 >$A$13,\"-\",INDEX(Serie_Encadeada[#All],MATCH($AT14&$AV$2,Serie_Encadeada[[#All],[Mês]],0),Análises!$AJ$6))","v":"-"},{"$f":"IF($AT14 >$A$13,\"-\", INDEX(Serie_Encadeada[#All],MATCH($AT14&$AU$2,Serie_Encadeada[[#All],[Mês]],0),Análises!AJ$7))","v":"-"},{"$f":"IF($AT14 >$A$13,\"-\",INDEX(Serie_Encadeada[#All],MATCH($AT14&$AV$2,Serie_Encadeada[[#All],[Mês]],0),Análises!$AJ$7))","v":"-"},{"$f":"IF($AT14 >$A$13,\"-\",INDEX(Serie_Encadeada[#All],MATCH($AT14&$AU$2,Serie_Encadeada[[#All],[Mês]],0),Análises!$AJ$8))","v":"-"},{"$f":"IF($AT14 >$A$13,\"-\",INDEX(Serie_Encadeada[#All],MATCH($AT14&$AV$2,Serie_Encadeada[[#All],[Mês]],0),Análises!$AJ$8))","v":"-"}]
[null,null,null,"Dados Dessazonalizados ",null,{"$f":"A13&\"/\"&B13","v":"2/2023"},{"$f":"F15","v":"2/2023"},"Acumulado","Acumulado",null,{"$f":"F15","v":"2/2023"},{"$f":"G15","v":"2/2023"},"Acumulado","Acumulado",null,{"$f":"F15","v":"2/2023"},{"$f":"G15","v":"2/2023"},"Acumulado","Acumulado",null,null,null,null,null,null,null,null,null,null,null,null,2015,null,null,null,null,null,null,null,null,null,null,null,null,null,12,{"$f":"IF($AT15 >$A$13,\"-\", INDEX(Serie_Encadeada[#All],MATCH($AT15&$AU$2,Serie_Encadeada[[#All],[Mês]],0),Análises!AJ$3))","v":"-"},{"$f":"IF($AT15 >$A$13,\"-\",INDEX(Serie_Encadeada[#All],MATCH($AT15&$AV$2,Serie_Encadeada[[#All],[Mês]],0),Análises!$AJ$3))","v":"-"},{"$f":"IF($AT15 >$A$13,\"-\", INDEX(Serie_Encadeada[#All],MATCH($AT15&$AU$2,Serie_Encadeada[[#All],[Mês]],0),Análises!AJ$4))","v":"-"},{"$f":"IF($AT15 >$A$13,\"-\",INDEX(Serie_Encadeada[#All],MATCH($AT15&$AV$2,Serie_Encadeada[[#All],[Mês]],0),Análises!$AJ$4))","v":"-"},{"$f":"IF($AT15 >$A$13,\"-\", INDEX(Serie_Encadeada[#All],MATCH($AT15&$AU$2,Serie_Encadeada[[#All],[Mês]],0),Análises!AJ$5))","v":"-"},{"$f":"IF($AT15 >$A$13,\"-\",INDEX(Serie_Encadeada[#All],MATCH($AT15&$AV$2,Serie_Encadeada[[#All],[Mês]],0),Análises!$AJ$5))","v":"-"},{"$f":"IF($AT15 >$A$13,\"-\", INDEX(Serie_Encadeada[#All],MATCH($AT15&$AU$2,Serie_Encadeada[[#All],[Mês]],0),Análises!AJ$6))","v":"-"},{"$f":"IF($AT15 >$A$13,\"-\",INDEX(Serie_Encadeada[#All],MATCH($AT15&$AV$2,Serie_Encadeada[[#All],[Mês]],0),Análises!$AJ$6))","v":"-"},{"$f":"IF($AT15 >$A$13,\"-\", INDEX(Serie_Encadeada[#All],MATCH($AT15&$AU$2,Serie_Encadeada[[#All],[Mês]],0),Análises!AJ$7))","v":"-"},{"$f":"IF($AT15 >$A$13,\"-\",INDEX(Serie_Encadeada[#All],MATCH($AT15&$AV$2,Serie_Encadeada[[#All],[Mês]],0),Análises!$AJ$7))","v":"-"},{"$f":"IF($AT15 >$A$13,\"-\",INDEX(Serie_Encadeada[#All],MATCH($AT15&$AU$2,Serie_Encadeada[[#All],[Mês]],0),Análises!$AJ$8))","v":"-"},{"$f":"IF($AT15 >$A$13,\"-\",INDEX(Serie_Encadeada[#All],MATCH($AT15&$AV$2,Serie_Encadeada[[#All],[Mês]],0),Análises!$AJ$8))","v":"-"}]
[null,null,null,"(var. % em relação ao mês anterior)",null,{"$f":"IFERROR(AK12&\"/\"&AL12,\"-\")","v":"1/2023"},{"$f":"IFERROR(A13&\"/\"&(B13-1),\"-\")","v":"2/2022"},"no ano","12 meses",null,{"$f":"F16","v":"1/2023"},{"$f":"G16","v":"2/2022"},"no ano","12 meses",null,{"$f":"F16","v":"1/2023"},{"$f":"G16","v":"2/2022"},"no ano","12 meses",null,null,null,null,null,null,null,null,null,null,null,null,2016,null,null,null,null,"12 meses",null,null,null,null,null,null,null,null,"média",{"$f":"AVERAGE(AU4:AU15)","v":96.868899999999996},86.782700000000006,97.892150000000001,97.954149999999998,109.8742,109.40655000000001,128.6943,122.82135,117.13499999999999,112.27175,79.576799999999992,82.178750000000008]
[null,null,null,{"$f":"IFERROR(IF(AL3=TRUE,((INDEX(Serie_dessazonalizada[#All],MATCH(Análises!$A$13&Análises!$B$13,Serie_dessazonalizada[[#All],[Mês]],0),$AJ$3)/INDEX(Serie_dessazonalizada[#All],MATCH(Análises!$AK$12&Análises!$AL$12,Serie_dessazonalizada[[#All],[Mês]],0),$AJ$3))-1)*100,\"-\"),\"-\")","v":0.15341930616659116},null,{"$f":"IFERROR(IF(AL3=TRUE,((INDEX(Serie_Encadeada[#All],MATCH(Análises!$A$13&Análises!$B$13,Serie_Encadeada[[#All],[Mês]],0),$AJ3)/INDEX(Serie_Encadeada[#All],MATCH(Análises!$AK$12&Análises!$AL$12,Serie_Encadeada[[#All],[Mês]],0),$AJ3))-1)*100,\"-\"),\"-\")","v":-1.0039277878665875},{"$f":"IFERROR(IF($AL3=TRUE,((INDEX(Serie_Encadeada[#All],MATCH(Análises!$A$13&Análises!$B$13,Serie_Encadeada[[#All],[Mês]],0),$AJ3)/INDEX(Serie_Encadeada[#All],MATCH(Análises!$AK$13&Análises!$AL$13,Serie_Encadeada[[#All],[Mês]],0),$AJ3))-1)*100,\"-\"),\"-\")","v":14.807627937338385},{"$f":"IFERROR(IF(AL3=TRUE,AM3,\"-\"),\"-\")","v":11.622362521562458},{"$f":"IFERROR(IF(AL3=TRUE,AN3,\"-\"),\"-\")","v":6.4160685031814824},null,{"$f":"IFERROR(IF($AL$3=TRUE,((INDEX(Indice_faturamento[#All],MATCH(Análises!$A$13&Análises!$B$13,Indice_faturamento[[#All],[Mês]],0),4)/INDEX(Indice_faturamento[#All],MATCH(Análises!$AK$12&Análises!$AL$12,Indice_faturamento[[#All],[Mês]],0),4))-1)*100,\"-\"),\"-\")","v":32.887997710768914},{"$f":"IFERROR(IF($AL$3=TRUE,((INDEX(Indice_faturamento[#All],MATCH(Análises!$A$13&Análises!$B$13,Indice_faturamento[[#All],[Mês]],0),4)/INDEX(Indice_faturamento[#All],MATCH(Análises!$AK$13&Análises!$AL$13,Indice_faturamento[[#All],[Mês]],0),4))-1)*100,\"-\"),\"-\")","v":8.8851245735412032},{"$f":"IFERROR(IF(AL3=TRUE,AO3,\"-\"),\"-\")","v":2.3246978648967298},{"$f":"IFERROR(IF(AL3=TRUE,AP3,\"-\"),\"-\")","v":-8.1569302568812567},null,{"$f":"IFERROR(IF($AL$3=TRUE,((INDEX(Indice_faturamento[#All],MATCH(Análises!$A$13&Análises!$B$13,Indice_faturamento[[#All],[Mês]],0),5)/INDEX(Indice_faturamento[#All],MATCH(Análises!$AK$12&Análises!$AL$12,Indice_faturamento[[#All],[Mês]],0),5))-1)*100,\"-\"),\"-\")","v":-2.8019712321366796},{"$f":"IFERROR(IF($AL$3=TRUE,((INDEX(Indice_faturamento[#All],MATCH(Análises!$A$13&Análises!$B$13,Indice_faturamento[[#All],[Mês]],0),5)/INDEX(Indice_faturamento[#All],MATCH(Análises!$AK$13&Análises!$AL$13,Indice_faturamento[[#All],[Mês]],0),5))-1)*100,\"-\"),\"-\")","v":15.262419878719168},{"$f":"IFERROR(IF(AL3=TRUE,AQ3,\"-\"),\"-\")","v":12.26149748740939},{"$f":"IFERROR(IF(AL3=TRUE,AR3,\"-\"),\"-\")","v":7.8709057343966604},null,null,null,null,null,null,null,null,null,null,null,null,2017,null,null,null,null,"Linha","Período","Faturamento","Horas Trabalhadas","Emprego","Massa salarial","RMR","UCI"]
[null,null,null,{"$f":"IFERROR(IF(AL5=TRUE,((INDEX(Serie_dessazonalizada[#All],MATCH(Análises!$A$13&Análises!$B$13,Serie_dessazonalizada[[#All],[Mês]],0),$AJ$5)/INDEX(Serie_dessazonalizada[#All],MATCH(Análises!$AK$12&Análises!$AL$12,Serie_dessazonalizada[[#All],[Mês]],0),$AJ$5))-1)*100,\"-\"),\"-\")","v":0.28984287082509663},null,{"$f":"IFERROR(IF(AL5=TRUE,((INDEX(Serie_Encadeada[#All],MATCH(Análises!$A$13&Análises!$B$13,Serie_Encadeada[[#All],[Mês]],0),$AJ5)/INDEX(Serie_Encadeada[#All],MATCH(Análises!$AK$12&Análises!$AL$12,Serie_Encadeada[[#All],[Mês]],0),$AJ5))-1)*100,\"-\"),\"-\")","v":0.57356699525374921},{"$f":"IFERROR(IF($AL5=TRUE,((INDEX(Serie_Encadeada[#All],MATCH(Análises!$A$13&Análises!$B$13,Serie_Encadeada[[#All],[Mês]],0),$AJ5)/INDEX(Serie_Encadeada[#All],MATCH(Análises!$AK$13&Análises!$AL$13,Serie_Encadeada[[#All],[Mês]],0),$AJ5))-1)*100,\"-\"),\"-\")","v":0.95347863491397344},{"$f":"IFERROR(IF(AL5=TRUE,AM5,\"-\"),\"-\")","v":0.42744241546781581},{"$f":"IFERROR(IF(AL5=TRUE,AN5,\"-\"),\"-\")","v":7.7541381514234509E-2},null,{"$f":"IFERROR(IF($AL$5=TRUE,((INDEX(Indice_Emprego[#All],MATCH(Análises!$A$13&Análises!$B$13,Indice_Emprego[[#All],[Mês]],0),4)/INDEX(Indice_Emprego[#All],MATCH(Análises!$AK$12&Análises!$AL$12,Indice_Emprego[[#All],[Mês]],0),4))-1)*100,\"-\"),\"-\")","v":-1.5452997054576145},{"$f":"IFERROR(IF($AL$5=TRUE,((INDEX(Indice_Emprego[#All],MATCH(Análises!$A$13&Análises!$B$13,Indice_Emprego[[#All],[Mês]],0),4)/INDEX(Indice_Emprego[#All],MATCH(Análises!$AK$13&Análises!$AL$13,Indice_Emprego[[#All],[Mês]],0),4))-1)*100,\"-\"),\"-\")","v":-0.24926215442544475},{"$f":"IFERROR(IF(AL5=TRUE,AO5,\"-\"),\"-\")","v":-0.84994131825937291},{"$f":"IFERROR(IF(AL5=TRUE,AP5,\"-\"),\"-\")","v":-2.9661183541664138},null,{"$f":"IFERROR(IF($AL$5=TRUE,((INDEX(Indice_Emprego[#All],MATCH(Análises!$A$13&Análises!$B$13,Indice_Emprego[[#All],[Mês]],0),5)/INDEX(Indice_Emprego[#All],MATCH(Análises!$AK$12&Análises!$AL$12,Indice_Emprego[[#All],[Mês]],0),5))-1)*100,\"-\"),\"-\")","v":0.76026740569057338},{"$f":"IFERROR(IF($AL$5=TRUE,((INDEX(Indice_Emprego[#All],MATCH(Análises!$A$13&Análises!$B$13,Indice_Emprego[[#All],[Mês]],0),5)/INDEX(Indice_Emprego[#All],MATCH(Análises!$AK$13&Análises!$AL$13,Indice_Emprego[[#All],[Mês]],0),5))-1)*100,\"-\"),\"-\")","v":1.0584248645244321},{"$f":"IFERROR(IF(AL5=TRUE,AQ5,\"-\"),\"-\")","v":0.54032083192134817},{"$f":"IFERROR(IF(AL5=TRUE,AR5,\"-\"),\"-\")","v":0.33451304266605142},null,null,null,null,null,null,null,null,null,null,null,null,2018,null,null,null,null,{"$f":"AK19-1","v":220},1,{"$f":"INDEX(Serie_Encadeada[#All],$AK18,$AJ$3)","v":105.2718},{"$f":"INDEX(Serie_Encadeada[#All],$AK18,$AJ$4)","v":101.8271},{"$f":"INDEX(Serie_Encadeada[#All],$AK18,$AJ$5)","v":108.152},{"$f":"INDEX(Serie_Encadeada[#All],$AK18,$AJ$6)","v":119.0147},{"$f":"INDEX(Serie_Encadeada[#All],$AK18,$AJ$7)","v":110.04389999999999},{"$f":"INDEX(Serie_Encadeada[#All],$AK18,$AJ$8)","v":82.524100000000004},null,null,"Extrativa"]
[null,null,null,{"$f":"IFERROR(IF(AL4=TRUE,((INDEX(Serie_dessazonalizada[#All],MATCH(Análises!$A$13&Análises!$B$13,Serie_dessazonalizada[[#All],[Mês]],0),$AJ$4)/INDEX(Serie_dessazonalizada[#All],MATCH(Análises!$AK$12&Análises!$AL$12,Serie_dessazonalizada[[#All],[Mês]],0),$AJ$4))-1)*100,\"-\"),\"-\")","v":-1.7514057706252362},null,{"$f":"IFERROR(IF(AL4=TRUE,((INDEX(Serie_Encadeada[#All],MATCH(Análises!$A$13&Análises!$B$13,Serie_Encadeada[[#All],[Mês]],0),$AJ4)/INDEX(Serie_Encadeada[#All],MATCH(Análises!$AK$12&Análises!$AL$12,Serie_Encadeada[[#All],[Mês]],0),$AJ4))-1)*100,\"-\"),\"-\")","v":-2.4796940308370208},{"$f":"IFERROR(IF($AL4=TRUE,((INDEX(Serie_Encadeada[#All],MATCH(Análises!$A$13&Análises!$B$13,Serie_Encadeada[[#All],[Mês]],0),$AJ4)/INDEX(Serie_Encadeada[#All],MATCH(Análises!$AK$13&Análises!$AL$13,Serie_Encadeada[[#All],[Mês]],0),$AJ4))-1)*100,\"-\"),\"-\")","v":-2.6554857447273483},{"$f":"IFERROR(IF(AL4=TRUE,AM4,\"-\"),\"-\")","v":-6.3294919102452329E-2},{"$f":"IFERROR(IF(AL4=TRUE,AN4,\"-\"),\"-\")","v":0.76302072695215717},null,{"$f":"IFERROR(IF($AL$4=TRUE,((INDEX(Indice_Horas[#All],MATCH(Análises!$A$13&Análises!$B$13,Indice_Horas[[#All],[Mês]],0),4)/INDEX(Indice_Horas[#All],MATCH(Análises!$AK$12&Análises!$AL$12,Indice_Horas[[#All],[Mês]],0),4))-1)*100,\"-\"),\"-\")","v":-5.2836307716646047},{"$f":"IFERROR(IF($AL$4=TRUE,((INDEX(Indice_Horas[#All],MATCH(Análises!$A$13&Análises!$B$13,Indice_Horas[[#All],[Mês]],0),4)/INDEX(Indice_Horas[#All],MATCH(Análises!$AK$13&Análises!$AL$13,Indice_Horas[[#All],[Mês]],0),4))-1)*100,\"-\"),\"-\")","v":7.634388987148677},{"$f":"IFERROR(IF(AL4=TRUE,AO4,\"-\"),\"-\")","v":8.8429367304581277},{"$f":"IFERROR(IF(AL4=TRUE,AP4,\"-\"),\"-\")","v":2.8273500048559219},null,{"$f":"IFERROR(IF($AL$4=TRUE,((INDEX(Indice_Horas[#All],MATCH(Análises!$A$13&Análises!$B$13,Indice_Horas[[#All],[Mês]],0),5)/INDEX(Indice_Horas[#All],MATCH(Análises!$AK$12&Análises!$AL$12,Indice_Horas[[#All],[Mês]],0),5))-1)*100,\"-\"),\"-\")","v":-2.1698127155714175},{"$f":"IFERROR(IF($AL$4=TRUE,((INDEX(Indice_Horas[#All],MATCH(Análises!$A$13&Análises!$B$13,Indice_Horas[[#All],[Mês]],0),5)/INDEX(Indice_Horas[#All],MATCH(Análises!$AK$13&Análises!$AL$13,Indice_Horas[[#All],[Mês]],0),5))-1)*100,\"-\"),\"-\")","v":-3.640991554663775},{"$f":"IFERROR(IF(AL4=TRUE,AQ4,\"-\"),\"-\")","v":-0.94483392433923896},{"$f":"IFERROR(IF(AL4=TRUE,AR4,\"-\"),\"-\")","v":0.55845087485095757},null,null,null,null,null,null,null,null,null,null,null,null,2019,null,null,null,null,221,2,{"$f":"INDEX(Serie_Encadeada[#All],$AK19,$AJ$3)","v":96.351399999999998},{"$f":"INDEX(Serie_Encadeada[#All],$AK19,$AJ$4)","v":100.1536},{"$f":"INDEX(Serie_Encadeada[#All],$AK19,$AJ$5)","v":109.29349999999999},{"$f":"INDEX(Serie_Encadeada[#All],$AK19,$AJ$6)","v":122.0436},{"$f":"INDEX(Serie_Encadeada[#All],$AK19,$AJ$7)","v":111.66589999999999},{"$f":"INDEX(Serie_Encadeada[#All],$AK19,$AJ$8)","v":83.471000000000004},null,null,{"$f":"$B$13","v":2023},{"$f":"$AL$13","v":2022},{"$f":"$B$13","v":2023},{"$f":"$AL$13","v":2022},{"$f":"$B$13","v":2023},{"$f":"$AL$13","v":2022},{"$f":"$B$13","v":2023},{"$f":"$AL$13","v":2022},{"$f":"$B$13","v":2023},{"$f":"$AL$13","v":2022},{"$f":"$B$13","v":2023},{"$f":"$AL$13","v":2022}]
[null,null,null,{"$f":"IFERROR(IF(AL6=TRUE,((INDEX(Serie_dessazonalizada[#All],MATCH(Análises!$A$13&Análises!$B$13,Serie_dessazonalizada[[#All],[Mês]],0),$AJ$6)/INDEX(Serie_dessazonalizada[#All],MATCH(Análises!$AK$12&Análises!$AL$12,Serie_dessazonalizada[[#All],[Mês]],0),$AJ$6))-1)*100,\"-\"),\"-\")","v":-3.6056023987346086},null,{"$f":"IFERROR(IF(AL6=TRUE,((INDEX(Serie_Encadeada[#All],MATCH(Análises!$A$13&Análises!$B$13,Serie_Encadeada[[#All],[Mês]],0),$AJ6)/INDEX(Serie_Encadeada[#All],MATCH(Análises!$AK$12&Análises!$AL$12,Serie_Encadeada[[#All],[Mês]],0),$AJ6))-1)*100,\"-\"),\"-\")","v":-3.1095383655073028},{"$f":"IFERROR(IF($AL6=TRUE,((INDEX(Serie_Encadeada[#All],MATCH(Análises!$A$13&Análises!$B$13,Serie_Encadeada[[#All],[Mês]],0),$AJ6)/INDEX(Serie_Encadeada[#All],MATCH(Análises!$AK$13&Análises!$AL$13,Serie_Encadeada[[#All],[Mês]],0),$AJ6))-1)*100,\"-\"),\"-\")","v":-0.50852569963522054},{"$f":"IFERROR(IF(AL6=TRUE,AM6,\"-\"),\"-\")","v":4.7817012270260806},{"$f":"IFERROR(IF(AL6=TRUE,AN6,\"-\"),\"-\")","v":4.0988734953849137},null,{"$f":"IFERROR(IF($AL$6=TRUE,((INDEX(Indice_massa_salarial[#All],MATCH(Análises!$A$13&Análises!$B$13,Indice_massa_salarial[[#All],[Mês]],0),4)/INDEX(Indice_massa_salarial[#All],MATCH(Análises!$AK$12&Análises!$AL$12,Indice_massa_salarial[[#All],[Mês]],0),4))-1)*100,\"-\"),\"-\")","v":8.4613417840271765},{"$f":"IFERROR(IF($AL$6=TRUE,((INDEX(Indice_massa_salarial[#All],MATCH(Análises!$A$13&Análises!$B$13,Indice_massa_salarial[[#All],[Mês]],0),4)/INDEX(Indice_massa_salarial[#All],MATCH(Análises!$AK$13&Análises!$AL$13,Indice_massa_salarial[[#All],[Mês]],0),4))-1)*100,\"-\"),\"-\")","v":-12.645457289212681},{"$f":"IFERROR(IF(AL6=TRUE,AO6,\"-\"),\"-\")","v":-5.4293233755106414},{"$f":"IFERROR(IF(AL6=TRUE,AP6,\"-\"),\"-\")","v":0.22412317282005656},null,{"$f":"IFERROR(IF($AL$6=TRUE,((INDEX(Indice_massa_salarial[#All],MATCH(Análises!$A$13&Análises!$B$13,Indice_massa_salarial[[#All],[Mês]],0),5)/INDEX(Indice_massa_salarial[#All],MATCH(Análises!$AK$12&Análises!$AL$12,Indice_massa_salarial[[#All],[Mês]],0),5))-1)*100,\"-\"),\"-\")","v":-4.3724674953120495},{"$f":"IFERROR(IF($AL$6=TRUE,((INDEX(Indice_massa_salarial[#All],MATCH(Análises!$A$13&Análises!$B$13,Indice_massa_salarial[[#All],[Mês]],0),5)/INDEX(Indice_massa_salarial[#All],MATCH(Análises!$AK$13&Análises!$AL$13,Indice_massa_salarial[[#All],[Mês]],0),5))-1)*100,\"-\"),\"-\")","v":1.2327837011493425},{"$f":"IFERROR(IF(AL6=TRUE,AQ6,\"-\"),\"-\")","v":6.1143160771216065},{"$f":"IFERROR(IF(AL6=TRUE,AR6,\"-\"),\"-\")","v":4.5569917425899664},null,null,null,null,null,null,null,null,null,null,null,null,2020,null,null,null,null,222,3,{"$f":"INDEX(Serie_Encadeada[#All],$AK20,$AJ$3)","v":106.7238},{"$f":"INDEX(Serie_Encadeada[#All],$AK20,$AJ$4)","v":102.6272},{"$f":"INDEX(Serie_Encadeada[#All],$AK20,$AJ$5)","v":109.6478},{"$f":"INDEX(Serie_Encadeada[#All],$AK20,$AJ$6)","v":114.69589999999999},{"$f":"INDEX(Serie_Encadeada[#All],$AK20,$AJ$7)","v":104.6039},{"$f":"INDEX(Serie_Encadeada[#All],$AK20,$AJ$8)","v":84.014600000000002},null,"Mês/Ano","Faturamento",null,"Horas Trabalhadas",null,"Emprego",null,"Massa salarial",null,"RMR",null,"UCI"]
[null,null,null,{"$f":"IFERROR(IF(AL7=TRUE,((INDEX(Serie_dessazonalizada[#All],MATCH(Análises!$A$13&Análises!$B$13,Serie_dessazonalizada[[#All],[Mês]],0),$AJ$7)/INDEX(Serie_dessazonalizada[#All],MATCH(Análises!$AK$12&Análises!$AL$12,Serie_dessazonalizada[[#All],[Mês]],0),$AJ$7))-1)*100,\"-\"),\"-\")","v":-4.0436279917098634},null,{"$f":"IFERROR(IF(AL7=TRUE,((INDEX(Serie_Encadeada[#All],MATCH(Análises!$A$13&Análises!$B$13,Serie_Encadeada[[#All],[Mês]],0),$AJ7)/INDEX(Serie_Encadeada[#All],MATCH(Análises!$AK$12&Análises!$AL$12,Serie_Encadeada[[#All],[Mês]],0),$AJ7))-1)*100,\"-\"),\"-\")","v":-3.6620912874476885},{"$f":"IFERROR(IF($AL7=TRUE,((INDEX(Serie_Encadeada[#All],MATCH(Análises!$A$13&Análises!$B$13,Serie_Encadeada[[#All],[Mês]],0),$AJ7)/INDEX(Serie_Encadeada[#All],MATCH(Análises!$AK$13&Análises!$AL$13,Serie_Encadeada[[#All],[Mês]],0),$AJ7))-1)*100,\"-\"),\"-\")","v":-1.4482241849666622},{"$f":"IFERROR(IF(AL7=TRUE,AM7,\"-\"),\"-\")","v":4.3316773809974451},{"$f":"IFERROR(IF(AL7=TRUE,AN7,\"-\"),\"-\")","v":3.971199548369686},null,{"$f":"IFERROR(IF($AL$7=TRUE,((INDEX(Indice_RMR[#All],MATCH(Análises!$A$13&Análises!$B$13,Indice_RMR[[#All],[Mês]],0),4)/INDEX(Indice_RMR[#All],MATCH(Análises!$AK$12&Análises!$AL$12,Indice_RMR[[#All],[Mês]],0),4))-1)*100,\"-\"),\"-\")","v":10.163716437925331},{"$f":"IFERROR(IF($AL$7=TRUE,((INDEX(Indice_RMR[#All],MATCH(Análises!$A$13&Análises!$B$13,Indice_RMR[[#All],[Mês]],0),4)/INDEX(Indice_RMR[#All],MATCH(Análises!$AK$13&Análises!$AL$13,Indice_RMR[[#All],[Mês]],0),4))-1)*100,\"-\"),\"-\")","v":-12.427134655319838},{"$f":"IFERROR(IF(AL7=TRUE,AO7,\"-\"),\"-\")","v":-4.7665690265856426},{"$f":"IFERROR(IF(AL7=TRUE,AP7,\"-\"),\"-\")","v":3.1489257759518274},null,{"$f":"IFERROR(IF($AL$7=TRUE,((INDEX(Indice_RMR[#All],MATCH(Análises!$A$13&Análises!$B$13,Indice_RMR[[#All],[Mês]],0),5)/INDEX(Indice_RMR[#All],MATCH(Análises!$AK$12&Análises!$AL$12,Indice_RMR[[#All],[Mês]],0),5))-1)*100,\"-\"),\"-\")","v":-5.0940054665433498},{"$f":"IFERROR(IF($AL$7=TRUE,((INDEX(Indice_RMR[#All],MATCH(Análises!$A$13&Análises!$B$13,Indice_RMR[[#All],[Mês]],0),5)/INDEX(Indice_RMR[#All],MATCH(Análises!$AK$13&Análises!$AL$13,Indice_RMR[[#All],[Mês]],0),5))-1)*100,\"-\"),\"-\")","v":0.17257154364413996},{"$f":"IFERROR(IF(AL7=TRUE,AQ7,\"-\"),\"-\")","v":5.5507538437902459},{"$f":"IFERROR(IF(AL7=TRUE,AR7,\"-\"),\"-\")","v":4.1705663435552154},null,null,null,null,null,null,null,null,null,null,null,null,2021,null,null,null,null,223,4,{"$f":"INDEX(Serie_Encadeada[#All],$AK21,$AJ$3)","v":111.5682},{"$f":"INDEX(Serie_Encadeada[#All],$AK21,$AJ$4)","v":102.6951},{"$f":"INDEX(Serie_Encadeada[#All],$AK21,$AJ$5)","v":110.0185},{"$f":"INDEX(Serie_Encadeada[#All],$AK21,$AJ$6)","v":114.34180000000001},{"$f":"INDEX(Serie_Encadeada[#All],$AK21,$AJ$7)","v":103.92959999999999},{"$f":"INDEX(Serie_Encadeada[#All],$AK21,$AJ$8)","v":83.882199999999997},null,1,{"$f":"INDEX(Indice_faturamento[#All],MATCH($AT21&$AU$19,Indice_faturamento[[#All],[Mês]],0),$AI$3)","v":48.2258},{"$f":"INDEX(Indice_faturamento[#All],MATCH($AT21&$AV$2,Indice_faturamento[[#All],[Mês]],0),$AI$3)","v":50.903700000000001},{"$f":"INDEX(Indice_Horas[#All],MATCH($AT21&$AU$19,Indice_Horas[[#All],[Mês]],0),$AI$3)","v":171.9348},{"$f":"INDEX(Indice_Horas[#All],MATCH($AT21&$AV$2,Indice_Horas[[#All],[Mês]],0),$AI$3)","v":156.286},{"$f":"INDEX(Indice_Emprego[#All],MATCH($AT21&$AU$19,Indice_Emprego[[#All],[Mês]],0),$AI$3)","v":157.46459999999999},{"$f":"INDEX(Indice_Emprego[#All],MATCH($AT21&$AV$2,Indice_Emprego[[#All],[Mês]],0),$AI$3)","v":159.756},{"$f":"INDEX(Indice_massa_salarial[#All],MATCH($AT21&$AU$19,Indice_massa_salarial[[#All],[Mês]],0),$AI$3)","v":153.7073},{"$f":"INDEX(Indice_massa_salarial[#All],MATCH($AT21&$AV$2,Indice_massa_salarial[[#All],[Mês]],0),$AI$3)","v":147.9693},{"$f":"INDEX(Indice_RMR[#All],MATCH($AT21&$AU$19,Indice_RMR[[#All],[Mês]],0),$AI$3)","v":97.613900000000001},{"$f":"INDEX(Indice_RMR[#All],MATCH($AT21&$AV$2,Indice_RMR[[#All],[Mês]],0),$AI$3)","v":92.622},{"$f":"INDEX(Indice_UCI[#All],MATCH($AT21&$AU$19,Indice_UCI[[#All],[Mês]],0),$AI$3)","v":55.348700000000001},{"$f":"INDEX(Indice_UCI[#All],MATCH($AT21&$AV$2,Indice_UCI[[#All],[Mês]],0),$AI$3)","v":80.042100000000005}]
[null,null,null,{"$f":"IFERROR(IF(AL8=TRUE,ROUNDUP(INDEX(Serie_dessazonalizada[#All],MATCH(Análises!$A$13&Análises!$B$13,Serie_dessazonalizada[[#All],[Mês]],0),$AJ8)-INDEX(Serie_dessazonalizada[#All],MATCH(Análises!$AK$12&Análises!$AL$12,Serie_dessazonalizada[[#All],[Mês]],0),$AJ8),2)&\" p.p.\",\"-\"),\"-\")","v":"-0,22 p.p."},null,{"$f":"IFERROR(IF(AL8=TRUE,ROUNDUP(INDEX(Serie_Encadeada[#All],MATCH(Análises!$A$13&Análises!$B$13,Serie_Encadeada[[#All],[Mês]],0),$AJ8)-INDEX(Serie_Encadeada[#All],MATCH(Análises!$AK$12&Análises!$AL$12,Serie_Encadeada[[#All],[Mês]],0),$AJ8),2)&\" p.p.\",\"-\"),\"-\")","v":"-0,88 p.p."},{"$f":"IFERROR(IF($AL8=TRUE,ROUNDUP(((INDEX(Serie_Encadeada[#All],MATCH(Análises!$A$13&Análises!$B$13,Serie_Encadeada[[#All],[Mês]],0),$AJ8)-INDEX(Serie_Encadeada[#All],MATCH(Análises!$AK$13&Análises!$AL$13,Serie_Encadeada[[#All],[Mês]],0),$AJ8))),2)&\" p.p.\",\"-\"),\"-\")","v":"-3,4 p.p."},{"$f":"IFERROR(IF(AL8=TRUE,AM8,\"-\"),\"-\")","v":"-2,61 p.p."},{"$f":"IFERROR(IF(AL8=TRUE,AN8,\"-\"),\"-\")","v":"-0,11 p.p."},null,{"$f":"IFERROR(IF($AL$8=TRUE,ROUNDUP(INDEX(Indice_UCI[#All],MATCH(Análises!$A$13&Análises!$B$13,Indice_UCI[[#All],[Mês]],0),4)-INDEX(Indice_UCI[#All],MATCH(Análises!$AK$12&Análises!$AL$12,Indice_UCI[[#All],[Mês]],0),4),2)&\" p.p.\",\"-\"),\"-\")","v":"23,93 p.p."},{"$f":"IFERROR(IF($AL$8=TRUE,ROUNDUP(((INDEX(Indice_UCI[#All],MATCH(Análises!$A$13&Análises!$B$13,Indice_UCI[[#All],[Mês]],0),4)-INDEX(Indice_UCI[#All],MATCH(Análises!$AK$13&Análises!$AL$13,Indice_UCI[[#All],[Mês]],0),4))),2)&\" p.p.\",\"-\"),\"-\")","v":"-3,48 p.p."},{"$f":"IFERROR(IF(AL8=TRUE,AO8,\"-\"),\"-\")","v":"-14,09 p.p."},{"$f":"IFERROR(IF(AL8=TRUE,AP8,\"-\"),\"-\")","v":"-5,1 p.p."},null,{"$f":"IFERROR(IF($AL$8=TRUE,ROUNDUP(INDEX(Indice_UCI[#All],MATCH(Análises!$A$13&Análises!$B$13,Indice_UCI[[#All],[Mês]],0),5)-INDEX(Indice_UCI[#All],MATCH(Análises!$AK$12&Análises!$AL$12,Indice_UCI[[#All],[Mês]],0),5),2)&\" p.p.\",\"-\"),\"-\")","v":"-2,39 p.p."},{"$f":"IFERROR(IF($AL$8=TRUE,ROUNDUP(((INDEX(Indice_UCI[#All],MATCH(Análises!$A$13&Análises!$B$13,Indice_UCI[[#All],[Mês]],0),5)-INDEX(Indice_UCI[#All],MATCH(Análises!$AK$13&Análises!$AL$13,Indice_UCI[[#All],[Mês]],0),5))),2)&\" p.p.\",\"-\"),\"-\")","v":"-3,4 p.p."},{"$f":"IFERROR(IF(AL8=TRUE,AQ8,\"-\"),\"-\")","v":"-1,91 p.p."},{"$f":"IFERROR(IF(AL8=TRUE,AR8,\"-\"),\"-\")","v":"0,21 p.p."},null,null,null,null,null,null,null,null,null,null,null,null,2022,null,null,null,null,224,5,{"$f":"INDEX(Serie_Encadeada[#All],$AK22,$AJ$3)","v":110.13679999999999},{"$f":"INDEX(Serie_Encadeada[#All],$AK22,$AJ$4)","v":103.4333},{"$f":"INDEX(Serie_Encadeada[#All],$AK22,$AJ$5)","v":109.6611},{"$f":"INDEX(Serie_Encadeada[#All],$AK22,$AJ$6)","v":112.61020000000001},{"$f":"INDEX(Serie_Encadeada[#All],$AK22,$AJ$7)","v":102.68940000000001},{"$f":"INDEX(Serie_Encadeada[#All],$AK22,$AJ$8)","v":84.322199999999995},null,2,{"$f":"IF($AT22 >$A$13,\"-\", INDEX(Indice_faturamento[#All],MATCH($AT22&$AU$19,Indice_faturamento[[#All],[Mês]],0),$AI$3))","v":64.086299999999994},{"$f":"IF($AT22 >$A$13,\"-\",INDEX(Indice_faturamento[#All],MATCH($AT22&$AV$2,Indice_faturamento[[#All],[Mês]],0),$AI$3))","v":58.8568},{"$f":"IF($AT22 >$A$13,\"-\", INDEX(Indice_Horas[#All],MATCH($AT22&$AU$19,Indice_Horas[[#All],[Mês]],0),$AI$3))","v":162.85040000000001},{"$f":"IF($AT22 >$A$13,\"-\",INDEX(Indice_Horas[#All],MATCH($AT22&$AV$2,Indice_Horas[[#All],[Mês]],0),$AI$3))","v":151.2996},{"$f":"IF($AT22 >$A$13,\"-\", INDEX(Indice_Emprego[#All],MATCH($AT22&$AU$19,Indice_Emprego[[#All],[Mês]],0),$AI$3))","v":155.03129999999999},{"$f":"IF($AT22 >$A$13,\"-\",INDEX(Indice_Emprego[#All],MATCH($AT22&$AV$2,Indice_Emprego[[#All],[Mês]],0),$AI$3))","v":155.4187},{"$f":"IF($AT22 >$A$13,\"-\", INDEX(Indice_massa_salarial[#All],MATCH($AT22&$AU$19,Indice_massa_salarial[[#All],[Mês]],0),$AI$3))","v":166.71299999999999},{"$f":"IF($AT22 >$A$13,\"-\",INDEX(Indice_massa_salarial[#All],MATCH($AT22&$AV$2,Indice_massa_salarial[[#All],[Mês]],0),$AI$3))","v":190.84639999999999},{"$f":"IF($AT22 >$A$13,\"-\", INDEX(Indice_RMR[#All],MATCH($AT22&$AU$19,Indice_RMR[[#All],[Mês]],0),$AI$3))","v":107.5351},{"$f":"IF($AT22 >$A$13,\"-\",INDEX(Indice_RMR[#All],MATCH($AT22&$AV$2,Indice_RMR[[#All],[Mês]],0),$AI$3))","v":122.795},{"$f":"IF($AT22 >$A$13,\"-\", INDEX(Indice_UCI[#All],MATCH($AT22&$AU$19,Indice_UCI[[#All],[Mês]],0),$AI$3))","v":79.275099999999995},{"$f":"IF($AT22 >$A$13,\"-\",INDEX(Indice_UCI[#All],MATCH($AT22&$AV$2,Indice_UCI[[#All],[Mês]],0),$AI$3))","v":82.754499999999993}]
[null,null,null,null,null,null,null,null,null,null,null,null,null,null,null,null,null,null,null,null,null,null,null,null,null,null,null,null,null,null,null,2023,null,null,null,null,225,6,{"$f":"INDEX(Serie_Encadeada[#All],$AK23,$AJ$3)","v":109.0231},{"$f":"INDEX(Serie_Encadeada[#All],$AK23,$AJ$4)","v":103.3117},{"$f":"INDEX(Serie_Encadeada[#All],$AK23,$AJ$5)","v":110.2529},{"$f":"INDEX(Serie_Encadeada[#All],$AK23,$AJ$6)","v":110.0553},{"$f":"INDEX(Serie_Encadeada[#All],$AK23,$AJ$7)","v":99.820700000000002},{"$f":"INDEX(Serie_Encadeada[#All],$AK23,$AJ$8)","v":84.634299999999996},null,3,{"$f":"IF($AT23 >$A$13,\"-\", INDEX(Indice_faturamento[#All],MATCH($AT23&$AU$19,Indice_faturamento[[#All],[Mês]],0),$AI$3))","v":"-"},{"$f":"IF($AT23 >$A$13,\"-\",INDEX(Indice_faturamento[#All],MATCH($AT23&$AV$2,Indice_faturamento[[#All],[Mês]],0),$AI$3))","v":"-"},{"$f":"IF($AT23 >$A$13,\"-\", INDEX(Indice_Horas[#All],MATCH($AT23&$AU$19,Indice_Horas[[#All],[Mês]],0),$AI$3))","v":"-"},{"$f":"IF($AT23 >$A$13,\"-\",INDEX(Indice_Horas[#All],MATCH($AT23&$AV$2,Indice_Horas[[#All],[Mês]],0),$AI$3))","v":"-"},{"$f":"IF($AT23 >$A$13,\"-\", INDEX(Indice_Emprego[#All],MATCH($AT23&$AU$19,Indice_Emprego[[#All],[Mês]],0),$AI$3))","v":"-"},{"$f":"IF($AT23 >$A$13,\"-\",INDEX(Indice_Emprego[#All],MATCH($AT23&$AV$2,Indice_Emprego[[#All],[Mês]],0),$AI$3))","v":"-"},{"$f":"IF($AT23 >$A$13,\"-\", INDEX(Indice_massa_salarial[#All],MATCH($AT23&$AU$19,Indice_massa_salarial[[#All],[Mês]],0),$AI$3))","v":"-"},{"$f":"IF($AT23 >$A$13,\"-\",INDEX(Indice_massa_salarial[#All],MATCH($AT23&$AV$2,Indice_massa_salarial[[#All],[Mês]],0),$AI$3))","v":"-"},{"$f":"IF($AT23 >$A$13,\"-\", INDEX(Indice_RMR[#All],MATCH($AT23&$AU$19,Indice_RMR[[#All],[Mês]],0),$AI$3))","v":"-"},{"$f":"IF($AT23 >$A$13,\"-\",INDEX(Indice_RMR[#All],MATCH($AT23&$AV$2,Indice_RMR[[#All],[Mês]],0),$AI$3))","v":"-"},{"$f":"IF($AT23 >$A$13,\"-\", INDEX(Indice_UCI[#All],MATCH($AT23&$AU$19,Indice_UCI[[#All],[Mês]],0),$AI$3))","v":"-"},{"$f":"IF($AT23 >$A$13,\"-\",INDEX(Indice_UCI[#All],MATCH($AT23&$AV$2,Indice_UCI[[#All],[Mês]],0),$AI$3))","v":"-"}]
["Acesse as séries:",null,null,null,null,null,null,null,null,null,null,null,null,null,null,null,null,null,null,null,null,null,null,null,null,null,null,null,null,null,null,2024,null,null,null,null,226,7,{"$f":"INDEX(Serie_Encadeada[#All],$AK24,$AJ$3)","v":110.6686},{"$f":"INDEX(Serie_Encadeada[#All],$AK24,$AJ$4)","v":103.1499},{"$f":"INDEX(Serie_Encadeada[#All],$AK24,$AJ$5)","v":110.5656},{"$f":"INDEX(Serie_Encadeada[#All],$AK24,$AJ$6)","v":109.9975},{"$f":"INDEX(Serie_Encadeada[#All],$AK24,$AJ$7)","v":99.486199999999997},{"$f":"INDEX(Serie_Encadeada[#All],$AK24,$AJ$8)","v":83.105000000000004},null,4,{"$f":"IF($AT24 >$A$13,\"-\", INDEX(Indice_faturamento[#All],MATCH($AT24&$AU$19,Indice_faturamento[[#All],[Mês]],0),$AI$3))","v":"-"},{"$f":"IF($AT24 >$A$13,\"-\",INDEX(Indice_faturamento[#All],MATCH($AT24&$AV$2,Indice_faturamento[[#All],[Mês]],0),$AI$3))","v":"-"},{"$f":"IF($AT24 >$A$13,\"-\", INDEX(Indice_Horas[#All],MATCH($AT24&$AU$19,Indice_Horas[[#All],[Mês]],0),$AI$3))","v":"-"},{"$f":"IF($AT24 >$A$13,\"-\",INDEX(Indice_Horas[#All],MATCH($AT24&$AV$2,Indice_Horas[[#All],[Mês]],0),$AI$3))","v":"-"},{"$f":"IF($AT24 >$A$13,\"-\", INDEX(Indice_Emprego[#All],MATCH($AT24&$AU$19,Indice_Emprego[[#All],[Mês]],0),$AI$3))","v":"-"},{"$f":"IF($AT24 >$A$13,\"-\",INDEX(Indice_Emprego[#All],MATCH($AT24&$AV$2,Indice_Emprego[[#All],[Mês]],0),$AI$3))","v":"-"},{"$f":"IF($AT24 >$A$13,\"-\", INDEX(Indice_massa_salarial[#All],MATCH($AT24&$AU$19,Indice_massa_salarial[[#All],[Mês]],0),$AI$3))","v":"-"},{"$f":"IF($AT24 >$A$13,\"-\",INDEX(Indice_massa_salarial[#All],MATCH($AT24&$AV$2,Indice_massa_salarial[[#All],[Mês]],0),$AI$3))","v":"-"},{"$f":"IF($AT24 >$A$13,\"-\", INDEX(Indice_RMR[#All],MATCH($AT24&$AU$19,Indice_RMR[[#All],[Mês]],0),$AI$3))","v":"-"},{"$f":"IF($AT24 >$A$13,\"-\",INDEX(Indice_RMR[#All],MATCH($AT24&$AV$2,Indice_RMR[[#All],[Mês]],0),$AI$3))","v":"-"},{"$f":"IF($AT24 >$A$13,\"-\", INDEX(Indice_UCI[#All],MATCH($AT24&$AU$19,Indice_UCI[[#All],[Mês]],0),$AI$3))","v":"-"},{"$f":"IF($AT24 >$A$13,\"-\",INDEX(Indice_UCI[#All],MATCH($AT24&$AV$2,Indice_UCI[[#All],[Mês]],0),$AI$3))","v":"-"}]
[null,null,null,null,null,null,null,null,null,null,null,null,null,null,null,null,null,null,null,null,null,null,null,null,null,null,null,null,null,null,null,2025,null,null,null,null,227,8,{"$f":"INDEX(Serie_Encadeada[#All],$AK25,$AJ$3)","v":98.498699999999999},{"$f":"INDEX(Serie_Encadeada[#All],$AK25,$AJ$4)","v":101.262},{"$f":"INDEX(Serie_Encadeada[#All],$AK25,$AJ$5)","v":110.0776},{"$f":"INDEX(Serie_Encadeada[#All],$AK25,$AJ$6)","v":115.41840000000001},{"$f":"INDEX(Serie_Encadeada[#All],$AK25,$AJ$7)","v":104.8519},{"$f":"INDEX(Serie_Encadeada[#All],$AK25,$AJ$8)","v":82.330799999999996},null,5,{"$f":"IF($AT25 >$A$13,\"-\", INDEX(Indice_faturamento[#All],MATCH($AT25&$AU$19,Indice_faturamento[[#All],[Mês]],0),$AI$3))","v":"-"},{"$f":"IF($AT25 >$A$13,\"-\",INDEX(Indice_faturamento[#All],MATCH($AT25&$AV$2,Indice_faturamento[[#All],[Mês]],0),$AI$3))","v":"-"},{"$f":"IF($AT25 >$A$13,\"-\", INDEX(Indice_Horas[#All],MATCH($AT25&$AU$19,Indice_Horas[[#All],[Mês]],0),$AI$3))","v":"-"},{"$f":"IF($AT25 >$A$13,\"-\",INDEX(Indice_Horas[#All],MATCH($AT25&$AV$2,Indice_Horas[[#All],[Mês]],0),$AI$3))","v":"-"},{"$f":"IF($AT25 >$A$13,\"-\", INDEX(Indice_Emprego[#All],MATCH($AT25&$AU$19,Indice_Emprego[[#All],[Mês]],0),$AI$3))","v":"-"},{"$f":"IF($AT25 >$A$13,\"-\",INDEX(Indice_Emprego[#All],MATCH($AT25&$AV$2,Indice_Emprego[[#All],[Mês]],0),$AI$3))","v":"-"},{"$f":"IF($AT25 >$A$13,\"-\", INDEX(Indice_massa_salarial[#All],MATCH($AT25&$AU$19,Indice_massa_salarial[[#All],[Mês]],0),$AI$3))","v":"-"},{"$f":"IF($AT25 >$A$13,\"-\",INDEX(Indice_massa_salarial[#All],MATCH($AT25&$AV$2,Indice_massa_salarial[[#All],[Mês]],0),$AI$3))","v":"-"},{"$f":"IF($AT25 >$A$13,\"-\", INDEX(Indice_RMR[#All],MATCH($AT25&$AU$19,Indice_RMR[[#All],[Mês]],0),$AI$3))","v":"-"},{"$f":"IF($AT25 >$A$13,\"-\",INDEX(Indice_RMR[#All],MATCH($AT25&$AV$2,Indice_RMR[[#All],[Mês]],0),$AI$3))","v":"-"},{"$f":"IF($AT25 >$A$13,\"-\", INDEX(Indice_UCI[#All],MATCH($AT25&$AU$19,Indice_UCI[[#All],[Mês]],0),$AI$3))","v":"-"},{"$f":"IF($AT25 >$A$13,\"-\",INDEX(Indice_UCI[#All],MATCH($AT25&$AV$2,Indice_UCI[[#All],[Mês]],0),$AI$3))","v":"-"}]
[null,null,null,null,null,null,null,null,null,null,null,null,null,null,null,null,null,null,null,null,null,null,null,null,null,null,null,null,null,null,null,2026,null,null,null,null,228,9,{"$f":"INDEX(Serie_Encadeada[#All],$AK26,$AJ$3)","v":102.4776},{"$f":"INDEX(Serie_Encadeada[#All],$AK26,$AJ$4)","v":101.7671},{"$f":"INDEX(Serie_Encadeada[#All],$AK26,$AJ$5)","v":109.5861},{"$f":"INDEX(Serie_Encadeada[#All],$AK26,$AJ$6)","v":128.56559999999999},{"$f":"INDEX(Serie_Encadeada[#All],$AK26,$AJ$7)","v":117.3193},{"$f":"INDEX(Serie_Encadeada[#All],$AK26,$AJ$8)","v":82.085300000000004},null,6,{"$f":"IF($AT26 >$A$13,\"-\", INDEX(Indice_faturamento[#All],MATCH($AT26&$AU$19,Indice_faturamento[[#All],[Mês]],0),$AI$3))","v":"-"},{"$f":"IF($AT26 >$A$13,\"-\",INDEX(Indice_faturamento[#All],MATCH($AT26&$AV$2,Indice_faturamento[[#All],[Mês]],0),$AI$3))","v":"-"},{"$f":"IF($AT26 >$A$13,\"-\", INDEX(Indice_Horas[#All],MATCH($AT26&$AU$19,Indice_Horas[[#All],[Mês]],0),$AI$3))","v":"-"},{"$f":"IF($AT26 >$A$13,\"-\",INDEX(Indice_Horas[#All],MATCH($AT26&$AV$2,Indice_Horas[[#All],[Mês]],0),$AI$3))","v":"-"},{"$f":"IF($AT26 >$A$13,\"-\", INDEX(Indice_Emprego[#All],MATCH($AT26&$AU$19,Indice_Emprego[[#All],[Mês]],0),$AI$3))","v":"-"},{"$f":"IF($AT26 >$A$13,\"-\",INDEX(Indice_Emprego[#All],MATCH($AT26&$AV$2,Indice_Emprego[[#All],[Mês]],0),$AI$3))","v":"-"},{"$f":"IF($AT26 >$A$13,\"-\", INDEX(Indice_massa_salarial[#All],MATCH($AT26&$AU$19,Indice_massa_salarial[[#All],[Mês]],0),$AI$3))","v":"-"},{"$f":"IF($AT26 >$A$13,\"-\",INDEX(Indice_massa_salarial[#All],MATCH($AT26&$AV$2,Indice_massa_salarial[[#All],[Mês]],0),$AI$3))","v":"-"},{"$f":"IF($AT26 >$A$13,\"-\", INDEX(Indice_RMR[#All],MATCH($AT26&$AU$19,Indice_RMR[[#All],[Mês]],0),$AI$3))","v":"-"},{"$f":"IF($AT26 >$A$13,\"-\",INDEX(Indice_RMR[#All],MATCH($AT26&$AV$2,Indice_RMR[[#All],[Mês]],0),$AI$3))","v":"-"},{"$f":"IF($AT26 >$A$13,\"-\", INDEX(Indice_UCI[#All],MATCH($AT26&$AU$19,Indice_UCI[[#All],[Mês]],0),$AI$3))","v":"-"},{"$f":"IF($AT26 >$A$13,\"-\",INDEX(Indice_UCI[#All],MATCH($AT26&$AV$2,Indice_UCI[[#All],[Mês]],0),$AI$3))","v":"-"}]
[null,null,null,null,null,null,null,null,null,null,null,null,null,null,null,null,null,null,null,null,null,null,null,null,null,null,null,null,null,null,null,2027,null,null,null,null,229,10,{"$f":"INDEX(Serie_Encadeada[#All],$AK27,$AJ$3)","v":107.5406},{"$f":"INDEX(Serie_Encadeada[#All],$AK27,$AJ$4)","v":98.051900000000003},{"$f":"INDEX(Serie_Encadeada[#All],$AK27,$AJ$5)","v":108.8426},{"$f":"INDEX(Serie_Encadeada[#All],$AK27,$AJ$6)","v":165.10499999999999},{"$f":"INDEX(Serie_Encadeada[#All],$AK27,$AJ$7)","v":151.69149999999999},{"$f":"INDEX(Serie_Encadeada[#All],$AK27,$AJ$8)","v":76.993799999999993},null,7,{"$f":"IF($AT27 >$A$13,\"-\", INDEX(Indice_faturamento[#All],MATCH($AT27&$AU$19,Indice_faturamento[[#All],[Mês]],0),$AI$3))","v":"-"},{"$f":"IF($AT27 >$A$13,\"-\",INDEX(Indice_faturamento[#All],MATCH($AT27&$AV$2,Indice_faturamento[[#All],[Mês]],0),$AI$3))","v":"-"},{"$f":"IF($AT27 >$A$13,\"-\", INDEX(Indice_Horas[#All],MATCH($AT27&$AU$19,Indice_Horas[[#All],[Mês]],0),$AI$3))","v":"-"},{"$f":"IF($AT27 >$A$13,\"-\",INDEX(Indice_Horas[#All],MATCH($AT27&$AV$2,Indice_Horas[[#All],[Mês]],0),$AI$3))","v":"-"},{"$f":"IF($AT27 >$A$13,\"-\", INDEX(Indice_Emprego[#All],MATCH($AT27&$AU$19,Indice_Emprego[[#All],[Mês]],0),$AI$3))","v":"-"},{"$f":"IF($AT27 >$A$13,\"-\",INDEX(Indice_Emprego[#All],MATCH($AT27&$AV$2,Indice_Emprego[[#All],[Mês]],0),$AI$3))","v":"-"},{"$f":"IF($AT27 >$A$13,\"-\", INDEX(Indice_massa_salarial[#All],MATCH($AT27&$AU$19,Indice_massa_salarial[[#All],[Mês]],0),$AI$3))","v":"-"},{"$f":"IF($AT27 >$A$13,\"-\",INDEX(Indice_massa_salarial[#All],MATCH($AT27&$AV$2,Indice_massa_salarial[[#All],[Mês]],0),$AI$3))","v":"-"},{"$f":"IF($AT27 >$A$13,\"-\", INDEX(Indice_RMR[#All],MATCH($AT27&$AU$19,Indice_RMR[[#All],[Mês]],0),$AI$3))","v":"-"},{"$f":"IF($AT27 >$A$13,\"-\",INDEX(Indice_RMR[#All],MATCH($AT27&$AV$2,Indice_RMR[[#All],[Mês]],0),$AI$3))","v":"-"},{"$f":"IF($AT27 >$A$13,\"-\", INDEX(Indice_UCI[#All],MATCH($AT27&$AU$19,Indice_UCI[[#All],[Mês]],0),$AI$3))","v":"-"},{"$f":"IF($AT27 >$A$13,\"-\",INDEX(Indice_UCI[#All],MATCH($AT27&$AV$2,Indice_UCI[[#All],[Mês]],0),$AI$3))","v":"-"}]
["Dados Setoriais",null,null,null,null,null,null,null,null,null,null,null,null,null,null,null,null,null,null,null,null,null,null,null,null,null,null,null,null,null,null,2028,null,null,null,null,230,11,{"$f":"INDEX(Serie_Encadeada[#All],$AK28,$AJ$3)","v":89.616100000000003},{"$f":"INDEX(Serie_Encadeada[#All],$AK28,$AJ$4)","v":96.608199999999997},{"$f":"INDEX(Serie_Encadeada[#All],$AK28,$AJ$5)","v":109.66540000000001},{"$f":"INDEX(Serie_Encadeada[#All],$AK28,$AJ$6)","v":118.3335},{"$f":"INDEX(Serie_Encadeada[#All],$AK28,$AJ$7)","v":107.9041},{"$f":"INDEX(Serie_Encadeada[#All],$AK28,$AJ$8)","v":81.819900000000004},null,8,{"$f":"IF($AT28 >$A$13,\"-\", INDEX(Indice_faturamento[#All],MATCH($AT28&$AU$19,Indice_faturamento[[#All],[Mês]],0),$AI$3))","v":"-"},{"$f":"IF($AT28 >$A$13,\"-\",INDEX(Indice_faturamento[#All],MATCH($AT28&$AV$2,Indice_faturamento[[#All],[Mês]],0),$AI$3))","v":"-"},{"$f":"IF($AT28 >$A$13,\"-\", INDEX(Indice_Horas[#All],MATCH($AT28&$AU$19,Indice_Horas[[#All],[Mês]],0),$AI$3))","v":"-"},{"$f":"IF($AT28 >$A$13,\"-\",INDEX(Indice_Horas[#All],MATCH($AT28&$AV$2,Indice_Horas[[#All],[Mês]],0),$AI$3))","v":"-"},{"$f":"IF($AT28 >$A$13,\"-\", INDEX(Indice_Emprego[#All],MATCH($AT28&$AU$19,Indice_Emprego[[#All],[Mês]],0),$AI$3))","v":"-"},{"$f":"IF($AT28 >$A$13,\"-\",INDEX(Indice_Emprego[#All],MATCH($AT28&$AV$2,Indice_Emprego[[#All],[Mês]],0),$AI$3))","v":"-"},{"$f":"IF($AT28 >$A$13,\"-\", INDEX(Indice_massa_salarial[#All],MATCH($AT28&$AU$19,Indice_massa_salarial[[#All],[Mês]],0),$AI$3))","v":"-"},{"$f":"IF($AT28 >$A$13,\"-\",INDEX(Indice_massa_salarial[#All],MATCH($AT28&$AV$2,Indice_massa_salarial[[#All],[Mês]],0),$AI$3))","v":"-"},{"$f":"IF($AT28 >$A$13,\"-\", INDEX(Indice_RMR[#All],MATCH($AT28&$AU$19,Indice_RMR[[#All],[Mês]],0),$AI$3))","v":"-"},{"$f":"IF($AT28 >$A$13,\"-\",INDEX(Indice_RMR[#All],MATCH($AT28&$AV$2,Indice_RMR[[#All],[Mês]],0),$AI$3))","v":"-"},{"$f":"IF($AT28 >$A$13,\"-\", INDEX(Indice_UCI[#All],MATCH($AT28&$AU$19,Indice_UCI[[#All],[Mês]],0),$AI$3))","v":"-"},{"$f":"IF($AT28 >$A$13,\"-\",INDEX(Indice_UCI[#All],MATCH($AT28&$AV$2,Indice_UCI[[#All],[Mês]],0),$AI$3))","v":"-"}]
[null,null,null,null,null,null,null,null,null,null,null,null,null,null,null,null,null,null,null,null,null,null,null,null,null,null,null,null,null,null,null,2029,null,null,null,null,231,12,{"$f":"INDEX(Serie_Encadeada[#All],$AK29,$AJ$3)","v":83.949299999999994},{"$f":"INDEX(Serie_Encadeada[#All],$AK29,$AJ$4)","v":99.3001},{"$f":"INDEX(Serie_Encadeada[#All],$AK29,$AJ$5)","v":109.1477},{"$f":"INDEX(Serie_Encadeada[#All],$AK29,$AJ$6)","v":127.3092},{"$f":"INDEX(Serie_Encadeada[#All],$AK29,$AJ$7)","v":116.63939999999999},{"$f":"INDEX(Serie_Encadeada[#All],$AK29,$AJ$8)","v":82.537599999999998},null,9,{"$f":"IF($AT29 >$A$13,\"-\", INDEX(Indice_faturamento[#All],MATCH($AT29&$AU$19,Indice_faturamento[[#All],[Mês]],0),$AI$3))","v":"-"},{"$f":"IF($AT29 >$A$13,\"-\",INDEX(Indice_faturamento[#All],MATCH($AT29&$AV$2,Indice_faturamento[[#All],[Mês]],0),$AI$3))","v":"-"},{"$f":"IF($AT29 >$A$13,\"-\", INDEX(Indice_Horas[#All],MATCH($AT29&$AU$19,Indice_Horas[[#All],[Mês]],0),$AI$3))","v":"-"},{"$f":"IF($AT29 >$A$13,\"-\",INDEX(Indice_Horas[#All],MATCH($AT29&$AV$2,Indice_Horas[[#All],[Mês]],0),$AI$3))","v":"-"},{"$f":"IF($AT29 >$A$13,\"-\", INDEX(Indice_Emprego[#All],MATCH($AT29&$AU$19,Indice_Emprego[[#All],[Mês]],0),$AI$3))","v":"-"},{"$f":"IF($AT29 >$A$13,\"-\",INDEX(Indice_Emprego[#All],MATCH($AT29&$AV$2,Indice_Emprego[[#All],[Mês]],0),$AI$3))","v":"-"},{"$f":"IF($AT29 >$A$13,\"-\", INDEX(Indice_massa_salarial[#All],MATCH($AT29&$AU$19,Indice_massa_salarial[[#All],[Mês]],0),$AI$3))","v":"-"},{"$f":"IF($AT29 >$A$13,\"-\",INDEX(Indice_massa_salarial[#All],MATCH($AT29&$AV$2,Indice_massa_salarial[[#All],[Mês]],0),$AI$3))","v":"-"},{"$f":"IF($AT29 >$A$13,\"-\", INDEX(Indice_RMR[#All],MATCH($AT29&$AU$19,Indice_RMR[[#All],[Mês]],0),$AI$3))","v":"-"},{"$f":"IF($AT29 >$A$13,\"-\",INDEX(Indice_RMR[#All],MATCH($AT29&$AV$2,Indice_RMR[[#All],[Mês]],0),$AI$3))","v":"-"},{"$f":"IF($AT29 >$A$13,\"-\", INDEX(Indice_UCI[#All],MATCH($AT29&$AU$19,Indice_UCI[[#All],[Mês]],0),$AI$3))","v":"-"},{"$f":"IF($AT29 >$A$13,\"-\",INDEX(Indice_UCI[#All],MATCH($AT29&$AV$2,Indice_UCI[[#All],[Mês]],0),$AI$3))","v":"-"}]
[null,null,null,null,null,null,null,null,null,null,null,null,null,null,null,null,null,null,null,null,null,null,null,null,null,null,null,null,null,null,null,null,null,null,null,null,232,13,{"$f":"INDEX(Serie_Encadeada[#All],$AK30,$AJ$3)","v":110.4605},{"$f":"INDEX(Serie_Encadeada[#All],$AK30,$AJ$4)","v":107.7469},{"$f":"INDEX(Serie_Encadeada[#All],$AK30,$AJ$5)","v":109.2676},{"$f":"INDEX(Serie_Encadeada[#All],$AK30,$AJ$6)","v":126.3048},{"$f":"INDEX(Serie_Encadeada[#All],$AK30,$AJ$7)","v":115.59220000000001},{"$f":"INDEX(Serie_Encadeada[#All],$AK30,$AJ$8)","v":84.589699999999993},null,10,{"$f":"IF($AT30 >$A$13,\"-\", INDEX(Indice_faturamento[#All],MATCH($AT30&$AU$19,Indice_faturamento[[#All],[Mês]],0),$AI$3))","v":"-"},{"$f":"IF($AT30 >$A$13,\"-\",INDEX(Indice_faturamento[#All],MATCH($AT30&$AV$2,Indice_faturamento[[#All],[Mês]],0),$AI$3))","v":"-"},{"$f":"IF($AT30 >$A$13,\"-\", INDEX(Indice_Horas[#All],MATCH($AT30&$AU$19,Indice_Horas[[#All],[Mês]],0),$AI$3))","v":"-"},{"$f":"IF($AT30 >$A$13,\"-\",INDEX(Indice_Horas[#All],MATCH($AT30&$AV$2,Indice_Horas[[#All],[Mês]],0),$AI$3))","v":"-"},{"$f":"IF($AT30 >$A$13,\"-\", INDEX(Indice_Emprego[#All],MATCH($AT30&$AU$19,Indice_Emprego[[#All],[Mês]],0),$AI$3))","v":"-"},{"$f":"IF($AT30 >$A$13,\"-\",INDEX(Indice_Emprego[#All],MATCH($AT30&$AV$2,Indice_Emprego[[#All],[Mês]],0),$AI$3))","v":"-"},{"$f":"IF($AT30 >$A$13,\"-\", INDEX(Indice_massa_salarial[#All],MATCH($AT30&$AU$19,Indice_massa_salarial[[#All],[Mês]],0),$AI$3))","v":"-"},{"$f":"IF($AT30 >$A$13,\"-\",INDEX(Indice_massa_salarial[#All],MATCH($AT30&$AV$2,Indice_massa_salarial[[#All],[Mês]],0),$AI$3))","v":"-"},{"$f":"IF($AT30 >$A$13,\"-\", INDEX(Indice_RMR[#All],MATCH($AT30&$AU$19,Indice_RMR[[#All],[Mês]],0),$AI$3))","v":"-"},{"$f":"IF($AT30 >$A$13,\"-\",INDEX(Indice_RMR[#All],MATCH($AT30&$AV$2,Indice_RMR[[#All],[Mês]],0),$AI$3))","v":"-"},{"$f":"IF($AT30 >$A$13,\"-\", INDEX(Indice_UCI[#All],MATCH($AT30&$AU$19,Indice_UCI[[#All],[Mês]],0),$AI$3))","v":"-"},{"$f":"IF($AT30 >$A$13,\"-\",INDEX(Indice_UCI[#All],MATCH($AT30&$AV$2,Indice_UCI[[#All],[Mês]],0),$AI$3))","v":"-"}]
[null,null,null,null,null,null,null,null,null,null,null,null,null,null,null,null,null,null,null,null,null,null,null,null,null,null,null,null,null,null,null,null,null,null,null,null,233,14,{"$f":"INDEX(Serie_Encadeada[#All],$AK31,$AJ$3)","v":99.640699999999995},{"$f":"INDEX(Serie_Encadeada[#All],$AK31,$AJ$4)","v":100.91119999999999},{"$f":"INDEX(Serie_Encadeada[#All],$AK31,$AJ$5)","v":108.43640000000001},{"$f":"INDEX(Serie_Encadeada[#All],$AK31,$AJ$6)","v":113.4871},{"$f":"INDEX(Serie_Encadeada[#All],$AK31,$AJ$7)","v":104.65770000000001},{"$f":"INDEX(Serie_Encadeada[#All],$AK31,$AJ$8)","v":83.442700000000002},null,11,{"$f":"IF($AT31 >$A$13,\"-\", INDEX(Indice_faturamento[#All],MATCH($AT31&$AU$19,Indice_faturamento[[#All],[Mês]],0),$AI$3))","v":"-"},{"$f":"IF($AT31 >$A$13,\"-\",INDEX(Indice_faturamento[#All],MATCH($AT31&$AV$2,Indice_faturamento[[#All],[Mês]],0),$AI$3))","v":"-"},{"$f":"IF($AT31 >$A$13,\"-\", INDEX(Indice_Horas[#All],MATCH($AT31&$AU$19,Indice_Horas[[#All],[Mês]],0),$AI$3))","v":"-"},{"$f":"IF($AT31 >$A$13,\"-\",INDEX(Indice_Horas[#All],MATCH($AT31&$AV$2,Indice_Horas[[#All],[Mês]],0),$AI$3))","v":"-"},{"$f":"IF($AT31 >$A$13,\"-\", INDEX(Indice_Emprego[#All],MATCH($AT31&$AU$19,Indice_Emprego[[#All],[Mês]],0),$AI$3))","v":"-"},{"$f":"IF($AT31 >$A$13,\"-\",INDEX(Indice_Emprego[#All],MATCH($AT31&$AV$2,Indice_Emprego[[#All],[Mês]],0),$AI$3))","v":"-"},{"$f":"IF($AT31 >$A$13,\"-\", INDEX(Indice_massa_salarial[#All],MATCH($AT31&$AU$19,Indice_massa_salarial[[#All],[Mês]],0),$AI$3))","v":"-"},{"$f":"IF($AT31 >$A$13,\"-\",INDEX(Indice_massa_salarial[#All],MATCH($AT31&$AV$2,Indice_massa_salarial[[#All],[Mês]],0),$AI$3))","v":"-"},{"$f":"IF($AT31 >$A$13,\"-\", INDEX(Indice_RMR[#All],MATCH($AT31&$AU$19,Indice_RMR[[#All],[Mês]],0),$AI$3))","v":"-"},{"$f":"IF($AT31 >$A$13,\"-\",INDEX(Indice_RMR[#All],MATCH($AT31&$AV$2,Indice_RMR[[#All],[Mês]],0),$AI$3))","v":"-"},{"$f":"IF($AT31 >$A$13,\"-\", INDEX(Indice_UCI[#All],MATCH($AT31&$AU$19,Indice_UCI[[#All],[Mês]],0),$AI$3))","v":"-"},{"$f":"IF($AT31 >$A$13,\"-\",INDEX(Indice_UCI[#All],MATCH($AT31&$AV$2,Indice_UCI[[#All],[Mês]],0),$AI$3))","v":"-"}]
[null,null,null,null,null,null,null,null,null,null,null,null,null,null,null,null,null,null,null,null,null,null,null,null,null,null,null,null,null,null,null,null,null,null,null,null,234,15,{"$f":"INDEX(Serie_Encadeada[#All],$AK32,$AJ$3)","v":112.1824},{"$f":"INDEX(Serie_Encadeada[#All],$AK32,$AJ$4)","v":102.7585},{"$f":"INDEX(Serie_Encadeada[#All],$AK32,$AJ$5)","v":108.89400000000001},{"$f":"INDEX(Serie_Encadeada[#All],$AK32,$AJ$6)","v":113.1923},{"$f":"INDEX(Serie_Encadeada[#All],$AK32,$AJ$7)","v":103.9472},{"$f":"INDEX(Serie_Encadeada[#All],$AK32,$AJ$8)","v":84.257599999999996},null,12,{"$f":"IF($AT32 >$A$13,\"-\", INDEX(Indice_faturamento[#All],MATCH($AT32&$AU$19,Indice_faturamento[[#All],[Mês]],0),$AI$3))","v":"-"},{"$f":"IF($AT32 >$A$13,\"-\",INDEX(Indice_faturamento[#All],MATCH($AT32&$AV$2,Indice_faturamento[[#All],[Mês]],0),$AI$3))","v":"-"},{"$f":"IF($AT32 >$A$13,\"-\", INDEX(Indice_Horas[#All],MATCH($AT32&$AU$19,Indice_Horas[[#All],[Mês]],0),$AI$3))","v":"-"},{"$f":"IF($AT32 >$A$13,\"-\",INDEX(Indice_Horas[#All],MATCH($AT32&$AV$2,Indice_Horas[[#All],[Mês]],0),$AI$3))","v":"-"},{"$f":"IF($AT32 >$A$13,\"-\", INDEX(Indice_Emprego[#All],MATCH($AT32&$AU$19,Indice_Emprego[[#All],[Mês]],0),$AI$3))","v":"-"},{"$f":"IF($AT32 >$A$13,\"-\",INDEX(Indice_Emprego[#All],MATCH($AT32&$AV$2,Indice_Emprego[[#All],[Mês]],0),$AI$3))","v":"-"},{"$f":"IF($AT32 >$A$13,\"-\", INDEX(Indice_massa_salarial[#All],MATCH($AT32&$AU$19,Indice_massa_salarial[[#All],[Mês]],0),$AI$3))","v":"-"},{"$f":"IF($AT32 >$A$13,\"-\",INDEX(Indice_massa_salarial[#All],MATCH($AT32&$AV$2,Indice_massa_salarial[[#All],[Mês]],0),$AI$3))","v":"-"},{"$f":"IF($AT32 >$A$13,\"-\", INDEX(Indice_RMR[#All],MATCH($AT32&$AU$19,Indice_RMR[[#All],[Mês]],0),$AI$3))","v":"-"},{"$f":"IF($AT32 >$A$13,\"-\",INDEX(Indice_RMR[#All],MATCH($AT32&$AV$2,Indice_RMR[[#All],[Mês]],0),$AI$3))","v":"-"},{"$f":"IF($AT32 >$A$13,\"-\", INDEX(Indice_UCI[#All],MATCH($AT32&$AU$19,Indice_UCI[[#All],[Mês]],0),$AI$3))","v":"-"},{"$f":"IF($AT32 >$A$13,\"-\",INDEX(Indice_UCI[#All],MATCH($AT32&$AV$2,Indice_UCI[[#All],[Mês]],0),$AI$3))","v":"-"}]
[null,null,null,null,null,null,null,null,null,null,null,null,null,null,null,null,null,null,null,null,null,null,null,null,null,null,null,null,null,null,null,null,null,null,null,null,235,16,{"$f":"INDEX(Serie_Encadeada[#All],$AK33,$AJ$3)","v":113.7266},{"$f":"INDEX(Serie_Encadeada[#All],$AK33,$AJ$4)","v":100.02800000000001},{"$f":"INDEX(Serie_Encadeada[#All],$AK33,$AJ$5)","v":110.09869999999999},{"$f":"INDEX(Serie_Encadeada[#All],$AK33,$AJ$6)","v":113.81829999999999},{"$f":"INDEX(Serie_Encadeada[#All],$AK33,$AJ$7)","v":103.3784},{"$f":"INDEX(Serie_Encadeada[#All],$AK33,$AJ$8)","v":83.476100000000002},null,"média",{"$f":"AVERAGE(AU21:AU32)","v":56.156049999999993},54.880250000000004,167.39260000000002,153.7928,156.24795,157.58735000000001,160.21015,169.40785,102.5745,107.7085,67.311899999999994,81.398300000000006]
[null,null,null,null,null,null,null,null,null,null,null,null,null,null,null,null,null,null,null,null,null,null,null,null,null,null,null,null,null,null,null,null,null,null,null,null,236,17,{"$f":"INDEX(Serie_Encadeada[#All],$AK34,$AJ$3)","v":111.9883},{"$f":"INDEX(Serie_Encadeada[#All],$AK34,$AJ$4)","v":102.8721},{"$f":"INDEX(Serie_Encadeada[#All],$AK34,$AJ$5)","v":110.03360000000001},{"$f":"INDEX(Serie_Encadeada[#All],$AK34,$AJ$6)","v":120.4098},{"$f":"INDEX(Serie_Encadeada[#All],$AK34,$AJ$7)","v":109.43},{"$f":"INDEX(Serie_Encadeada[#All],$AK34,$AJ$8)","v":83.519099999999995}]
[null,null,null,null,null,null,null,null,null,null,null,null,null,null,null,null,null,null,null,null,null,null,null,null,null,null,null,null,null,null,null,null,null,null,null,null,237,18,{"$f":"INDEX(Serie_Encadeada[#All],$AK35,$AJ$3)","v":122.5189},{"$f":"INDEX(Serie_Encadeada[#All],$AK35,$AJ$4)","v":110.3783},{"$f":"INDEX(Serie_Encadeada[#All],$AK35,$AJ$5)","v":110.0498},{"$f":"INDEX(Serie_Encadeada[#All],$AK35,$AJ$6)","v":116.6901},{"$f":"INDEX(Serie_Encadeada[#All],$AK35,$AJ$7)","v":106.0339},{"$f":"INDEX(Serie_Encadeada[#All],$AK35,$AJ$8)","v":83.666399999999996}]
[null,null,null,null,null,null,null,null,null,null,null,null,null,null,null,null,null,null,null,null,null,null,null,null,null,null,null,null,null,null,null,null,null,null,null,null,238,19,{"$f":"INDEX(Serie_Encadeada[#All],$AK36,$AJ$3)","v":115.3086},{"$f":"INDEX(Serie_Encadeada[#All],$AK36,$AJ$4)","v":103.5324},{"$f":"INDEX(Serie_Encadeada[#All],$AK36,$AJ$5)","v":110.0532},{"$f":"INDEX(Serie_Encadeada[#All],$AK36,$AJ$6)","v":118.6176},{"$f":"INDEX(Serie_Encadeada[#All],$AK36,$AJ$7)","v":107.7821},{"$f":"INDEX(Serie_Encadeada[#All],$AK36,$AJ$8)","v":82.6708},null,null,"Transformação"]
[null,null,null,null,null,null,null,null,null,null,null,null,null,null,null,null,null,null,null,null,null,null,null,null,null,null,null,null,null,null,null,null,null,null,null,null,239,20,{"$f":"INDEX(Serie_Encadeada[#All],$AK37,$AJ$3)","v":114.0226},{"$f":"INDEX(Serie_Encadeada[#All],$AK37,$AJ$4)","v":101.9833},{"$f":"INDEX(Serie_Encadeada[#All],$AK37,$AJ$5)","v":109.7235},{"$f":"INDEX(Serie_Encadeada[#All],$AK37,$AJ$6)","v":119.0728},{"$f":"INDEX(Serie_Encadeada[#All],$AK37,$AJ$7)","v":108.52070000000001},{"$f":"INDEX(Serie_Encadeada[#All],$AK37,$AJ$8)","v":82.576999999999998},null,null,{"$f":"$B$13","v":2023},{"$f":"$AL$13","v":2022},{"$f":"$B$13","v":2023},{"$f":"$AL$13","v":2022},{"$f":"$B$13","v":2023},{"$f":"$AL$13","v":2022},{"$f":"$B$13","v":2023},{"$f":"$AL$13","v":2022},{"$f":"$B$13","v":2023},{"$f":"$AL$13","v":2022},{"$f":"$B$13","v":2023},{"$f":"$AL$13","v":2022}]
[null,null,null,null,null,null,null,null,null,null,null,null,null,null,null,null,null,null,null,null,null,null,null,null,null,null,null,null,null,null,null,null,null,null,null,null,240,21,{"$f":"INDEX(Serie_Encadeada[#All],$AK38,$AJ$3)","v":110.47020000000001},{"$f":"INDEX(Serie_Encadeada[#All],$AK38,$AJ$4)","v":101.0367},{"$f":"INDEX(Serie_Encadeada[#All],$AK38,$AJ$5)","v":109.994},{"$f":"INDEX(Serie_Encadeada[#All],$AK38,$AJ$6)","v":137.98070000000001},{"$f":"INDEX(Serie_Encadeada[#All],$AK38,$AJ$7)","v":125.4438},{"$f":"INDEX(Serie_Encadeada[#All],$AK38,$AJ$8)","v":83.188299999999998},null,"Mês/Ano","Faturamento",null,"Horas Trabalhadas",null,"Emprego",null,"Massa salarial",null,"RMR",null,"UCI"]
[null,null,null,null,null,null,null,null,null,null,null,null,null,null,null,null,null,null,null,null,null,null,null,null,null,null,null,null,null,null,null,null,null,null,null,null,241,22,{"$f":"INDEX(Serie_Encadeada[#All],$AK39,$AJ$3)","v":106.80419999999999},{"$f":"INDEX(Serie_Encadeada[#All],$AK39,$AJ$4)","v":96.42},{"$f":"INDEX(Serie_Encadeada[#All],$AK39,$AJ$5)","v":109.63120000000001},{"$f":"INDEX(Serie_Encadeada[#All],$AK39,$AJ$6)","v":180.26929999999999},{"$f":"INDEX(Serie_Encadeada[#All],$AK39,$AJ$7)","v":164.4324},{"$f":"INDEX(Serie_Encadeada[#All],$AK39,$AJ$8)","v":79.948499999999996},null,1,{"$f":"INDEX(Indice_faturamento[#All],MATCH($AT39&$AU$19,Indice_faturamento[[#All],[Mês]],0),$AH$3)","v":102.9204},{"$f":"INDEX(Indice_faturamento[#All],MATCH($AT39&$AV$2,Indice_faturamento[[#All],[Mês]],0),$AH$3)","v":93.999200000000002},{"$f":"INDEX(Indice_Horas[#All],MATCH($AT39&$AU$19,Indice_Horas[[#All],[Mês]],0),$AH$3)","v":94.690200000000004},{"$f":"INDEX(Indice_Horas[#All],MATCH($AT39&$AV$2,Indice_Horas[[#All],[Mês]],0),$AH$3)","v":92.976699999999994},{"$f":"INDEX(Indice_Emprego[#All],MATCH($AT39&$AU$19,Indice_Emprego[[#All],[Mês]],0),$AH$3)","v":106.69929999999999},{"$f":"INDEX(Indice_Emprego[#All],MATCH($AT39&$AV$2,Indice_Emprego[[#All],[Mês]],0),$AH$3)","v":106.6741},{"$f":"INDEX(Indice_massa_salarial[#All],MATCH($AT39&$AU$19,Indice_massa_salarial[[#All],[Mês]],0),$AH$3)","v":128.6276},{"$f":"INDEX(Indice_massa_salarial[#All],MATCH($AT39&$AV$2,Indice_massa_salarial[[#All],[Mês]],0),$AH$3)","v":115.62649999999999},{"$f":"INDEX(Indice_RMR[#All],MATCH($AT39&$AU$19,Indice_RMR[[#All],[Mês]],0),$AH$3)","v":120.5515},{"$f":"INDEX(Indice_RMR[#All],MATCH($AT39&$AV$2,Indice_RMR[[#All],[Mês]],0),$AH$3)","v":108.39230000000001},{"$f":"INDEX(Indice_UCI[#All],MATCH($AT39&$AU$19,Indice_UCI[[#All],[Mês]],0),$AH$3)","v":81.512699999999995},{"$f":"INDEX(Indice_UCI[#All],MATCH($AT39&$AV$2,Indice_UCI[[#All],[Mês]],0),$AH$3)","v":81.927800000000005}]
[null,null,null,null,null,null,null,null,null,null,null,null,null,null,null,null,null,null,null,null,null,null,null,null,null,null,null,null,null,null,null,null,null,null,null,null,242,23,{"$f":"INDEX(Serie_Encadeada[#All],$AK40,$AJ$3)","v":97.357600000000005},{"$f":"INDEX(Serie_Encadeada[#All],$AK40,$AJ$4)","v":99.121099999999998},{"$f":"INDEX(Serie_Encadeada[#All],$AK40,$AJ$5)","v":109.56},{"$f":"INDEX(Serie_Encadeada[#All],$AK40,$AJ$6)","v":130.7268},{"$f":"INDEX(Serie_Encadeada[#All],$AK40,$AJ$7)","v":119.3198},{"$f":"INDEX(Serie_Encadeada[#All],$AK40,$AJ$8)","v":80.0154},null,2,{"$f":"IF($AT40 >$A$13,\"-\", INDEX(Indice_faturamento[#All],MATCH($AT40&$AU$19,Indice_faturamento[[#All],[Mês]],0),$AH$3))","v":100.03660000000001},{"$f":"IF($AT40 >$A$13,\"-\",INDEX(Indice_faturamento[#All],MATCH($AT40&$AV$2,Indice_faturamento[[#All],[Mês]],0),$AH$3))","v":86.790300000000002},{"$f":"IF($AT40 >$A$13,\"-\", INDEX(Indice_Horas[#All],MATCH($AT40&$AU$19,Indice_Horas[[#All],[Mês]],0),$AH$3))","v":92.635599999999997},{"$f":"IF($AT40 >$A$13,\"-\",INDEX(Indice_Horas[#All],MATCH($AT40&$AV$2,Indice_Horas[[#All],[Mês]],0),$AH$3))","v":96.135900000000007},{"$f":"IF($AT40 >$A$13,\"-\", INDEX(Indice_Emprego[#All],MATCH($AT40&$AU$19,Indice_Emprego[[#All],[Mês]],0),$AH$3))","v":107.51049999999999},{"$f":"IF($AT40 >$A$13,\"-\",INDEX(Indice_Emprego[#All],MATCH($AT40&$AV$2,Indice_Emprego[[#All],[Mês]],0),$AH$3))","v":106.3845},{"$f":"IF($AT40 >$A$13,\"-\", INDEX(Indice_massa_salarial[#All],MATCH($AT40&$AU$19,Indice_massa_salarial[[#All],[Mês]],0),$AH$3))","v":123.0034},{"$f":"IF($AT40 >$A$13,\"-\",INDEX(Indice_massa_salarial[#All],MATCH($AT40&$AV$2,Indice_massa_salarial[[#All],[Mês]],0),$AH$3))","v":121.5055},{"$f":"IF($AT40 >$A$13,\"-\", INDEX(Indice_RMR[#All],MATCH($AT40&$AU$19,Indice_RMR[[#All],[Mês]],0),$AH$3))","v":114.4106},{"$f":"IF($AT40 >$A$13,\"-\",INDEX(Indice_RMR[#All],MATCH($AT40&$AV$2,Indice_RMR[[#All],[Mês]],0),$AH$3))","v":114.2135},{"$f":"IF($AT40 >$A$13,\"-\", INDEX(Indice_UCI[#All],MATCH($AT40&$AU$19,Indice_UCI[[#All],[Mês]],0),$AH$3))","v":79.129900000000006},{"$f":"IF($AT40 >$A$13,\"-\",INDEX(Indice_UCI[#All],MATCH($AT40&$AV$2,Indice_UCI[[#All],[Mês]],0),$AH$3))","v":82.524500000000003}]
[null,null,null,null,null,null,null,null,null,null,null,null,null,null,null,null,null,null,null,null,null,null,null,null,null,null,null,null,null,null,null,null,null,null,null,null,{"$f":"MATCH($A$13&$B$13,Serie_Encadeada[[#All],[Mês]],0)","v":243},24,{"$f":"INDEX(Serie_Encadeada[#All],$AK41,$AJ$3)","v":96.380200000000002},{"$f":"INDEX(Serie_Encadeada[#All],$AK41,$AJ$4)","v":96.663200000000003},{"$f":"INDEX(Serie_Encadeada[#All],$AK41,$AJ$5)","v":110.1884},{"$f":"INDEX(Serie_Encadeada[#All],$AK41,$AJ$6)","v":126.6618},{"$f":"INDEX(Serie_Encadeada[#All],$AK41,$AJ$7)","v":114.9502},{"$f":"INDEX(Serie_Encadeada[#All],$AK41,$AJ$8)","v":79.138199999999998},null,3,{"$f":"IF($AT41 >$A$13,\"-\", INDEX(Indice_faturamento[#All],MATCH($AT41&$AU$19,Indice_faturamento[[#All],[Mês]],0),$AH$3))","v":"-"},{"$f":"IF($AT41 >$A$13,\"-\",INDEX(Indice_faturamento[#All],MATCH($AT41&$AV$2,Indice_faturamento[[#All],[Mês]],0),$AH$3))","v":"-"},{"$f":"IF($AT41 >$A$13,\"-\", INDEX(Indice_Horas[#All],MATCH($AT41&$AU$19,Indice_Horas[[#All],[Mês]],0),$AH$3))","v":"-"},{"$f":"IF($AT41 >$A$13,\"-\",INDEX(Indice_Horas[#All],MATCH($AT41&$AV$2,Indice_Horas[[#All],[Mês]],0),$AH$3))","v":"-"},{"$f":"IF($AT41 >$A$13,\"-\", INDEX(Indice_Emprego[#All],MATCH($AT41&$AU$19,Indice_Emprego[[#All],[Mês]],0),$AH$3))","v":"-"},{"$f":"IF($AT41 >$A$13,\"-\",INDEX(Indice_Emprego[#All],MATCH($AT41&$AV$2,Indice_Emprego[[#All],[Mês]],0),$AH$3))","v":"-"},{"$f":"IF($AT41 >$A$13,\"-\", INDEX(Indice_massa_salarial[#All],MATCH($AT41&$AU$19,Indice_massa_salarial[[#All],[Mês]],0),$AH$3))","v":"-"},{"$f":"IF($AT41 >$A$13,\"-\",INDEX(Indice_massa_salarial[#All],MATCH($AT41&$AV$2,Indice_massa_salarial[[#All],[Mês]],0),$AH$3))","v":"-"},{"$f":"IF($AT41 >$A$13,\"-\", INDEX(Indice_RMR[#All],MATCH($AT41&$AU$19,Indice_RMR[[#All],[Mês]],0),$AH$3))","v":"-"},{"$f":"IF($AT41 >$A$13,\"-\",INDEX(Indice_RMR[#All],MATCH($AT41&$AV$2,Indice_RMR[[#All],[Mês]],0),$AH$3))","v":"-"},{"$f":"IF($AT41 >$A$13,\"-\", INDEX(Indice_UCI[#All],MATCH($AT41&$AU$19,Indice_UCI[[#All],[Mês]],0),$AH$3))","v":"-"},{"$f":"IF($AT41 >$A$13,\"-\",INDEX(Indice_UCI[#All],MATCH($AT41&$AV$2,Indice_UCI[[#All],[Mês]],0),$AH$3))","v":"-"}]
[null,null,null,null,null,null,null,null,null,null,null,null,null,null,null,null,null,null,null,null,null,null,null,null,null,null,null,null,null,null,null,null,null,null,null,null,null,null,null,null,null,null,null,null,null,4,{"$f":"IF($AT42 >$A$13,\"-\", INDEX(Indice_faturamento[#All],MATCH($AT42&$AU$19,Indice_faturamento[[#All],[Mês]],0),$AH$3))","v":"-"},{"$f":"IF($AT42 >$A$13,\"-\",INDEX(Indice_faturamento[#All],MATCH($AT42&$AV$2,Indice_faturamento[[#All],[Mês]],0),$AH$3))","v":"-"},{"$f":"IF($AT42 >$A$13,\"-\", INDEX(Indice_Horas[#All],MATCH($AT42&$AU$19,Indice_Horas[[#All],[Mês]],0),$AH$3))","v":"-"},{"$f":"IF($AT42 >$A$13,\"-\",INDEX(Indice_Horas[#All],MATCH($AT42&$AV$2,Indice_Horas[[#All],[Mês]],0),$AH$3))","v":"-"},{"$f":"IF($AT42 >$A$13,\"-\", INDEX(Indice_Emprego[#All],MATCH($AT42&$AU$19,Indice_Emprego[[#All],[Mês]],0),$AH$3))","v":"-"},{"$f":"IF($AT42 >$A$13,\"-\",INDEX(Indice_Emprego[#All],MATCH($AT42&$AV$2,Indice_Emprego[[#All],[Mês]],0),$AH$3))","v":"-"},{"$f":"IF($AT42 >$A$13,\"-\", INDEX(Indice_massa_salarial[#All],MATCH($AT42&$AU$19,Indice_massa_salarial[[#All],[Mês]],0),$AH$3))","v":"-"},{"$f":"IF($AT42 >$A$13,\"-\",INDEX(Indice_massa_salarial[#All],MATCH($AT42&$AV$2,Indice_massa_salarial[[#All],[Mês]],0),$AH$3))","v":"-"},{"$f":"IF($AT42 >$A$13,\"-\", INDEX(Indice_RMR[#All],MATCH($AT42&$AU$19,Indice_RMR[[#All],[Mês]],0),$AH$3))","v":"-"},{"$f":"IF($AT42 >$A$13,\"-\",INDEX(Indice_RMR[#All],MATCH($AT42&$AV$2,Indice_RMR[[#All],[Mês]],0),$AH$3))","v":"-"},{"$f":"IF($AT42 >$A$13,\"-\", INDEX(Indice_UCI[#All],MATCH($AT42&$AU$19,Indice_UCI[[#All],[Mês]],0),$AH$3))","v":"-"},{"$f":"IF($AT42 >$A$13,\"-\",INDEX(Indice_UCI[#All],MATCH($AT42&$AV$2,Indice_UCI[[#All],[Mês]],0),$AH$3))","v":"-"}]
[null,null,null,null,null,null,null,null,null,null,null,null,null,null,null,null,null,null,null,null,null,null,null,null,null,null,null,null,null,null,null,null,null,null,null,null,"Extrativa",null,null,null,null,null,null,null,null,5,{"$f":"IF($AT43 >$A$13,\"-\", INDEX(Indice_faturamento[#All],MATCH($AT43&$AU$19,Indice_faturamento[[#All],[Mês]],0),$AH$3))","v":"-"},{"$f":"IF($AT43 >$A$13,\"-\",INDEX(Indice_faturamento[#All],MATCH($AT43&$AV$2,Indice_faturamento[[#All],[Mês]],0),$AH$3))","v":"-"},{"$f":"IF($AT43 >$A$13,\"-\", INDEX(Indice_Horas[#All],MATCH($AT43&$AU$19,Indice_Horas[[#All],[Mês]],0),$AH$3))","v":"-"},{"$f":"IF($AT43 >$A$13,\"-\",INDEX(Indice_Horas[#All],MATCH($AT43&$AV$2,Indice_Horas[[#All],[Mês]],0),$AH$3))","v":"-"},{"$f":"IF($AT43 >$A$13,\"-\", INDEX(Indice_Emprego[#All],MATCH($AT43&$AU$19,Indice_Emprego[[#All],[Mês]],0),$AH$3))","v":"-"},{"$f":"IF($AT43 >$A$13,\"-\",INDEX(Indice_Emprego[#All],MATCH($AT43&$AV$2,Indice_Emprego[[#All],[Mês]],0),$AH$3))","v":"-"},{"$f":"IF($AT43 >$A$13,\"-\", INDEX(Indice_massa_salarial[#All],MATCH($AT43&$AU$19,Indice_massa_salarial[[#All],[Mês]],0),$AH$3))","v":"-"},{"$f":"IF($AT43 >$A$13,\"-\",INDEX(Indice_massa_salarial[#All],MATCH($AT43&$AV$2,Indice_massa_salarial[[#All],[Mês]],0),$AH$3))","v":"-"},{"$f":"IF($AT43 >$A$13,\"-\", INDEX(Indice_RMR[#All],MATCH($AT43&$AU$19,Indice_RMR[[#All],[Mês]],0),$AH$3))","v":"-"},{"$f":"IF($AT43 >$A$13,\"-\",INDEX(Indice_RMR[#All],MATCH($AT43&$AV$2,Indice_RMR[[#All],[Mês]],0),$AH$3))","v":"-"},{"$f":"IF($AT43 >$A$13,\"-\", INDEX(Indice_UCI[#All],MATCH($AT43&$AU$19,Indice_UCI[[#All],[Mês]],0),$AH$3))","v":"-"},{"$f":"IF($AT43 >$A$13,\"-\",INDEX(Indice_UCI[#All],MATCH($AT43&$AV$2,Indice_UCI[[#All],[Mês]],0),$AH$3))","v":"-"}]
[null,null,null,null,null,null,null,null,null,null,null,null,null,null,null,null,null,null,null,null,null,null,null,null,null,null,null,null,null,null,null,null,null,null,null,"Linha MSR e RMR","Linha","Período","Faturamento","Horas Trabalhadas","Emprego","Massa salarial","RMR","UCI",null,6,{"$f":"IF($AT44 >$A$13,\"-\", INDEX(Indice_faturamento[#All],MATCH($AT44&$AU$19,Indice_faturamento[[#All],[Mês]],0),$AH$3))","v":"-"},{"$f":"IF($AT44 >$A$13,\"-\",INDEX(Indice_faturamento[#All],MATCH($AT44&$AV$2,Indice_faturamento[[#All],[Mês]],0),$AH$3))","v":"-"},{"$f":"IF($AT44 >$A$13,\"-\", INDEX(Indice_Horas[#All],MATCH($AT44&$AU$19,Indice_Horas[[#All],[Mês]],0),$AH$3))","v":"-"},{"$f":"IF($AT44 >$A$13,\"-\",INDEX(Indice_Horas[#All],MATCH($AT44&$AV$2,Indice_Horas[[#All],[Mês]],0),$AH$3))","v":"-"},{"$f":"IF($AT44 >$A$13,\"-\", INDEX(Indice_Emprego[#All],MATCH($AT44&$AU$19,Indice_Emprego[[#All],[Mês]],0),$AH$3))","v":"-"},{"$f":"IF($AT44 >$A$13,\"-\",INDEX(Indice_Emprego[#All],MATCH($AT44&$AV$2,Indice_Emprego[[#All],[Mês]],0),$AH$3))","v":"-"},{"$f":"IF($AT44 >$A$13,\"-\", INDEX(Indice_massa_salarial[#All],MATCH($AT44&$AU$19,Indice_massa_salarial[[#All],[Mês]],0),$AH$3))","v":"-"},{"$f":"IF($AT44 >$A$13,\"-\",INDEX(Indice_massa_salarial[#All],MATCH($AT44&$AV$2,Indice_massa_salarial[[#All],[Mês]],0),$AH$3))","v":"-"},{"$f":"IF($AT44 >$A$13,\"-\", INDEX(Indice_RMR[#All],MATCH($AT44&$AU$19,Indice_RMR[[#All],[Mês]],0),$AH$3))","v":"-"},{"$f":"IF($AT44 >$A$13,\"-\",INDEX(Indice_RMR[#All],MATCH($AT44&$AV$2,Indice_RMR[[#All],[Mês]],0),$AH$3))","v":"-"},{"$f":"IF($AT44 >$A$13,\"-\", INDEX(Indice_UCI[#All],MATCH($AT44&$AU$19,Indice_UCI[[#All],[Mês]],0),$AH$3))","v":"-"},{"$f":"IF($AT44 >$A$13,\"-\",INDEX(Indice_UCI[#All],MATCH($AT44&$AV$2,Indice_UCI[[#All],[Mês]],0),$AH$3))","v":"-"}]
[null,null,null,null,null,null,null,null,null,null,null,null,null,null,null,null,null,null,null,null,null,null,null,null,null,null,null,null,null,null,null,null,null,null,null,{"$f":"AJ46-1","v":184},{"$f":"AK46-1","v":220},1,{"$f":"INDEX(Indice_faturamento[#All],$AK45,$AI$3)","v":75.146199999999993},{"$f":"INDEX(Indice_Horas[#All],$AK45,$AI$4)","v":141.87119999999999},{"$f":"INDEX(Indice_Emprego[#All],$AK45,$AI$5)","v":152.6035},{"$f":"INDEX(Indice_massa_salarial[#All],$AJ45,$AI$6)","v":164.79929999999999},{"$f":"INDEX(Indice_RMR[#All],$AJ45,$AI$7)","v":107.9918},{"$f":"INDEX(Indice_UCI[#All],$AK45,$AI$8)","v":86.535899999999998},null,7,{"$f":"IF($AT45 >$A$13,\"-\", INDEX(Indice_faturamento[#All],MATCH($AT45&$AU$19,Indice_faturamento[[#All],[Mês]],0),$AH$3))","v":"-"},{"$f":"IF($AT45 >$A$13,\"-\",INDEX(Indice_faturamento[#All],MATCH($AT45&$AV$2,Indice_faturamento[[#All],[Mês]],0),$AH$3))","v":"-"},{"$f":"IF($AT45 >$A$13,\"-\", INDEX(Indice_Horas[#All],MATCH($AT45&$AU$19,Indice_Horas[[#All],[Mês]],0),$AH$3))","v":"-"},{"$f":"IF($AT45 >$A$13,\"-\",INDEX(Indice_Horas[#All],MATCH($AT45&$AV$2,Indice_Horas[[#All],[Mês]],0),$AH$3))","v":"-"},{"$f":"IF($AT45 >$A$13,\"-\", INDEX(Indice_Emprego[#All],MATCH($AT45&$AU$19,Indice_Emprego[[#All],[Mês]],0),$AH$3))","v":"-"},{"$f":"IF($AT45 >$A$13,\"-\",INDEX(Indice_Emprego[#All],MATCH($AT45&$AV$2,Indice_Emprego[[#All],[Mês]],0),$AH$3))","v":"-"},{"$f":"IF($AT45 >$A$13,\"-\", INDEX(Indice_massa_salarial[#All],MATCH($AT45&$AU$19,Indice_massa_salarial[[#All],[Mês]],0),$AH$3))","v":"-"},{"$f":"IF($AT45 >$A$13,\"-\",INDEX(Indice_massa_salarial[#All],MATCH($AT45&$AV$2,Indice_massa_salarial[[#All],[Mês]],0),$AH$3))","v":"-"},{"$f":"IF($AT45 >$A$13,\"-\", INDEX(Indice_RMR[#All],MATCH($AT45&$AU$19,Indice_RMR[[#All],[Mês]],0),$AH$3))","v":"-"},{"$f":"IF($AT45 >$A$13,\"-\",INDEX(Indice_RMR[#All],MATCH($AT45&$AV$2,Indice_RMR[[#All],[Mês]],0),$AH$3))","v":"-"},{"$f":"IF($AT45 >$A$13,\"-\", INDEX(Indice_UCI[#All],MATCH($AT45&$AU$19,Indice_UCI[[#All],[Mês]],0),$AH$3))","v":"-"},{"$f":"IF($AT45 >$A$13,\"-\",INDEX(Indice_UCI[#All],MATCH($AT45&$AV$2,Indice_UCI[[#All],[Mês]],0),$AH$3))","v":"-"}]
[null,null,null,null,null,null,null,null,null,null,null,null,null,null,null,null,null,null,null,null,null,null,null,null,null,null,null,null,null,null,null,null,null,null,null,185,221,2,{"$f":"INDEX(Indice_faturamento[#All],$AK46,$AI$3)","v":71.380600000000001},{"$f":"INDEX(Indice_Horas[#All],$AK46,$AI$4)","v":143.1893},{"$f":"INDEX(Indice_Emprego[#All],$AK46,$AI$5)","v":153.9074},{"$f":"INDEX(Indice_massa_salarial[#All],$AJ46,$AI$6)","v":132.9221},{"$f":"INDEX(Indice_RMR[#All],$AJ46,$AI$7)","v":86.364900000000006},{"$f":"INDEX(Indice_UCI[#All],$AK46,$AI$8)","v":85.828299999999999},null,8,{"$f":"IF($AT46 >$A$13,\"-\", INDEX(Indice_faturamento[#All],MATCH($AT46&$AU$19,Indice_faturamento[[#All],[Mês]],0),$AH$3))","v":"-"},{"$f":"IF($AT46 >$A$13,\"-\",INDEX(Indice_faturamento[#All],MATCH($AT46&$AV$2,Indice_faturamento[[#All],[Mês]],0),$AH$3))","v":"-"},{"$f":"IF($AT46 >$A$13,\"-\", INDEX(Indice_Horas[#All],MATCH($AT46&$AU$19,Indice_Horas[[#All],[Mês]],0),$AH$3))","v":"-"},{"$f":"IF($AT46 >$A$13,\"-\",INDEX(Indice_Horas[#All],MATCH($AT46&$AV$2,Indice_Horas[[#All],[Mês]],0),$AH$3))","v":"-"},{"$f":"IF($AT46 >$A$13,\"-\", INDEX(Indice_Emprego[#All],MATCH($AT46&$AU$19,Indice_Emprego[[#All],[Mês]],0),$AH$3))","v":"-"},{"$f":"IF($AT46 >$A$13,\"-\",INDEX(Indice_Emprego[#All],MATCH($AT46&$AV$2,Indice_Emprego[[#All],[Mês]],0),$AH$3))","v":"-"},{"$f":"IF($AT46 >$A$13,\"-\", INDEX(Indice_massa_salarial[#All],MATCH($AT46&$AU$19,Indice_massa_salarial[[#All],[Mês]],0),$AH$3))","v":"-"},{"$f":"IF($AT46 >$A$13,\"-\",INDEX(Indice_massa_salarial[#All],MATCH($AT46&$AV$2,Indice_massa_salarial[[#All],[Mês]],0),$AH$3))","v":"-"},{"$f":"IF($AT46 >$A$13,\"-\", INDEX(Indice_RMR[#All],MATCH($AT46&$AU$19,Indice_RMR[[#All],[Mês]],0),$AH$3))","v":"-"},{"$f":"IF($AT46 >$A$13,\"-\",INDEX(Indice_RMR[#All],MATCH($AT46&$AV$2,Indice_RMR[[#All],[Mês]],0),$AH$3))","v":"-"},{"$f":"IF($AT46 >$A$13,\"-\", INDEX(Indice_UCI[#All],MATCH($AT46&$AU$19,Indice_UCI[[#All],[Mês]],0),$AH$3))","v":"-"},{"$f":"IF($AT46 >$A$13,\"-\",INDEX(Indice_UCI[#All],MATCH($AT46&$AV$2,Indice_UCI[[#All],[Mês]],0),$AH$3))","v":"-"}]
[null,null,null,null,null,null,null,null,null,null,null,null,null,null,null,null,null,null,null,null,null,null,null,null,null,null,null,null,null,null,null,null,null,null,null,186,222,3,{"$f":"INDEX(Indice_faturamento[#All],$AK47,$AI$3)","v":90.414000000000001},{"$f":"INDEX(Indice_Horas[#All],$AK47,$AI$4)","v":149.608},{"$f":"INDEX(Indice_Emprego[#All],$AK47,$AI$5)","v":158.5558},{"$f":"INDEX(Indice_massa_salarial[#All],$AJ47,$AI$6)","v":136.83260000000001},{"$f":"INDEX(Indice_RMR[#All],$AJ47,$AI$7)","v":86.299300000000002},{"$f":"INDEX(Indice_UCI[#All],$AK47,$AI$8)","v":81.8262},null,9,{"$f":"IF($AT47 >$A$13,\"-\", INDEX(Indice_faturamento[#All],MATCH($AT47&$AU$19,Indice_faturamento[[#All],[Mês]],0),$AH$3))","v":"-"},{"$f":"IF($AT47 >$A$13,\"-\",INDEX(Indice_faturamento[#All],MATCH($AT47&$AV$2,Indice_faturamento[[#All],[Mês]],0),$AH$3))","v":"-"},{"$f":"IF($AT47 >$A$13,\"-\", INDEX(Indice_Horas[#All],MATCH($AT47&$AU$19,Indice_Horas[[#All],[Mês]],0),$AH$3))","v":"-"},{"$f":"IF($AT47 >$A$13,\"-\",INDEX(Indice_Horas[#All],MATCH($AT47&$AV$2,Indice_Horas[[#All],[Mês]],0),$AH$3))","v":"-"},{"$f":"IF($AT47 >$A$13,\"-\", INDEX(Indice_Emprego[#All],MATCH($AT47&$AU$19,Indice_Emprego[[#All],[Mês]],0),$AH$3))","v":"-"},{"$f":"IF($AT47 >$A$13,\"-\",INDEX(Indice_Emprego[#All],MATCH($AT47&$AV$2,Indice_Emprego[[#All],[Mês]],0),$AH$3))","v":"-"},{"$f":"IF($AT47 >$A$13,\"-\", INDEX(Indice_massa_salarial[#All],MATCH($AT47&$AU$19,Indice_massa_salarial[[#All],[Mês]],0),$AH$3))","v":"-"},{"$f":"IF($AT47 >$A$13,\"-\",INDEX(Indice_massa_salarial[#All],MATCH($AT47&$AV$2,Indice_massa_salarial[[#All],[Mês]],0),$AH$3))","v":"-"},{"$f":"IF($AT47 >$A$13,\"-\", INDEX(Indice_RMR[#All],MATCH($AT47&$AU$19,Indice_RMR[[#All],[Mês]],0),$AH$3))","v":"-"},{"$f":"IF($AT47 >$A$13,\"-\",INDEX(Indice_RMR[#All],MATCH($AT47&$AV$2,Indice_RMR[[#All],[Mês]],0),$AH$3))","v":"-"},{"$f":"IF($AT47 >$A$13,\"-\", INDEX(Indice_UCI[#All],MATCH($AT47&$AU$19,Indice_UCI[[#All],[Mês]],0),$AH$3))","v":"-"},{"$f":"IF($AT47 >$A$13,\"-\",INDEX(Indice_UCI[#All],MATCH($AT47&$AV$2,Indice_UCI[[#All],[Mês]],0),$AH$3))","v":"-"}]
[null,null,null,null,null,null,null,null,null,null,null,null,null,null,null,null,null,null,null,null,null,null,null,null,null,null,null,null,null,null,null,null,null,null,null,187,223,4,{"$f":"INDEX(Indice_faturamento[#All],$AK48,$AI$3)","v":89.1785},{"$f":"INDEX(Indice_Horas[#All],$AK48,$AI$4)","v":143.94589999999999},{"$f":"INDEX(Indice_Emprego[#All],$AK48,$AI$5)","v":157.37729999999999},{"$f":"INDEX(Indice_massa_salarial[#All],$AJ48,$AI$6)","v":138.94900000000001},{"$f":"INDEX(Indice_RMR[#All],$AJ48,$AI$7)","v":88.290400000000005},{"$f":"INDEX(Indice_UCI[#All],$AK48,$AI$8)","v":85.020300000000006},null,10,{"$f":"IF($AT48 >$A$13,\"-\", INDEX(Indice_faturamento[#All],MATCH($AT48&$AU$19,Indice_faturamento[[#All],[Mês]],0),$AH$3))","v":"-"},{"$f":"IF($AT48 >$A$13,\"-\",INDEX(Indice_faturamento[#All],MATCH($AT48&$AV$2,Indice_faturamento[[#All],[Mês]],0),$AH$3))","v":"-"},{"$f":"IF($AT48 >$A$13,\"-\", INDEX(Indice_Horas[#All],MATCH($AT48&$AU$19,Indice_Horas[[#All],[Mês]],0),$AH$3))","v":"-"},{"$f":"IF($AT48 >$A$13,\"-\",INDEX(Indice_Horas[#All],MATCH($AT48&$AV$2,Indice_Horas[[#All],[Mês]],0),$AH$3))","v":"-"},{"$f":"IF($AT48 >$A$13,\"-\", INDEX(Indice_Emprego[#All],MATCH($AT48&$AU$19,Indice_Emprego[[#All],[Mês]],0),$AH$3))","v":"-"},{"$f":"IF($AT48 >$A$13,\"-\",INDEX(Indice_Emprego[#All],MATCH($AT48&$AV$2,Indice_Emprego[[#All],[Mês]],0),$AH$3))","v":"-"},{"$f":"IF($AT48 >$A$13,\"-\", INDEX(Indice_massa_salarial[#All],MATCH($AT48&$AU$19,Indice_massa_salarial[[#All],[Mês]],0),$AH$3))","v":"-"},{"$f":"IF($AT48 >$A$13,\"-\",INDEX(Indice_massa_salarial[#All],MATCH($AT48&$AV$2,Indice_massa_salarial[[#All],[Mês]],0),$AH$3))","v":"-"},{"$f":"IF($AT48 >$A$13,\"-\", INDEX(Indice_RMR[#All],MATCH($AT48&$AU$19,Indice_RMR[[#All],[Mês]],0),$AH$3))","v":"-"},{"$f":"IF($AT48 >$A$13,\"-\",INDEX(Indice_RMR[#All],MATCH($AT48&$AV$2,Indice_RMR[[#All],[Mês]],0),$AH$3))","v":"-"},{"$f":"IF($AT48 >$A$13,\"-\", INDEX(Indice_UCI[#All],MATCH($AT48&$AU$19,Indice_UCI[[#All],[Mês]],0),$AH$3))","v":"-"},{"$f":"IF($AT48 >$A$13,\"-\",INDEX(Indice_UCI[#All],MATCH($AT48&$AV$2,Indice_UCI[[#All],[Mês]],0),$AH$3))","v":"-"}]
[null,null,null,null,null,null,null,null,null,null,null,null,null,null,null,null,null,null,null,null,null,null,null,null,null,null,null,null,null,null,null,null,null,null,null,188,224,5,{"$f":"INDEX(Indice_faturamento[#All],$AK49,$AI$3)","v":105.37260000000001},{"$f":"INDEX(Indice_Horas[#All],$AK49,$AI$4)","v":149.29849999999999},{"$f":"INDEX(Indice_Emprego[#All],$AK49,$AI$5)","v":159.54329999999999},{"$f":"INDEX(Indice_massa_salarial[#All],$AJ49,$AI$6)","v":137.9709},{"$f":"INDEX(Indice_RMR[#All],$AJ49,$AI$7)","v":86.478700000000003},{"$f":"INDEX(Indice_UCI[#All],$AK49,$AI$8)","v":88.221999999999994},null,11,{"$f":"IF($AT49 >$A$13,\"-\", INDEX(Indice_faturamento[#All],MATCH($AT49&$AU$19,Indice_faturamento[[#All],[Mês]],0),$AH$3))","v":"-"},{"$f":"IF($AT49 >$A$13,\"-\",INDEX(Indice_faturamento[#All],MATCH($AT49&$AV$2,Indice_faturamento[[#All],[Mês]],0),$AH$3))","v":"-"},{"$f":"IF($AT49 >$A$13,\"-\", INDEX(Indice_Horas[#All],MATCH($AT49&$AU$19,Indice_Horas[[#All],[Mês]],0),$AH$3))","v":"-"},{"$f":"IF($AT49 >$A$13,\"-\",INDEX(Indice_Horas[#All],MATCH($AT49&$AV$2,Indice_Horas[[#All],[Mês]],0),$AH$3))","v":"-"},{"$f":"IF($AT49 >$A$13,\"-\", INDEX(Indice_Emprego[#All],MATCH($AT49&$AU$19,Indice_Emprego[[#All],[Mês]],0),$AH$3))","v":"-"},{"$f":"IF($AT49 >$A$13,\"-\",INDEX(Indice_Emprego[#All],MATCH($AT49&$AV$2,Indice_Emprego[[#All],[Mês]],0),$AH$3))","v":"-"},{"$f":"IF($AT49 >$A$13,\"-\", INDEX(Indice_massa_salarial[#All],MATCH($AT49&$AU$19,Indice_massa_salarial[[#All],[Mês]],0),$AH$3))","v":"-"},{"$f":"IF($AT49 >$A$13,\"-\",INDEX(Indice_massa_salarial[#All],MATCH($AT49&$AV$2,Indice_massa_salarial[[#All],[Mês]],0),$AH$3))","v":"-"},{"$f":"IF($AT49 >$A$13,\"-\", INDEX(Indice_RMR[#All],MATCH($AT49&$AU$19,Indice_RMR[[#All],[Mês]],0),$AH$3))","v":"-"},{"$f":"IF($AT49 >$A$13,\"-\",INDEX(Indice_RMR[#All],MATCH($AT49&$AV$2,Indice_RMR[[#All],[Mês]],0),$AH$3))","v":"-"},{"$f":"IF($AT49 >$A$13,\"-\", INDEX(Indice_UCI[#All],MATCH($AT49&$AU$19,Indice_UCI[[#All],[Mês]],0),$AH$3))","v":"-"},{"$f":"IF($AT49 >$A$13,\"-\",INDEX(Indice_UCI[#All],MATCH($AT49&$AV$2,Indice_UCI[[#All],[Mês]],0),$AH$3))","v":"-"}]
[null,null,null,null,null,null,null,null,null,null,null,null,null,null,null,null,null,null,null,null,null,null,null,null,null,null,null,null,null,null,null,null,null,null,null,189,225,6,{"$f":"INDEX(Indice_faturamento[#All],$AK50,$AI$3)","v":136.38210000000001},{"$f":"INDEX(Indice_Horas[#All],$AK50,$AI$4)","v":148.66399999999999},{"$f":"INDEX(Indice_Emprego[#All],$AK50,$AI$5)","v":158.82310000000001},{"$f":"INDEX(Indice_massa_salarial[#All],$AJ50,$AI$6)","v":134.29730000000001},{"$f":"INDEX(Indice_RMR[#All],$AJ50,$AI$7)","v":84.5578},{"$f":"INDEX(Indice_UCI[#All],$AK50,$AI$8)","v":89.386700000000005},null,12,{"$f":"IF($AT50 >$A$13,\"-\", INDEX(Indice_faturamento[#All],MATCH($AT50&$AU$19,Indice_faturamento[[#All],[Mês]],0),$AH$3))","v":"-"},{"$f":"IF($AT50 >$A$13,\"-\",INDEX(Indice_faturamento[#All],MATCH($AT50&$AV$2,Indice_faturamento[[#All],[Mês]],0),$AH$3))","v":"-"},{"$f":"IF($AT50 >$A$13,\"-\", INDEX(Indice_Horas[#All],MATCH($AT50&$AU$19,Indice_Horas[[#All],[Mês]],0),$AH$3))","v":"-"},{"$f":"IF($AT50 >$A$13,\"-\",INDEX(Indice_Horas[#All],MATCH($AT50&$AV$2,Indice_Horas[[#All],[Mês]],0),$AH$3))","v":"-"},{"$f":"IF($AT50 >$A$13,\"-\", INDEX(Indice_Emprego[#All],MATCH($AT50&$AU$19,Indice_Emprego[[#All],[Mês]],0),$AH$3))","v":"-"},{"$f":"IF($AT50 >$A$13,\"-\",INDEX(Indice_Emprego[#All],MATCH($AT50&$AV$2,Indice_Emprego[[#All],[Mês]],0),$AH$3))","v":"-"},{"$f":"IF($AT50 >$A$13,\"-\", INDEX(Indice_massa_salarial[#All],MATCH($AT50&$AU$19,Indice_massa_salarial[[#All],[Mês]],0),$AH$3))","v":"-"},{"$f":"IF($AT50 >$A$13,\"-\",INDEX(Indice_massa_salarial[#All],MATCH($AT50&$AV$2,Indice_massa_salarial[[#All],[Mês]],0),$AH$3))","v":"-"},{"$f":"IF($AT50 >$A$13,\"-\", INDEX(Indice_RMR[#All],MATCH($AT50&$AU$19,Indice_RMR[[#All],[Mês]],0),$AH$3))","v":"-"},{"$f":"IF($AT50 >$A$13,\"-\",INDEX(Indice_RMR[#All],MATCH($AT50&$AV$2,Indice_RMR[[#All],[Mês]],0),$AH$3))","v":"-"},{"$f":"IF($AT50 >$A$13,\"-\", INDEX(Indice_UCI[#All],MATCH($AT50&$AU$19,Indice_UCI[[#All],[Mês]],0),$AH$3))","v":"-"},{"$f":"IF($AT50 >$A$13,\"-\",INDEX(Indice_UCI[#All],MATCH($AT50&$AV$2,Indice_UCI[[#All],[Mês]],0),$AH$3))","v":"-"}]
[null,null,null,null,null,null,null,null,null,null,null,null,null,null,null,null,null,null,null,null,null,null,null,null,null,null,null,null,null,null,null,null,null,null,null,190,226,7,{"$f":"INDEX(Indice_faturamento[#All],$AK51,$AI$3)","v":118.98090000000001},{"$f":"INDEX(Indice_Horas[#All],$AK51,$AI$4)","v":153.0444},{"$f":"INDEX(Indice_Emprego[#All],$AK51,$AI$5)","v":160.8417},{"$f":"INDEX(Indice_massa_salarial[#All],$AJ51,$AI$6)","v":141.52379999999999},{"$f":"INDEX(Indice_RMR[#All],$AJ51,$AI$7)","v":87.989500000000007},{"$f":"INDEX(Indice_UCI[#All],$AK51,$AI$8)","v":85.677199999999999},null,"média",{"$f":"AVERAGE(AU39:AU50)","v":101.4785},90.394750000000002,93.662900000000008,94.556299999999993,107.10489999999999,106.52930000000001,125.8155,118.566,117.48105000000001,111.30289999999999,80.321300000000008,82.226150000000004]
[null,null,null,null,null,null,null,null,null,null,null,null,null,null,null,null,null,null,null,null,null,null,null,null,null,null,null,null,null,null,null,null,null,null,null,191,227,8,{"$f":"INDEX(Indice_faturamento[#All],$AK52,$AI$3)","v":94.154200000000003},{"$f":"INDEX(Indice_Horas[#All],$AK52,$AI$4)","v":155.67519999999999},{"$f":"INDEX(Indice_Emprego[#All],$AK52,$AI$5)","v":159.3741},{"$f":"INDEX(Indice_massa_salarial[#All],$AJ52,$AI$6)","v":148.42609999999999},{"$f":"INDEX(Indice_RMR[#All],$AJ52,$AI$7)","v":93.130600000000001},{"$f":"INDEX(Indice_UCI[#All],$AK52,$AI$8)","v":85.705299999999994}]
[null,null,null,null,null,null,null,null,null,null,null,null,null,null,null,null,null,null,null,null,null,null,null,null,null,null,null,null,null,null,null,null,null,null,null,192,228,9,{"$f":"INDEX(Indice_faturamento[#All],$AK53,$AI$3)","v":119.8047},{"$f":"INDEX(Indice_Horas[#All],$AK53,$AI$4)","v":152.22190000000001},{"$f":"INDEX(Indice_Emprego[#All],$AK53,$AI$5)","v":158.33750000000001},{"$f":"INDEX(Indice_massa_salarial[#All],$AJ53,$AI$6)","v":153.2073},{"$f":"INDEX(Indice_RMR[#All],$AJ53,$AI$7)","v":96.759900000000002},{"$f":"INDEX(Indice_UCI[#All],$AK53,$AI$8)","v":84.615600000000001}]
[null,null,null,null,null,null,null,null,null,null,null,null,null,null,null,null,null,null,null,null,null,null,null,null,null,null,null,null,null,null,null,null,null,null,null,193,229,10,{"$f":"INDEX(Indice_faturamento[#All],$AK54,$AI$3)","v":81.696899999999999},{"$f":"INDEX(Indice_Horas[#All],$AK54,$AI$4)","v":153.73589999999999},{"$f":"INDEX(Indice_Emprego[#All],$AK54,$AI$5)","v":160.3725},{"$f":"INDEX(Indice_massa_salarial[#All],$AJ54,$AI$6)","v":249.52719999999999},{"$f":"INDEX(Indice_RMR[#All],$AJ54,$AI$7)","v":155.59219999999999},{"$f":"INDEX(Indice_UCI[#All],$AK54,$AI$8)","v":84.724599999999995}]
[null,null,null,null,null,null,null,null,null,null,null,null,null,null,null,null,null,null,null,null,null,null,null,null,null,null,null,null,null,null,null,null,null,null,null,194,230,11,{"$f":"INDEX(Indice_faturamento[#All],$AK55,$AI$3)","v":50.903700000000001},{"$f":"INDEX(Indice_Horas[#All],$AK55,$AI$4)","v":156.286},{"$f":"INDEX(Indice_Emprego[#All],$AK55,$AI$5)","v":159.756},{"$f":"INDEX(Indice_massa_salarial[#All],$AJ55,$AI$6)","v":147.9693},{"$f":"INDEX(Indice_RMR[#All],$AJ55,$AI$7)","v":92.622},{"$f":"INDEX(Indice_UCI[#All],$AK55,$AI$8)","v":80.042100000000005}]
[null,null,null,null,null,null,null,null,null,null,null,null,null,null,null,null,null,null,null,null,null,null,null,null,null,null,null,null,null,null,null,null,null,null,null,195,231,12,{"$f":"INDEX(Indice_faturamento[#All],$AK56,$AI$3)","v":58.8568},{"$f":"INDEX(Indice_Horas[#All],$AK56,$AI$4)","v":151.2996},{"$f":"INDEX(Indice_Emprego[#All],$AK56,$AI$5)","v":155.4187},{"$f":"INDEX(Indice_massa_salarial[#All],$AJ56,$AI$6)","v":190.84639999999999},{"$f":"INDEX(Indice_RMR[#All],$AJ56,$AI$7)","v":122.795},{"$f":"INDEX(Indice_UCI[#All],$AK56,$AI$8)","v":82.754499999999993}]
[null,null,null,null,null,null,null,null,null,null,null,null,null,null,null,null,null,null,null,null,null,null,null,null,null,null,null,null,null,null,null,null,null,null,null,196,232,13,{"$f":"INDEX(Indice_faturamento[#All],$AK57,$AI$3)","v":72.724400000000003},{"$f":"INDEX(Indice_Horas[#All],$AK57,$AI$4)","v":149.58019999999999},{"$f":"INDEX(Indice_Emprego[#All],$AK57,$AI$5)","v":154.23480000000001},{"$f":"INDEX(Indice_massa_salarial[#All],$AJ57,$AI$6)","v":164.6652},{"$f":"INDEX(Indice_RMR[#All],$AJ57,$AI$7)","v":106.7627},{"$f":"INDEX(Indice_UCI[#All],$AK57,$AI$8)","v":86.828000000000003}]
[null,null,null,null,null,null,null,null,null,null,null,null,null,null,null,null,null,null,null,null,null,null,null,null,null,null,null,null,null,null,null,null,null,null,null,197,233,14,{"$f":"INDEX(Indice_faturamento[#All],$AK58,$AI$3)","v":72.842200000000005},{"$f":"INDEX(Indice_Horas[#All],$AK58,$AI$4)","v":150.51589999999999},{"$f":"INDEX(Indice_Emprego[#All],$AK58,$AI$5)","v":149.63560000000001},{"$f":"INDEX(Indice_massa_salarial[#All],$AJ58,$AI$6)","v":140.49350000000001},{"$f":"INDEX(Indice_RMR[#All],$AJ58,$AI$7)","v":93.890500000000003},{"$f":"INDEX(Indice_UCI[#All],$AK58,$AI$8)","v":82.397999999999996}]
[null,null,null,null,null,null,null,null,null,null,null,null,null,null,null,null,null,null,null,null,null,null,null,null,null,null,null,null,null,null,null,null,null,null,null,198,234,15,{"$f":"INDEX(Indice_faturamento[#All],$AK59,$AI$3)","v":106.2259},{"$f":"INDEX(Indice_Horas[#All],$AK59,$AI$4)","v":146.0564},{"$f":"INDEX(Indice_Emprego[#All],$AK59,$AI$5)","v":148.0752},{"$f":"INDEX(Indice_massa_salarial[#All],$AJ59,$AI$6)","v":137.22739999999999},{"$f":"INDEX(Indice_RMR[#All],$AJ59,$AI$7)","v":92.674099999999996},{"$f":"INDEX(Indice_UCI[#All],$AK59,$AI$8)","v":72.928200000000004}]
[null,null,null,null,null,null,null,null,null,null,null,null,null,null,null,null,null,null,null,null,null,null,null,null,null,null,null,null,null,null,null,null,null,null,null,199,235,16,{"$f":"INDEX(Indice_faturamento[#All],$AK60,$AI$3)","v":101.46299999999999},{"$f":"INDEX(Indice_Horas[#All],$AK60,$AI$4)","v":144.5917},{"$f":"INDEX(Indice_Emprego[#All],$AK60,$AI$5)","v":153.28},{"$f":"INDEX(Indice_massa_salarial[#All],$AJ60,$AI$6)","v":140.1943},{"$f":"INDEX(Indice_RMR[#All],$AJ60,$AI$7)","v":91.462800000000001},{"$f":"INDEX(Indice_UCI[#All],$AK60,$AI$8)","v":87.459400000000002}]
[null,null,null,null,null,null,null,null,null,null,null,null,null,null,null,null,null,null,null,null,null,null,null,null,null,null,null,null,null,null,null,null,null,null,null,200,236,17,{"$f":"INDEX(Indice_faturamento[#All],$AK61,$AI$3)","v":106.2612},{"$f":"INDEX(Indice_Horas[#All],$AK61,$AI$4)","v":153.10140000000001},{"$f":"INDEX(Indice_Emprego[#All],$AK61,$AI$5)","v":150.2903},{"$f":"INDEX(Indice_massa_salarial[#All],$AJ61,$AI$6)","v":143.0284},{"$f":"INDEX(Indice_RMR[#All],$AJ61,$AI$7)","v":95.168099999999995},{"$f":"INDEX(Indice_UCI[#All],$AK61,$AI$8)","v":85.301900000000003}]
[null,null,null,null,null,null,null,null,null,null,null,null,null,null,null,null,null,null,null,null,null,null,null,null,null,null,null,null,null,null,null,null,null,null,null,201,237,18,{"$f":"INDEX(Indice_faturamento[#All],$AK62,$AI$3)","v":96.976100000000002},{"$f":"INDEX(Indice_Horas[#All],$AK62,$AI$4)","v":151.42930000000001},{"$f":"INDEX(Indice_Emprego[#All],$AK62,$AI$5)","v":153.1327},{"$f":"INDEX(Indice_massa_salarial[#All],$AJ62,$AI$6)","v":136.15889999999999},{"$f":"INDEX(Indice_RMR[#All],$AJ62,$AI$7)","v":88.915599999999998},{"$f":"INDEX(Indice_UCI[#All],$AK62,$AI$8)","v":79.9041}]
[null,null,null,null,null,null,null,null,null,null,null,null,null,null,null,null,null,null,null,null,null,null,null,null,null,null,null,null,null,null,null,null,null,null,null,202,238,19,{"$f":"INDEX(Indice_faturamento[#All],$AK63,$AI$3)","v":92.612300000000005},{"$f":"INDEX(Indice_Horas[#All],$AK63,$AI$4)","v":152.25030000000001},{"$f":"INDEX(Indice_Emprego[#All],$AK63,$AI$5)","v":153.4273},{"$f":"INDEX(Indice_massa_salarial[#All],$AJ63,$AI$6)","v":141.1096},{"$f":"INDEX(Indice_RMR[#All],$AJ63,$AI$7)","v":91.971599999999995},{"$f":"INDEX(Indice_UCI[#All],$AK63,$AI$8)","v":81.815299999999993}]
[null,null,null,null,null,null,null,null,null,null,null,null,null,null,null,null,null,null,null,null,null,null,null,null,null,null,null,null,null,null,null,null,null,null,null,203,239,20,{"$f":"INDEX(Indice_faturamento[#All],$AK64,$AI$3)","v":96.8309},{"$f":"INDEX(Indice_Horas[#All],$AK64,$AI$4)","v":146.54810000000001},{"$f":"INDEX(Indice_Emprego[#All],$AK64,$AI$5)","v":153.19820000000001},{"$f":"INDEX(Indice_massa_salarial[#All],$AJ64,$AI$6)","v":140.39279999999999},{"$f":"INDEX(Indice_RMR[#All],$AJ64,$AI$7)","v":91.641300000000001},{"$f":"INDEX(Indice_UCI[#All],$AK64,$AI$8)","v":79.442800000000005}]
[null,null,null,null,null,null,null,null,null,null,null,null,null,null,null,null,null,null,null,null,null,null,null,null,null,null,null,null,null,null,null,null,null,null,null,204,240,21,{"$f":"INDEX(Indice_faturamento[#All],$AK65,$AI$3)","v":77.456800000000001},{"$f":"INDEX(Indice_Horas[#All],$AK65,$AI$4)","v":152.31720000000001},{"$f":"INDEX(Indice_Emprego[#All],$AK65,$AI$5)","v":155.34229999999999},{"$f":"INDEX(Indice_massa_salarial[#All],$AJ65,$AI$6)","v":154.12180000000001},{"$f":"INDEX(Indice_RMR[#All],$AJ65,$AI$7)","v":99.214299999999994},{"$f":"INDEX(Indice_UCI[#All],$AK65,$AI$8)","v":85.9636}]
[null,null,null,null,null,null,null,null,null,null,null,null,null,null,null,null,null,null,null,null,null,null,null,null,null,null,null,null,null,null,null,null,null,null,null,205,241,22,{"$f":"INDEX(Indice_faturamento[#All],$AK66,$AI$3)","v":67.470500000000001},{"$f":"INDEX(Indice_Horas[#All],$AK66,$AI$4)","v":168.52369999999999},{"$f":"INDEX(Indice_Emprego[#All],$AK66,$AI$5)","v":155.5933},{"$f":"INDEX(Indice_massa_salarial[#All],$AJ66,$AI$6)","v":263.66649999999998},{"$f":"INDEX(Indice_RMR[#All],$AJ66,$AI$7)","v":169.4588},{"$f":"INDEX(Indice_UCI[#All],$AK66,$AI$8)","v":82.490899999999996}]
[null,null,null,null,null,null,null,null,null,null,null,null,null,null,null,null,null,null,null,null,null,null,null,null,null,null,null,null,null,null,null,null,null,null,null,206,242,23,{"$f":"INDEX(Indice_faturamento[#All],$AK67,$AI$3)","v":48.2258},{"$f":"INDEX(Indice_Horas[#All],$AK67,$AI$4)","v":171.9348},{"$f":"INDEX(Indice_Emprego[#All],$AK67,$AI$5)","v":157.46459999999999},{"$f":"INDEX(Indice_massa_salarial[#All],$AJ67,$AI$6)","v":153.7073},{"$f":"INDEX(Indice_RMR[#All],$AJ67,$AI$7)","v":97.613900000000001},{"$f":"INDEX(Indice_UCI[#All],$AK67,$AI$8)","v":55.348700000000001}]
[null,null,null,null,null,null,null,null,null,null,null,null,null,null,null,null,null,null,null,null,null,null,null,null,null,null,null,null,null,null,null,null,null,null,null,{"$f":"MATCH($A$13&$B$13,Indice_massa_salarial[[#All],[Mês]],0)","v":207},{"$f":"MATCH($A$13&$B$13,Indice_faturamento[[#All],[Mês]],0)","v":243},24,{"$f":"INDEX(Indice_faturamento[#All],$AK68,$AI$3)","v":64.086299999999994},{"$f":"INDEX(Indice_Horas[#All],$AK68,$AI$4)","v":162.85040000000001},{"$f":"INDEX(Indice_Emprego[#All],$AK68,$AI$5)","v":155.03129999999999},{"$f":"INDEX(Indice_massa_salarial[#All],$AJ68,$AI$6)","v":166.71299999999999},{"$f":"INDEX(Indice_RMR[#All],$AJ68,$AI$7)","v":107.5351},{"$f":"INDEX(Indice_UCI[#All],$AK68,$AI$8)","v":79.275099999999995}]
[]
[null,null,null,null,null,null,null,null,null,null,null,null,null,null,null,null,null,null,null,null,null,null,null,null,null,null,null,null,null,null,null,null,null,null,null,null,"Transformação"]
[null,null,null,null,null,null,null,null,null,null,null,null,null,null,null,null,null,null,null,null,null,null,null,null,null,null,null,null,null,null,null,null,null,null,null,"Linha MSR e RMR","Linha","Período","Faturamento","Horas Trabalhadas","Emprego","Massa salarial","RMR","UCI"]
[null,null,null,null,null,null,null,null,null,null,null,null,null,null,null,null,null,null,null,null,null,null,null,null,null,null,null,null,null,null,null,null,null,null,null,{"$f":"AJ73-1","v":184},{"$f":"AK73-1","v":220},1,{"$f":"INDEX(Indice_faturamento[#All],$AK72,$AH$3)","v":108.6322},{"$f":"INDEX(Indice_Horas[#All],$AK72,$AH$4)","v":99.436700000000002},{"$f":"INDEX(Indice_Emprego[#All],$AK72,$AH$5)","v":105.5471},{"$f":"INDEX(Indice_massa_salarial[#All],$AJ72,$AH$6)","v":114.9118},{"$f":"INDEX(Indice_RMR[#All],$AJ72,$AH$7)","v":108.8725},{"$f":"INDEX(Indice_UCI[#All],$AK72,$AH$8)","v":82.280600000000007}]
[null,null,null,null,null,null,null,null,null,null,null,null,null,null,null,null,null,null,null,null,null,null,null,null,null,null,null,null,null,null,null,null,null,null,null,185,221,2,{"$f":"INDEX(Indice_faturamento[#All],$AK73,$AH$3)","v":99.136799999999994},{"$f":"INDEX(Indice_Horas[#All],$AK73,$AH$4)","v":97.584599999999995},{"$f":"INDEX(Indice_Emprego[#All],$AK73,$AH$5)","v":106.679},{"$f":"INDEX(Indice_massa_salarial[#All],$AJ73,$AH$6)","v":121.06870000000001},{"$f":"INDEX(Indice_RMR[#All],$AJ73,$AH$7)","v":113.4888},{"$f":"INDEX(Indice_UCI[#All],$AK73,$AH$8)","v":83.3279}]
[null,null,null,null,null,null,null,null,null,null,null,null,null,null,null,null,null,null,null,null,null,null,null,null,null,null,null,null,null,null,null,null,null,null,null,186,222,3,{"$f":"INDEX(Indice_faturamento[#All],$AK74,$AH$3)","v":108.5431},{"$f":"INDEX(Indice_Horas[#All],$AK74,$AH$4)","v":99.822699999999998},{"$f":"INDEX(Indice_Emprego[#All],$AK74,$AH$5)","v":106.7817},{"$f":"INDEX(Indice_massa_salarial[#All],$AJ74,$AH$6)","v":112.7122},{"$f":"INDEX(Indice_RMR[#All],$AJ74,$AH$7)","v":105.5539},{"$f":"INDEX(Indice_UCI[#All],$AK74,$AH$8)","v":84.147499999999994}]
[null,null,null,null,null,null,null,null,null,null,null,null,null,null,null,null,null,null,null,null,null,null,null,null,null,null,null,null,null,null,null,null,null,null,null,187,223,4,{"$f":"INDEX(Indice_faturamento[#All],$AK75,$AH$3)","v":114.1031},{"$f":"INDEX(Indice_Horas[#All],$AK75,$AH$4)","v":100.185},{"$f":"INDEX(Indice_Emprego[#All],$AK75,$AH$5)","v":107.19029999999999},{"$f":"INDEX(Indice_massa_salarial[#All],$AJ75,$AH$6)","v":112.09399999999999},{"$f":"INDEX(Indice_RMR[#All],$AJ75,$AH$7)","v":104.5748},{"$f":"INDEX(Indice_UCI[#All],$AK75,$AH$8)","v":83.813199999999995}]
[null,null,null,null,null,null,null,null,null,null,null,null,null,null,null,null,null,null,null,null,null,null,null,null,null,null,null,null,null,null,null,null,null,null,null,188,224,5,{"$f":"INDEX(Indice_faturamento[#All],$AK76,$AH$3)","v":110.67619999999999},{"$f":"INDEX(Indice_Horas[#All],$AK76,$AH$4)","v":100.64230000000001},{"$f":"INDEX(Indice_Emprego[#All],$AK76,$AH$5)","v":106.68219999999999},{"$f":"INDEX(Indice_massa_salarial[#All],$AJ76,$AH$6)","v":110.2937},{"$f":"INDEX(Indice_RMR[#All],$AJ76,$AH$7)","v":103.3853},{"$f":"INDEX(Indice_UCI[#All],$AK76,$AH$8)","v":84.085400000000007}]
[null,null,null,null,null,null,null,null,null,null,null,null,null,null,null,null,null,null,null,null,null,null,null,null,null,null,null,null,null,null,null,null,null,null,null,189,225,6,{"$f":"INDEX(Indice_faturamento[#All],$AK77,$AH$3)","v":105.9255},{"$f":"INDEX(Indice_Horas[#All],$AK77,$AH$4)","v":100.55200000000001},{"$f":"INDEX(Indice_Emprego[#All],$AK77,$AH$5)","v":107.35250000000001},{"$f":"INDEX(Indice_massa_salarial[#All],$AJ77,$AH$6)","v":107.8409},{"$f":"INDEX(Indice_RMR[#All],$AJ77,$AH$7)","v":100.455},{"$f":"INDEX(Indice_UCI[#All],$AK77,$AH$8)","v":84.345799999999997}]
[null,null,null,null,null,null,null,null,null,null,null,null,null,null,null,null,null,null,null,null,null,null,null,null,null,null,null,null,null,null,null,null,null,null,null,190,226,7,{"$f":"INDEX(Indice_faturamento[#All],$AK78,$AH$3)","v":109.72750000000001},{"$f":"INDEX(Indice_Horas[#All],$AK78,$AH$4)","v":100.11369999999999},{"$f":"INDEX(Indice_Emprego[#All],$AK78,$AH$5)","v":107.56319999999999},{"$f":"INDEX(Indice_massa_salarial[#All],$AJ78,$AH$6)","v":107.1178},{"$f":"INDEX(Indice_RMR[#All],$AJ78,$AH$7)","v":99.585899999999995},{"$f":"INDEX(Indice_UCI[#All],$AK78,$AH$8)","v":82.948899999999995}]
[null,null,null,null,null,null,null,null,null,null,null,null,null,null,null,null,null,null,null,null,null,null,null,null,null,null,null,null,null,null,null,null,null,null,null,191,227,8,{"$f":"INDEX(Indice_faturamento[#All],$AK79,$AH$3)","v":98.990600000000001},{"$f":"INDEX(Indice_Horas[#All],$AK79,$AH$4)","v":97.950800000000001},{"$f":"INDEX(Indice_Emprego[#All],$AK79,$AH$5)","v":107.1337},{"$f":"INDEX(Indice_massa_salarial[#All],$AJ79,$AH$6)","v":112.4034},{"$f":"INDEX(Indice_RMR[#All],$AJ79,$AH$7)","v":104.9188},{"$f":"INDEX(Indice_UCI[#All],$AK79,$AH$8)","v":82.126000000000005}]
[null,null,null,null,null,null,null,null,null,null,null,null,null,null,null,null,null,null,null,null,null,null,null,null,null,null,null,null,null,null,null,null,null,null,null,192,228,9,{"$f":"INDEX(Indice_faturamento[#All],$AK80,$AH$3)","v":100.5158},{"$f":"INDEX(Indice_Horas[#All],$AK80,$AH$4)","v":98.696899999999999},{"$f":"INDEX(Indice_Emprego[#All],$AK80,$AH$5)","v":106.6748},{"$f":"INDEX(Indice_massa_salarial[#All],$AJ80,$AH$6)","v":126.31480000000001},{"$f":"INDEX(Indice_RMR[#All],$AJ80,$AH$7)","v":118.4111},{"$f":"INDEX(Indice_UCI[#All],$AK80,$AH$8)","v":81.931700000000006}]
[null,null,null,null,null,null,null,null,null,null,null,null,null,null,null,null,null,null,null,null,null,null,null,null,null,null,null,null,null,null,null,null,null,null,null,193,229,10,{"$f":"INDEX(Indice_faturamento[#All],$AK81,$AH$3)","v":110.4667},{"$f":"INDEX(Indice_Horas[#All],$AK81,$AH$4)","v":94.663499999999999},{"$f":"INDEX(Indice_Emprego[#All],$AK81,$AH$5)","v":105.7653},{"$f":"INDEX(Indice_massa_salarial[#All],$AJ81,$AH$6)","v":157.39349999999999},{"$f":"INDEX(Indice_RMR[#All],$AJ81,$AH$7)","v":148.81389999999999},{"$f":"INDEX(Indice_UCI[#All],$AK81,$AH$8)","v":76.524500000000003}]
[null,null,null,null,null,null,null,null,null,null,null,null,null,null,null,null,null,null,null,null,null,null,null,null,null,null,null,null,null,null,null,null,null,null,null,194,230,11,{"$f":"INDEX(Indice_faturamento[#All],$AK82,$AH$3)","v":93.999200000000002},{"$f":"INDEX(Indice_Horas[#All],$AK82,$AH$4)","v":92.976699999999994},{"$f":"INDEX(Indice_Emprego[#All],$AK82,$AH$5)","v":106.6741},{"$f":"INDEX(Indice_massa_salarial[#All],$AJ82,$AH$6)","v":115.62649999999999},{"$f":"INDEX(Indice_RMR[#All],$AJ82,$AH$7)","v":108.39230000000001},{"$f":"INDEX(Indice_UCI[#All],$AK82,$AH$8)","v":81.927800000000005}]
[null,null,null,null,null,null,null,null,null,null,null,null,null,null,null,null,null,null,null,null,null,null,null,null,null,null,null,null,null,null,null,null,null,null,null,195,231,12,{"$f":"INDEX(Indice_faturamento[#All],$AK83,$AH$3)","v":86.790300000000002},{"$f":"INDEX(Indice_Horas[#All],$AK83,$AH$4)","v":96.135900000000007},{"$f":"INDEX(Indice_Emprego[#All],$AK83,$AH$5)","v":106.3845},{"$f":"INDEX(Indice_massa_salarial[#All],$AJ83,$AH$6)","v":121.5055},{"$f":"INDEX(Indice_RMR[#All],$AJ83,$AH$7)","v":114.2135},{"$f":"INDEX(Indice_UCI[#All],$AK83,$AH$8)","v":82.524500000000003}]
[null,null,null,null,null,null,null,null,null,null,null,null,null,null,null,null,null,null,null,null,null,null,null,null,null,null,null,null,null,null,null,null,null,null,null,196,232,13,{"$f":"INDEX(Indice_faturamento[#All],$AK84,$AH$3)","v":114.733},{"$f":"INDEX(Indice_Horas[#All],$AK84,$AH$4)","v":105.2013},{"$f":"INDEX(Indice_Emprego[#All],$AK84,$AH$5)","v":106.5822},{"$f":"INDEX(Indice_massa_salarial[#All],$AJ84,$AH$6)","v":122.8008},{"$f":"INDEX(Indice_RMR[#All],$AJ84,$AH$7)","v":115.217},{"$f":"INDEX(Indice_UCI[#All],$AK84,$AH$8)","v":84.453800000000001}]
[null,null,null,null,null,null,null,null,null,null,null,null,null,null,null,null,null,null,null,null,null,null,null,null,null,null,null,null,null,null,null,null,null,null,null,197,233,14,{"$f":"INDEX(Indice_faturamento[#All],$AK85,$AH$3)","v":102.6748},{"$f":"INDEX(Indice_Horas[#All],$AK85,$AH$4)","v":97.892700000000005},{"$f":"INDEX(Indice_Emprego[#All],$AK85,$AH$5)","v":105.9761},{"$f":"INDEX(Indice_massa_salarial[#All],$AJ85,$AH$6)","v":111.0202},{"$f":"INDEX(Indice_RMR[#All],$AJ85,$AH$7)","v":104.7597},{"$f":"INDEX(Indice_UCI[#All],$AK85,$AH$8)","v":83.506100000000004}]
[null,null,null,null,null,null,null,null,null,null,null,null,null,null,null,null,null,null,null,null,null,null,null,null,null,null,null,null,null,null,null,null,null,null,null,198,234,15,{"$f":"INDEX(Indice_faturamento[#All],$AK86,$AH$3)","v":112.85680000000001},{"$f":"INDEX(Indice_Horas[#All],$AK86,$AH$4)","v":100.1238},{"$f":"INDEX(Indice_Emprego[#All],$AK86,$AH$5)","v":106.55419999999999},{"$f":"INDEX(Indice_massa_salarial[#All],$AJ86,$AH$6)","v":110.99679999999999},{"$f":"INDEX(Indice_RMR[#All],$AJ86,$AH$7)","v":104.16930000000001},{"$f":"INDEX(Indice_UCI[#All],$AK86,$AH$8)","v":84.945300000000003}]
[null,null,null,null,null,null,null,null,null,null,null,null,null,null,null,null,null,null,null,null,null,null,null,null,null,null,null,null,null,null,null,null,null,null,null,199,235,16,{"$f":"INDEX(Indice_faturamento[#All],$AK87,$AH$3)","v":115.1151},{"$f":"INDEX(Indice_Horas[#All],$AK87,$AH$4)","v":97.316299999999998},{"$f":"INDEX(Indice_Emprego[#All],$AK87,$AH$5)","v":107.52},{"$f":"INDEX(Indice_massa_salarial[#All],$AJ87,$AH$6)","v":111.40900000000001},{"$f":"INDEX(Indice_RMR[#All],$AJ87,$AH$7)","v":103.617},{"$f":"INDEX(Indice_UCI[#All],$AK87,$AH$8)","v":83.234300000000005}]
[null,null,null,null,null,null,null,null,null,null,null,null,null,null,null,null,null,null,null,null,null,null,null,null,null,null,null,null,null,null,null,null,null,null,null,200,236,17,{"$f":"INDEX(Indice_faturamento[#All],$AK88,$AH$3)","v":112.6367},{"$f":"INDEX(Indice_Horas[#All],$AK88,$AH$4)","v":99.8155},{"$f":"INDEX(Indice_Emprego[#All],$AK88,$AH$5)","v":107.6296},{"$f":"INDEX(Indice_massa_salarial[#All],$AJ88,$AH$6)","v":118.3437},{"$f":"INDEX(Indice_RMR[#All],$AJ88,$AH$7)","v":109.9546},{"$f":"INDEX(Indice_UCI[#All],$AK88,$AH$8)","v":83.410899999999998}]
[null,null,null,null,null,null,null,null,null,null,null,null,null,null,null,null,null,null,null,null,null,null,null,null,null,null,null,null,null,null,null,null,null,null,null,201,237,18,{"$f":"INDEX(Indice_faturamento[#All],$AK89,$AH$3)","v":125.4109},{"$f":"INDEX(Indice_Horas[#All],$AK89,$AH$4)","v":107.88030000000001},{"$f":"INDEX(Indice_Emprego[#All],$AK89,$AH$5)","v":107.477},{"$f":"INDEX(Indice_massa_salarial[#All],$AJ89,$AH$6)","v":114.9117},{"$f":"INDEX(Indice_RMR[#All],$AJ89,$AH$7)","v":106.9175},{"$f":"INDEX(Indice_UCI[#All],$AK89,$AH$8)","v":83.8947}]
[null,null,null,null,null,null,null,null,null,null,null,null,null,null,null,null,null,null,null,null,null,null,null,null,null,null,null,null,null,null,null,null,null,null,null,202,238,19,{"$f":"INDEX(Indice_faturamento[#All],$AK90,$AH$3)","v":117.87820000000001},{"$f":"INDEX(Indice_Horas[#All],$AK90,$AH$4)","v":100.56780000000001},{"$f":"INDEX(Indice_Emprego[#All],$AK90,$AH$5)","v":107.46299999999999},{"$f":"INDEX(Indice_massa_salarial[#All],$AJ90,$AH$6)","v":116.56310000000001},{"$f":"INDEX(Indice_RMR[#All],$AJ90,$AH$7)","v":108.4682},{"$f":"INDEX(Indice_UCI[#All],$AK90,$AH$8)","v":82.722800000000007}]
[null,null,null,null,null,null,null,null,null,null,null,null,null,null,null,null,null,null,null,null,null,null,null,null,null,null,null,null,null,null,null,null,null,null,null,203,239,20,{"$f":"INDEX(Indice_faturamento[#All],$AK91,$AH$3)","v":115.9691},{"$f":"INDEX(Indice_Horas[#All],$AK91,$AH$4)","v":99.271500000000003},{"$f":"INDEX(Indice_Emprego[#All],$AK91,$AH$5)","v":107.12730000000001},{"$f":"INDEX(Indice_massa_salarial[#All],$AJ91,$AH$6)","v":117.1253},{"$f":"INDEX(Indice_RMR[#All],$AJ91,$AH$7)","v":109.33280000000001},{"$f":"INDEX(Indice_UCI[#All],$AK91,$AH$8)","v":82.767200000000003}]
[null,null,null,null,null,null,null,null,null,null,null,null,null,null,null,null,null,null,null,null,null,null,null,null,null,null,null,null,null,null,null,null,null,null,null,204,240,21,{"$f":"INDEX(Indice_faturamento[#All],$AK92,$AH$3)","v":114.2079},{"$f":"INDEX(Indice_Horas[#All],$AK92,$AH$4)","v":97.916200000000003},{"$f":"INDEX(Indice_Emprego[#All],$AK92,$AH$5)","v":107.2859},{"$f":"INDEX(Indice_massa_salarial[#All],$AJ92,$AH$6)","v":136.50630000000001},{"$f":"INDEX(Indice_RMR[#All],$AJ92,$AH$7)","v":127.236},{"$f":"INDEX(Indice_UCI[#All],$AK92,$AH$8)","v":83.019900000000007}]
[null,null,null,null,null,null,null,null,null,null,null,null,null,null,null,null,null,null,null,null,null,null,null,null,null,null,null,null,null,null,null,null,null,null,null,205,241,22,{"$f":"INDEX(Indice_faturamento[#All],$AK93,$AH$3)","v":111.2576},{"$f":"INDEX(Indice_Horas[#All],$AK93,$AH$4)","v":92.032399999999996},{"$f":"INDEX(Indice_Emprego[#All],$AK93,$AH$5)","v":106.8865},{"$f":"INDEX(Indice_massa_salarial[#All],$AJ93,$AH$6)","v":172.6515},{"$f":"INDEX(Indice_RMR[#All],$AJ93,$AH$7)","v":161.52789999999999},{"$f":"INDEX(Indice_UCI[#All],$AK93,$AH$8)","v":79.7941}]
[null,null,null,null,null,null,null,null,null,null,null,null,null,null,null,null,null,null,null,null,null,null,null,null,null,null,null,null,null,null,null,null,null,null,null,206,242,23,{"$f":"INDEX(Indice_faturamento[#All],$AK94,$AH$3)","v":102.9204},{"$f":"INDEX(Indice_Horas[#All],$AK94,$AH$4)","v":94.690200000000004},{"$f":"INDEX(Indice_Emprego[#All],$AK94,$AH$5)","v":106.69929999999999},{"$f":"INDEX(Indice_massa_salarial[#All],$AJ94,$AH$6)","v":128.6276},{"$f":"INDEX(Indice_RMR[#All],$AJ94,$AH$7)","v":120.5515},{"$f":"INDEX(Indice_UCI[#All],$AK94,$AH$8)","v":81.512699999999995}]
[null,null,null,null,null,null,null,null,null,null,null,null,null,null,null,null,null,null,null,null,null,null,null,null,null,null,null,null,null,null,null,null,null,null,null,{"$f":"MATCH($A$13&$B$13,Indice_massa_salarial[[#All],[Mês]],0)","v":207},{"$f":"MATCH($A$13&$B$13,Indice_faturamento[[#All],[Mês]],0)","v":243},24,{"$f":"INDEX(Indice_faturamento[#All],$AK95,$AH$3)","v":100.03660000000001},{"$f":"INDEX(Indice_Horas[#All],$AK95,$AH$4)","v":92.635599999999997},{"$f":"INDEX(Indice_Emprego[#All],$AK95,$AH$5)","v":107.51049999999999},{"$f":"INDEX(Indice_massa_salarial[#All],$AJ95,$AH$6)","v":123.0034},{"$f":"INDEX(Indice_RMR[#All],$AJ95,$AH$7)","v":114.4106},{"$f":"INDEX(Indice_UCI[#All],$AK95,$AH$8)","v":79.129900000000006}]

{"sheet":"MG_series_dessazonalizadas","index":2,"n_rows":245,"n_cols":16,"rows_kept":245,"cut":false,"hidden":false,"merged":[]}
[null,null,"Série Encadeada Mensal Dessazonalizada",null,null,null,null,null,null,null,null,"Variação Mensal Dessazonalizada"]
[null,null,"Média 2006=100"]
["Período","Mês","Fat.real","Emprego","Horas","Massa Real","RMR Real","UCI",null,"Período","Fat.real","Emprego","Horas","Massa Real","RMR Real","UCI"]
["2003-01-01",{"$f":"MONTH(Serie_dessazonalizada[[#This Row],[Período]])&YEAR(Serie_dessazonalizada[[#This Row],[Período]])","v":"12003"},94.13043691286596,85.999040794400159,91.881040555907859,null,null,82.988974515252522,null,"2003-01-01"]
["2003-02-01",{"$f":"MONTH(Serie_dessazonalizada[[#This Row],[Período]])&YEAR(Serie_dessazonalizada[[#This Row],[Período]])","v":"22003"},98.902413929910026,86.673692759242442,92.754330912178204,null,null,81.956226476483351,null,"2003-02-01",5.0695366701222877,0.78448777871277531,0.95045762541072343,-1.1757357391914185,6.6947357898185311,-1.0327480387691708]
["2003-03-01",{"$f":"MONTH(Serie_dessazonalizada[[#This Row],[Período]])&YEAR(Serie_dessazonalizada[[#This Row],[Período]])","v":"32003"},82.787529171590876,86.748139318912408,86.450812230306624,null,null,81.054275274133886,null,"2003-03-01",-16.293722385521768,8.5892913178118729E-2,-6.7959292249543441,5.2804631540135416,2.2595345931909723,-0.90195120234946558]
["2003-04-01",{"$f":"MONTH(Serie_dessazonalizada[[#This Row],[Período]])&YEAR(Serie_dessazonalizada[[#This Row],[Período]])","v":"42003"},82.377463542893906,87.116296914588048,89.234554905226943,null,null,80.196237332920134,null,"2003-04-01",-0.49532294634260737,0.42439826210240861,3.2200306776810552,-3.3761679184473663,-4.1537135989367453,-0.85803794121375176]
["2003-05-01",{"$f":"MONTH(Serie_dessazonalizada[[#This Row],[Período]])&YEAR(Serie_dessazonalizada[[#This Row],[Período]])","v":"52003"},85.04231432100093,87.580950511927327,89.279794831455803,null,null,79.590841407406188,null,"2003-05-01",3.2349269612063707,0.53337161219655815,5.0697766439141478E-2,-1.1854693978813802,-2.6154364739968399,-0.60539592551394605]
["2003-06-01",{"$f":"MONTH(Serie_dessazonalizada[[#This Row],[Período]])&YEAR(Serie_dessazonalizada[[#This Row],[Período]])","v":"62003"},80.177223176976881,87.167031811988053,88.8453073974689,null,null,80.614086039561741,null,"2003-06-01",-5.7207887424844346,-0.47261270575375108,-0.4866581904753885,1.7160320633842496,-0.55325210824927928,1.0232446321555528]
["2003-07-01",{"$f":"MONTH(Serie_dessazonalizada[[#This Row],[Período]])&YEAR(Serie_dessazonalizada[[#This Row],[Período]])","v":"72003"},82.862886976694,86.535784484710234,90.040482572550346,null,null,79.840084565322456,null,"2003-07-01",3.3496592838953734,-0.72418128064675469,1.3452316279739658,1.1097905205987828,1.284949289299625,-0.77400147423928445]
["2003-08-01",{"$f":"MONTH(Serie_dessazonalizada[[#This Row],[Período]])&YEAR(Serie_dessazonalizada[[#This Row],[Período]])","v":"82003"},83.947719820271246,86.491763798500486,87.652714042156248,null,null,78.480469854319793,null,"2003-08-01",1.3091902577354875,-5.0869922162115715E-2,-2.6518833108986808,0.54637412098524607,1.2478098556894652,-1.3596147110026635]
["2003-09-01",{"$f":"MONTH(Serie_dessazonalizada[[#This Row],[Período]])&YEAR(Serie_dessazonalizada[[#This Row],[Período]])","v":"92003"},87.673466331078004,86.594001393821415,91.363021531334297,null,null,80.125492603910672,null,"2003-09-01",4.4381747577938198,0.11820500684794871,4.2329636106802022,-1.3283886713871746,-3.4205499419631793,1.6450227495908791]
["2003-10-01",{"$f":"MONTH(Serie_dessazonalizada[[#This Row],[Período]])&YEAR(Serie_dessazonalizada[[#This Row],[Período]])","v":"102003"},91.567272956499792,86.490641910061953,91.953492828531793,null,null,79.890935278231382,null,"2003-10-01",4.4412600395172621,-0.11936102050463376,0.64629134118006926,1.0617052094487514,2.0652090536086454,-0.23455732567929033]
["2003-11-01",{"$f":"MONTH(Serie_dessazonalizada[[#This Row],[Período]])&YEAR(Serie_dessazonalizada[[#This Row],[Período]])","v":"112003"},91.618529715916992,86.840670156670939,90.293399840568668,null,null,81.126413622284204,null,"2003-11-01",5.5977160575208934E-2,0.40470071545192787,-1.8053615332032533,1.4610581803806124,1.6817030831955713,1.2354783440528223]
["2003-12-01",{"$f":"MONTH(Serie_dessazonalizada[[#This Row],[Período]])&YEAR(Serie_dessazonalizada[[#This Row],[Período]])","v":"122003"},95.011350832046531,87.057138113632192,92.402907096056879,null,null,81.603962488638103,null,"2003-12-01",3.7032040643412558,0.24927025156613722,2.3362806796653732,2.8793941953359359,1.9776674672847734,0.47754886635389937]
["2004-01-01",{"$f":"MONTH(Serie_dessazonalizada[[#This Row],[Período]])&YEAR(Serie_dessazonalizada[[#This Row],[Período]])","v":"12004"},89.845781917869232,87.340559372879511,90.200321589182423,null,null,81.050827462344671,null,"2004-01-01",-5.4367913611801804,0.32555774906979013,-2.3836755531779663,-4.6209128726015214,-6.6891521479627984,-0.55313502629343247]
["2004-02-01",{"$f":"MONTH(Serie_dessazonalizada[[#This Row],[Período]])&YEAR(Serie_dessazonalizada[[#This Row],[Período]])","v":"22004"},92.120545471809947,87.632707699277333,92.312236864513181,null,null,81.270826717121935,null,"2004-02-01",2.5318534775735451,0.33449330814400297,2.3413611372135477,8.0574352334269292,19.833334129643681,0.21999925477726379]
["2004-03-01",{"$f":"MONTH(Serie_dessazonalizada[[#This Row],[Período]])&YEAR(Serie_dessazonalizada[[#This Row],[Período]])","v":"32004"},93.336056285710171,87.716396705318942,94.592298937183074,null,null,82.180176990940524,null,"2004-03-01",1.3194785242258313,9.5499737756362515E-2,2.4699456433022453,-10.300215399234943,-17.934614885473732,0.90935027381858902]
["2004-04-01",{"$f":"MONTH(Serie_dessazonalizada[[#This Row],[Período]])&YEAR(Serie_dessazonalizada[[#This Row],[Período]])","v":"42004"},93.062146186716603,87.817110675721011,93.201948222840954,null,null,82.185117507774052,null,"2004-04-01",-0.29346654432784702,0.11481772414844495,-1.4698349971020628,5.3211742448706696,4.787177669849032,4.9405168335283633E-3]
["2004-05-01",{"$f":"MONTH(Serie_dessazonalizada[[#This Row],[Período]])&YEAR(Serie_dessazonalizada[[#This Row],[Período]])","v":"52004"},94.711183336201515,89.292865028949535,95.183527370281908,null,null,82.084367508847748,null,"2004-05-01",1.7719741238036155,1.6804861169686935,2.1261134399284254,1.3806513384883508,1.0949514420654805,-0.10074999892630387]
["2004-06-01",{"$f":"MONTH(Serie_dessazonalizada[[#This Row],[Período]])&YEAR(Serie_dessazonalizada[[#This Row],[Período]])","v":"62004"},97.236377889626382,90.688790690477816,97.979879804051862,null,null,83.114359287048458,null,"2004-06-01",2.6662052615909624,1.5633115379103466,2.9378533355793954,-0.79645127869157217,-1.2276808306048279,1.02999177820071]
["2004-07-01",{"$f":"MONTH(Serie_dessazonalizada[[#This Row],[Período]])&YEAR(Serie_dessazonalizada[[#This Row],[Período]])","v":"72004"},94.806579039162742,91.310961433621031,98.536758552202357,null,null,82.842155701894214,null,"2004-07-01",-2.4988578381865691,0.68605032485954409,0.56836030954945749,-0.82323340387220834,-0.18601850297801761,-0.27220358515424437]
["2004-08-01",{"$f":"MONTH(Serie_dessazonalizada[[#This Row],[Período]])&YEAR(Serie_dessazonalizada[[#This Row],[Período]])","v":"82004"},93.709941604446769,91.457913853531565,98.901315427190397,null,null,82.03323127525799,null,"2004-08-01",-1.156710268243065,0.16093623109790764,0.36997043574850941,-0.71814146818968105,-0.45937410997514405,-0.80892442663622433]
["2004-09-01",{"$f":"MONTH(Serie_dessazonalizada[[#This Row],[Período]])&YEAR(Serie_dessazonalizada[[#This Row],[Período]])","v":"92004"},95.937488535725535,92.382943617483321,100.18445647111891,null,null,83.13347873326093,null,"2004-09-01",2.3770657553937307,1.0114267043453193,1.2973953262261084,0.98972557859720556,0.57257661181561903,1.10024745800294]
["2004-10-01",{"$f":"MONTH(Serie_dessazonalizada[[#This Row],[Período]])&YEAR(Serie_dessazonalizada[[#This Row],[Período]])","v":"102004"},95.264099609740185,93.262710286179328,100.20986264614579,null,null,83.250562051520802,null,"2004-10-01",-0.7019038503750189,0.95230421790707331,2.5359397976283411E-2,1.8696935126900136,2.6058527343581939,0.11708331825987273]
["2004-11-01",{"$f":"MONTH(Serie_dessazonalizada[[#This Row],[Período]])&YEAR(Serie_dessazonalizada[[#This Row],[Período]])","v":"112004"},95.050906477325384,93.601341451358138,101.8066202278285,null,null,82.797033966981459,null,"2004-11-01",-0.22379168363336274,0.36309384977094383,1.5934136017340632,-3.0963421604364463,-2.3204732571018187,-0.45352808453934301]
["2004-12-01",{"$f":"MONTH(Serie_dessazonalizada[[#This Row],[Período]])&YEAR(Serie_dessazonalizada[[#This Row],[Período]])","v":"122004"},94.211613220771198,93.991312133735349,101.75621042492391,null,null,83.31395283083333,null,"2004-12-01",-0.88299342705837414,0.41662937339404155,-4.9515250375453415E-2,0.48653738545939562,0.13075943563463641,0.51691886385187047]
["2005-01-01",{"$f":"MONTH(Serie_dessazonalizada[[#This Row],[Período]])&YEAR(Serie_dessazonalizada[[#This Row],[Período]])","v":"12005"},92.147545042799038,94.178691868186533,99.328115678679438,null,null,83.311021222850229,null,"2005-01-01",-2.1908850803088544,0.19935856857128603,-2.3861882592767403,3.3656357391666583,4.0635855826568807,-2.9316079831005482E-3]
["2005-02-01",{"$f":"MONTH(Serie_dessazonalizada[[#This Row],[Período]])&YEAR(Serie_dessazonalizada[[#This Row],[Período]])","v":"22005"},94.995262635009894,94.194199759373063,97.750339204767826,null,null,83.452632136418174,null,"2005-02-01",3.0903889961346218,1.6466454225373281E-2,-1.588449013787421,14.885407318793154,21.026990405146524,0.14161091356794486]
["2005-03-01",{"$f":"MONTH(Serie_dessazonalizada[[#This Row],[Período]])&YEAR(Serie_dessazonalizada[[#This Row],[Período]])","v":"32005"},96.236416437075988,94.448688182794996,101.4971109811664,null,null,84.413289783044988,null,"2005-03-01",1.3065428397570165,0.27017419763854289,3.8330013040157551,-13.688267853181102,-18.595596124782539,0.96065764662681374]
["2005-04-01",{"$f":"MONTH(Serie_dessazonalizada[[#This Row],[Período]])&YEAR(Serie_dessazonalizada[[#This Row],[Período]])","v":"42005"},95.043898472904004,95.111487106737243,102.10447255768609,null,null,83.566327765733917,null,"2005-04-01",-1.2391545823526269,0.70175556346476042,0.5984028221575628,-0.93650091222295651,-1.2272234305453915,-0.84696201731107124]
["2005-05-01",{"$f":"MONTH(Serie_dessazonalizada[[#This Row],[Período]])&YEAR(Serie_dessazonalizada[[#This Row],[Período]])","v":"52005"},95.50873574577281,95.58597808674584,104.10837389393259,null,null,83.312544300055265,null,"2005-05-01",0.48907639557875043,0.498878731100174,1.962598979309504,6.6955155990046991E-2,0.29584351114746582,-0.25378346567865151]
["2005-06-01",{"$f":"MONTH(Serie_dessazonalizada[[#This Row],[Período]])&YEAR(Serie_dessazonalizada[[#This Row],[Período]])","v":"62005"},93.886752278016431,95.969435701315518,106.3035242852566,null,null,84.291035420766022,null,"2005-06-01",-1.6982566621694268,0.401165131376994,2.1085243282739801,-1.1562631673252934,-1.7807568004251759,0.97849112071075695]
["2005-07-01",{"$f":"MONTH(Serie_dessazonalizada[[#This Row],[Período]])&YEAR(Serie_dessazonalizada[[#This Row],[Período]])","v":"72005"},91.875142462363314,96.727182959158327,104.2366778102041,null,null,83.404293308528693,null,"2005-07-01",-2.1425917574572817,0.7895714425175282,-1.9442878201350042,0.48199412509090112,0.97375744031098377,-0.88674211223732868]
["2005-08-01",{"$f":"MONTH(Serie_dessazonalizada[[#This Row],[Período]])&YEAR(Serie_dessazonalizada[[#This Row],[Período]])","v":"82005"},94.777703181655497,97.2174621215499,105.51957865962,null,null,85.954377833122933,null,"2005-08-01",3.1592448637358221,0.50686802550487442,1.2307576146582713,0.66438435425233433,1.1455486504868106,2.5500845245942401]
["2005-09-01",{"$f":"MONTH(Serie_dessazonalizada[[#This Row],[Período]])&YEAR(Serie_dessazonalizada[[#This Row],[Período]])","v":"92005"},95.770976558604545,97.556477403060839,105.1439606755217,null,null,83.675260310904051,null,"2005-09-01",1.0480032155298096,0.3487185060304,-0.35596994308511082,1.6274543077029062,3.3420929291517427,-2.2791175222188826]
["2005-10-01",{"$f":"MONTH(Serie_dessazonalizada[[#This Row],[Período]])&YEAR(Serie_dessazonalizada[[#This Row],[Período]])","v":"102005"},93.877269383079764,98.11922523340381,103.55489886297249,null,null,83.776531111652019,null,"2005-10-01",-1.977328877257482,0.57684312238739666,-1.5113201008787465,-3.7503410301585696,-3.6286642975933576,0.10127080074796879]
["2005-11-01",{"$f":"MONTH(Serie_dessazonalizada[[#This Row],[Período]])&YEAR(Serie_dessazonalizada[[#This Row],[Período]])","v":"112005"},95.210843550534022,97.651274195198155,102.83287393428689,null,null,82.980833706651239,null,"2005-11-01",1.4205506574892126,-0.47692084511725752,-0.6972387947005847,2.1159267429350828,2.7511613594237079,-0.79569740500078012]
["2005-12-01",{"$f":"MONTH(Serie_dessazonalizada[[#This Row],[Período]])&YEAR(Serie_dessazonalizada[[#This Row],[Período]])","v":"122005"},97.316874499771728,98.39740272295829,104.0468911144599,null,null,82.775202400033081,null,"2005-12-01",2.211965434504223,0.76407454373680306,1.1805730344060918,-3.4578628249484753,-4.8061357779844549,-0.20563130661815876]
["2006-01-01",{"$f":"MONTH(Serie_dessazonalizada[[#This Row],[Período]])&YEAR(Serie_dessazonalizada[[#This Row],[Período]])","v":"12006"},99.328202746383326,98.676950148943263,101.0533348968178,95.049454909313553,96.734337465580936,80.99988406482673,null,"2006-01-01",2.0667826180713558,0.28410041144281956,-2.8771222143955684,2.1612389949740987,3.9607685248168383,-1.7753183352063502]
["2006-02-01",{"$f":"MONTH(Serie_dessazonalizada[[#This Row],[Período]])&YEAR(Serie_dessazonalizada[[#This Row],[Período]])","v":"22006"},99.006416289543324,98.558935807316885,100.40980615527511,96.653039186073229,97.933354049985709,81.593260956773065,null,"2006-02-01",-0.32396283023626782,-0.11959666512619847,-0.63682088493148825,1.6871051793928244,1.2394942848824453,0.59337689194633469]
["2006-03-01",{"$f":"MONTH(Serie_dessazonalizada[[#This Row],[Período]])&YEAR(Serie_dessazonalizada[[#This Row],[Período]])","v":"32006"},98.128609358322748,98.376782296110505,101.00245699237649,98.496279506762804,100.35048424386081,80.394020284871644,null,"2006-03-01",-0.88661620541181674,-0.18481684051712038,0.59023202991240187,1.9070691787984329,2.4681378651050587,-1.1992406719014213]
["2006-04-01",{"$f":"MONTH(Serie_dessazonalizada[[#This Row],[Período]])&YEAR(Serie_dessazonalizada[[#This Row],[Período]])","v":"42006"},96.729580201015622,99.227558132663475,98.151652782933326,99.076521487148582,100.7096400818848,80.706580248157437,null,"2006-04-01",-1.4257097562633174,0.86481364474004196,-2.8225097629638287,0.58910040388473661,0.35790144983377775,0.31255996328579272]
["2006-05-01",{"$f":"MONTH(Serie_dessazonalizada[[#This Row],[Período]])&YEAR(Serie_dessazonalizada[[#This Row],[Período]])","v":"52006"},99.174253552678408,99.876987788529007,101.9957568470162,99.223019409318496,99.916815881801298,81.529216173842755,null,"2006-05-01",2.5273275729952127,0.65448517336007539,3.9164944808257838,0.14786340898021577,-0.78723764620633474,0.82263592568531863]
["2006-06-01",{"$f":"MONTH(Serie_dessazonalizada[[#This Row],[Período]])&YEAR(Serie_dessazonalizada[[#This Row],[Período]])","v":"62006"},98.266598889151282,99.516169648516879,99.633616893236919,98.646151182420752,99.625430038014002,82.353749970834187,null,"2006-06-01",-0.91521199405348341,-0.36126253704816735,-2.3159198252945554,-0.58138547922838957,-0.29162843232714408,0.8245337969914317]
["2006-07-01",{"$f":"MONTH(Serie_dessazonalizada[[#This Row],[Período]])&YEAR(Serie_dessazonalizada[[#This Row],[Período]])","v":"72006"},97.259170527433184,99.738144998821355,98.321792736285289,101.1485660284113,101.47205937778671,82.096092765737083,null,"2006-07-01",-1.025199175616649,0.2230545559465108,-1.3166481332875068,2.5367587239799847,1.8535722646999739,-0.25765720509710377]
["2006-08-01",{"$f":"MONTH(Serie_dessazonalizada[[#This Row],[Período]])&YEAR(Serie_dessazonalizada[[#This Row],[Período]])","v":"82006"},100.47226183636521,100.2715368163814,101.49526124199291,102.8923270103819,102.95007902311789,82.633183524856719,null,"2006-08-01",3.30363840397521,0.53479219767557118,3.2276349092000038,1.7239601612155433,1.4565779529795779,0.53709075911963566]
["2006-09-01",{"$f":"MONTH(Serie_dessazonalizada[[#This Row],[Período]])&YEAR(Serie_dessazonalizada[[#This Row],[Período]])","v":"92006"},98.567094088577434,100.7432481700764,97.612151062724294,103.5303074158489,102.9563172409617,83.112255452363513,null,"2006-09-01",-1.8962126590626929,0.47043395231769886,-3.8259029355175498,0.62004662932991861,6.0594590145002063E-3,0.47907192750679428]
["2006-10-01",{"$f":"MONTH(Serie_dessazonalizada[[#This Row],[Período]])&YEAR(Serie_dessazonalizada[[#This Row],[Período]])","v":"102006"},103.08652612190831,101.2401229880183,99.093226826063443,101.3821670268883,99.877882880099889,83.549775906799823,null,"2006-10-01",4.5851326704117703,0.4932090506979373,1.5173067566018794,-2.0748903800045624,-2.9900393131360326,0.43752045443631005]
["2006-11-01",{"$f":"MONTH(Serie_dessazonalizada[[#This Row],[Período]])&YEAR(Serie_dessazonalizada[[#This Row],[Período]])","v":"112006"},107.3024187471018,101.72364695191609,101.51809460566071,101.5730981507448,99.276606126085554,85.280115795878686,null,"2006-11-01",4.0896640752137188,0.47760112258557808,2.4470570363538475,0.18832811475203798,-0.60201191362470985,1.7303398890788628]
["2006-12-01",{"$f":"MONTH(Serie_dessazonalizada[[#This Row],[Período]])&YEAR(Serie_dessazonalizada[[#This Row],[Período]])","v":"122006"},101.4954655667028,101.8865958005476,100.0111653524321,102.10163879156801,99.063334115831665,84.502828557144781,null,"2006-12-01",-5.411763544757779,0.16018777689766245,-1.4843947368024955,0.52035494677813332,-0.21482604872997341,-0.77728723873390493]
["2007-01-01",{"$f":"MONTH(Serie_dessazonalizada[[#This Row],[Período]])&YEAR(Serie_dessazonalizada[[#This Row],[Período]])","v":"12007"},107.1066878090182,102.6820890859419,102.4326622297329,102.157798816107,99.997191041722161,85.270184295012683,null,"2007-01-01",5.5285447591032506,0.78076343521335434,2.4212265388245573,5.5004038332472638E-2,0.9426867510824597,0.76735573786790212]
["2007-02-01",{"$f":"MONTH(Serie_dessazonalizada[[#This Row],[Período]])&YEAR(Serie_dessazonalizada[[#This Row],[Período]])","v":"22007"},105.0457337920855,103.77278851873029,101.233251253137,101.70116932054771,97.835272397761599,85.359702822162475,null,"2007-02-01",-1.9242066570180774,1.0622100139348689,-1.1709262948822874,-0.44698446995835445,-2.1619793730591259,8.9518527149792249E-2]
["2007-03-01",{"$f":"MONTH(Serie_dessazonalizada[[#This Row],[Período]])&YEAR(Serie_dessazonalizada[[#This Row],[Período]])","v":"32007"},106.0943026525254,104.47245704939979,104.1906931664585,106.36611448508501,101.7609887509491,85.57950869578805,null,"2007-03-01",0.99820223305337397,0.67423121288025623,2.9214135441786064,4.5869139909631258,4.0125777308893289,0.21980587362557458]
["2007-04-01",{"$f":"MONTH(Serie_dessazonalizada[[#This Row],[Período]])&YEAR(Serie_dessazonalizada[[#This Row],[Período]])","v":"42007"},109.3660662555162,106.1101180008386,104.6929413213051,108.17858022072851,102.60882908119601,85.437987277523376,null,"2007-04-01",3.0838259182553034,1.567552824630549,0.48204704238236451,1.7039879142127066,0.83316832968469245,-0.14152141826467357]
["2007-05-01",{"$f":"MONTH(Serie_dessazonalizada[[#This Row],[Período]])&YEAR(Serie_dessazonalizada[[#This Row],[Período]])","v":"52007"},111.1803582943709,106.82864490095371,105.6312929799241,109.3441374333898,102.6686387631463,86.465556227965777,null,"2007-05-01",1.6589167929071358,0.67715210731311204,0.89628932645914983,1.0774380753408717,5.8289021018815147E-2,1.0275689504424008]
["2007-06-01",{"$f":"MONTH(Serie_dessazonalizada[[#This Row],[Período]])&YEAR(Serie_dessazonalizada[[#This Row],[Período]])","v":"62007"},107.5924383567031,108.4099687885229,106.2606196301039,110.0054595962103,102.1086763595689,85.853434962741545,null,"2007-06-01",-3.227116725211582,1.4802433270920212,0.59577671769994656,0.60480806593161951,-0.54540744897691595,-0.61212126522423205]
["2007-07-01",{"$f":"MONTH(Serie_dessazonalizada[[#This Row],[Período]])&YEAR(Serie_dessazonalizada[[#This Row],[Período]])","v":"72007"},111.6063347186704,108.7032307273162,106.3570591812659,107.8388509184259,99.206088557962133,85.770198010854287,null,"2007-07-01",3.7306491267164676,0.27051196681493744,9.0757565218141351E-2,-1.9695464986349056,-2.8426456057323679,-8.3236951887258215E-2]
["2007-08-01",{"$f":"MONTH(Serie_dessazonalizada[[#This Row],[Período]])&YEAR(Serie_dessazonalizada[[#This Row],[Período]])","v":"82007"},119.23962003220829,109.1418842125739,109.2099420692598,109.1422808043874,100.13114964010541,86.715482518016017,null,"2007-08-01",6.8394731650128637,0.40353307102534258,2.6823634556608882,1.2086830255150478,0.93246402069646861,0.9452845071617304]
["2007-09-01",{"$f":"MONTH(Serie_dessazonalizada[[#This Row],[Período]])&YEAR(Serie_dessazonalizada[[#This Row],[Período]])","v":"92007"},107.6767972685532,109.28669672895001,106.01608022759611,108.31137080837971,99.228951061096453,86.92319621030407,null,"2007-09-01",-9.6971315075742535,0.13268280772398727,-2.9245156449567351,-0.76130899032328914,-0.90101689858916445,0.2077136922880527]
["2007-10-01",{"$f":"MONTH(Serie_dessazonalizada[[#This Row],[Período]])&YEAR(Serie_dessazonalizada[[#This Row],[Período]])","v":"102007"},118.5207462034311,109.6348661111488,111.32142221720579,110.7477647707438,100.9472678010784,86.863325727296029,null,"2007-10-01",10.070831608997768,0.31858349883363291,5.0042804621903958,2.2494350724029402,1.7316687535313717,-5.9870483008040765E-2]
["2007-11-01",{"$f":"MONTH(Serie_dessazonalizada[[#This Row],[Período]])&YEAR(Serie_dessazonalizada[[#This Row],[Período]])","v":"112007"},123.24998043511231,110.3988314076333,111.8664722388404,111.7584238463585,100.8514917433338,86.95288564737757,null,"2007-11-01",3.9902163825089851,0.69682695257728056,0.48961827003173686,0.91257740299033341,-9.4877315484488828E-2,8.9559920081541122E-2]
["2007-12-01",{"$f":"MONTH(Serie_dessazonalizada[[#This Row],[Período]])&YEAR(Serie_dessazonalizada[[#This Row],[Período]])","v":"122007"},115.1877459621066,110.33477893317929,110.0027989509057,112.3465093872,100.8558906743246,87.01442744206804,null,"2007-12-01",-6.5413677507642651,-5.8019159838292332E-2,-1.6659802089366584,0.52621137682648733,4.361790703104362E-3,6.1541794690469942E-2]
["2008-01-01",{"$f":"MONTH(Serie_dessazonalizada[[#This Row],[Período]])&YEAR(Serie_dessazonalizada[[#This Row],[Período]])","v":"12008"},130.75382902098991,110.6467542369746,114.2854287822134,116.92246476438289,106.7526991875076,86.666275505073756,null,"2008-01-01",13.513662350858132,0.28275336825956326,3.8932007841173584,4.0730730328362537,5.8467665832474616,-0.34815193699428448]
["2008-02-01",{"$f":"MONTH(Serie_dessazonalizada[[#This Row],[Período]])&YEAR(Serie_dessazonalizada[[#This Row],[Período]])","v":"22008"},133.57660528505559,111.3567253199636,114.65902587575739,114.8286114661762,103.19489386409769,86.136880879548187,null,"2008-02-01",2.1588478786441812,0.64165558934375899,0.3268982734937565,-1.7908049598733133,-3.3327544413286834,-0.52939462552556904]
["2008-03-01",{"$f":"MONTH(Serie_dessazonalizada[[#This Row],[Período]])&YEAR(Serie_dessazonalizada[[#This Row],[Período]])","v":"32008"},125.8776796553915,111.7509594225337,114.4528584760666,109.8679398845243,98.297665275306443,85.998771498347054,null,"2008-03-01",-5.763678162979514,0.35402810332050844,-0.17980913243951505,-4.3200658079133047,-4.7456113431742519,-0.13810938120113292]
["2008-04-01",{"$f":"MONTH(Serie_dessazonalizada[[#This Row],[Período]])&YEAR(Serie_dessazonalizada[[#This Row],[Período]])","v":"42008"},134.45671598877431,112.5736238858814,118.69630024503,113.54052328796919,101.1963239222606,85.913765758650953,null,"2008-04-01",6.8153753364926688,0.73615874762845457,3.7075891554519451,3.3427252821022444,2.9488580820671215,-8.5005739696100591E-2]
["2008-05-01",{"$f":"MONTH(Serie_dessazonalizada[[#This Row],[Período]])&YEAR(Serie_dessazonalizada[[#This Row],[Período]])","v":"52008"},130.57422572760501,112.929026633448,114.69639243560719,112.6900222814545,99.728523621378031,86.140037850087808,null,"2008-05-01",-2.8875391107227704,0.31570694386358278,-3.3698673009736799,-0.74907264990984057,-1.4504482415884419,0.22627209143685434]
["2008-06-01",{"$f":"MONTH(Serie_dessazonalizada[[#This Row],[Período]])&YEAR(Serie_dessazonalizada[[#This Row],[Período]])","v":"62008"},133.1197223107693,113.8631857848753,117.1764654051296,118.7096233346352,104.62842979212191,86.694543424723364,null,"2008-06-01",1.9494632795866882,0.82720907040086888,2.1622937887211862,5.341733838818616,4.9132444689008921,0.55450557463555583]
["2008-07-01",{"$f":"MONTH(Serie_dessazonalizada[[#This Row],[Período]])&YEAR(Serie_dessazonalizada[[#This Row],[Período]])","v":"72008"},138.28064051963679,114.1064080429354,117.5415339858628,115.70315856450949,101.23880832652959,87.531658758016306,null,"2008-07-01",3.8768997705834085,0.213609215642031,0.31155452545098905,-2.5326209330566756,-3.2396753657938753,0.83711533329294241]
["2008-08-01",{"$f":"MONTH(Serie_dessazonalizada[[#This Row],[Período]])&YEAR(Serie_dessazonalizada[[#This Row],[Período]])","v":"82008"},128.88214540223501,114.6573813996723,115.95785854601139,117.8796566816941,102.542928845283,86.392641682963145,null,"2008-08-01",-6.7966817929709613,0.48285925934114621,-1.3473326288577105,1.8811051869177071,1.2881626525543202,-1.139017075053161]
["2008-09-01",{"$f":"MONTH(Serie_dessazonalizada[[#This Row],[Período]])&YEAR(Serie_dessazonalizada[[#This Row],[Período]])","v":"92008"},132.40814572618629,116.6542771940311,121.46571480670271,119.8843655931167,102.7418655166838,86.838925028729989,null,"2008-09-01",2.7358330457231306,1.7416199201323288,4.7498775242609605,1.7006402697929763,0.19400330538730515,0.44628334576684381]
["2008-10-01",{"$f":"MONTH(Serie_dessazonalizada[[#This Row],[Período]])&YEAR(Serie_dessazonalizada[[#This Row],[Período]])","v":"102008"},129.54440540670581,116.9149752468426,116.66032610219131,122.4290287208721,104.7291450793507,86.481083760803642,null,"2008-10-01",-2.1628127965801762,0.22347920631995927,-3.9561687939338013,2.1225979844543663,1.9342451615735878,-0.35784126792634652]
["2008-11-01",{"$f":"MONTH(Serie_dessazonalizada[[#This Row],[Período]])&YEAR(Serie_dessazonalizada[[#This Row],[Período]])","v":"112008"},99.975441004605031,116.0630522451693,111.7295330417397,123.24059298716,105.76912225178199,84.689352451004879,null,"2008-11-01",-22.825350357098596,-0.7286688466337472,-4.2266237590767268,0.66288548946851567,0.99301600489847175,-1.791731309798763]
["2008-12-01",{"$f":"MONTH(Serie_dessazonalizada[[#This Row],[Período]])&YEAR(Serie_dessazonalizada[[#This Row],[Período]])","v":"122008"},101.83527021466359,113.61025753275121,101.92152538410851,124.10868988498309,108.2930624069926,81.548157156318339,null,"2008-12-01",1.8602860776307024,-2.1133294920047954,-8.7783483834727356,0.70439201628438897,2.3862731404751609,-3.1411952946865398]
["2009-01-01",{"$f":"MONTH(Serie_dessazonalizada[[#This Row],[Período]])&YEAR(Serie_dessazonalizada[[#This Row],[Período]])","v":"12009"},102.9270237543754,110.7651044431406,103.28665718389431,113.6033148983749,104.111258666857,77.625871888674226,null,"2009-01-01",1.0720780112925923,-2.5043100432990508,1.3393949851526163,-8.464657064983907,-3.8615619940817028,-3.9222852676441136]
["2009-02-01",{"$f":"MONTH(Serie_dessazonalizada[[#This Row],[Período]])&YEAR(Serie_dessazonalizada[[#This Row],[Período]])","v":"22009"},107.3119200576548,109.18229496452111,102.50581674286011,110.5854496515722,101.98241397637941,79.019642146285847,null,"2009-02-01",4.2601992589851836,-1.4289784554232094,-0.75599352551798793,-2.6564940023998105,-2.0447785549203945,1.3937702576116209]
["2009-03-01",{"$f":"MONTH(Serie_dessazonalizada[[#This Row],[Período]])&YEAR(Serie_dessazonalizada[[#This Row],[Período]])","v":"32009"},118.9200523372744,108.8402450997895,101.43091904269831,117.1263302189366,107.8592661927713,79.648164735051822,null,"2009-03-01",10.81718813099511,-0.31328327073794887,-1.0486211751848407,5.9147750341234921,5.7626133636658761,0.62852258876597489]
["2009-04-01",{"$f":"MONTH(Serie_dessazonalizada[[#This Row],[Período]])&YEAR(Serie_dessazonalizada[[#This Row],[Período]])","v":"42009"},114.79279567095649,109.1190455818208,102.0751805739892,116.2029937140228,106.70023266707391,81.588805420108756,null,"2009-04-01",-3.470614572731948,0.25615569110091962,0.63517272383156276,-0.78832530925187627,-1.0745794650836165,1.940640685056934]
["2009-05-01",{"$f":"MONTH(Serie_dessazonalizada[[#This Row],[Período]])&YEAR(Serie_dessazonalizada[[#This Row],[Período]])","v":"52009"},109.83509080441419,109.10518680947121,100.40360671621259,115.8284972857177,106.0052494496821,82.059189103761341,null,"2009-05-01",-4.3188292763189846,-1.2700598942831995E-2,-1.6375908897510763,-0.32227777988812778,-0.65134180125013885,0.4703836836525852]
["2009-06-01",{"$f":"MONTH(Serie_dessazonalizada[[#This Row],[Período]])&YEAR(Serie_dessazonalizada[[#This Row],[Período]])","v":"62009"},113.75695131251329,109.112876934762,101.9256864637173,117.90115888801481,108.00967982180789,82.441121173842433,null,"2009-06-01",3.5706808082699597,7.0483590337663826E-3,1.515961226180661,1.7894228543640733,1.8908784069955389,0.38193207008109198]
["2009-07-01",{"$f":"MONTH(Serie_dessazonalizada[[#This Row],[Período]])&YEAR(Serie_dessazonalizada[[#This Row],[Período]])","v":"72009"},119.7088193000539,109.63274365416601,102.6585319579584,118.1992391573596,107.7762310365425,82.333557955575742,null,"2009-07-01",5.2320916821949872,0.47644854943640841,0.71899981218372933,0.25282217083881048,-0.21613691073849486,-0.1075632182666908]
["2009-08-01",{"$f":"MONTH(Serie_dessazonalizada[[#This Row],[Período]])&YEAR(Serie_dessazonalizada[[#This Row],[Período]])","v":"82009"},113.5871514834012,110.4405581151449,101.4234347526269,117.6257487183037,106.0341114038697,82.55204074152941,null,"2009-08-01",-5.1137985091211631,0.73683685553571632,-1.2031120860342193,-0.48518961978461633,-1.6164228568005086,0.21848278595366821]
["2009-09-01",{"$f":"MONTH(Serie_dessazonalizada[[#This Row],[Período]])&YEAR(Serie_dessazonalizada[[#This Row],[Período]])","v":"92009"},123.6095618198792,112.16728343483641,104.8860562241054,119.0887365652232,105.9524813937318,83.550950393933135,null,"2009-09-01",8.8235422806096206,1.5634884042248625,3.4140250524189786,1.2437649603601193,-7.6984669421128249E-2,0.99890965240372509]
["2009-10-01",{"$f":"MONTH(Serie_dessazonalizada[[#This Row],[Período]])&YEAR(Serie_dessazonalizada[[#This Row],[Período]])","v":"102009"},127.4552719857255,113.8850568709682,106.7691237125876,120.14369734746489,105.35122867636341,83.813941023520229,null,"2009-10-01",3.1111753081449902,1.5314389218757658,1.7953458793976678,0.88586109204702679,-0.56747393686238556,0.26299062958709385]
["2009-11-01",{"$f":"MONTH(Serie_dessazonalizada[[#This Row],[Período]])&YEAR(Serie_dessazonalizada[[#This Row],[Período]])","v":"112009"},116.05191952328219,114.8098087752621,108.32267755948131,121.0205945581031,104.91483125527159,83.698770056111641,null,"2009-11-01",-8.9469445122053788,0.81200460332705737,1.4550590965565349,0.72987366794793274,-0.41423097440316958,-0.1151709674085879]
["2009-12-01",{"$f":"MONTH(Serie_dessazonalizada[[#This Row],[Período]])&YEAR(Serie_dessazonalizada[[#This Row],[Período]])","v":"122009"},125.9458167278048,116.5925771105364,109.3298734633581,125.073831778577,106.6853226968622,83.847765792726236,null,"2009-12-01",8.5254059089799892,1.5528014150463672,0.9298107529918912,3.349212780910531,1.6875511502113258,0.14899573661459442]
["2010-01-01",{"$f":"MONTH(Serie_dessazonalizada[[#This Row],[Período]])&YEAR(Serie_dessazonalizada[[#This Row],[Período]])","v":"12010"},120.544168498281,118.1197871597122,107.88138885465951,128.1069476314423,109.5633831602112,83.210992477208833,null,"2010-01-01",-4.2888667284582311,1.3098690217027493,-1.3248754094497806,2.4250603101653869,2.6977098541725177,-0.63677331551740224]
["2010-02-01",{"$f":"MONTH(Serie_dessazonalizada[[#This Row],[Período]])&YEAR(Serie_dessazonalizada[[#This Row],[Período]])","v":"22010"},119.8530477310438,119.7025766311497,110.9535923095541,128.6741609506594,108.5778128894779,84.649365610357691,null,"2010-02-01",-0.57333405327446429,1.3399867283009672,2.8477603852815987,0.4427654625328748,-0.89954348095671322,1.4383731331488576]
["2010-03-01",{"$f":"MONTH(Serie_dessazonalizada[[#This Row],[Período]])&YEAR(Serie_dessazonalizada[[#This Row],[Período]])","v":"32010"},131.79393422902339,122.7187352050186,117.6865425265996,126.48337216376579,103.4655653713787,85.307071170934435,null,"2010-03-01",9.9629393862186415,2.5197106518123391,6.068257977858849,-1.7025864172789689,-4.7083721637522649,0.65770556057674412]
["2010-04-01",{"$f":"MONTH(Serie_dessazonalizada[[#This Row],[Período]])&YEAR(Serie_dessazonalizada[[#This Row],[Período]])","v":"42010"},132.90405077572569,123.08643077404309,114.4868589518326,127.1217992145789,103.28115426631101,85.510184491924676,null,"2010-04-01",0.84231232127360933,0.29962464036987074,-2.7188185718378111,0.50475176293251889,-0.17823427959415444,0.20311332099024071]
["2010-05-01",{"$f":"MONTH(Serie_dessazonalizada[[#This Row],[Período]])&YEAR(Serie_dessazonalizada[[#This Row],[Período]])","v":"52010"},128.89330241441041,122.9303692943374,114.38333459814361,129.9840575315049,105.7048007477154,85.559494021590112,null,"2010-05-01",-3.0177773648775976,-0.12679015771623894,-9.0424660643848812E-2,2.2515873238189235,2.3466492978525437,4.9309529665436003E-2]
["2010-06-01",{"$f":"MONTH(Serie_dessazonalizada[[#This Row],[Período]])&YEAR(Serie_dessazonalizada[[#This Row],[Período]])","v":"62010"},131.41564607378061,122.2858781652328,112.97204543776709,127.818094020225,104.38262985696019,85.287405162645996,null,"2010-06-01",1.9569237595142821,-0.52427332058318443,-1.233824110247103,-1.6663301272580466,-1.2508144203505147,-0.27208885894411594]
["2010-07-01",{"$f":"MONTH(Serie_dessazonalizada[[#This Row],[Período]])&YEAR(Serie_dessazonalizada[[#This Row],[Período]])","v":"72010"},131.25718085309131,123.3130513069803,115.6388305504109,139.32166751527191,113.2442882308998,86.537655975245571,null,"2010-07-01",-0.12058322233589065,0.83997691079224979,2.3605707963505536,8.9999569960937347,8.4895910230304601,1.2502508125995746]
["2010-08-01",{"$f":"MONTH(Serie_dessazonalizada[[#This Row],[Período]])&YEAR(Serie_dessazonalizada[[#This Row],[Período]])","v":"82010"},131.7370948742701,123.9901622327254,115.0700808736442,134.5919664088984,108.3791162397313,85.360250853273399,null,"2010-08-01",0.36562877402945765,0.54909915744398463,-0.49183278147971465,-3.3948065586101741,-4.2961742858488696,-1.1774051219721713]
["2010-09-01",{"$f":"MONTH(Serie_dessazonalizada[[#This Row],[Período]])&YEAR(Serie_dessazonalizada[[#This Row],[Período]])","v":"92010"},134.26106892215779,123.8282571554723,116.00656813992011,135.16767003773671,109.1108892141708,84.273763638380473,null,"2010-09-01",1.9159174948381641,-0.13057897040993061,0.81384079959432643,0.42773996412927801,0.67519739948869328,-1.0864872148929265]
["2010-10-01",{"$f":"MONTH(Serie_dessazonalizada[[#This Row],[Período]])&YEAR(Serie_dessazonalizada[[#This Row],[Período]])","v":"102010"},126.2392808791049,123.1087555734434,113.5024369042807,136.81418258296009,110.99117034086289,86.153102484006055,null,"2010-10-01",-5.9747684920516946,-0.58104797608960013,-2.1586115991458987,1.2181260095433271,1.7232754129620778,1.8793388456255826]
["2010-11-01",{"$f":"MONTH(Serie_dessazonalizada[[#This Row],[Período]])&YEAR(Serie_dessazonalizada[[#This Row],[Período]])","v":"112010"},134.29033932399159,123.50913914522729,117.50256464238841,137.37062157055871,110.78958463606411,86.086619420550079,null,"2010-11-01",6.3776174807244974,0.32522753553871553,3.524265951647461,0.40671148055956619,-0.18162319054723167,-6.6483063455976321E-2]
["2010-12-01",{"$f":"MONTH(Serie_dessazonalizada[[#This Row],[Período]])&YEAR(Serie_dessazonalizada[[#This Row],[Período]])","v":"122010"},135.72512181639519,123.6349950139861,120.9040476434255,135.62678704786191,109.5265778999936,82.06607702683651,null,"2010-12-01",1.0684182493142815,0.10190004531633749,2.8948159654125765,-1.2694377464115223,-1.1400049383878417,-4.0205423937135691]
["2011-01-01",{"$f":"MONTH(Serie_dessazonalizada[[#This Row],[Período]])&YEAR(Serie_dessazonalizada[[#This Row],[Período]])","v":"12011"},124.8334025013403,123.396338479844,114.41414198446429,139.3788796275991,113.3121076845505,83.729340542735358,null,"2011-01-01",-8.0248366472559685,-0.19303315708881369,-5.3678150446223816,2.7664834221967545,3.4562659193217806,1.6632635158988478]
["2011-02-01",{"$f":"MONTH(Serie_dessazonalizada[[#This Row],[Período]])&YEAR(Serie_dessazonalizada[[#This Row],[Período]])","v":"22011"},144.1720538299997,122.8648267370844,119.95232115520029,145.09944097218829,119.51258655575739,85.530159488284028,null,"2011-02-01",15.491567914646692,-0.43073542481685873,4.8404673361864665,4.1043243853543139,5.4720355996451913,1.8008189455486701]
["2011-03-01",{"$f":"MONTH(Serie_dessazonalizada[[#This Row],[Período]])&YEAR(Serie_dessazonalizada[[#This Row],[Período]])","v":"32011"},130.92127775324471,122.7011284813193,115.64522903797869,136.8130524776065,111.77865021216471,84.684229163278914,null,"2011-03-01",-9.1909463205536532,-0.13323443341143695,-3.590670089367316,-5.7108341969215903,-6.4712316639423566,-0.84593032500511356]
["2011-04-01",{"$f":"MONTH(Serie_dessazonalizada[[#This Row],[Período]])&YEAR(Serie_dessazonalizada[[#This Row],[Período]])","v":"42011"},138.2301745338842,123.28274883897539,116.2314004380233,137.77394679765749,111.3884759852683,85.278943525589128,null,"2011-04-01",5.5826653284082735,0.47401386185673217,0.50687036976865074,0.70234111632606211,-0.34905970519041352,0.59471436231021357]
["2011-05-01",{"$f":"MONTH(Serie_dessazonalizada[[#This Row],[Período]])&YEAR(Serie_dessazonalizada[[#This Row],[Período]])","v":"52011"},137.46224831705379,124.1995147704605,118.78151714804589,143.85326520620009,115.5788316161731,86.070294300325045,null,"2011-05-01",-0.55554166767123825,0.74362872349847375,2.1939998145185915,4.4125312149698601,3.7619292245806473,0.79135077473591764]
["2011-06-01",{"$f":"MONTH(Serie_dessazonalizada[[#This Row],[Período]])&YEAR(Serie_dessazonalizada[[#This Row],[Período]])","v":"62011"},134.31322318027659,124.2447010919241,117.1107673281045,145.65185459177749,116.9060939967672,86.418502321170294,null,"2011-06-01",-2.2908290642198992,3.6382043478281396E-2,-1.4065739014421048,1.2502944462187164,1.1483611332928259,0.34820802084524871]
["2011-07-01",{"$f":"MONTH(Serie_dessazonalizada[[#This Row],[Período]])&YEAR(Serie_dessazonalizada[[#This Row],[Período]])","v":"72011"},131.4892326818898,124.3060366654407,116.45231849968449,139.53266952562231,112.5442194211311,86.121022159232368,null,"2011-07-01",-2.1025409349282032,4.9366752044597118E-2,-0.56224448310141872,-4.201240748568285,-3.7310925602875011,-0.29748016193792637]
["2011-08-01",{"$f":"MONTH(Serie_dessazonalizada[[#This Row],[Período]])&YEAR(Serie_dessazonalizada[[#This Row],[Período]])","v":"82011"},132.25510431308601,124.529809452579,118.27960765364119,141.71022824714731,113.8437788778519,86.49085746625002,null,"2011-08-01",0.58245957906611912,0.18001763481573083,1.569130763130018,1.5606085147859503,1.1547100894253457,0.36983530701765233]
["2011-09-01",{"$f":"MONTH(Serie_dessazonalizada[[#This Row],[Período]])&YEAR(Serie_dessazonalizada[[#This Row],[Período]])","v":"92011"},135.26922452298939,124.1495601352472,117.7271283551854,146.34862710013201,117.8027030296775,85.91312010080236,null,"2011-09-01",2.2790199482721585,-0.30534802791664251,-0.46709598502695532,3.273157421562523,3.4775059215781181,-0.57773736544766052]
["2011-10-01",{"$f":"MONTH(Serie_dessazonalizada[[#This Row],[Período]])&YEAR(Serie_dessazonalizada[[#This Row],[Período]])","v":"102011"},129.11583823042409,123.87762677142391,115.5542790010859,143.28577136997001,115.6858803404225,84.959448301672012,null,"2011-10-01",-4.5489920669424073,-0.21903691283887969,-1.8456658074118328,-2.0928489667801173,-1.7969220016298955,-0.95367179913034761]
["2011-11-01",{"$f":"MONTH(Serie_dessazonalizada[[#This Row],[Período]])&YEAR(Serie_dessazonalizada[[#This Row],[Período]])","v":"112011"},132.158868705309,123.1463808385746,118.53445918842409,141.82573618331281,115.05903291747271,85.209420262500686,null,"2011-11-01",2.3568219953420662,-0.59029701481009378,2.5790305760206302,-1.0189673215265183,-0.54185300842696138,0.2499719608286739]
["2011-12-01",{"$f":"MONTH(Serie_dessazonalizada[[#This Row],[Período]])&YEAR(Serie_dessazonalizada[[#This Row],[Período]])","v":"122011"},132.14365507986801,123.05039153397669,119.4415913347801,146.86564072758421,119.597059313638,84.971947274079909,null,"2011-12-01",-1.151161900070148E-2,-7.7947320858526889E-2,0.76528981746482261,3.5535895528560553,3.9440852935207964,-0.23747298842077669]
["2012-01-01",{"$f":"MONTH(Serie_dessazonalizada[[#This Row],[Período]])&YEAR(Serie_dessazonalizada[[#This Row],[Período]])","v":"12012"},131.55763655943539,123.43562511644009,116.90624625799479,139.09885635944559,112.66009427027041,84.72740094393248,null,"2012-01-01",-0.44347079704918546,0.31306977382272605,-2.1226651859309578,-5.2883603882169723,-5.8002806115622869,-0.2445463301474291]
["2012-02-01",{"$f":"MONTH(Serie_dessazonalizada[[#This Row],[Período]])&YEAR(Serie_dessazonalizada[[#This Row],[Período]])","v":"22012"},131.2728977101826,123.2676753189092,118.9771354090668,149.31903394480219,122.7385505684188,84.682268595402505,null,"2012-02-01",-0.21643657996558024,-0.13606266211433149,1.7714101832521962,7.3474202828430286,8.9458972703948589,-4.5132348529975275E-2]
["2012-03-01",{"$f":"MONTH(Serie_dessazonalizada[[#This Row],[Período]])&YEAR(Serie_dessazonalizada[[#This Row],[Período]])","v":"32012"},128.93857394002731,123.1926017646722,121.1635144312705,152.42483523603099,124.0405341860088,83.490861676597731,null,"2012-03-01",-1.7782221699020393,-6.0902871772968006E-2,1.8376463802784408,2.0799768182112017,1.0607780616280174,-1.1914069188047733]
["2012-04-01",{"$f":"MONTH(Serie_dessazonalizada[[#This Row],[Período]])&YEAR(Serie_dessazonalizada[[#This Row],[Período]])","v":"42012"},126.0671510758841,121.5612741196136,117.19786104410269,144.27183839081269,118.32990269188871,84.292959630349856,null,"2012-04-01",-2.2269696153757574,-1.3242091015942958,-3.2729765274490328,-5.3488638072616714,-4.6038430353391906,0.80209795375212423]
["2012-05-01",{"$f":"MONTH(Serie_dessazonalizada[[#This Row],[Período]])&YEAR(Serie_dessazonalizada[[#This Row],[Período]])","v":"52012"},133.3555039236235,120.85372359655381,117.56643823674381,139.8599681549006,115.34212262751301,84.277389564400409,null,"2012-05-01",5.7813258930173621,-0.58205257240359298,0.31449139886811833,-3.0580259357068265,-2.5249577633435383,-1.5570065949447098E-2]
["2012-06-01",{"$f":"MONTH(Serie_dessazonalizada[[#This Row],[Período]])&YEAR(Serie_dessazonalizada[[#This Row],[Período]])","v":"62012"},132.24014018349149,123.0375558342171,118.8787009538691,141.22440730740161,114.3654220639272,87.403537141907265,null,"2012-06-01",-0.83638373169120317,1.8070045114651054,1.1161882054152108,0.97557519174452734,-0.84678566800784039,3.1261475775068561]
["2012-07-01",{"$f":"MONTH(Serie_dessazonalizada[[#This Row],[Período]])&YEAR(Serie_dessazonalizada[[#This Row],[Período]])","v":"72012"},138.3073512586852,124.6147696728906,121.078196046684,144.54465050046301,116.0069722842585,84.844564778865859,null,"2012-07-01",4.5880252900330225,1.2818962697850287,1.8502011505563254,2.3510406284334864,1.4353553641534365,-2.5589723630414056]
["2012-08-01",{"$f":"MONTH(Serie_dessazonalizada[[#This Row],[Período]])&YEAR(Serie_dessazonalizada[[#This Row],[Período]])","v":"82012"},141.84103580560421,124.7424182121902,122.58365762971211,146.65886287913631,117.55028075479009,85.959032507844697,null,"2012-08-01",2.5549506333251411,0.102434518504245,1.2433795944958155,1.46267078812891,1.3303583742793859,1.1144677289788376]
["2012-09-01",{"$f":"MONTH(Serie_dessazonalizada[[#This Row],[Período]])&YEAR(Serie_dessazonalizada[[#This Row],[Período]])","v":"92012"},128.07572573674329,124.8182879998519,119.1303470955996,141.908429337271,113.4202936357274,84.991604005242593,null,"2012-09-01",-9.7047444631795603,6.0821161517524459E-2,-2.8171051516050394,-3.239104305465812,-3.5133792046637846,-0.96742850260210389]
["2012-10-01",{"$f":"MONTH(Serie_dessazonalizada[[#This Row],[Período]])&YEAR(Serie_dessazonalizada[[#This Row],[Período]])","v":"102012"},136.14472647465541,125.7027667581452,122.81501816714329,146.00340111726561,116.18278765000041,86.167201506193123,null,"2012-10-01",6.3001795941393022,0.70861311468584431,3.0929743439652859,2.8856437909422343,2.4356258705742029,1.1755975009505306]
["2012-11-01",{"$f":"MONTH(Serie_dessazonalizada[[#This Row],[Período]])&YEAR(Serie_dessazonalizada[[#This Row],[Período]])","v":"112012"},140.9258150007619,126.8381944308974,121.34018140583051,149.99791204415371,118.3080014314869,85.061068237756004,null,"2012-11-01",3.5117691664660478,0.90326386764166267,-1.200860272076522,2.735902654541468,1.8291984763600964,-1.1061332684371195]
["2012-12-01",{"$f":"MONTH(Serie_dessazonalizada[[#This Row],[Período]])&YEAR(Serie_dessazonalizada[[#This Row],[Período]])","v":"122012"},133.1705609776983,127.4504809001199,123.0146118951219,153.7444779622079,120.8772651136473,85.602549299701749,null,"2012-12-01",-5.5030755174427561,0.48273035734206682,1.379947244096454,2.4977453799165823,2.1716736408976343,0.54148106194574552]
["2013-01-01",{"$f":"MONTH(Serie_dessazonalizada[[#This Row],[Período]])&YEAR(Serie_dessazonalizada[[#This Row],[Período]])","v":"12013"},142.89807775936461,128.2748116232772,127.051657130976,143.26566443122209,111.6127272115141,85.19556837834503,null,"2013-01-01",7.3045549333499844,0.64678510221025554,3.2817607385502647,-6.8157332672212219,-7.6644172032042555,-0.4069809213567197]
["2013-02-01",{"$f":"MONTH(Serie_dessazonalizada[[#This Row],[Período]])&YEAR(Serie_dessazonalizada[[#This Row],[Período]])","v":"22013"},125.74908681380541,127.1525260470501,121.34760561087781,170.9479320000915,136.03358067097039,83.121488267410015,null,"2013-02-01",-12.000854885142338,-0.87490721056217524,-4.4895530281969904,19.322332171333979,21.879989916541536,-2.0740801109350144]
["2013-03-01",{"$f":"MONTH(Serie_dessazonalizada[[#This Row],[Período]])&YEAR(Serie_dessazonalizada[[#This Row],[Período]])","v":"32013"},136.07396242039431,127.88454225949999,123.3208231950171,140.42101553257339,110.25909912386361,84.710813537080952,null,"2013-03-01",8.2106962906830301,0.57569930791545976,1.6260869542549994,-17.85743536663653,-18.947146300183416,1.5893252696709368]
["2013-04-01",{"$f":"MONTH(Serie_dessazonalizada[[#This Row],[Período]])&YEAR(Serie_dessazonalizada[[#This Row],[Período]])","v":"42013"},143.42982362198319,128.5999142505751,128.90401745350329,148.65753954874,115.659754139329,86.911536557412262,null,"2013-04-01",5.4057815843293238,0.55938894446170662,4.5273734912205663,5.865592115915149,4.8981490492665509,2.20072302033131]
["2013-05-01",{"$f":"MONTH(Serie_dessazonalizada[[#This Row],[Período]])&YEAR(Serie_dessazonalizada[[#This Row],[Período]])","v":"52013"},136.2831869089168,128.15408930568091,125.5378848370552,150.12671725843029,117.1504908192092,85.921669520827137,null,"2013-05-01",-4.982671338913252,-0.34667592703483507,-2.6113481045400895,0.98829680226786576,1.2888983648403671,-0.98986703658512454]
["2013-06-01",{"$f":"MONTH(Serie_dessazonalizada[[#This Row],[Período]])&YEAR(Serie_dessazonalizada[[#This Row],[Período]])","v":"62013"},132.39430490561759,127.91023082740691,123.608378744121,147.71297474462031,115.1221970267587,85.381077397634698,null,"2013-06-01",-2.8535302787557368,-0.19028536630800791,-1.5369910807710767,-1.6078034329192235,-1.7313574858005785,-0.54059212319243954]
["2013-07-01",{"$f":"MONTH(Serie_dessazonalizada[[#This Row],[Período]])&YEAR(Serie_dessazonalizada[[#This Row],[Período]])","v":"72013"},136.84814055802889,127.8270470525614,123.3549715302868,147.04032239229281,115.0540019304507,84.198472516547497,null,"2013-07-01",3.3640689118662537,-6.5032933102709356E-2,-0.20500812033039184,-0.45537797440640965,-5.9237139378213573E-2,-1.182604881087201]
["2013-08-01",{"$f":"MONTH(Serie_dessazonalizada[[#This Row],[Período]])&YEAR(Serie_dessazonalizada[[#This Row],[Período]])","v":"82013"},131.849970617905,127.73926287568921,124.6579916983104,146.36849151096149,114.6017837580566,84.204921035359121,null,"2013-08-01",-3.6523477189698972,-6.8674180383823349E-2,1.0563175134807343,-0.45690248117038373,-0.39304862482528857,6.4485188116236714E-3]
["2013-09-01",{"$f":"MONTH(Serie_dessazonalizada[[#This Row],[Período]])&YEAR(Serie_dessazonalizada[[#This Row],[Período]])","v":"92013"},130.98261037769589,127.239911669989,122.05771163577261,147.40086389306981,115.4325489810511,83.325965958193237,null,"2013-09-01",-0.65783878156687514,-0.39091442557184369,-2.0859312965917414,0.70532419337737495,0.72491474020019098,-0.87895507716588384]
["2013-10-01",{"$f":"MONTH(Serie_dessazonalizada[[#This Row],[Período]])&YEAR(Serie_dessazonalizada[[#This Row],[Período]])","v":"102013"},128.73272934241169,127.3754497976897,125.4348523443312,151.5842580704645,118.7695914161163,83.937958518419123,null,"2013-10-01",-1.7176944548566737,0.10652170841821375,2.7668392789766418,2.8381069600986071,2.8909024919938262,0.611992560225886]
["2013-11-01",{"$f":"MONTH(Serie_dessazonalizada[[#This Row],[Período]])&YEAR(Serie_dessazonalizada[[#This Row],[Período]])","v":"112013"},130.15185306682659,126.4401037800441,121.5937717370919,146.8720884541525,116.1312092547486,86.639878574171945,null,"2013-11-01",1.1023798933371673,-0.73432205274345164,-3.0622116066236167,-3.1086140977261154,-2.2214290121820603,2.7019200557528222]
["2013-12-01",{"$f":"MONTH(Serie_dessazonalizada[[#This Row],[Período]])&YEAR(Serie_dessazonalizada[[#This Row],[Período]])","v":"122013"},130.83519794998571,126.2710538806578,119.3905180590987,146.40554635340831,115.49402478798061,87.924915769749518,null,"2013-12-01",0.52503661458301221,-0.13369958923821723,-1.811979056589381,-0.31765198252071397,-0.54867633847697705,1.2850371955775728]
["2014-01-01",{"$f":"MONTH(Serie_dessazonalizada[[#This Row],[Período]])&YEAR(Serie_dessazonalizada[[#This Row],[Período]])","v":"12014"},135.11452018842451,126.2760145021423,124.66079113970351,152.1727209962124,120.430195949809,86.382570938522306,null,"2014-01-01",3.270772930748076,3.928549997839063E-3,4.4143146091350465,3.9391777063436599,4.2739623724171247,-1.5423448312272114]
["2014-02-01",{"$f":"MONTH(Serie_dessazonalizada[[#This Row],[Período]])&YEAR(Serie_dessazonalizada[[#This Row],[Período]])","v":"22014"},139.65352487517859,127.331434821035,130.58822798860439,185.26520682446159,146.86494984391729,85.967098491486908,null,"2014-02-01",3.3593759430327661,0.83580426817699016,4.7548525841282254,21.746661038592361,21.950270599182073,-0.41547244703539832]
["2014-03-01",{"$f":"MONTH(Serie_dessazonalizada[[#This Row],[Período]])&YEAR(Serie_dessazonalizada[[#This Row],[Período]])","v":"32014"},123.12378433575211,127.8599962725163,118.4868050547316,151.2184699210525,118.90447983349949,87.095587926824876,null,"2014-03-01",-11.836250144205568,0.41510680549872914,-9.2668559182293198,-18.377296788202816,-19.038218472231232,1.1284894353379684]
["2014-04-01",{"$f":"MONTH(Serie_dessazonalizada[[#This Row],[Período]])&YEAR(Serie_dessazonalizada[[#This Row],[Período]])","v":"42014"},126.2878527103781,127.9112009033343,122.6234720839193,149.65916073715741,117.30332696264369,85.334415578731239,null,"2014-04-01",2.5698270985545322,4.0047420859351764E-2,3.4912470019567801,-1.031163180469405,-1.3465875071299871,-1.7611723480936377]
["2014-05-01",{"$f":"MONTH(Serie_dessazonalizada[[#This Row],[Período]])&YEAR(Serie_dessazonalizada[[#This Row],[Período]])","v":"52014"},125.0557718646189,127.6775565304837,120.70367033187129,149.9109222392608,117.9152258004914,85.688265763325361,null,"2014-05-01",-0.97561310871663054,-0.18266138633721088,-1.5656070729543163,0.16822324865602731,0.52163809304621755,0.35385018459412265]
["2014-06-01",{"$f":"MONTH(Serie_dessazonalizada[[#This Row],[Período]])&YEAR(Serie_dessazonalizada[[#This Row],[Período]])","v":"62014"},116.2852124037549,127.5147786861947,117.9919254400764,147.06436907843039,115.2353461982254,84.01679607073568,null,"2014-06-01",-7.0133184019356696,-0.12749135299290612,-2.2466134495653929,-1.8988297305564268,-2.27271718649826,-1.6714696925896817]
["2014-07-01",{"$f":"MONTH(Serie_dessazonalizada[[#This Row],[Período]])&YEAR(Serie_dessazonalizada[[#This Row],[Período]])","v":"72014"},119.7909971106176,127.3820901181082,120.9493787813277,148.2218049808971,116.50495232348911,85.561849190968388,null,"2014-07-01",3.0148155852269785,-0.1040574037406638,2.5064879060332586,0.78702673510906496,1.1017506061723084,1.5450531202327085]
["2014-08-01",{"$f":"MONTH(Serie_dessazonalizada[[#This Row],[Período]])&YEAR(Serie_dessazonalizada[[#This Row],[Período]])","v":"82014"},115.90148207852189,126.89252171812259,115.5619541843534,149.61142281998451,117.9742444635225,84.849351863165211,null,"2014-08-01",-3.246917653172249,-0.38433063826451147,-4.4542805025188068,0.9375259188528311,1.2611413598571619,-0.71249732780317743]
["2014-09-01",{"$f":"MONTH(Serie_dessazonalizada[[#This Row],[Período]])&YEAR(Serie_dessazonalizada[[#This Row],[Período]])","v":"92014"},125.4160677755311,124.3497612858941,120.6874674182345,152.69248074772469,122.3643155094169,85.212930633976598,null,"2014-09-01",8.2092010614352535,-2.0038694146822502,4.4352947040896273,2.0593734553593324,3.7212114100478999,0.36357877081138668]
["2014-10-01",{"$f":"MONTH(Serie_dessazonalizada[[#This Row],[Período]])&YEAR(Serie_dessazonalizada[[#This Row],[Período]])","v":"102014"},131.8903103156569,123.7893401143622,119.6395375248046,146.25610088316611,117.69769595979839,85.203199518886507,null,"2014-10-01",5.1622113936097564,-0.45068134086999029,-0.86830050861733399,-4.215256594850028,-3.8137095199616176,-9.7311150900907251E-3]
["2014-11-01",{"$f":"MONTH(Serie_dessazonalizada[[#This Row],[Período]])&YEAR(Serie_dessazonalizada[[#This Row],[Período]])","v":"112014"},127.5816417000779,123.87535465445831,115.6939997788548,150.704630422317,121.5395664911681,84.076345543587905,null,"2014-11-01",-3.2668575919390497,6.9484609916037623E-2,-3.2978543946074459,3.0416027176223612,3.2641849953307176,-1.1268539752986015]
["2014-12-01",{"$f":"MONTH(Serie_dessazonalizada[[#This Row],[Período]])&YEAR(Serie_dessazonalizada[[#This Row],[Período]])","v":"122014"},122.0552565458366,124.12002077837271,111.15419453095279,142.5164231604129,113.8035165786458,85.1640685385659,null,"2014-12-01",-4.3316460586334671,0.19750992810222695,-3.9239764003143591,-5.433281803590523,-6.3650464913287799,1.0877229949779945]
["2015-01-01",{"$f":"MONTH(Serie_dessazonalizada[[#This Row],[Período]])&YEAR(Serie_dessazonalizada[[#This Row],[Período]])","v":"12015"},120.6301353201775,123.8519227279251,114.2374742423284,147.69084151398349,119.2407981621714,84.998798415062481,null,"2015-01-01",-1.1676033183576227,-0.21599903767847267,2.7738761675943935,3.6307523293272608,4.7777799377298509,-0.16527012350341863]
["2015-02-01",{"$f":"MONTH(Serie_dessazonalizada[[#This Row],[Período]])&YEAR(Serie_dessazonalizada[[#This Row],[Período]])","v":"22015"},111.9080230200335,123.9790615999716,112.07534449128519,145.2742055791152,117.9296885062836,84.812923310782651,null,"2015-02-01",-7.2304588542437616,0.10265393483296727,-1.8926624256911977,-1.6362801579944093,-1.0995478696013528,-0.18587510427983034]
["2015-03-01",{"$f":"MONTH(Serie_dessazonalizada[[#This Row],[Período]])&YEAR(Serie_dessazonalizada[[#This Row],[Período]])","v":"32015"},112.3272273753402,123.23586581163001,112.0129721535766,145.4731557903124,119.0218650675323,84.704478979835287,null,"2015-03-01",0.37459723082737223,-0.59945266462781888,-5.5652149000037343E-2,0.1369480634253776,0.92612519805859783,-0.10844433094736416]
["2015-04-01",{"$f":"MONTH(Serie_dessazonalizada[[#This Row],[Período]])&YEAR(Serie_dessazonalizada[[#This Row],[Período]])","v":"42015"},103.12968440746521,120.70462932888999,109.6540112015082,142.4454027863261,118.3604715249929,83.362721808362622,null,"2015-04-01",-8.1881687839952697,-2.0539771162147629,-2.1059712162928075,-2.0813138943315166,-0.55569079022928236,-1.3417571714726648]
["2015-05-01",{"$f":"MONTH(Serie_dessazonalizada[[#This Row],[Período]])&YEAR(Serie_dessazonalizada[[#This Row],[Período]])","v":"52015"},102.94075082852299,119.6040461231883,108.7767358345684,143.16552123760081,120.43716662406,83.324921757472453,null,"2015-05-01",-0.18319999719550747,-0.91179867070622567,-0.80003946716336116,0.50553997334327572,1.7545512216285668,-3.7800050890169246E-2]
["2015-06-01",{"$f":"MONTH(Serie_dessazonalizada[[#This Row],[Período]])&YEAR(Serie_dessazonalizada[[#This Row],[Período]])","v":"62015"},100.48540867995131,117.406861743994,109.07172694782049,140.2918986565125,119.697477443992,82.002357867130598,null,"2015-06-01",-2.3851993780983363,-1.8370485367453777,0.27118952502925664,-2.0072029607737623,-0.61417019413692253,-1.3225638903418542]
["2015-07-01",{"$f":"MONTH(Serie_dessazonalizada[[#This Row],[Período]])&YEAR(Serie_dessazonalizada[[#This Row],[Período]])","v":"72015"},105.28028691479081,116.4240379027937,107.7071144776741,138.38985825908719,119.1821173111292,81.427752840229303,null,"2015-07-01",4.7717159116218708,-0.83710937044152545,-1.2511147557049527,-1.3557735091191705,-0.43055220867452232,-0.57460502690129545]
["2015-08-01",{"$f":"MONTH(Serie_dessazonalizada[[#This Row],[Período]])&YEAR(Serie_dessazonalizada[[#This Row],[Período]])","v":"82015"},103.2204629612577,114.7207469464564,106.8046873616555,135.70063968957299,118.45591761829979,81.013684747253848,null,"2015-08-01",-1.9565143807028584,-1.4630062545669758,-0.83785283859373894,-1.9432193972477112,-0.60931934187210368,-0.41406809297545522]
["2015-09-01",{"$f":"MONTH(Serie_dessazonalizada[[#This Row],[Período]])&YEAR(Serie_dessazonalizada[[#This Row],[Período]])","v":"92015"},103.5543037353635,113.5001583090316,106.3488469413188,132.3723031630974,116.41241653973781,81.583496364601842,null,"2015-09-01",0.32342499203003133,-1.063965036763997,-0.42679814116505965,-2.4527051118472651,-1.7251152324417902,0.56981161734799457]
["2015-10-01",{"$f":"MONTH(Serie_dessazonalizada[[#This Row],[Período]])&YEAR(Serie_dessazonalizada[[#This Row],[Período]])","v":"102015"},106.3654981475602,112.0150863012956,107.15074295379991,133.8031618959125,118.86092234178599,81.460959561044973,null,"2015-10-01",2.7147055320663447,-1.3084316620004535,0.75402417190623539,1.0809351341814453,2.1033029592787313,-0.12253680355686924]
["2015-11-01",{"$f":"MONTH(Serie_dessazonalizada[[#This Row],[Período]])&YEAR(Serie_dessazonalizada[[#This Row],[Período]])","v":"112015"},97.139790081163298,111.2218390576592,106.3508303228669,133.56246324782259,119.8755755997813,80.645043893941761,null,"2015-11-01",-8.6735908044149213,-0.70816107885927326,-0.74653017690965118,-0.17989010474741002,0.85364747135114649,-0.81591566710321217]
["2015-12-01",{"$f":"MONTH(Serie_dessazonalizada[[#This Row],[Período]])&YEAR(Serie_dessazonalizada[[#This Row],[Período]])","v":"122015"},100.5198336694492,110.7223187014685,104.0010844654077,125.59918715919881,112.29232464829801,81.051351783249586,null,"2015-12-01",3.4795664942880458,-0.44912074860742146,-2.20942878426589,-5.9622111594693186,-6.3259349651015384,0.40630788930782558]
["2016-01-01",{"$f":"MONTH(Serie_dessazonalizada[[#This Row],[Período]])&YEAR(Serie_dessazonalizada[[#This Row],[Período]])","v":"12016"},97.069403348219623,111.3782352182176,104.30516196108,125.285311748111,112.30120016294811,80.191564650070873,null,"2016-01-01",-3.4325865804513942,0.59239774278715707,0.29237915857833519,-0.24990242229033308,7.9039370481449704E-3,-0.85978713317871325]
["2016-02-01",{"$f":"MONTH(Serie_dessazonalizada[[#This Row],[Período]])&YEAR(Serie_dessazonalizada[[#This Row],[Período]])","v":"22016"},96.188239639150694,111.17601365989739,104.2353988177567,124.6657525937641,112.366138099322,80.063948577493932,null,"2016-02-01",-0.90776668927067272,-0.1815629040305782,-6.6883692054791152E-2,-0.49451858777550878,5.782479286033456E-2,-0.12761607257694152]
["2016-03-01",{"$f":"MONTH(Serie_dessazonalizada[[#This Row],[Período]])&YEAR(Serie_dessazonalizada[[#This Row],[Período]])","v":"32016"},97.038602848730534,110.4631901396274,106.7676634625098,127.9728141561319,116.5142882110289,80.188073644802373,null,"2016-03-01",0.88406151601273641,-0.6411666480960696,2.4293710903149748,2.6527426286385158,3.6916371621139898,0.12412506730844086]
["2016-04-01",{"$f":"MONTH(Serie_dessazonalizada[[#This Row],[Período]])&YEAR(Serie_dessazonalizada[[#This Row],[Período]])","v":"42016"},96.019763570078226,109.7164709557931,102.92779403296881,124.73799992914419,113.9341843083197,79.202020111108709,null,"2016-04-01",-1.049931933006635,-0.67598915339167298,-3.5964722885308071,-2.5277354790690993,-2.214409873951384,-0.98605353369366355]
["2016-05-01",{"$f":"MONTH(Serie_dessazonalizada[[#This Row],[Período]])&YEAR(Serie_dessazonalizada[[#This Row],[Período]])","v":"52016"},91.594402787148994,109.64149030467919,102.8826652544663,123.76003568538739,113.6248093733287,79.229143609930617,null,"2016-05-01",-4.6088019990795601,-6.8340378122547646E-2,-4.3845084728082712E-2,-0.78401469024060144,-0.27153828929322249,2.7123498821907788E-2]
["2016-06-01",{"$f":"MONTH(Serie_dessazonalizada[[#This Row],[Período]])&YEAR(Serie_dessazonalizada[[#This Row],[Período]])","v":"62016"},98.50285860348464,109.6810729699427,105.468249442253,126.0478753604893,115.3551479088059,79.061153869278229,null,"2016-06-01",7.5424432128127004,3.6101903716845157E-2,2.5131388085559432,1.8486094177589485,1.5228527511029351,-0.16798974065238781]
["2016-07-01",{"$f":"MONTH(Serie_dessazonalizada[[#This Row],[Período]])&YEAR(Serie_dessazonalizada[[#This Row],[Período]])","v":"72016"},90.647851647601499,108.8493262135744,102.87703663290939,126.14109861704711,116.27780481259261,77.921143697924435,null,"2016-07-01",-7.9743949234030271,-0.75833207484780718,-2.4568652869908196,7.3958610005280367E-2,0.79984025031644823,-1.1400101713537936]
["2016-08-01",{"$f":"MONTH(Serie_dessazonalizada[[#This Row],[Período]])&YEAR(Serie_dessazonalizada[[#This Row],[Período]])","v":"82016"},90.710529289825288,108.78226580319649,102.2434357095384,125.1298344149385,115.37698926037331,77.906489560646818,null,"2016-08-01",6.9144101139266209E-2,-6.1608475413366934E-2,-0.61588177897448171,-0.80169287662438404,-0.77470980267572365,-1.4654137277616996E-2]
["2016-09-01",{"$f":"MONTH(Serie_dessazonalizada[[#This Row],[Período]])&YEAR(Serie_dessazonalizada[[#This Row],[Período]])","v":"92016"},91.722102038903401,108.33109654568131,102.48141705801891,125.49940673282759,115.81623657232851,77.741955379953609,null,"2016-09-01",1.1151657442611542,-0.41474522909039502,0.23275953789011916,0.29535108043343927,0.38070616573634292,-0.16453418069320946]
["2016-10-01",{"$f":"MONTH(Serie_dessazonalizada[[#This Row],[Período]])&YEAR(Serie_dessazonalizada[[#This Row],[Período]])","v":"102016"},86.876653594810108,107.1568624151932,98.674448245837468,124.01857415245649,115.3576985330278,75.501038892105669,null,"2016-10-01",-5.2827490172849769,-1.0839308083556125,-3.7147893944773984,-1.1799518570821659,-0.39591861458418542,-2.2409164878479402]
["2016-11-01",{"$f":"MONTH(Serie_dessazonalizada[[#This Row],[Período]])&YEAR(Serie_dessazonalizada[[#This Row],[Período]])","v":"112016"},92.134676906669185,106.35436000348859,102.3760327078143,122.9283405505553,115.4104032844329,75.872459792403916,null,"2016-11-01",6.0522857341885281,-0.7489043572358518,3.751310017720809,-0.87908896659379554,4.56881093115881E-2,0.37142090029824715]
["2016-12-01",{"$f":"MONTH(Serie_dessazonalizada[[#This Row],[Período]])&YEAR(Serie_dessazonalizada[[#This Row],[Período]])","v":"122016"},91.085373394334198,105.7511607169172,103.293110017434,124.23801208444171,116.77501231804411,75.82024403311209,null,"2016-12-01",-1.1388801128568704,-0.5671599044473683,0.89579297552687798,1.0653943004687256,1.1823969025115324,-5.2215759291826203E-2]
["2017-01-01",{"$f":"MONTH(Serie_dessazonalizada[[#This Row],[Período]])&YEAR(Serie_dessazonalizada[[#This Row],[Período]])","v":"12017"},92.968907634676512,104.9087968659903,101.83178141868829,124.292982485976,118.31597894304549,77.789478756983186,null,"2017-01-01",2.0678778273081941,-0.7965528181594197,-1.4147396651132522,4.4246040814729874E-2,1.3196030506975831,1.9692347238710965]
["2017-02-01",{"$f":"MONTH(Serie_dessazonalizada[[#This Row],[Período]])&YEAR(Serie_dessazonalizada[[#This Row],[Período]])","v":"22017"},92.642486747923883,104.9354272689272,103.63288881584489,124.9610655212811,119.0156944954997,77.99693568749845,null,"2017-02-01",-0.35110758538253212,2.5384337379180808E-2,1.7687085230800625,0.53750664111747593,0.59139564977189973,0.20745693051526359]
["2017-03-01",{"$f":"MONTH(Serie_dessazonalizada[[#This Row],[Período]])&YEAR(Serie_dessazonalizada[[#This Row],[Período]])","v":"32017"},94.654404056944827,104.01370770684289,104.08422969292489,125.8731776382743,121.2894658935631,78.376429554135981,null,"2017-03-01",2.1717004580147794,-0.87836833190961749,0.43551895757922005,0.72991704511183542,1.9104803006878894,0.3794938666375316]
["2017-04-01",{"$f":"MONTH(Serie_dessazonalizada[[#This Row],[Período]])&YEAR(Serie_dessazonalizada[[#This Row],[Período]])","v":"42017"},91.086732591818091,103.4665310640581,101.705273147759,128.5253329251708,124.3297103545744,75.018179261176414,null,"2017-04-01",-3.7691552766846401,-0.52606204975115334,-2.2856071012721353,2.1070059059906181,2.5066022334365359,-3.3582502929595677]
["2017-05-01",{"$f":"MONTH(Serie_dessazonalizada[[#This Row],[Período]])&YEAR(Serie_dessazonalizada[[#This Row],[Período]])","v":"52017"},95.566302747249253,103.3237411568648,103.4471391098978,124.65649624811959,121.6732580839392,78.335634088319608,null,"2017-05-01",4.9179172728757443,-0.13800589014132517,1.7126604238191201,-3.0101744060866937,-2.1366190454874343,3.3174548271431945]
["2017-06-01",{"$f":"MONTH(Serie_dessazonalizada[[#This Row],[Período]])&YEAR(Serie_dessazonalizada[[#This Row],[Período]])","v":"62017"},94.653618917914457,103.0792865349936,100.95121544376789,126.08996603452739,122.7127372426545,77.735132482370091,null,"2017-06-01",-0.95502682755095514,-0.23659095105748371,-2.4127527233772499,1.1499358874603549,0.8543201481447843,-0.60050160594951763]
["2017-07-01",{"$f":"MONTH(Serie_dessazonalizada[[#This Row],[Período]])&YEAR(Serie_dessazonalizada[[#This Row],[Período]])","v":"72017"},92.435814454894853,103.1982012026,98.795582069125416,124.68375823658531,121.111005049675,79.1298606610045,null,"2017-07-01",-2.3430741353301339,0.11536233088500733,-2.1353218633045716,-1.1152416343398996,-1.3052697128026749,1.3947281786344092]
["2017-08-01",{"$f":"MONTH(Serie_dessazonalizada[[#This Row],[Período]])&YEAR(Serie_dessazonalizada[[#This Row],[Período]])","v":"82017"},94.50206708881646,103.10713145562541,101.57585835140679,127.0571258970968,123.44604989750761,79.9396895566463,null,"2017-08-01",2.2353377271640307,-8.8247417022131652E-2,2.8141706582952977,1.9035098829857744,1.9280203701347054,0.80982889564180027]
["2017-09-01",{"$f":"MONTH(Serie_dessazonalizada[[#This Row],[Período]])&YEAR(Serie_dessazonalizada[[#This Row],[Período]])","v":"92017"},95.364224015407927,103.2755153376101,100.6413209712409,126.637024422574,122.42939412672,80.019559337582848,null,"2017-09-01",0.91231541610743916,0.16330963688691449,-0.92003887078444679,-0.33063983744054948,-0.82356282086927635,7.9869780936547841E-2]
["2017-10-01",{"$f":"MONTH(Serie_dessazonalizada[[#This Row],[Período]])&YEAR(Serie_dessazonalizada[[#This Row],[Período]])","v":"102017"},98.19479193131383,103.400692607428,100.3937780725485,124.82497807130071,120.32385074873309,79.688115781940567,null,"2017-10-01",2.96816541541676,0.12120711226537029,-0.24596547054776735,-1.4308977643273531,-1.7198021708802802,-0.33144355564228078]
["2017-11-01",{"$f":"MONTH(Serie_dessazonalizada[[#This Row],[Período]])&YEAR(Serie_dessazonalizada[[#This Row],[Período]])","v":"112017"},95.263625819902799,103.12696591349091,99.714401540843141,125.48155462846231,121.4473613029822,79.026761374435452,null,"2017-11-01",-2.9850525203631464,-0.26472423639977521,-0.67671178906566709,0.52599773483361612,0.93373886162875985,-0.6613544075051152]
["2017-12-01",{"$f":"MONTH(Serie_dessazonalizada[[#This Row],[Período]])&YEAR(Serie_dessazonalizada[[#This Row],[Período]])","v":"122017"},97.604820050805429,103.0364129854306,100.905522598329,125.0776668589851,121.3595235712321,78.719304364814818,null,"2017-12-01",2.4575951321952516,-8.7807226032680943E-2,1.1945326242548564,-0.32187023078657062,-7.2325763859920289E-2,-0.30745700962063438]
["2018-01-01",{"$f":"MONTH(Serie_dessazonalizada[[#This Row],[Período]])&YEAR(Serie_dessazonalizada[[#This Row],[Período]])","v":"12018"},99.288933675985746,103.3115223954124,101.36135899159341,126.58293734256129,122.5983372362695,80.279467043195012,null,"2018-01-01",1.7254410430793261,0.26700212285213715,0.45174573356003239,1.2034686298340274,1.0207799343495898,1.5601626783801947]
["2018-02-01",{"$f":"MONTH(Serie_dessazonalizada[[#This Row],[Período]])&YEAR(Serie_dessazonalizada[[#This Row],[Período]])","v":"22018"},95.412376821950502,103.1713044356555,100.1524713544849,125.8735389420803,121.68257856728,79.79790933649123,null,"2018-02-01",-3.9043191527122185,-0.13572344740040579,-1.1926513704386748,-0.56042181938092051,-0.74695847401638238,-0.48155770670378217]
["2018-03-01",{"$f":"MONTH(Serie_dessazonalizada[[#This Row],[Período]])&YEAR(Serie_dessazonalizada[[#This Row],[Período]])","v":"32018"},100.49130540964821,103.15516403592071,101.1420232236169,124.6920203581891,120.7493232531375,80.430812380780367,null,"2018-03-01",5.3231339128837725,-1.5644272235465311E-2,0.9880453829536856,-0.93865525178796361,-0.76695885732441937,0.63290304428913657]
["2018-04-01",{"$f":"MONTH(Serie_dessazonalizada[[#This Row],[Período]])&YEAR(Serie_dessazonalizada[[#This Row],[Período]])","v":"42018"},98.35756205289205,104.24371815974391,100.3255785322601,125.6647578690289,120.4009766036903,80.159927863953115,null,"2018-04-01",-2.1233114129207986,1.0552589722450971,-0.80722598316202687,0.78011207777813685,-0.28848745488779126,-0.27088451682725179]
["2018-05-01",{"$f":"MONTH(Serie_dessazonalizada[[#This Row],[Período]])&YEAR(Serie_dessazonalizada[[#This Row],[Período]])","v":"52018"},82.492599115019829,104.700593120335,98.891220047621161,127.0600440803517,122.9962901975162,78.495148886179791,null,"2018-05-01",-16.129886311477296,0.43827577206232698,-1.4297036763936637,1.1103241950913572,2.1555585901670837,-1.6647789777733237]
["2018-06-01",{"$f":"MONTH(Serie_dessazonalizada[[#This Row],[Período]])&YEAR(Serie_dessazonalizada[[#This Row],[Período]])","v":"62018"},105.8881145336882,103.65065489697309,99.718633608000104,122.65958329392259,118.8809166262,79.570254545495573,null,"2018-06-01",28.36074468455999,-1.0028006452219289,0.83669061821716972,-3.4632923499115842,-3.3459330884756264,1.0751056593157813]
["2018-07-01",{"$f":"MONTH(Serie_dessazonalizada[[#This Row],[Período]])&YEAR(Serie_dessazonalizada[[#This Row],[Período]])","v":"72018"},101.34114903063031,103.74746751705401,98.892769021714543,124.76848537757429,120.47205266118689,79.295158466582578,null,"2018-07-01",-4.294122643586479,9.3402805970826702E-2,-0.82819484824880829,1.7193129366812296,1.3384284712322114,-0.27509607891299481]
["2018-08-01",{"$f":"MONTH(Serie_dessazonalizada[[#This Row],[Período]])&YEAR(Serie_dessazonalizada[[#This Row],[Período]])","v":"82018"},102.9289154730351,102.7111815320648,98.085269430624564,123.6417355700636,120.42838371109779,79.392111774851998,null,"2018-08-01",1.5667539371641599,-0.99885424655677635,-0.816540581357036,-0.9030724418116659,-3.6248199581950233E-2,9.6953308269419836E-2]
["2018-09-01",{"$f":"MONTH(Serie_dessazonalizada[[#This Row],[Período]])&YEAR(Serie_dessazonalizada[[#This Row],[Período]])","v":"92018"},97.5804593430436,102.6180362424997,95.132258347924108,121.10963601703421,117.6550512116018,79.749061524525473,null,"2018-09-01",-5.1962620080191861,-9.0686610917840638E-2,-3.0106570536456676,-2.0479327157248952,-2.3028894136361502,0.35694974967347548]
["2018-10-01",{"$f":"MONTH(Serie_dessazonalizada[[#This Row],[Período]])&YEAR(Serie_dessazonalizada[[#This Row],[Período]])","v":"102018"},100.2417483245688,102.6361486102746,97.817571150305071,123.8155934690581,120.1585853919826,79.899441343225732,null,"2018-10-01",2.7272765463928139,1.7650277122924423E-2,2.822715290285716,2.2343040083476922,2.1278594965533673,0.15037981870025874]
["2018-11-01",{"$f":"MONTH(Serie_dessazonalizada[[#This Row],[Período]])&YEAR(Serie_dessazonalizada[[#This Row],[Período]])","v":"112018"},96.158398816302892,103.8767702102041,98.639902664397539,122.1191361846664,117.4764071124017,79.751737215370028,null,"2018-11-01",-4.0735018857059382,1.2087569698667573,0.84067872921204057,-1.3701483285428409,-2.2321986155471669,-0.14770412785570386]
["2018-12-01",{"$f":"MONTH(Serie_dessazonalizada[[#This Row],[Período]])&YEAR(Serie_dessazonalizada[[#This Row],[Período]])","v":"122018"},94.753823012703819,104.2355230849241,95.041754428817072,127.73860427906131,122.9520098237048,79.756131339413244,null,"2018-12-01",-1.4606896754617531,0.34536390955747637,-3.6477613403801139,4.6016277792018139,4.6610233032271982,4.3941240432161521E-3]
["2019-01-01",{"$f":"MONTH(Serie_dessazonalizada[[#This Row],[Período]])&YEAR(Serie_dessazonalizada[[#This Row],[Período]])","v":"12019"},93.710025221225763,103.3601093561425,97.67628626454318,125.26464947611581,121.3453694463587,81.187952670372027,null,"2019-01-01",-1.1015891056322995,-0.83984202589779955,2.771973067583974,-1.9367322955406878,-1.3067215246418367,1.4318213309587833]
["2019-02-01",{"$f":"MONTH(Serie_dessazonalizada[[#This Row],[Período]])&YEAR(Serie_dessazonalizada[[#This Row],[Período]])","v":"22019"},95.30250403663824,102.94268553684689,96.936333693833674,122.2738192563049,118.22172272345151,79.366356527222891,null,"2019-02-01",1.699368676566926,-0.40385388705163949,-0.75755600361938658,-2.3876091397846158,-2.5741787570130716,-1.8215961431491365]
["2019-03-01",{"$f":"MONTH(Serie_dessazonalizada[[#This Row],[Período]])&YEAR(Serie_dessazonalizada[[#This Row],[Período]])","v":"32019"},90.473298324363213,103.1027791500719,91.722938413682897,122.5361415624334,118.4495880387953,78.830426846516602,null,"2019-03-01",-5.0672390626992119,0.15551723018504116,-5.3781642873114075,0.21453677305902075,0.19274403222563607,-0.53592968070628899]
["2019-04-01",{"$f":"MONTH(Serie_dessazonalizada[[#This Row],[Período]])&YEAR(Serie_dessazonalizada[[#This Row],[Período]])","v":"42019"},94.376521559166818,103.9236329226064,96.221680561891759,122.09518946022121,116.6955443912218,79.885328407862275,null,"2019-04-01",4.3142267465587913,0.79615096634757676,4.9047078364617196,-0.35985473068574148,-1.4808355829815143,1.0549015613456731]
["2019-05-01",{"$f":"MONTH(Serie_dessazonalizada[[#This Row],[Período]])&YEAR(Serie_dessazonalizada[[#This Row],[Período]])","v":"52019"},92.380984708159744,104.8129302869565,100.9541466302731,128.15410759525699,124.3488344600477,80.844247102928279,null,"2019-05-01",-2.1144420434652553,0.85572197520497906,4.91829496299155,4.9624544274201616,6.5583395739328676,0.95891869506600358]
["2019-06-01",{"$f":"MONTH(Serie_dessazonalizada[[#This Row],[Período]])&YEAR(Serie_dessazonalizada[[#This Row],[Período]])","v":"62019"},94.511566768171747,105.0264749888109,96.300182591336096,126.7327058951295,121.5119250689167,78.532113193186845,null,"2019-06-01",2.306299361002389,0.20373889106025447,-4.6099780883506787,-1.1091347181915034,-2.2814121285893343,-2.3121339097414335]
["2019-07-01",{"$f":"MONTH(Serie_dessazonalizada[[#This Row],[Período]])&YEAR(Serie_dessazonalizada[[#This Row],[Período]])","v":"72019"},91.638906598288386,105.6675796260696,98.223454754201896,126.36895055352061,119.7077567837285,81.039380864291118,null,"2019-07-01",-3.0394800002942857,0.61042193154344471,1.9971635682431532,-0.28702562534244214,-1.4847664409603791,2.5072676711042732]
["2019-08-01",{"$f":"MONTH(Serie_dessazonalizada[[#This Row],[Período]])&YEAR(Serie_dessazonalizada[[#This Row],[Período]])","v":"82019"},93.651236937749786,106.5747241126213,98.284707423377967,126.12320113596731,118.3767046391653,80.105212993171151,null,"2019-08-01",2.1959344716788509,0.85848894217304117,6.2360532246958374E-2,-0.19446977796117504,-1.1119180413412673,-0.93416787111996769]
["2019-09-01",{"$f":"MONTH(Serie_dessazonalizada[[#This Row],[Período]])&YEAR(Serie_dessazonalizada[[#This Row],[Período]])","v":"92019"},94.342053449252731,106.4229747334917,96.914801303978464,127.0566663008445,119.0838147648534,80.058622005928981,null,"2019-09-01",0.73764803764645659,-0.14238777570677891,-1.3938141093490775,0.7401216877383785,0.5973389171826583,-4.6590987242169035E-2]
["2019-10-01",{"$f":"MONTH(Serie_dessazonalizada[[#This Row],[Período]])&YEAR(Serie_dessazonalizada[[#This Row],[Período]])","v":"102019"},96.413918640927946,107.09688046045,99.829240516178345,127.7220591804173,118.7980969696149,80.578086547195525,null,"2019-10-01",2.1961205167001014,0.63323331136525274,3.0072178583522922,0.52369773184296409,-0.23992999871786483,0.51946454126654373]
["2019-11-01",{"$f":"MONTH(Serie_dessazonalizada[[#This Row],[Período]])&YEAR(Serie_dessazonalizada[[#This Row],[Período]])","v":"112019"},91.972658562369347,108.3450790070829,99.179422735528206,129.35802169248879,119.26500212065299,81.465036935197503,null,"2019-11-01",-4.6064511651051943,1.1654854382932807,-0.6509293041699834,1.2808770251351513,0.3930240996684583,0.88695038800197779]
["2019-12-01",{"$f":"MONTH(Serie_dessazonalizada[[#This Row],[Período]])&YEAR(Serie_dessazonalizada[[#This Row],[Período]])","v":"122019"},90.032208385867122,108.0170810817784,97.015727370205298,129.83418179074641,120.54027444034089,81.906679158737973,null,"2019-12-01",-2.1098119885121607,-0.30273449270645597,-2.1815970547566277,0.36809475904753342,1.0692762310923254,0.44164222354046956]
["2020-01-01",{"$f":"MONTH(Serie_dessazonalizada[[#This Row],[Período]])&YEAR(Serie_dessazonalizada[[#This Row],[Período]])","v":"12020"},93.353773345335696,107.92353841085379,98.311248142808608,129.24781449792081,119.8417131014841,81.490426445737697,null,"2020-01-01",3.689307436770572,-8.6599887710153811E-2,1.3353719110507654,-0.45162782615339836,-0.57952526000140381,-0.41625271300027578]
["2020-02-01",{"$f":"MONTH(Serie_dessazonalizada[[#This Row],[Período]])&YEAR(Serie_dessazonalizada[[#This Row],[Período]])","v":"22020"},96.438609946679691,108.1268854590802,99.044752226128992,125.4159077414697,115.61594934533031,82.014159456722822,null,"2020-02-01",3.3044583960548866,0.18841769943854489,0.74610392724836816,-2.9647748949076131,-3.5261209530402358,0.5237330109851257]
["2020-03-01",{"$f":"MONTH(Serie_dessazonalizada[[#This Row],[Período]])&YEAR(Serie_dessazonalizada[[#This Row],[Período]])","v":"32020"},88.520766879385548,107.9042259297368,95.251405170336739,128.2064724817879,118.5483043527568,77.96904467752131,null,"2020-03-01",-8.2102418021909163,-0.20592429754916677,-3.8299323997819346,2.225048473173457,2.5362893476469397,-4.0451147792015121]
["2020-04-01",{"$f":"MONTH(Serie_dessazonalizada[[#This Row],[Período]])&YEAR(Serie_dessazonalizada[[#This Row],[Período]])","v":"42020"},75.194781391580648,103.5155588016713,77.892941070227636,126.9832436659744,121.54840413311859,70.834726224014815,null,"2020-04-01",-15.054078220947062,-4.0671874435420428,-18.223840445258741,-0.95410847216567973,2.5306981797348898,-7.134318453506495]
["2020-05-01",{"$f":"MONTH(Serie_dessazonalizada[[#This Row],[Período]])&YEAR(Serie_dessazonalizada[[#This Row],[Período]])","v":"52020"},80.990423578232878,102.1549558472887,80.757466692772383,111.2174202783164,111.0393352301415,73.485862984085699,null,"2020-05-01",7.7075058659604698,-1.3143946379977733,3.6775163232854617,-12.41567228281672,-8.6459949663079616,2.6511367600708837]
["2020-06-01",{"$f":"MONTH(Serie_dessazonalizada[[#This Row],[Período]])&YEAR(Serie_dessazonalizada[[#This Row],[Período]])","v":"62020"},88.894538388506248,101.8121806814751,88.934791950045323,117.51816602612379,116.6351899756315,74.196193035980485,null,"2020-06-01",9.7593202517805988,-0.33554433357694374,10.125782286339096,5.665250760213711,5.0395247178776454,0.71033005189478615]
["2020-07-01",{"$f":"MONTH(Serie_dessazonalizada[[#This Row],[Período]])&YEAR(Serie_dessazonalizada[[#This Row],[Período]])","v":"72020"},94.924087903140048,100.9739680122553,95.844363843829072,119.2693635308277,118.1268656048877,77.247465145488775,null,"2020-07-01",6.7828121096508216,-0.82329311051905818,7.76925626324606,1.4901504711319493,1.2789241647978173,3.0512721095082895]
["2020-08-01",{"$f":"MONTH(Serie_dessazonalizada[[#This Row],[Período]])&YEAR(Serie_dessazonalizada[[#This Row],[Período]])","v":"82020"},99.794574848414612,101.9355737340745,94.346408631876557,123.7728830697816,121.29472437412601,80.243559471526865,null,"2020-08-01",5.1309283585051446,0.95233032904330939,-1.5629038076702315,3.7759231756023124,2.6817428474181337,2.9960943260380901]
["2020-09-01",{"$f":"MONTH(Serie_dessazonalizada[[#This Row],[Período]])&YEAR(Serie_dessazonalizada[[#This Row],[Período]])","v":"92020"},100.8539850400249,103.13022745700751,98.485358211288613,125.10439091660329,121.07369653659831,82.490229159980444,null,"2020-09-01",1.0615909664623551,1.1719693912250668,4.3869709927820626,1.0757670127721,-0.18222378480860665,2.2466696884535793]
["2020-10-01",{"$f":"MONTH(Serie_dessazonalizada[[#This Row],[Período]])&YEAR(Serie_dessazonalizada[[#This Row],[Período]])","v":"102020"},98.630127535311971,103.6940847929077,98.291488075166626,121.15216115057279,116.3788163744475,83.350539505442612,null,"2020-10-01",-2.2050269048172613,0.54674303529026325,-0.19685173475844167,-3.1591455240488897,-3.8777044861528909,0.86031034546216745]
["2020-11-01",{"$f":"MONTH(Serie_dessazonalizada[[#This Row],[Período]])&YEAR(Serie_dessazonalizada[[#This Row],[Período]])","v":"112020"},99.584235586952488,103.69047060812539,97.275158516422977,123.5579112297378,118.67071557559809,82.205000245177942,null,"2020-11-01",0.96735964505259675,-3.4854300411884783E-3,-1.0339954950793195,1.985726095447063,1.9693439687309071,-1.1455392602646697]
["2020-12-01",{"$f":"MONTH(Serie_dessazonalizada[[#This Row],[Período]])&YEAR(Serie_dessazonalizada[[#This Row],[Período]])","v":"122020"},103.419477609203,104.75816650067451,102.3832823442966,122.1356790517966,116.4899308866715,83.416997797531309,null,"2020-12-01",3.851254166530957,1.0296952904999583,5.251211003692398,-1.151065248502595,-1.8376772048175138,1.2119975523533668]
["2021-01-01",{"$f":"MONTH(Serie_dessazonalizada[[#This Row],[Período]])&YEAR(Serie_dessazonalizada[[#This Row],[Período]])","v":"12021"},104.95038059348001,106.0662529436823,100.65924729557879,121.9039210523581,114.8674137556612,82.540763778630406,null,"2021-01-01",1.4802849711365931,1.2486725252101207,-1.6839028884815284,-0.18975454284756016,-1.392838950680451,-0.87623401890090236]
["2021-02-01",{"$f":"MONTH(Serie_dessazonalizada[[#This Row],[Período]])&YEAR(Serie_dessazonalizada[[#This Row],[Período]])","v":"22021"},104.52940562121979,107.6828347329286,101.142847498515,122.6753442811256,113.9235224754689,84.008583169676442,null,"2021-02-01",-0.40111809969592815,1.5241245395032939,0.48043296162958993,0.63281248224671505,-0.82172240962967136,1.4678193910460351]
["2021-03-01",{"$f":"MONTH(Serie_dessazonalizada[[#This Row],[Período]])&YEAR(Serie_dessazonalizada[[#This Row],[Período]])","v":"32021"},104.267729376685,108.3691805089497,101.2805830921224,120.09949427435789,111.00538382606911,82.806890997646107,null,"2021-03-01",-0.2503374461756972,0.63737714346334884,0.13617927220155115,-2.0997291850796298,-2.561489134105869,-1.2016921720303344]
["2021-04-01",{"$f":"MONTH(Serie_dessazonalizada[[#This Row],[Período]])&YEAR(Serie_dessazonalizada[[#This Row],[Período]])","v":"42021"},100.7843111409136,109.2590660590764,100.5770726856186,128.2405641340211,116.6611106721878,83.55965223640753,null,"2021-04-01",-3.3408402164268409,0.82116109575380158,-0.69461528066430989,6.778604613492849,5.095002288339888,0.75276123876142265]
["2021-05-01",{"$f":"MONTH(Serie_dessazonalizada[[#This Row],[Período]])&YEAR(Serie_dessazonalizada[[#This Row],[Período]])","v":"52021"},103.8285319828954,109.09785709801371,101.2088068878066,122.6084824913751,113.7477558440978,83.745853939368331,null,"2021-05-01",3.0205304848742371,-0.14754744560559613,0.62810955351888109,-4.3918097839619978,-2.4972802087204506,0.18620170296080119]
["2021-06-01",{"$f":"MONTH(Serie_dessazonalizada[[#This Row],[Período]])&YEAR(Serie_dessazonalizada[[#This Row],[Período]])","v":"62021"},107.88114673901541,109.3839734628277,102.4684186033306,123.01550417911611,113.4024741839779,84.195406295151344,null,"2021-06-01",3.9031802518286893,0.26225663127090088,1.2445673002748907,0.33196862033557878,-0.30355030528526322,0.44955235578301256]
["2021-07-01",{"$f":"MONTH(Serie_dessazonalizada[[#This Row],[Período]])&YEAR(Serie_dessazonalizada[[#This Row],[Período]])","v":"72021"},106.16920742072639,109.3265109179443,100.1868783585095,119.3430230871891,109.2578676426152,84.261551116886494,null,"2021-07-01",-1.5868753438731165,-5.2532873934151271E-2,-2.2265789556617039,-2.985380677365443,-3.6547761159414609,6.6144821735150572E-2]
["2021-08-01",{"$f":"MONTH(Serie_dessazonalizada[[#This Row],[Período]])&YEAR(Serie_dessazonalizada[[#This Row],[Período]])","v":"82021"},101.4347619671977,109.6813386762296,98.734577143543746,118.97017757735139,108.36517912184431,83.444189427832157,null,"2021-08-01",-4.4593395472635251,0.32455783625219164,-1.4495922407811046,-0.31241500356942592,-0.81704735780757898,-0.81736168905433715]
["2021-09-01",{"$f":"MONTH(Serie_dessazonalizada[[#This Row],[Período]])&YEAR(Serie_dessazonalizada[[#This Row],[Período]])","v":"92021"},104.8398573129098,109.9736582432519,101.6614652864309,119.0163434977179,108.2077459921496,82.354856497604715,null,"2021-09-01",3.3569313711341375,0.26651714006263855,2.9644003423764498,3.8804615834492732E-2,-0.14528018222319711,-1.0893329302274424]
["2021-10-01",{"$f":"MONTH(Serie_dessazonalizada[[#This Row],[Período]])&YEAR(Serie_dessazonalizada[[#This Row],[Período]])","v":"102021"},93.931736553099199,109.8763457019564,99.714152171845356,123.14539173688701,111.8118204298207,81.383365015845044,null,"2021-10-01",-10.40455513713046,-8.8487136692553994E-2,-1.9154879472757855,3.4693119598723698,3.3306991145833269,-0.97149148175967071]
["2021-11-01",{"$f":"MONTH(Serie_dessazonalizada[[#This Row],[Período]])&YEAR(Serie_dessazonalizada[[#This Row],[Período]])","v":"112021"},101.81511544896991,109.6134307442706,101.736854325602,119.45522074546,108.5816745528905,81.600993336636279,null,"2021-11-01",8.3926681068163429,-0.23928258262152305,2.0285005786046861,-2.9965969001190444,-2.8889126968088434,0.21762832079123484]
["2021-12-01",{"$f":"MONTH(Serie_dessazonalizada[[#This Row],[Período]])&YEAR(Serie_dessazonalizada[[#This Row],[Período]])","v":"122021"},109.2161171331261,109.863290030211,103.61111467048831,119.49310527632529,108.7742378843452,77.794024997736159,null,"2021-12-01",7.2690598557201529,0.22794586780458259,1.8422629216427948,3.1714420373492348E-2,0.17734422705084971,-3.8069683389001199]
["2022-01-01",{"$f":"MONTH(Serie_dessazonalizada[[#This Row],[Período]])&YEAR(Serie_dessazonalizada[[#This Row],[Período]])","v":"12022"},100.9574270498523,110.6206703313843,100.00352698495119,119.2873061757584,108.0132145784937,82.600830215866836,null,"2022-01-01",-7.5617869413972052,0.68938432570609276,-3.4818539468571763,-0.17222675742754057,-0.69963561285592013,4.8068052181306768]
["2022-02-01",{"$f":"MONTH(Serie_dessazonalizada[[#This Row],[Período]])&YEAR(Serie_dessazonalizada[[#This Row],[Período]])","v":"22022"},95.671513978416968,109.7874994274716,103.4448264371395,126.3535246351048,115.28965250316899,83.979667448098525,null,"2022-02-01",-5.2357842566898745,-0.75317831777441524,3.441178082355195,5.9236969011061467,6.7366182490453248,1.3788372322316889]
["2022-03-01",{"$f":"MONTH(Serie_dessazonalizada[[#This Row],[Período]])&YEAR(Serie_dessazonalizada[[#This Row],[Período]])","v":"32022"},107.933519890996,109.48292672625389,106.01693348478619,126.3531939347212,115.7975545127796,84.512827090073074,null,"2022-03-01",12.816778372865802,-0.27742020066584777,2.4864530554456419,-2.6172628310526091E-4,0.44054431476115574,0.53315964197454946]
["2022-04-01",{"$f":"MONTH(Serie_dessazonalizada[[#This Row],[Período]])&YEAR(Serie_dessazonalizada[[#This Row],[Período]])","v":"42022"},105.64433896792239,108.4168138273842,102.0802025863324,120.0963591267632,109.9892387307442,83.887663547800287,null,"2022-04-01",-2.1209175105059916,-0.97377091638712776,-3.7133038742520537,-4.9518612178418824,-5.0159226647522841,-0.62516354227278725]
["2022-05-01",{"$f":"MONTH(Serie_dessazonalizada[[#This Row],[Período]])&YEAR(Serie_dessazonalizada[[#This Row],[Período]])","v":"52022"},109.1277587734568,108.3666701739331,101.3946345518905,121.99065906836211,113.08627725618901,83.986646098264586,null,"2022-05-01",3.2973085350007327,-4.6250808966714053E-2,-0.67159744698007795,1.5773167108250508,2.8157650340924829,9.8982550464299379E-2]
["2022-06-01",{"$f":"MONTH(Serie_dessazonalizada[[#This Row],[Período]])&YEAR(Serie_dessazonalizada[[#This Row],[Período]])","v":"62022"},109.9524132744455,109.4642163518786,99.935483669897991,123.0892218623769,113.00687413790421,83.78682770360976,null,"2022-06-01",0.75567803302974201,1.0128078828886178,-1.4390809616713669,0.90053025568062139,-7.0214636303677622E-2,-0.19981839465482665]
["2022-07-01",{"$f":"MONTH(Serie_dessazonalizada[[#This Row],[Período]])&YEAR(Serie_dessazonalizada[[#This Row],[Período]])","v":"72022"},107.94953007817981,109.69676465859961,99.840133462868778,127.1435950079323,116.10004502076229,83.456174869771502,null,"2022-07-01",-1.8215909379509707,0.21244230714945339,-9.5411763197313676E-2,3.2938490342302265,2.7371528559257738,-0.33065283383825772]
["2022-08-01",{"$f":"MONTH(Serie_dessazonalizada[[#This Row],[Período]])&YEAR(Serie_dessazonalizada[[#This Row],[Período]])","v":"82022"},113.9663695577176,109.4828194895788,105.2471835960027,126.28846001253309,115.1945393463715,82.475961005911557,null,"2022-08-01",5.5737523592555194,-0.19503325342971392,5.4157080380354659,-0.67257418302971606,-0.77993567894729321,-0.98021386385994447]
["2022-09-01",{"$f":"MONTH(Serie_dessazonalizada[[#This Row],[Período]])&YEAR(Serie_dessazonalizada[[#This Row],[Período]])","v":"92022"},109.2337578835282,109.46899954468179,102.0310884242223,127.9685271934657,116.93646026898971,81.921481334752102,null,"2022-09-01",-4.1526387938439999,-1.2622934777747391E-2,-3.0557541417217964,1.3303410151377866,1.5121558126818229,-0.55447967115945573]
["2022-10-01",{"$f":"MONTH(Serie_dessazonalizada[[#This Row],[Período]])&YEAR(Serie_dessazonalizada[[#This Row],[Período]])","v":"102022"},108.74862877311629,109.530333830968,100.55092394748161,126.8226485681178,115.6806635066627,81.630901249245809,null,"2022-10-01",-0.44412013265091449,5.6028909135299503E-2,-1.4506994873822243,-0.89543784747599664,-1.0739137814145316,-0.29058008550629211]
["2022-11-01",{"$f":"MONTH(Serie_dessazonalizada[[#This Row],[Período]])&YEAR(Serie_dessazonalizada[[#This Row],[Período]])","v":"112022"},109.75269408336931,110.02467246528489,101.0454960795861,128.13087221393289,116.17991951276041,82.7026122006789,null,"2022-11-01",0.92329008795853995,0.45132578074652324,0.4918623446591226,1.0315378685002223,0.4315812089623387,1.07171095143309]
["2022-12-01",{"$f":"MONTH(Serie_dessazonalizada[[#This Row],[Período]])&YEAR(Serie_dessazonalizada[[#This Row],[Período]])","v":"122022"},108.4695252660227,110.6521648676601,101.8621219265207,129.8437770231707,117.6420850578222,80.750601815694324,null,"2022-12-01",-1.1691456214932616,0.57031971858239139,0.80817639441485145,1.3368400445896225,1.2585355121555231,-1.9520103849845754]
["2023-01-01",{"$f":"MONTH(Serie_dessazonalizada[[#This Row],[Período]])&YEAR(Serie_dessazonalizada[[#This Row],[Período]])","v":"12023"},109.679370974797,110.5087139225781,102.5453976155593,130.94848249176039,118.91950856775161,80.797856806124599,null,"2023-01-01",1.1153784492069416,-0.12964133621206231,0.67078485713412017,0.85079585168918026,1.0858558901787063,4.7254990430275257E-2]
["2023-02-01",{"$f":"MONTH(Serie_dessazonalizada[[#This Row],[Período]])&YEAR(Serie_dessazonalizada[[#This Row],[Período]])","v":"22023"},109.84764030475441,110.8290155515232,100.7494116042098,126.2270008659309,114.1108460317022,80.581215234588271,null,"2023-02-01",0.15341930616658755,0.28984287082510496,-1.7514057706252357,-3.60560239873461,-4.0436279917098616,-0.21664157153632857]

{"sheet":"MG_series","index":3,"n_rows":245,"n_cols":57,"rows_kept":245,"cut":false,"hidden":false,"merged":[]}
[null,null,"Série Encadeada Mensal",null,null,null,null,null,null,null,"Variação - contra mês anterior",null,null,null,null,null,null,null,"Variação - contra mês ano anterior",null,null,null,null,null,null,null,"Variação - acumulada no ano",null,null,null,null,null,null,null,"Variação - últimos 12 meses"]
[null,null,"Média 2006=100",null,null,null,null,null,null,null,null,null,null,null,null,null,null,null,null,null,null,null,null,null,null,null,null,null,null,null,null,null,null,null,null,null,null,null,null,null,null,null,"Acumulado",null,null,null,null,null,null,null,"12 meses"]
["Período","Mês","Fat.real","Emprego","Horas","Massa Real","RMR Real","UCI",null,"Período","Fat.real","Emprego","Horas","Massa Real","RMR Real","UCI",null,"Período","Fat.real","Emprego","Horas","Massa Real","RMR Real","UCI",null,"Período","Fat.real","Emprego","Horas","Massa Real","RMR Real","UCI",null,"Período","Fat.real","Emprego","Horas","Massa Real","RMR Real","UCI",null,null,"Mês","Fat.real","Emprego","Horas","Massa Real","RMR Real","UCI","UCI","Mês","Fat.real","Emprego","Horas","Massa Real","RMR Real","UCI"]
["2003-01-01",{"$f":"MONTH(Serie_Encadeada[[#This Row],[Período]])&YEAR(Serie_Encadeada[[#This Row],[Período]])","v":"12003"},83.442400000000006,84.800799999999995,86.280600000000007,null,null,82.187700000000007,null,"2003-01-01",null,null,null,null,null,null,null,"2003-01-01",null,null,null,null,null,null,null,"2003-01-01",null,null,null,null,null,null,null,"2003-01-01",null,null,null,null,null,null,null,null,"2003-01-01",{"$f":"IF(MONTH(Serie_Encadeada[[#This Row],[Período]])=1,Serie_Encadeada[[#This Row],[Fat.real]],Serie_Encadeada[[#This Row],[Fat.real]]+AR3)","v":83.442400000000006},{"$f":"IF(MONTH(Serie_Encadeada[[#This Row],[Período]])=1,Serie_Encadeada[[#This Row],[Emprego]],Serie_Encadeada[[#This Row],[Emprego]]+AS3)","v":84.800799999999995},{"$f":"IF(MONTH(Serie_Encadeada[[#This Row],[Período]])=1,Serie_Encadeada[[#This Row],[Horas]],Serie_Encadeada[[#This Row],[Horas]]+AT3)","v":86.280600000000007},null,null,{"$f":"IF(MONTH(Serie_Encadeada[[#This Row],[Período]])=1,Serie_Encadeada[[#This Row],[UCI]],Serie_Encadeada[[#This Row],[UCI]]+AW3)/MONTH(AQ4)","v":82.187700000000007},{"$f":"AW4/MONTH(AQ4)","v":82.187700000000007},"2003-01-01"]
["2003-02-01",{"$f":"MONTH(Serie_Encadeada[[#This Row],[Período]])&YEAR(Serie_Encadeada[[#This Row],[Período]])","v":"22003"},87.403800000000004,85.553100000000001,85.909400000000005,null,null,80.461799999999997,null,"2003-02-01",4.7474665158240859,0.8871378571900328,-0.43022417553888326,null,null,-1.72590000000001,null,"2003-02-01",null,null,null,null,null,null,null,"2003-02-01",null,null,null,null,null,null,null,"2003-02-01",null,null,null,null,null,null,null,null,"2003-02-01",{"$f":"IF(MONTH(Serie_Encadeada[[#This Row],[Período]])=1,Serie_Encadeada[[#This Row],[Fat.real]],Serie_Encadeada[[#This Row],[Fat.real]]+AR4)","v":170.84620000000001},{"$f":"IF(MONTH(Serie_Encadeada[[#This Row],[Período]])=1,Serie_Encadeada[[#This Row],[Emprego]],Serie_Encadeada[[#This Row],[Emprego]]+AS4)","v":170.35390000000001},{"$f":"IF(MONTH(Serie_Encadeada[[#This Row],[Período]])=1,Serie_Encadeada[[#This Row],[Horas]],Serie_Encadeada[[#This Row],[Horas]]+AT4)","v":172.19},null,null,{"$f":"IF(MONTH(Serie_Encadeada[[#This Row],[Período]])=1,Serie_Encadeada[[#This Row],[UCI]],Serie_Encadeada[[#This Row],[UCI]]+AW4)","v":162.64949999999999},{"$f":"AW5/MONTH(AQ5)","v":81.324749999999995},"2003-02-01"]
["2003-03-01",{"$f":"MONTH(Serie_Encadeada[[#This Row],[Período]])&YEAR(Serie_Encadeada[[#This Row],[Período]])","v":"32003"},85.1541,85.944699999999997,85.747900000000001,null,null,81.069800000000001,null,"2003-03-01",-2.5739155505824738,0.4577274230857758,-0.18798874162781226,null,null,0.60800000000000409,null,"2003-03-01",null,null,null,null,null,null,null,"2003-03-01",null,null,null,null,null,null,null,"2003-03-01",null,null,null,null,null,null,null,null,"2003-03-01",{"$f":"IF(MONTH(Serie_Encadeada[[#This Row],[Período]])=1,Serie_Encadeada[[#This Row],[Fat.real]],Serie_Encadeada[[#This Row],[Fat.real]]+AR5)","v":256.00030000000004},{"$f":"IF(MONTH(Serie_Encadeada[[#This Row],[Período]])=1,Serie_Encadeada[[#This Row],[Emprego]],Serie_Encadeada[[#This Row],[Emprego]]+AS5)","v":256.29860000000002},{"$f":"IF(MONTH(Serie_Encadeada[[#This Row],[Período]])=1,Serie_Encadeada[[#This Row],[Horas]],Serie_Encadeada[[#This Row],[Horas]]+AT5)","v":257.93790000000001},null,null,{"$f":"IF(MONTH(Serie_Encadeada[[#This Row],[Período]])=1,Serie_Encadeada[[#This Row],[UCI]],Serie_Encadeada[[#This Row],[UCI]]+AW5)","v":243.71929999999998},81.239766666666654,"2003-03-01"]
["2003-04-01",{"$f":"MONTH(Serie_Encadeada[[#This Row],[Período]])&YEAR(Serie_Encadeada[[#This Row],[Período]])","v":"42003"},78.085300000000004,86.848500000000001,85.7744,null,null,79.6678,null,"2003-04-01",-8.3011857326893193,1.0516064399549989,3.0904546933509313E-2,null,null,-1.402000000000001,null,"2003-04-01",null,null,null,null,null,null,null,"2003-04-01",null,null,null,null,null,null,null,"2003-04-01",null,null,null,null,null,null,null,null,"2003-04-01",{"$f":"IF(MONTH(Serie_Encadeada[[#This Row],[Período]])=1,Serie_Encadeada[[#This Row],[Fat.real]],Serie_Encadeada[[#This Row],[Fat.real]]+AR6)","v":334.08560000000006},{"$f":"IF(MONTH(Serie_Encadeada[[#This Row],[Período]])=1,Serie_Encadeada[[#This Row],[Emprego]],Serie_Encadeada[[#This Row],[Emprego]]+AS6)","v":343.14710000000002},{"$f":"IF(MONTH(Serie_Encadeada[[#This Row],[Período]])=1,Serie_Encadeada[[#This Row],[Horas]],Serie_Encadeada[[#This Row],[Horas]]+AT6)","v":343.71230000000003},null,null,{"$f":"IF(MONTH(Serie_Encadeada[[#This Row],[Período]])=1,Serie_Encadeada[[#This Row],[UCI]],Serie_Encadeada[[#This Row],[UCI]]+AW6)","v":323.38709999999998},80.846774999999994,"2003-04-01"]
["2003-05-01",{"$f":"MONTH(Serie_Encadeada[[#This Row],[Período]])&YEAR(Serie_Encadeada[[#This Row],[Período]])","v":"52003"},87.612799999999993,88.192899999999995,91.531999999999996,null,null,79.799800000000005,null,"2003-05-01",12.201400263557915,1.5479829818592068,6.712492305396478,null,null,0.132000000000005,null,"2003-05-01",null,null,null,null,null,null,null,"2003-05-01",null,null,null,null,null,null,null,"2003-05-01",null,null,null,null,null,null,null,null,"2003-05-01",{"$f":"IF(MONTH(Serie_Encadeada[[#This Row],[Período]])=1,Serie_Encadeada[[#This Row],[Fat.real]],Serie_Encadeada[[#This Row],[Fat.real]]+AR7)","v":421.69840000000005},{"$f":"IF(MONTH(Serie_Encadeada[[#This Row],[Período]])=1,Serie_Encadeada[[#This Row],[Emprego]],Serie_Encadeada[[#This Row],[Emprego]]+AS7)","v":431.34000000000003},{"$f":"IF(MONTH(Serie_Encadeada[[#This Row],[Período]])=1,Serie_Encadeada[[#This Row],[Horas]],Serie_Encadeada[[#This Row],[Horas]]+AT7)","v":435.24430000000001},null,null,{"$f":"IF(MONTH(Serie_Encadeada[[#This Row],[Período]])=1,Serie_Encadeada[[#This Row],[UCI]],Serie_Encadeada[[#This Row],[UCI]]+AW7)","v":403.18689999999998},80.637379999999993,"2003-05-01"]
["2003-06-01",{"$f":"MONTH(Serie_Encadeada[[#This Row],[Período]])&YEAR(Serie_Encadeada[[#This Row],[Período]])","v":"62003"},82.232399999999998,87.962199999999996,90.726500000000001,null,null,80.394800000000004,null,"2003-06-01",-6.1411118010153709,-0.26158568320125408,-0.88002010225931371,null,null,0.59499999999999886,null,"2003-06-01",null,null,null,null,null,null,null,"2003-06-01",null,null,null,null,null,null,null,"2003-06-01",null,null,null,null,null,null,null,null,"2003-06-01",{"$f":"IF(MONTH(Serie_Encadeada[[#This Row],[Período]])=1,Serie_Encadeada[[#This Row],[Fat.real]],Serie_Encadeada[[#This Row],[Fat.real]]+AR8)","v":503.93080000000003},{"$f":"IF(MONTH(Serie_Encadeada[[#This Row],[Período]])=1,Serie_Encadeada[[#This Row],[Emprego]],Serie_Encadeada[[#This Row],[Emprego]]+AS8)","v":519.30220000000008},{"$f":"IF(MONTH(Serie_Encadeada[[#This Row],[Período]])=1,Serie_Encadeada[[#This Row],[Horas]],Serie_Encadeada[[#This Row],[Horas]]+AT8)","v":525.97080000000005},null,null,{"$f":"IF(MONTH(Serie_Encadeada[[#This Row],[Período]])=1,Serie_Encadeada[[#This Row],[UCI]],Serie_Encadeada[[#This Row],[UCI]]+AW8)","v":483.58169999999996},80.596949999999993,"2003-06-01"]
["2003-07-01",{"$f":"MONTH(Serie_Encadeada[[#This Row],[Período]])&YEAR(Serie_Encadeada[[#This Row],[Período]])","v":"72003"},85.618700000000004,87.114900000000006,93.112899999999996,null,null,79.884399999999999,null,"2003-07-01",4.1179632359021578,-0.96325467075629079,2.6303230037530323,null,null,-0.51040000000000418,null,"2003-07-01",null,null,null,null,null,null,null,"2003-07-01",null,null,null,null,null,null,null,"2003-07-01",null,null,null,null,null,null,null,null,"2003-07-01",{"$f":"IF(MONTH(Serie_Encadeada[[#This Row],[Período]])=1,Serie_Encadeada[[#This Row],[Fat.real]],Serie_Encadeada[[#This Row],[Fat.real]]+AR9)","v":589.54950000000008},{"$f":"IF(MONTH(Serie_Encadeada[[#This Row],[Período]])=1,Serie_Encadeada[[#This Row],[Emprego]],Serie_Encadeada[[#This Row],[Emprego]]+AS9)","v":606.41710000000012},{"$f":"IF(MONTH(Serie_Encadeada[[#This Row],[Período]])=1,Serie_Encadeada[[#This Row],[Horas]],Serie_Encadeada[[#This Row],[Horas]]+AT9)","v":619.08370000000002},null,null,{"$f":"IF(MONTH(Serie_Encadeada[[#This Row],[Período]])=1,Serie_Encadeada[[#This Row],[UCI]],Serie_Encadeada[[#This Row],[UCI]]+AW9)","v":563.46609999999998},80.495157142857138,"2003-07-01"]
["2003-08-01",{"$f":"MONTH(Serie_Encadeada[[#This Row],[Período]])&YEAR(Serie_Encadeada[[#This Row],[Período]])","v":"82003"},89.653999999999996,87.193399999999997,92.225499999999997,null,null,79.667199999999994,null,"2003-08-01",4.7131058985945735,9.0110876554976391E-2,-0.95303658247138645,null,null,-0.21720000000000539,null,"2003-08-01",null,null,null,null,null,null,null,"2003-08-01",null,null,null,null,null,null,null,"2003-08-01",null,null,null,null,null,null,null,null,"2003-08-01",{"$f":"IF(MONTH(Serie_Encadeada[[#This Row],[Período]])=1,Serie_Encadeada[[#This Row],[Fat.real]],Serie_Encadeada[[#This Row],[Fat.real]]+AR10)","v":679.20350000000008},{"$f":"IF(MONTH(Serie_Encadeada[[#This Row],[Período]])=1,Serie_Encadeada[[#This Row],[Emprego]],Serie_Encadeada[[#This Row],[Emprego]]+AS10)","v":693.61050000000012},{"$f":"IF(MONTH(Serie_Encadeada[[#This Row],[Período]])=1,Serie_Encadeada[[#This Row],[Horas]],Serie_Encadeada[[#This Row],[Horas]]+AT10)","v":711.30920000000003},null,null,{"$f":"IF(MONTH(Serie_Encadeada[[#This Row],[Período]])=1,Serie_Encadeada[[#This Row],[UCI]],Serie_Encadeada[[#This Row],[UCI]]+AW10)","v":643.13329999999996},80.391662499999995,"2003-08-01"]
["2003-09-01",{"$f":"MONTH(Serie_Encadeada[[#This Row],[Período]])&YEAR(Serie_Encadeada[[#This Row],[Período]])","v":"92003"},92.134200000000007,87.501099999999994,94.558400000000006,null,null,80.900700000000001,null,"2003-09-01",2.7664130992482328,0.35289368231998863,2.5295606963367065,null,null,1.2335000000000065,null,"2003-09-01",null,null,null,null,null,null,null,"2003-09-01",null,null,null,null,null,null,null,"2003-09-01",null,null,null,null,null,null,null,null,"2003-09-01",{"$f":"IF(MONTH(Serie_Encadeada[[#This Row],[Período]])=1,Serie_Encadeada[[#This Row],[Fat.real]],Serie_Encadeada[[#This Row],[Fat.real]]+AR11)","v":771.33770000000004},{"$f":"IF(MONTH(Serie_Encadeada[[#This Row],[Período]])=1,Serie_Encadeada[[#This Row],[Emprego]],Serie_Encadeada[[#This Row],[Emprego]]+AS11)","v":781.11160000000007},{"$f":"IF(MONTH(Serie_Encadeada[[#This Row],[Período]])=1,Serie_Encadeada[[#This Row],[Horas]],Serie_Encadeada[[#This Row],[Horas]]+AT11)","v":805.86760000000004},null,null,{"$f":"IF(MONTH(Serie_Encadeada[[#This Row],[Período]])=1,Serie_Encadeada[[#This Row],[UCI]],Serie_Encadeada[[#This Row],[UCI]]+AW11)","v":724.03399999999999},80.448222222222228,"2003-09-01"]
["2003-10-01",{"$f":"MONTH(Serie_Encadeada[[#This Row],[Período]])&YEAR(Serie_Encadeada[[#This Row],[Período]])","v":"102003"},96.265299999999996,87.170900000000003,96.593199999999996,null,null,80.906800000000004,null,"2003-10-01",4.48378560838428,-0.37736668453309813,2.1518976632430222,null,null,6.100000000003547E-3,null,"2003-10-01",null,null,null,null,null,null,null,"2003-10-01",null,null,null,null,null,null,null,"2003-10-01",null,null,null,null,null,null,null,null,"2003-10-01",{"$f":"IF(MONTH(Serie_Encadeada[[#This Row],[Período]])=1,Serie_Encadeada[[#This Row],[Fat.real]],Serie_Encadeada[[#This Row],[Fat.real]]+AR12)","v":867.60300000000007},{"$f":"IF(MONTH(Serie_Encadeada[[#This Row],[Período]])=1,Serie_Encadeada[[#This Row],[Emprego]],Serie_Encadeada[[#This Row],[Emprego]]+AS12)","v":868.28250000000003},{"$f":"IF(MONTH(Serie_Encadeada[[#This Row],[Período]])=1,Serie_Encadeada[[#This Row],[Horas]],Serie_Encadeada[[#This Row],[Horas]]+AT12)","v":902.46080000000006},null,null,{"$f":"IF(MONTH(Serie_Encadeada[[#This Row],[Período]])=1,Serie_Encadeada[[#This Row],[UCI]],Serie_Encadeada[[#This Row],[UCI]]+AW12)","v":804.94079999999997},80.494079999999997,"2003-10-01"]
["2003-11-01",{"$f":"MONTH(Serie_Encadeada[[#This Row],[Período]])&YEAR(Serie_Encadeada[[#This Row],[Período]])","v":"112003"},92.556399999999996,87.0184,92.628500000000003,null,null,81.684600000000003,null,"2003-11-01",-3.8527901538768381,-0.17494370254293967,-4.1045332383645992,null,null,0.77779999999999916,null,"2003-11-01",null,null,null,null,null,null,null,"2003-11-01",null,null,null,null,null,null,null,"2003-11-01",null,null,null,null,null,null,null,null,"2003-11-01",{"$f":"IF(MONTH(Serie_Encadeada[[#This Row],[Período]])=1,Serie_Encadeada[[#This Row],[Fat.real]],Serie_Encadeada[[#This Row],[Fat.real]]+AR13)","v":960.15940000000001},{"$f":"IF(MONTH(Serie_Encadeada[[#This Row],[Período]])=1,Serie_Encadeada[[#This Row],[Emprego]],Serie_Encadeada[[#This Row],[Emprego]]+AS13)","v":955.30090000000007},{"$f":"IF(MONTH(Serie_Encadeada[[#This Row],[Período]])=1,Serie_Encadeada[[#This Row],[Horas]],Serie_Encadeada[[#This Row],[Horas]]+AT13)","v":995.08930000000009},null,null,{"$f":"IF(MONTH(Serie_Encadeada[[#This Row],[Período]])=1,Serie_Encadeada[[#This Row],[UCI]],Serie_Encadeada[[#This Row],[UCI]]+AW13)","v":886.62540000000001},80.602309090909088,"2003-11-01"]
["2003-12-01",{"$f":"MONTH(Serie_Encadeada[[#This Row],[Período]])&YEAR(Serie_Encadeada[[#This Row],[Período]])","v":"122003"},93.462500000000006,86.088899999999995,87.244399999999999,null,null,80.840199999999996,null,"2003-12-01",0.97897066005161093,-1.0681648938615331,-5.8125738838478478,null,null,-0.84440000000000737,null,"2003-12-01",null,null,null,null,null,null,null,"2003-12-01",null,null,null,null,null,null,null,"2003-12-01",null,null,null,null,null,null,null,null,"2003-12-01",{"$f":"IF(MONTH(Serie_Encadeada[[#This Row],[Período]])=1,Serie_Encadeada[[#This Row],[Fat.real]],Serie_Encadeada[[#This Row],[Fat.real]]+AR14)","v":1053.6219000000001},{"$f":"IF(MONTH(Serie_Encadeada[[#This Row],[Período]])=1,Serie_Encadeada[[#This Row],[Emprego]],Serie_Encadeada[[#This Row],[Emprego]]+AS14)","v":1041.3898000000002},{"$f":"IF(MONTH(Serie_Encadeada[[#This Row],[Período]])=1,Serie_Encadeada[[#This Row],[Horas]],Serie_Encadeada[[#This Row],[Horas]]+AT14)","v":1082.3337000000001},null,null,{"$f":"IF(MONTH(Serie_Encadeada[[#This Row],[Período]])=1,Serie_Encadeada[[#This Row],[UCI]],Serie_Encadeada[[#This Row],[UCI]]+AW14)","v":967.46559999999999},80.622133333333338,"2003-12-01",{"$f":"SUM(C4:C15)","v":1053.6219000000001},{"$f":"SUM(D4:D15)","v":1041.3898000000002},1082.3337000000001,0,0,{"$f":"SUM(H4:H15)/12","v":80.622133333333338}]
["2004-01-01",{"$f":"MONTH(Serie_Encadeada[[#This Row],[Período]])&YEAR(Serie_Encadeada[[#This Row],[Período]])","v":"12004"},79.651799999999994,86.120900000000006,84.580500000000001,null,null,80.246899999999997,null,"2004-01-01",-14.776728634479081,3.7170878010998734E-2,-3.0533764917862904,null,null,-0.59329999999999927,null,"2004-01-01",1.5567070121980109,null,-1.9704313600044576,null,null,-1.9408000000000101,null,"2004-01-01",-4.5427744168432493,1.5567070121980109,-1.9704313600044576,null,null,-1.9408000000000101,null,"2004-01-01",null,null,null,null,null,null,null,null,"2004-01-01",{"$f":"IF(MONTH(Serie_Encadeada[[#This Row],[Período]])=1,Serie_Encadeada[[#This Row],[Fat.real]],Serie_Encadeada[[#This Row],[Fat.real]]+AR15)","v":79.651799999999994},{"$f":"IF(MONTH(Serie_Encadeada[[#This Row],[Período]])=1,Serie_Encadeada[[#This Row],[Emprego]],Serie_Encadeada[[#This Row],[Emprego]]+AS15)","v":86.120900000000006},{"$f":"IF(MONTH(Serie_Encadeada[[#This Row],[Período]])=1,Serie_Encadeada[[#This Row],[Horas]],Serie_Encadeada[[#This Row],[Horas]]+AT15)","v":84.580500000000001},null,null,{"$f":"IF(MONTH(Serie_Encadeada[[#This Row],[Período]])=1,Serie_Encadeada[[#This Row],[UCI]],Serie_Encadeada[[#This Row],[UCI]]+AW15)","v":80.246899999999997},80.246899999999997,"2004-01-01",1049.8312999999998,1042.7098999999998,1080.6336000000001,0,0,80.460400000000007]
["2004-02-01",{"$f":"MONTH(Serie_Encadeada[[#This Row],[Período]])&YEAR(Serie_Encadeada[[#This Row],[Período]])","v":"22004"},81.400199999999998,86.487499999999997,85.263400000000004,null,null,79.775499999999994,null,"2004-02-01",2.1950539724149407,0.42568064198120448,0.80739650392230311,null,null,-0.47140000000000271,null,"2004-02-01",-6.8688089076218715,1.0921871913466568,-0.7519549665112325,null,null,-0.6863000000000028,null,"2004-02-01",-5.732758469313346,1.3234214185880142,-1.3625065334804451,null,null,-1.3135499999999922,null,"2004-02-01",null,null,null,null,null,null,null,null,"2004-02-01",{"$f":"IF(MONTH(Serie_Encadeada[[#This Row],[Período]])=1,Serie_Encadeada[[#This Row],[Fat.real]],Serie_Encadeada[[#This Row],[Fat.real]]+AR16)","v":161.05199999999999},{"$f":"IF(MONTH(Serie_Encadeada[[#This Row],[Período]])=1,Serie_Encadeada[[#This Row],[Emprego]],Serie_Encadeada[[#This Row],[Emprego]]+AS16)","v":172.60840000000002},{"$f":"IF(MONTH(Serie_Encadeada[[#This Row],[Período]])=1,Serie_Encadeada[[#This Row],[Horas]],Serie_Encadeada[[#This Row],[Horas]]+AT16)","v":169.84390000000002},null,null,{"$f":"IF(MONTH(Serie_Encadeada[[#This Row],[Período]])=1,Serie_Encadeada[[#This Row],[UCI]],Serie_Encadeada[[#This Row],[UCI]]+AW16)","v":160.0224},80.011200000000002,"2004-02-01",1043.8277,1043.6442999999999,1079.9876000000002,0,0,80.403208333333325]
["2004-03-01",{"$f":"MONTH(Serie_Encadeada[[#This Row],[Período]])&YEAR(Serie_Encadeada[[#This Row],[Período]])","v":"32004"},96.003399999999999,86.894999999999996,94.145899999999997,null,null,82.195999999999998,null,"2004-03-01",17.940005061412627,0.47116635351929342,10.417717332407566,null,null,2.4205000000000041,null,"2004-03-01",12.740784060896656,1.1057109978858481,9.7938258546273396,null,null,1.1261999999999972,null,"2004-03-01",0.41214795451408637,1.2504165063718558,2.3462624143253041,null,null,-0.50029999999998154,null,"2004-03-01",null,null,null,null,null,null,null,null,"2004-03-01",{"$f":"IF(MONTH(Serie_Encadeada[[#This Row],[Período]])=1,Serie_Encadeada[[#This Row],[Fat.real]],Serie_Encadeada[[#This Row],[Fat.real]]+AR17)","v":257.05539999999996},{"$f":"IF(MONTH(Serie_Encadeada[[#This Row],[Período]])=1,Serie_Encadeada[[#This Row],[Emprego]],Serie_Encadeada[[#This Row],[Emprego]]+AS17)","v":259.5034},{"$f":"IF(MONTH(Serie_Encadeada[[#This Row],[Período]])=1,Serie_Encadeada[[#This Row],[Horas]],Serie_Encadeada[[#This Row],[Horas]]+AT17)","v":263.9898},null,null,{"$f":"IF(MONTH(Serie_Encadeada[[#This Row],[Período]])=1,Serie_Encadeada[[#This Row],[UCI]],Serie_Encadeada[[#This Row],[UCI]]+AW17)","v":242.2184},80.739466666666672,"2004-03-01",1054.6770000000001,1044.5945999999999,1088.3856000000003,0,0,80.497058333333328]
["2004-04-01",{"$f":"MONTH(Serie_Encadeada[[#This Row],[Período]])&YEAR(Serie_Encadeada[[#This Row],[Período]])","v":"42004"},88.217399999999998,87.536600000000007,89.659499999999994,null,null,81.658600000000007,null,"2004-04-01",-8.1101294329159188,0.7383623913919225,-4.7653694956445296,null,null,-0.537399999999991,null,"2004-04-01",12.975681722424058,0.79229923372309907,4.5294400193997211,null,null,1.9908000000000072,null,"2004-04-01",3.348602873036103,1.1344697361568834,2.8910807090697523,null,null,0.12247500000000855,null,"2004-04-01",null,null,null,null,null,null,null,null,"2004-04-01",{"$f":"IF(MONTH(Serie_Encadeada[[#This Row],[Período]])=1,Serie_Encadeada[[#This Row],[Fat.real]],Serie_Encadeada[[#This Row],[Fat.real]]+AR18)","v":345.27279999999996},{"$f":"IF(MONTH(Serie_Encadeada[[#This Row],[Período]])=1,Serie_Encadeada[[#This Row],[Emprego]],Serie_Encadeada[[#This Row],[Emprego]]+AS18)","v":347.04},{"$f":"IF(MONTH(Serie_Encadeada[[#This Row],[Período]])=1,Serie_Encadeada[[#This Row],[Horas]],Serie_Encadeada[[#This Row],[Horas]]+AT18)","v":353.64929999999998},null,null,{"$f":"IF(MONTH(Serie_Encadeada[[#This Row],[Período]])=1,Serie_Encadeada[[#This Row],[UCI]],Serie_Encadeada[[#This Row],[UCI]]+AW18)","v":323.87700000000001},80.969250000000002,"2004-04-01",1064.8090999999999,1045.2827,1092.2707000000003,0,0,80.662958333333322]
["2004-05-01",{"$f":"MONTH(Serie_Encadeada[[#This Row],[Período]])&YEAR(Serie_Encadeada[[#This Row],[Período]])","v":"52004"},97.567800000000005,89.896299999999997,97.630600000000001,null,null,82.296300000000002,null,"2004-05-01",10.59926953186107,2.6956724387284741,8.8904131742871719,null,null,0.63769999999999527,null,"2004-05-01",11.362494977902788,1.9314479963806634,6.6628064502032132,null,null,2.4964999999999975,null,"2004-05-01",5.0135831674959981,1.2974219872954014,3.6842757044721752,null,null,0.59728000000001202,null,"2004-05-01",null,null,null,null,null,null,null,null,"2004-05-01",{"$f":"IF(MONTH(Serie_Encadeada[[#This Row],[Período]])=1,Serie_Encadeada[[#This Row],[Fat.real]],Serie_Encadeada[[#This Row],[Fat.real]]+AR19)","v":442.84059999999999},{"$f":"IF(MONTH(Serie_Encadeada[[#This Row],[Período]])=1,Serie_Encadeada[[#This Row],[Emprego]],Serie_Encadeada[[#This Row],[Emprego]]+AS19)","v":436.93630000000002},{"$f":"IF(MONTH(Serie_Encadeada[[#This Row],[Período]])=1,Serie_Encadeada[[#This Row],[Horas]],Serie_Encadeada[[#This Row],[Horas]]+AT19)","v":451.2799},null,null,{"$f":"IF(MONTH(Serie_Encadeada[[#This Row],[Período]])=1,Serie_Encadeada[[#This Row],[UCI]],Serie_Encadeada[[#This Row],[UCI]]+AW19)","v":406.17330000000004},81.234660000000005,"2004-05-01",1074.7641000000001,1046.9861000000001,1098.3693000000001,0,0,80.870999999999995]
["2004-06-01",{"$f":"MONTH(Serie_Encadeada[[#This Row],[Período]])&YEAR(Serie_Encadeada[[#This Row],[Período]])","v":"62004"},99.751400000000004,91.502700000000004,100.15560000000001,null,null,82.895099999999999,null,"2004-06-01",2.2380334495602017,1.7869478499115179,2.5862793017762931,null,null,0.59879999999999711,null,"2004-06-01",21.304254770625697,4.0250243854746799,10.392884107730382,null,null,2.5002999999999957,null,"2004-06-01",7.6719263835431271,1.759437953469096,4.8414664844512263,null,null,0.91445000000001642,null,"2004-06-01",null,null,null,null,null,null,null,null,"2004-06-01",{"$f":"IF(MONTH(Serie_Encadeada[[#This Row],[Período]])=1,Serie_Encadeada[[#This Row],[Fat.real]],Serie_Encadeada[[#This Row],[Fat.real]]+AR20)","v":542.59199999999998},{"$f":"IF(MONTH(Serie_Encadeada[[#This Row],[Período]])=1,Serie_Encadeada[[#This Row],[Emprego]],Serie_Encadeada[[#This Row],[Emprego]]+AS20)","v":528.43900000000008},{"$f":"IF(MONTH(Serie_Encadeada[[#This Row],[Período]])=1,Serie_Encadeada[[#This Row],[Horas]],Serie_Encadeada[[#This Row],[Horas]]+AT20)","v":551.43550000000005},null,null,{"$f":"IF(MONTH(Serie_Encadeada[[#This Row],[Período]])=1,Serie_Encadeada[[#This Row],[UCI]],Serie_Encadeada[[#This Row],[UCI]]+AW20)","v":489.06840000000005},81.511400000000009,"2004-06-01",1092.2831000000001,1050.5265999999999,1107.7984000000001,0,0,81.079358333333332]
["2004-07-01",{"$f":"MONTH(Serie_Encadeada[[#This Row],[Período]])&YEAR(Serie_Encadeada[[#This Row],[Período]])","v":"72004"},97.974400000000003,91.925299999999993,101.8695,null,null,82.888000000000005,null,"2004-07-01",-1.781428631578104,0.46184429530493476,1.7112373147382625,null,null,-7.099999999994111E-3,null,"2004-07-01",14.431076388686114,5.5219026825491238,9.4042823282273531,null,null,3.0036000000000058,null,"2004-07-01",8.6535396942919718,2.2999351436494702,5.5277339719976544,null,null,1.2129000000000048,null,"2004-07-01",null,null,null,null,null,null,null,null,"2004-07-01",{"$f":"IF(MONTH(Serie_Encadeada[[#This Row],[Período]])=1,Serie_Encadeada[[#This Row],[Fat.real]],Serie_Encadeada[[#This Row],[Fat.real]]+AR21)","v":640.56639999999993},{"$f":"IF(MONTH(Serie_Encadeada[[#This Row],[Período]])=1,Serie_Encadeada[[#This Row],[Emprego]],Serie_Encadeada[[#This Row],[Emprego]]+AS21)","v":620.36430000000007},{"$f":"IF(MONTH(Serie_Encadeada[[#This Row],[Período]])=1,Serie_Encadeada[[#This Row],[Horas]],Serie_Encadeada[[#This Row],[Horas]]+AT21)","v":653.30500000000006},null,null,{"$f":"IF(MONTH(Serie_Encadeada[[#This Row],[Período]])=1,Serie_Encadeada[[#This Row],[UCI]],Serie_Encadeada[[#This Row],[UCI]]+AW21)","v":571.95640000000003},81.708057142857143,"2004-07-01",1104.6387999999999,1055.337,1116.5550000000001,0,0,81.329658333333327]
["2004-08-01",{"$f":"MONTH(Serie_Encadeada[[#This Row],[Período]])&YEAR(Serie_Encadeada[[#This Row],[Período]])","v":"82004"},100.0955,92.210999999999999,104.24,null,null,83.224500000000006,null,"2004-08-01",2.164953293921676,0.31079583096275526,2.3269967949189825,null,null,0.33650000000000091,null,"2004-08-01",11.646440761148421,5.7545639922287712,13.027308065556705,null,null,3.5573000000000121,null,"2004-08-01",9.0485988367256454,2.7342146637053455,6.5000986912583221,null,null,1.5059500000000128,null,"2004-08-01",null,null,null,null,null,null,null,null,"2004-08-01",{"$f":"IF(MONTH(Serie_Encadeada[[#This Row],[Período]])=1,Serie_Encadeada[[#This Row],[Fat.real]],Serie_Encadeada[[#This Row],[Fat.real]]+AR22)","v":740.66189999999995},{"$f":"IF(MONTH(Serie_Encadeada[[#This Row],[Período]])=1,Serie_Encadeada[[#This Row],[Emprego]],Serie_Encadeada[[#This Row],[Emprego]]+AS22)","v":712.57530000000008},{"$f":"IF(MONTH(Serie_Encadeada[[#This Row],[Período]])=1,Serie_Encadeada[[#This Row],[Horas]],Serie_Encadeada[[#This Row],[Horas]]+AT22)","v":757.54500000000007},null,null,{"$f":"IF(MONTH(Serie_Encadeada[[#This Row],[Período]])=1,Serie_Encadeada[[#This Row],[UCI]],Serie_Encadeada[[#This Row],[UCI]]+AW22)","v":655.18090000000007},81.897612500000008,"2004-08-01",1115.0802999999999,1060.3545999999999,1128.5695000000001,0,0,81.626099999999994]
["2004-09-01",{"$f":"MONTH(Serie_Encadeada[[#This Row],[Período]])&YEAR(Serie_Encadeada[[#This Row],[Período]])","v":"92004"},100.8154,93.362099999999998,103.5887,null,null,83.909000000000006,null,"2004-09-01",0.71921315144037001,1.2483326284282781,-0.62480813507290101,null,null,0.68449999999999989,null,"2004-09-01",9.4223426262994519,6.6982015083239004,9.5499712347078596,null,null,3.0083000000000055,null,"2004-09-01",9.093241520542799,3.1782654360785267,6.8579627720484169,null,null,1.672877777777785,null,"2004-09-01",null,null,null,null,null,null,null,null,"2004-09-01",{"$f":"IF(MONTH(Serie_Encadeada[[#This Row],[Período]])=1,Serie_Encadeada[[#This Row],[Fat.real]],Serie_Encadeada[[#This Row],[Fat.real]]+AR23)","v":841.4772999999999},{"$f":"IF(MONTH(Serie_Encadeada[[#This Row],[Período]])=1,Serie_Encadeada[[#This Row],[Emprego]],Serie_Encadeada[[#This Row],[Emprego]]+AS23)","v":805.93740000000003},{"$f":"IF(MONTH(Serie_Encadeada[[#This Row],[Período]])=1,Serie_Encadeada[[#This Row],[Horas]],Serie_Encadeada[[#This Row],[Horas]]+AT23)","v":861.13370000000009},null,null,{"$f":"IF(MONTH(Serie_Encadeada[[#This Row],[Período]])=1,Serie_Encadeada[[#This Row],[UCI]],Serie_Encadeada[[#This Row],[UCI]]+AW23)","v":739.08990000000006},82.121100000000013,"2004-09-01",1123.7615000000001,1066.2156,1137.5998,0,0,81.876791666666662]
["2004-10-01",{"$f":"MONTH(Serie_Encadeada[[#This Row],[Período]])&YEAR(Serie_Encadeada[[#This Row],[Período]])","v":"102004"},100.1382,94.011600000000001,105.1133,null,null,84.266800000000003,null,"2004-10-01",-0.67172277251292878,0.69567843910966365,1.4717821538449583,null,null,0.35779999999999745,null,"2004-10-01",4.0231526832617792,7.8474582687571175,8.8206002078821282,null,null,3.3599999999999994,null,"2004-10-01",8.5306874227036804,3.647027321177156,7.0680299908871396,null,null,1.8415900000000107,null,"2004-10-01",null,null,null,null,null,null,null,null,"2004-10-01",{"$f":"IF(MONTH(Serie_Encadeada[[#This Row],[Período]])=1,Serie_Encadeada[[#This Row],[Fat.real]],Serie_Encadeada[[#This Row],[Fat.real]]+AR24)","v":941.61549999999988},{"$f":"IF(MONTH(Serie_Encadeada[[#This Row],[Período]])=1,Serie_Encadeada[[#This Row],[Emprego]],Serie_Encadeada[[#This Row],[Emprego]]+AS24)","v":899.94900000000007},{"$f":"IF(MONTH(Serie_Encadeada[[#This Row],[Período]])=1,Serie_Encadeada[[#This Row],[Horas]],Serie_Encadeada[[#This Row],[Horas]]+AT24)","v":966.24700000000007},null,null,{"$f":"IF(MONTH(Serie_Encadeada[[#This Row],[Período]])=1,Serie_Encadeada[[#This Row],[UCI]],Serie_Encadeada[[#This Row],[UCI]]+AW24)","v":823.35670000000005},82.335670000000007,"2004-10-01",1127.6344000000001,1073.0563,1146.1198999999999,0,0,82.156791666666663]
["2004-11-01",{"$f":"MONTH(Serie_Encadeada[[#This Row],[Período]])&YEAR(Serie_Encadeada[[#This Row],[Período]])","v":"112004"},96.011200000000002,93.805400000000006,104.3065,null,null,83.353099999999998,null,"2004-11-01",-4.121304357378099,-0.21933463530031985,-0.76755272643899064,null,null,-0.91370000000000573,null,"2004-11-01",3.7326430155019059,7.7994998758883254,12.607350869332869,null,null,1.6684999999999945,null,"2004-11-01",8.0681707641460161,4.0252762244859142,7.5836610844875816,null,null,1.8258545454545612,null,"2004-11-01",null,null,null,null,null,null,null,null,"2004-11-01",{"$f":"IF(MONTH(Serie_Encadeada[[#This Row],[Período]])=1,Serie_Encadeada[[#This Row],[Fat.real]],Serie_Encadeada[[#This Row],[Fat.real]]+AR25)","v":1037.6266999999998},{"$f":"IF(MONTH(Serie_Encadeada[[#This Row],[Período]])=1,Serie_Encadeada[[#This Row],[Emprego]],Serie_Encadeada[[#This Row],[Emprego]]+AS25)","v":993.75440000000003},{"$f":"IF(MONTH(Serie_Encadeada[[#This Row],[Período]])=1,Serie_Encadeada[[#This Row],[Horas]],Serie_Encadeada[[#This Row],[Horas]]+AT25)","v":1070.5535},null,null,{"$f":"IF(MONTH(Serie_Encadeada[[#This Row],[Período]])=1,Serie_Encadeada[[#This Row],[UCI]],Serie_Encadeada[[#This Row],[UCI]]+AW25)","v":906.70980000000009},82.428163636363649,"2004-11-01",1131.0891999999999,1079.8433,1157.7979,0,0,82.295833333333334]
["2004-12-01",{"$f":"MONTH(Serie_Encadeada[[#This Row],[Período]])&YEAR(Serie_Encadeada[[#This Row],[Período]])","v":"122004"},92.653000000000006,92.956599999999995,96.054299999999998,null,null,82.546599999999998,null,"2004-12-01",-3.4977169330244768,-0.90485195948208874,-7.9114916136578275,null,null,-0.80649999999999977,null,"2004-12-01",-0.86612277651464475,7.9774512161265854,10.097954711133321,null,null,1.7064000000000021,null,"2004-12-01",7.2756460358312331,4.3519919246376197,7.7863324407250607,null,null,1.8158999999999992,null,"2004-12-01",7.2756460358312331,4.3519919246376197,7.7863324407250607,null,null,1.8158999999999992,null,null,"2004-12-01",{"$f":"IF(MONTH(Serie_Encadeada[[#This Row],[Período]])=1,Serie_Encadeada[[#This Row],[Fat.real]],Serie_Encadeada[[#This Row],[Fat.real]]+AR26)","v":1130.2796999999998},{"$f":"IF(MONTH(Serie_Encadeada[[#This Row],[Período]])=1,Serie_Encadeada[[#This Row],[Emprego]],Serie_Encadeada[[#This Row],[Emprego]]+AS26)","v":1086.711},{"$f":"IF(MONTH(Serie_Encadeada[[#This Row],[Período]])=1,Serie_Encadeada[[#This Row],[Horas]],Serie_Encadeada[[#This Row],[Horas]]+AT26)","v":1166.6078},null,null,{"$f":"IF(MONTH(Serie_Encadeada[[#This Row],[Período]])=1,Serie_Encadeada[[#This Row],[UCI]],Serie_Encadeada[[#This Row],[UCI]]+AW26)","v":989.2564000000001},82.438033333333337,"2004-12-01",1130.2796999999998,1086.711,1166.6078,0,0,82.438033333333337]
["2005-01-01",{"$f":"MONTH(Serie_Encadeada[[#This Row],[Período]])&YEAR(Serie_Encadeada[[#This Row],[Período]])","v":"12005"},81.707599999999999,92.869399999999999,93.169700000000006,null,null,82.503799999999998,null,"2005-01-01",-11.813324986778632,-9.3807217561739278E-2,-3.003093042164684,null,null,-4.2799999999999727E-2,null,"2005-01-01",2.5809837316921969,7.8360769569291451,10.155059381299479,null,null,2.2569000000000017,null,"2005-01-01",2.5809837316921969,7.8360769569291451,10.155059381299479,null,null,2.2569000000000017,null,"2005-01-01",7.8588055052273731,4.867087192708186,8.7507366048954758,null,null,2.1657083333333276,null,null,"2005-01-01",{"$f":"IF(MONTH(Serie_Encadeada[[#This Row],[Período]])=1,Serie_Encadeada[[#This Row],[Fat.real]],Serie_Encadeada[[#This Row],[Fat.real]]+AR27)","v":81.707599999999999},{"$f":"IF(MONTH(Serie_Encadeada[[#This Row],[Período]])=1,Serie_Encadeada[[#This Row],[Emprego]],Serie_Encadeada[[#This Row],[Emprego]]+AS27)","v":92.869399999999999},{"$f":"IF(MONTH(Serie_Encadeada[[#This Row],[Período]])=1,Serie_Encadeada[[#This Row],[Horas]],Serie_Encadeada[[#This Row],[Horas]]+AT27)","v":93.169700000000006},null,null,{"$f":"IF(MONTH(Serie_Encadeada[[#This Row],[Período]])=1,Serie_Encadeada[[#This Row],[UCI]],Serie_Encadeada[[#This Row],[UCI]]+AW27)","v":82.503799999999998},82.503799999999998,"2005-01-01",1132.3354999999999,1093.4595000000002,1175.1969999999999,0,0,82.626108333333335]
["2005-02-01",{"$f":"MONTH(Serie_Encadeada[[#This Row],[Período]])&YEAR(Serie_Encadeada[[#This Row],[Período]])","v":"22005"},83.928899999999999,92.960599999999999,90.129300000000001,null,null,81.956199999999995,null,"2005-02-01",2.7185965565014754,9.8202421895695058E-2,-3.2632926799163302,null,null,-0.54760000000000275,null,"2005-02-01",3.1065034238245124,7.4844341667871106,5.7069035482985617,null,null,2.1807000000000016,null,"2005-02-01",2.8465961304423542,7.6598821378333648,7.9220390016950777,null,null,2.2187999999999874,null,"2005-02-01",8.7214106312756332,5.3934372084435438,9.2663378727681653,null,null,2.40462500000001,null,null,"2005-02-01",{"$f":"IF(MONTH(Serie_Encadeada[[#This Row],[Período]])=1,Serie_Encadeada[[#This Row],[Fat.real]],Serie_Encadeada[[#This Row],[Fat.real]]+AR28)","v":165.63650000000001},{"$f":"IF(MONTH(Serie_Encadeada[[#This Row],[Período]])=1,Serie_Encadeada[[#This Row],[Emprego]],Serie_Encadeada[[#This Row],[Emprego]]+AS28)","v":185.82999999999998},{"$f":"IF(MONTH(Serie_Encadeada[[#This Row],[Período]])=1,Serie_Encadeada[[#This Row],[Horas]],Serie_Encadeada[[#This Row],[Horas]]+AT28)","v":183.29900000000001},null,null,{"$f":"IF(MONTH(Serie_Encadeada[[#This Row],[Período]])=1,Serie_Encadeada[[#This Row],[UCI]],Serie_Encadeada[[#This Row],[UCI]]+AW28)","v":164.45999999999998},82.22999999999999,"2005-02-01",1134.8642,1099.9326000000001,1180.0629000000001,0,0,82.807833333333335]
["2005-03-01",{"$f":"MONTH(Serie_Encadeada[[#This Row],[Período]])&YEAR(Serie_Encadeada[[#This Row],[Período]])","v":"32005"},96.3506,93.570899999999995,99.872900000000001,null,null,83.712199999999996,null,"2005-03-01",14.800265462790531,0.65651469547313079,10.81069086301569,null,null,1.7560000000000002,null,"2005-03-01",0.36165385809252676,7.6827205247712742,6.0831114259888155,null,null,1.5161999999999978,null,"2005-03-01",1.9185358486925526,7.667529596914715,7.2662277103130464,null,null,1.9845999999999862,null,"2005-03-01",7.6359302421499446,5.9366475760070134,8.949429319902789,null,null,2.4371250000000089,null,null,"2005-03-01",{"$f":"IF(MONTH(Serie_Encadeada[[#This Row],[Período]])=1,Serie_Encadeada[[#This Row],[Fat.real]],Serie_Encadeada[[#This Row],[Fat.real]]+AR29)","v":261.9871},{"$f":"IF(MONTH(Serie_Encadeada[[#This Row],[Período]])=1,Serie_Encadeada[[#This Row],[Emprego]],Serie_Encadeada[[#This Row],[Emprego]]+AS29)","v":279.40089999999998},{"$f":"IF(MONTH(Serie_Encadeada[[#This Row],[Período]])=1,Serie_Encadeada[[#This Row],[Horas]],Serie_Encadeada[[#This Row],[Horas]]+AT29)","v":283.17189999999999},null,null,{"$f":"IF(MONTH(Serie_Encadeada[[#This Row],[Período]])=1,Serie_Encadeada[[#This Row],[UCI]],Serie_Encadeada[[#This Row],[UCI]]+AW29)","v":248.17219999999998},82.724066666666658,"2005-03-01",1135.2113999999999,1106.6085,1185.7899000000002,0,0,82.934183333333337]
["2005-04-01",{"$f":"MONTH(Serie_Encadeada[[#This Row],[Período]])&YEAR(Serie_Encadeada[[#This Row],[Período]])","v":"42005"},92.560400000000001,94.8142,99.923699999999997,null,null,83.757000000000005,null,"2005-04-01",-3.9337585858313271,1.328725063027079,5.0864648968834678E-2,null,null,4.4800000000009277E-2,null,"2005-04-01",4.9230650642617029,8.3137796076155475,11.447978184129962,null,null,2.098399999999998,null,"2005-04-01",2.6861948001696208,7.8305382664822458,8.3264126353424164,null,null,2.0130499999999927,null,"2005-04-01",7.019596282563727,6.5631431573487218,9.5016189668000806,null,null,2.446091666666689,null,null,"2005-04-01",{"$f":"IF(MONTH(Serie_Encadeada[[#This Row],[Período]])=1,Serie_Encadeada[[#This Row],[Fat.real]],Serie_Encadeada[[#This Row],[Fat.real]]+AR30)","v":354.54750000000001},{"$f":"IF(MONTH(Serie_Encadeada[[#This Row],[Período]])=1,Serie_Encadeada[[#This Row],[Emprego]],Serie_Encadeada[[#This Row],[Emprego]]+AS30)","v":374.21510000000001},{"$f":"IF(MONTH(Serie_Encadeada[[#This Row],[Período]])=1,Serie_Encadeada[[#This Row],[Horas]],Serie_Encadeada[[#This Row],[Horas]]+AT30)","v":383.09559999999999},null,null,{"$f":"IF(MONTH(Serie_Encadeada[[#This Row],[Período]])=1,Serie_Encadeada[[#This Row],[UCI]],Serie_Encadeada[[#This Row],[UCI]]+AW30)","v":331.92919999999998},82.982299999999995,"2005-04-01",1139.5544000000002,1113.8860999999999,1196.0541000000003,0,0,83.109050000000011]
["2005-05-01",{"$f":"MONTH(Serie_Encadeada[[#This Row],[Período]])&YEAR(Serie_Encadeada[[#This Row],[Período]])","v":"52005"},98.379000000000005,96.210300000000004,106.8342,null,null,83.527900000000002,null,"2005-05-01",6.2862736116092881,1.4724587667248199,6.9157767376508268,null,null,-0.22910000000000252,null,"2005-05-01",0.83142184204214853,7.0236483592761969,9.4269624482488013,null,null,1.2316000000000003,null,"2005-05-01",2.2775463676998084,7.6645268429288222,8.5645073046683446,null,null,1.8567599999999942,null,"2005-05-01",6.1038045465046471,6.9928340022852202,9.731553858979856,null,null,2.340683333333331,null,null,"2005-05-01",{"$f":"IF(MONTH(Serie_Encadeada[[#This Row],[Período]])=1,Serie_Encadeada[[#This Row],[Fat.real]],Serie_Encadeada[[#This Row],[Fat.real]]+AR31)","v":452.92650000000003},{"$f":"IF(MONTH(Serie_Encadeada[[#This Row],[Período]])=1,Serie_Encadeada[[#This Row],[Emprego]],Serie_Encadeada[[#This Row],[Emprego]]+AS31)","v":470.42540000000002},{"$f":"IF(MONTH(Serie_Encadeada[[#This Row],[Período]])=1,Serie_Encadeada[[#This Row],[Horas]],Serie_Encadeada[[#This Row],[Horas]]+AT31)","v":489.9298},null,null,{"$f":"IF(MONTH(Serie_Encadeada[[#This Row],[Período]])=1,Serie_Encadeada[[#This Row],[UCI]],Serie_Encadeada[[#This Row],[UCI]]+AW31)","v":415.45709999999997},83.091419999999999,"2005-05-01",1140.3655999999999,1120.2001,1205.2577000000001,0,0,83.211683333333326]
["2005-06-01",{"$f":"MONTH(Serie_Encadeada[[#This Row],[Período]])&YEAR(Serie_Encadeada[[#This Row],[Período]])","v":"62005"},96.332599999999999,96.806700000000006,108.5872,null,null,84.069900000000004,null,"2005-06-01",-2.0801187245245485,0.61989204898020556,1.640860323754004,null,null,0.54200000000000159,null,"2005-06-01",-3.4273203183113261,5.7965502657298655,8.4185008127353722,null,null,1.1748000000000047,null,"2005-06-01",1.228750147440435,7.3410743718764087,8.5379885770865318,null,null,1.7430999999999841,null,"2005-06-01",4.0890223422846912,7.1371348426589289,9.5586796297954244,null,null,2.2302249999999901,null,null,"2005-06-01",{"$f":"IF(MONTH(Serie_Encadeada[[#This Row],[Período]])=1,Serie_Encadeada[[#This Row],[Fat.real]],Serie_Encadeada[[#This Row],[Fat.real]]+AR32)","v":549.25909999999999},{"$f":"IF(MONTH(Serie_Encadeada[[#This Row],[Período]])=1,Serie_Encadeada[[#This Row],[Emprego]],Serie_Encadeada[[#This Row],[Emprego]]+AS32)","v":567.23210000000006},{"$f":"IF(MONTH(Serie_Encadeada[[#This Row],[Período]])=1,Serie_Encadeada[[#This Row],[Horas]],Serie_Encadeada[[#This Row],[Horas]]+AT32)","v":598.51700000000005},null,null,{"$f":"IF(MONTH(Serie_Encadeada[[#This Row],[Período]])=1,Serie_Encadeada[[#This Row],[UCI]],Serie_Encadeada[[#This Row],[UCI]]+AW32)","v":499.52699999999999},83.254499999999993,"2005-06-01",1136.9467999999999,1125.5041000000001,1213.6892999999998,0,0,83.309583333333322]
["2005-07-01",{"$f":"MONTH(Serie_Encadeada[[#This Row],[Período]])&YEAR(Serie_Encadeada[[#This Row],[Período]])","v":"72005"},94.965199999999996,97.370400000000004,107.643,null,null,83.451700000000002,null,"2005-07-01",-1.4194571723383398,0.58229440730858206,-0.86953158383308071,null,null,-0.61820000000000164,null,"2005-07-01",-3.0714145736029073,5.9233964969382873,5.667545241706299,null,null,0.5636999999999972,null,"2005-07-01",0.57104150326961278,7.1310035087447812,8.0904018796733546,null,null,1.57461428571429,null,"2005-07-01",2.6523421049486973,7.1647445318414906,9.2165455351505248,null,null,2.0268999999999977,null,null,"2005-07-01",{"$f":"IF(MONTH(Serie_Encadeada[[#This Row],[Período]])=1,Serie_Encadeada[[#This Row],[Fat.real]],Serie_Encadeada[[#This Row],[Fat.real]]+AR33)","v":644.22429999999997},{"$f":"IF(MONTH(Serie_Encadeada[[#This Row],[Período]])=1,Serie_Encadeada[[#This Row],[Emprego]],Serie_Encadeada[[#This Row],[Emprego]]+AS33)","v":664.60250000000008},{"$f":"IF(MONTH(Serie_Encadeada[[#This Row],[Período]])=1,Serie_Encadeada[[#This Row],[Horas]],Serie_Encadeada[[#This Row],[Horas]]+AT33)","v":706.16000000000008},null,null,{"$f":"IF(MONTH(Serie_Encadeada[[#This Row],[Período]])=1,Serie_Encadeada[[#This Row],[UCI]],Serie_Encadeada[[#This Row],[UCI]]+AW33)","v":582.9787},83.282671428571433,"2005-07-01",1133.9376,1130.9492,1219.4628,0,0,83.356558333333325]
["2005-08-01",{"$f":"MONTH(Serie_Encadeada[[#This Row],[Período]])&YEAR(Serie_Encadeada[[#This Row],[Período]])","v":"82005"},101.2597,98.023200000000003,111.3265,null,null,87.150999999999996,null,"2005-08-01",6.628217494408478,0.67042961721426542,3.4219596258000937,null,null,3.6992999999999938,null,"2005-08-01",1.1630892497664669,6.3031525522985374,6.7982540291634699,null,null,3.9264999999999901,null,"2005-08-01",0.65105279480421197,7.0238752311510044,7.9125992515296142,null,null,1.8685999999999865,null,"2005-08-01",1.7955209145027753,7.2057781425194918,8.6817692663145536,null,null,2.0576666666666767,null,null,"2005-08-01",{"$f":"IF(MONTH(Serie_Encadeada[[#This Row],[Período]])=1,Serie_Encadeada[[#This Row],[Fat.real]],Serie_Encadeada[[#This Row],[Fat.real]]+AR34)","v":745.48399999999992},{"$f":"IF(MONTH(Serie_Encadeada[[#This Row],[Período]])=1,Serie_Encadeada[[#This Row],[Emprego]],Serie_Encadeada[[#This Row],[Emprego]]+AS34)","v":762.62570000000005},{"$f":"IF(MONTH(Serie_Encadeada[[#This Row],[Período]])=1,Serie_Encadeada[[#This Row],[Horas]],Serie_Encadeada[[#This Row],[Horas]]+AT34)","v":817.48650000000009},null,null,{"$f":"IF(MONTH(Serie_Encadeada[[#This Row],[Período]])=1,Serie_Encadeada[[#This Row],[UCI]],Serie_Encadeada[[#This Row],[UCI]]+AW34)","v":670.12969999999996},83.766212499999995,"2005-08-01",1135.1018000000001,1136.7613999999999,1226.5492999999999,0,0,83.683766666666671]
["2005-09-01",{"$f":"MONTH(Serie_Encadeada[[#This Row],[Período]])&YEAR(Serie_Encadeada[[#This Row],[Período]])","v":"92005"},100.63160000000001,98.590500000000006,108.46429999999999,null,null,84.451099999999997,null,"2005-09-01",-0.62028625405762539,0.57874054305511657,-2.5709961240136008,null,null,-2.6998999999999995,null,"2005-09-01",-0.1823134164026437,5.6001311024495033,4.7066909807729909,null,null,0.5420999999999907,null,"2005-09-01",0.55120916511949547,6.8589446277093042,7.5269496478885882,null,null,1.7212111111110886,null,"2005-09-01",0.99278183137612586,7.1068365535075708,8.2476368227209633,null,null,1.8521499999999946,null,null,"2005-09-01",{"$f":"IF(MONTH(Serie_Encadeada[[#This Row],[Período]])=1,Serie_Encadeada[[#This Row],[Fat.real]],Serie_Encadeada[[#This Row],[Fat.real]]+AR35)","v":846.11559999999997},{"$f":"IF(MONTH(Serie_Encadeada[[#This Row],[Período]])=1,Serie_Encadeada[[#This Row],[Emprego]],Serie_Encadeada[[#This Row],[Emprego]]+AS35)","v":861.21620000000007},{"$f":"IF(MONTH(Serie_Encadeada[[#This Row],[Período]])=1,Serie_Encadeada[[#This Row],[Horas]],Serie_Encadeada[[#This Row],[Horas]]+AT35)","v":925.95080000000007},null,null,{"$f":"IF(MONTH(Serie_Encadeada[[#This Row],[Período]])=1,Serie_Encadeada[[#This Row],[UCI]],Serie_Encadeada[[#This Row],[UCI]]+AW35)","v":754.58079999999995},83.842311111111101,"2005-09-01",1134.9179999999999,1141.9898000000001,1231.4249,0,0,83.728941666666657]
["2005-10-01",{"$f":"MONTH(Serie_Encadeada[[#This Row],[Período]])&YEAR(Serie_Encadeada[[#This Row],[Período]])","v":"102005"},98.665899999999993,98.907799999999995,108.38079999999999,null,null,84.793300000000002,null,"2005-10-01",-1.9533625620580537,0.32183628240042272,-7.6983855517438277E-2,null,null,0.34220000000000539,null,"2005-10-01",-1.4702680895003148,5.208080704934277,3.1085504879021002,null,null,0.52649999999999864,null,"2005-10-01",0.33623065890483472,6.6864900122117978,7.0462935460601592,null,null,1.6017399999999924,null,"2005-10-01",0.5153532031303425,6.8803193271405965,7.7280308979889449,null,null,1.6160249999999934,null,null,"2005-10-01",{"$f":"IF(MONTH(Serie_Encadeada[[#This Row],[Período]])=1,Serie_Encadeada[[#This Row],[Fat.real]],Serie_Encadeada[[#This Row],[Fat.real]]+AR36)","v":944.78149999999994},{"$f":"IF(MONTH(Serie_Encadeada[[#This Row],[Período]])=1,Serie_Encadeada[[#This Row],[Emprego]],Serie_Encadeada[[#This Row],[Emprego]]+AS36)","v":960.12400000000002},{"$f":"IF(MONTH(Serie_Encadeada[[#This Row],[Período]])=1,Serie_Encadeada[[#This Row],[Horas]],Serie_Encadeada[[#This Row],[Horas]]+AT36)","v":1034.3316},null,null,{"$f":"IF(MONTH(Serie_Encadeada[[#This Row],[Período]])=1,Serie_Encadeada[[#This Row],[UCI]],Serie_Encadeada[[#This Row],[UCI]]+AW36)","v":839.3741},83.93741,"2005-10-01",1133.4456999999998,1146.8859999999997,1234.6923999999999,0,0,83.772816666666657]
["2005-11-01",{"$f":"MONTH(Serie_Encadeada[[#This Row],[Período]])&YEAR(Serie_Encadeada[[#This Row],[Período]])","v":"112005"},96.159099999999995,97.868200000000002,105.14960000000001,null,null,83.535600000000002,null,"2005-11-01",-2.5406954175657432,-1.0510798946089115,-2.9813398683161476,null,null,-1.2576999999999998,null,"2005-11-01",0.15404452813837638,4.3310939455511042,0.8082909502284199,null,null,0.18250000000000455,null,"2005-11-01",0.31937304620246415,6.4641525109222266,6.4385105461800798,null,null,1.4727181818181663,null,"2005-11-01",0.22141489813535772,6.5847979980058327,6.7142633442330419,null,null,1.4921916666666561,null,null,"2005-11-01",{"$f":"IF(MONTH(Serie_Encadeada[[#This Row],[Período]])=1,Serie_Encadeada[[#This Row],[Fat.real]],Serie_Encadeada[[#This Row],[Fat.real]]+AR37)","v":1040.9405999999999},{"$f":"IF(MONTH(Serie_Encadeada[[#This Row],[Período]])=1,Serie_Encadeada[[#This Row],[Emprego]],Serie_Encadeada[[#This Row],[Emprego]]+AS37)","v":1057.9922000000001},{"$f":"IF(MONTH(Serie_Encadeada[[#This Row],[Período]])=1,Serie_Encadeada[[#This Row],[Horas]],Serie_Encadeada[[#This Row],[Horas]]+AT37)","v":1139.4811999999999},null,null,{"$f":"IF(MONTH(Serie_Encadeada[[#This Row],[Período]])=1,Serie_Encadeada[[#This Row],[UCI]],Serie_Encadeada[[#This Row],[UCI]]+AW37)","v":922.90970000000004},83.900881818181816,"2005-11-01",1133.5935999999999,1150.9488000000001,1235.5355,0,0,83.78802499999999]
["2005-12-01",{"$f":"MONTH(Serie_Encadeada[[#This Row],[Período]])&YEAR(Serie_Encadeada[[#This Row],[Período]])","v":"122005"},95.680400000000006,97.3172,98.133399999999995,null,null,82.004300000000001,null,"2005-12-01",-0.4978207990715276,-0.56300207830531457,-6.6725883883533665,null,null,-1.5313000000000017,null,"2005-12-01",3.2674603088944769,4.6910063405933577,2.1645048686003614,null,null,-0.54229999999999734,null,"2005-12-01",0.56103812180295265,6.3124786626803342,6.0866042555175683,null,null,1.3048000000000002,null,"2005-12-01",0.56103812180295265,6.3124786626803342,6.0866042555175683,null,null,1.3048000000000002,null,null,"2005-12-01",{"$f":"IF(MONTH(Serie_Encadeada[[#This Row],[Período]])=1,Serie_Encadeada[[#This Row],[Fat.real]],Serie_Encadeada[[#This Row],[Fat.real]]+AR38)","v":1136.6209999999999},{"$f":"IF(MONTH(Serie_Encadeada[[#This Row],[Período]])=1,Serie_Encadeada[[#This Row],[Emprego]],Serie_Encadeada[[#This Row],[Emprego]]+AS38)","v":1155.3094000000001},{"$f":"IF(MONTH(Serie_Encadeada[[#This Row],[Período]])=1,Serie_Encadeada[[#This Row],[Horas]],Serie_Encadeada[[#This Row],[Horas]]+AT38)","v":1237.6145999999999},null,null,{"$f":"IF(MONTH(Serie_Encadeada[[#This Row],[Período]])=1,Serie_Encadeada[[#This Row],[UCI]],Serie_Encadeada[[#This Row],[UCI]]+AW38)","v":1004.914},83.742833333333337,"2005-12-01",1136.6209999999999,1155.3094000000001,1237.6145999999999,0,0,83.742833333333337]
["2006-01-01",{"$f":"MONTH(Serie_Encadeada[[#This Row],[Período]])&YEAR(Serie_Encadeada[[#This Row],[Período]])","v":"12006"},88.099599999999995,97.308599999999998,95.019800000000004,96.030600000000007,98.680800000000005,80.190799999999996,null,"2006-01-01",-7.9230437999841241,-8.8370812148328079E-3,-3.1728239315054725,null,null,-1.8135000000000048,null,"2006-01-01",7.823017687461137,4.7800459570105973,1.9857314126803001,null,null,-2.3130000000000024,null,"2006-01-01",7.823017687461137,4.7800459570105973,1.9857314126803001,null,null,-2.3130000000000024,null,"2006-01-01",0.94296257602097699,6.0623278685676016,5.4686746137030733,null,null,0.92397499999999866,null,null,"2006-01-01",{"$f":"IF(MONTH(Serie_Encadeada[[#This Row],[Período]])=1,Serie_Encadeada[[#This Row],[Fat.real]],Serie_Encadeada[[#This Row],[Fat.real]]+AR39)","v":88.099599999999995},{"$f":"IF(MONTH(Serie_Encadeada[[#This Row],[Período]])=1,Serie_Encadeada[[#This Row],[Emprego]],Serie_Encadeada[[#This Row],[Emprego]]+AS39)","v":97.308599999999998},{"$f":"IF(MONTH(Serie_Encadeada[[#This Row],[Período]])=1,Serie_Encadeada[[#This Row],[Horas]],Serie_Encadeada[[#This Row],[Horas]]+AT39)","v":95.019800000000004},{"$f":"IF(MONTH(Serie_Encadeada[[#This Row],[Período]])=1,Serie_Encadeada[[#This Row],[Massa Real]],Serie_Encadeada[[#This Row],[Massa Real]]+AU39)","v":96.030600000000007},{"$f":"IF(MONTH(Serie_Encadeada[[#This Row],[Período]])=1,Serie_Encadeada[[#This Row],[RMR Real]],Serie_Encadeada[[#This Row],[RMR Real]]+AV39)","v":98.680800000000005},{"$f":"IF(MONTH(Serie_Encadeada[[#This Row],[Período]])=1,Serie_Encadeada[[#This Row],[UCI]],Serie_Encadeada[[#This Row],[UCI]]+AW39)","v":80.190799999999996},80.190799999999996,"2006-01-01",1143.0129999999999,1159.7486000000001,1239.4647,96.030600000000007,98.680800000000005,83.550083333333333]
["2006-02-01",{"$f":"MONTH(Serie_Encadeada[[#This Row],[Período]])&YEAR(Serie_Encadeada[[#This Row],[Período]])","v":"22006"},87.458500000000001,97.272499999999994,92.738699999999994,102.7924,105.6759,80.096299999999999,null,"2006-02-01",-0.7276991041956995,-3.7098468172396565E-2,-2.4006575471638638,7.0412972531672127,7.0886129824646673,-9.4499999999996476E-2,null,"2006-02-01",4.2054643871181465,4.6384167055720322,2.8951739334489379,null,null,-1.8598999999999961,null,"2006-02-01",5.989984091670606,4.7091965775170905,2.4329101631760079,null,null,-2.086449999999985,null,"2006-02-01",1.0290570448869374,5.8301663211000339,5.2549063274508239,null,null,0.58725833333335231,null,null,"2006-02-01",{"$f":"IF(MONTH(Serie_Encadeada[[#This Row],[Período]])=1,Serie_Encadeada[[#This Row],[Fat.real]],Serie_Encadeada[[#This Row],[Fat.real]]+AR40)","v":175.5581},{"$f":"IF(MONTH(Serie_Encadeada[[#This Row],[Período]])=1,Serie_Encadeada[[#This Row],[Emprego]],Serie_Encadeada[[#This Row],[Emprego]]+AS40)","v":194.58109999999999},{"$f":"IF(MONTH(Serie_Encadeada[[#This Row],[Período]])=1,Serie_Encadeada[[#This Row],[Horas]],Serie_Encadeada[[#This Row],[Horas]]+AT40)","v":187.7585},{"$f":"IF(MONTH(Serie_Encadeada[[#This Row],[Período]])=1,Serie_Encadeada[[#This Row],[Massa Real]],Serie_Encadeada[[#This Row],[Massa Real]]+AU40)","v":198.82300000000001},{"$f":"IF(MONTH(Serie_Encadeada[[#This Row],[Período]])=1,Serie_Encadeada[[#This Row],[RMR Real]],Serie_Encadeada[[#This Row],[RMR Real]]+AV40)","v":204.35669999999999},{"$f":"IF(MONTH(Serie_Encadeada[[#This Row],[Período]])=1,Serie_Encadeada[[#This Row],[UCI]],Serie_Encadeada[[#This Row],[UCI]]+AW40)","v":160.28710000000001},80.143550000000005,"2006-02-01",1146.5425999999998,1164.0605,1242.0740999999998,198.82300000000001,204.35669999999999,83.395091666666687]
["2006-03-01",{"$f":"MONTH(Serie_Encadeada[[#This Row],[Período]])&YEAR(Serie_Encadeada[[#This Row],[Período]])","v":"32006"},100.913,97.484800000000007,101.289,94.075400000000002,96.523799999999994,80.406899999999993,null,"2006-03-01",15.383867777288652,0.21825284638516876,9.219775562952691,-8.4801989252123686,-8.6605366029529947,0.31059999999999377,null,"2006-03-01",4.7352066307838214,4.1828175212592935,1.4179021536372731,null,null,-3.3053000000000026,null,"2006-03-01",5.5285164803915841,4.532913100852582,2.0749233945882413,null,null,-2.4927333333333195,null,"2006-03-01",1.4000564124003783,5.5454029134964875,4.865980052621441,null,null,0.18546666666665601,null,null,"2006-03-01",{"$f":"IF(MONTH(Serie_Encadeada[[#This Row],[Período]])=1,Serie_Encadeada[[#This Row],[Fat.real]],Serie_Encadeada[[#This Row],[Fat.real]]+AR41)","v":276.47109999999998},{"$f":"IF(MONTH(Serie_Encadeada[[#This Row],[Período]])=1,Serie_Encadeada[[#This Row],[Emprego]],Serie_Encadeada[[#This Row],[Emprego]]+AS41)","v":292.0659},{"$f":"IF(MONTH(Serie_Encadeada[[#This Row],[Período]])=1,Serie_Encadeada[[#This Row],[Horas]],Serie_Encadeada[[#This Row],[Horas]]+AT41)","v":289.04750000000001},{"$f":"IF(MONTH(Serie_Encadeada[[#This Row],[Período]])=1,Serie_Encadeada[[#This Row],[Massa Real]],Serie_Encadeada[[#This Row],[Massa Real]]+AU41)","v":292.89840000000004},{"$f":"IF(MONTH(Serie_Encadeada[[#This Row],[Período]])=1,Serie_Encadeada[[#This Row],[RMR Real]],Serie_Encadeada[[#This Row],[RMR Real]]+AV41)","v":300.88049999999998},{"$f":"IF(MONTH(Serie_Encadeada[[#This Row],[Período]])=1,Serie_Encadeada[[#This Row],[UCI]],Serie_Encadeada[[#This Row],[UCI]]+AW41)","v":240.69400000000002},80.231333333333339,"2006-03-01",1151.105,1167.9743999999998,1243.4902,292.89840000000004,300.88049999999998,83.119649999999993]
["2006-04-01",{"$f":"MONTH(Serie_Encadeada[[#This Row],[Período]])&YEAR(Serie_Encadeada[[#This Row],[Período]])","v":"42006"},91.707899999999995,98.936599999999999,94.985699999999994,92.317899999999995,93.304500000000004,80.183700000000002,null,"2006-04-01",-9.1218178034544621,1.4892578124999911,-6.2230844415484476,-1.8681823303435408,-3.3352395989382826,-0.22319999999999141,null,"2006-04-01",-0.92102022031020414,4.3478719432321311,-4.9417705709456339,null,null,-3.5733000000000033,null,"2006-04-01",3.8447598699750976,4.4860295589354866,0.24474308762617783,null,null,-2.762874999999994,null,"2006-04-01",0.93879677881107193,5.2259113386907412,3.5531921173130701,null,null,-0.28717500000001905,null,null,"2006-04-01",{"$f":"IF(MONTH(Serie_Encadeada[[#This Row],[Período]])=1,Serie_Encadeada[[#This Row],[Fat.real]],Serie_Encadeada[[#This Row],[Fat.real]]+AR42)","v":368.17899999999997},{"$f":"IF(MONTH(Serie_Encadeada[[#This Row],[Período]])=1,Serie_Encadeada[[#This Row],[Emprego]],Serie_Encadeada[[#This Row],[Emprego]]+AS42)","v":391.0025},{"$f":"IF(MONTH(Serie_Encadeada[[#This Row],[Período]])=1,Serie_Encadeada[[#This Row],[Horas]],Serie_Encadeada[[#This Row],[Horas]]+AT42)","v":384.03320000000002},{"$f":"IF(MONTH(Serie_Encadeada[[#This Row],[Período]])=1,Serie_Encadeada[[#This Row],[Massa Real]],Serie_Encadeada[[#This Row],[Massa Real]]+AU42)","v":385.21630000000005},{"$f":"IF(MONTH(Serie_Encadeada[[#This Row],[Período]])=1,Serie_Encadeada[[#This Row],[RMR Real]],Serie_Encadeada[[#This Row],[RMR Real]]+AV42)","v":394.185},{"$f":"IF(MONTH(Serie_Encadeada[[#This Row],[Período]])=1,Serie_Encadeada[[#This Row],[UCI]],Serie_Encadeada[[#This Row],[UCI]]+AW42)","v":320.8777},80.219425000000001,"2006-04-01",1150.2525000000001,1172.0968,1238.5522000000001,385.21630000000005,394.185,82.821874999999991]
["2006-05-01",{"$f":"MONTH(Serie_Encadeada[[#This Row],[Período]])&YEAR(Serie_Encadeada[[#This Row],[Período]])","v":"52006"},102.1395,100.51090000000001,104.66679999999999,91.692400000000006,91.234700000000004,81.748800000000003,null,"2006-05-01",11.374810676070441,1.5912210445881585,10.192165768110359,-0.67755007425427594,-2.2183281620929329,1.565100000000001,null,"2006-05-01",3.8224621108163257,4.4699995738502043,-2.0287510928148484,null,null,-1.7790999999999997,null,"2006-05-01",3.8399166310648498,4.4827511439645829,-0.25101555365686157,null,null,-2.566119999999998,null,"2006-05-01",1.1967565489523766,5.0167197806891854,2.5826095116421928,null,null,-0.53806666666666558,null,null,"2006-05-01",{"$f":"IF(MONTH(Serie_Encadeada[[#This Row],[Período]])=1,Serie_Encadeada[[#This Row],[Fat.real]],Serie_Encadeada[[#This Row],[Fat.real]]+AR43)","v":470.31849999999997},{"$f":"IF(MONTH(Serie_Encadeada[[#This Row],[Período]])=1,Serie_Encadeada[[#This Row],[Emprego]],Serie_Encadeada[[#This Row],[Emprego]]+AS43)","v":491.51339999999999},{"$f":"IF(MONTH(Serie_Encadeada[[#This Row],[Período]])=1,Serie_Encadeada[[#This Row],[Horas]],Serie_Encadeada[[#This Row],[Horas]]+AT43)","v":488.70000000000005},{"$f":"IF(MONTH(Serie_Encadeada[[#This Row],[Período]])=1,Serie_Encadeada[[#This Row],[Massa Real]],Serie_Encadeada[[#This Row],[Massa Real]]+AU43)","v":476.90870000000007},{"$f":"IF(MONTH(Serie_Encadeada[[#This Row],[Período]])=1,Serie_Encadeada[[#This Row],[RMR Real]],Serie_Encadeada[[#This Row],[RMR Real]]+AV43)","v":485.41970000000003},{"$f":"IF(MONTH(Serie_Encadeada[[#This Row],[Período]])=1,Serie_Encadeada[[#This Row],[UCI]],Serie_Encadeada[[#This Row],[UCI]]+AW43)","v":402.62650000000002},80.525300000000001,"2006-05-01",1154.0129999999999,1176.3974000000001,1236.3848,476.90870000000007,485.41970000000003,82.673616666666661]
["2006-06-01",{"$f":"MONTH(Serie_Encadeada[[#This Row],[Período]])&YEAR(Serie_Encadeada[[#This Row],[Período]])","v":"62006"},100.8451,100.36190000000001,101.4772,94.735699999999994,94.398700000000005,82.129099999999994,null,"2006-06-01",-1.2672864073154813,-0.14824262841144681,-3.0473846530131796,3.3190318935920402,3.4679787405449916,0.3802999999999912,null,"2006-06-01",4.6842917143313922,3.6724730829581,-6.547733066144076,null,null,-1.9408000000000101,null,"2006-06-01",3.988008573731411,4.3444649906096595,-1.3934107134801463,null,null,-2.4618999999999858,null,"2006-06-01",1.8979516016052642,4.8376989475204901,1.2841424901743914,null,null,-0.79769999999999186,null,null,"2006-06-01",{"$f":"IF(MONTH(Serie_Encadeada[[#This Row],[Período]])=1,Serie_Encadeada[[#This Row],[Fat.real]],Serie_Encadeada[[#This Row],[Fat.real]]+AR44)","v":571.16359999999997},{"$f":"IF(MONTH(Serie_Encadeada[[#This Row],[Período]])=1,Serie_Encadeada[[#This Row],[Emprego]],Serie_Encadeada[[#This Row],[Emprego]]+AS44)","v":591.87530000000004},{"$f":"IF(MONTH(Serie_Encadeada[[#This Row],[Período]])=1,Serie_Encadeada[[#This Row],[Horas]],Serie_Encadeada[[#This Row],[Horas]]+AT44)","v":590.17720000000008},{"$f":"IF(MONTH(Serie_Encadeada[[#This Row],[Período]])=1,Serie_Encadeada[[#This Row],[Massa Real]],Serie_Encadeada[[#This Row],[Massa Real]]+AU44)","v":571.64440000000002},{"$f":"IF(MONTH(Serie_Encadeada[[#This Row],[Período]])=1,Serie_Encadeada[[#This Row],[RMR Real]],Serie_Encadeada[[#This Row],[RMR Real]]+AV44)","v":579.8184},{"$f":"IF(MONTH(Serie_Encadeada[[#This Row],[Período]])=1,Serie_Encadeada[[#This Row],[UCI]],Serie_Encadeada[[#This Row],[UCI]]+AW44)","v":484.75560000000002},80.792600000000007,"2006-06-01",1158.5254999999997,1179.9526000000001,1229.2747999999999,571.64440000000002,579.8184,82.51188333333333]
["2006-07-01",{"$f":"MONTH(Serie_Encadeada[[#This Row],[Período]])&YEAR(Serie_Encadeada[[#This Row],[Período]])","v":"72006"},100.5656,100.3912,101.35760000000001,96.778800000000004,96.406199999999998,82.144599999999997,null,"2006-07-01",-0.27715773993976778,2.919434566303758E-2,-0.11785898704338636,2.1566315549470896,2.1266182691075119,1.5500000000002956E-2,null,"2006-07-01",5.8973181755000859,3.1023801894620893,-5.8391163382663018,null,null,-1.3071000000000055,null,"2006-07-01",4.2694601864599058,4.1624881037913619,-2.0710887051093163,null,null,-2.2969285714285661,null,"2006-07-01",2.6622540781785347,4.6000474645545584,0.28919291346976034,null,null,-0.95359999999999445,null,null,"2006-07-01",{"$f":"IF(MONTH(Serie_Encadeada[[#This Row],[Período]])=1,Serie_Encadeada[[#This Row],[Fat.real]],Serie_Encadeada[[#This Row],[Fat.real]]+AR45)","v":671.72919999999999},{"$f":"IF(MONTH(Serie_Encadeada[[#This Row],[Período]])=1,Serie_Encadeada[[#This Row],[Emprego]],Serie_Encadeada[[#This Row],[Emprego]]+AS45)","v":692.26650000000006},{"$f":"IF(MONTH(Serie_Encadeada[[#This Row],[Período]])=1,Serie_Encadeada[[#This Row],[Horas]],Serie_Encadeada[[#This Row],[Horas]]+AT45)","v":691.53480000000013},{"$f":"IF(MONTH(Serie_Encadeada[[#This Row],[Período]])=1,Serie_Encadeada[[#This Row],[Massa Real]],Serie_Encadeada[[#This Row],[Massa Real]]+AU45)","v":668.42320000000007},{"$f":"IF(MONTH(Serie_Encadeada[[#This Row],[Período]])=1,Serie_Encadeada[[#This Row],[RMR Real]],Serie_Encadeada[[#This Row],[RMR Real]]+AV45)","v":676.22460000000001},{"$f":"IF(MONTH(Serie_Encadeada[[#This Row],[Período]])=1,Serie_Encadeada[[#This Row],[UCI]],Serie_Encadeada[[#This Row],[UCI]]+AW45)","v":566.90020000000004},80.985742857142867,"2006-07-01",1164.1258999999998,1182.9734000000001,1222.9893999999999,668.42320000000007,676.22460000000001,82.402958333333331]
["2006-08-01",{"$f":"MONTH(Serie_Encadeada[[#This Row],[Período]])&YEAR(Serie_Encadeada[[#This Row],[Período]])","v":"82006"},107.37269999999999,101.1044,107.0211,95.307000000000002,94.259600000000006,83.831199999999995,null,"2006-08-01",6.7688155790846878,0.71042083369857167,5.5876421699014172,-1.5207876105097415,-2.2266202796085648,1.6865999999999985,null,"2006-08-01",6.0369525092410896,3.1433374956132787,-3.8673631165984665,null,null,-3.3198000000000008,null,"2006-08-01",4.5095401108541671,4.0314927755516328,-2.315707965819608,null,null,-2.4247874999999937,null,"2006-08-01",3.0955020950543544,4.3362837619222532,-0.64125428957482056,null,null,-1.5574583333333436,null,null,"2006-08-01",{"$f":"IF(MONTH(Serie_Encadeada[[#This Row],[Período]])=1,Serie_Encadeada[[#This Row],[Fat.real]],Serie_Encadeada[[#This Row],[Fat.real]]+AR46)","v":779.1019},{"$f":"IF(MONTH(Serie_Encadeada[[#This Row],[Período]])=1,Serie_Encadeada[[#This Row],[Emprego]],Serie_Encadeada[[#This Row],[Emprego]]+AS46)","v":793.37090000000012},{"$f":"IF(MONTH(Serie_Encadeada[[#This Row],[Período]])=1,Serie_Encadeada[[#This Row],[Horas]],Serie_Encadeada[[#This Row],[Horas]]+AT46)","v":798.55590000000018},{"$f":"IF(MONTH(Serie_Encadeada[[#This Row],[Período]])=1,Serie_Encadeada[[#This Row],[Massa Real]],Serie_Encadeada[[#This Row],[Massa Real]]+AU46)","v":763.73020000000008},{"$f":"IF(MONTH(Serie_Encadeada[[#This Row],[Período]])=1,Serie_Encadeada[[#This Row],[RMR Real]],Serie_Encadeada[[#This Row],[RMR Real]]+AV46)","v":770.48419999999999},{"$f":"IF(MONTH(Serie_Encadeada[[#This Row],[Período]])=1,Serie_Encadeada[[#This Row],[UCI]],Serie_Encadeada[[#This Row],[UCI]]+AW46)","v":650.73140000000001},81.341425000000001,"2006-08-01",1170.2388999999998,{"$f":"SUM(D36:D47)","v":1186.0545999999999},1218.684,763.73020000000008,770.48419999999999,82.126308333333327]
["2006-09-01",{"$f":"MONTH(Serie_Encadeada[[#This Row],[Período]])&YEAR(Serie_Encadeada[[#This Row],[Período]])","v":"92006"},103.5603,101.80500000000001,100.3186,94.048100000000005,92.383200000000002,83.886700000000005,null,"2006-09-01",-3.5506232031046969,0.69294709231250917,-6.2627836940565933,-1.3208893365649921,-1.9906725680991684,5.5500000000009209E-2,null,"2006-09-01",2.9103184288036679,3.2604561291402323,-7.5100286453699434,null,null,-0.56439999999999202,null,"2006-09-01",4.3193388704805837,3.9432258705769945,-2.9241618453161813,null,null,-2.2180777777777649,null,"2006-09-01",3.3702523001661886,4.1400807607913963,-1.6961326671240808,null,null,-1.6496666666666613,null,null,"2006-09-01",{"$f":"IF(MONTH(Serie_Encadeada[[#This Row],[Período]])=1,Serie_Encadeada[[#This Row],[Fat.real]],Serie_Encadeada[[#This Row],[Fat.real]]+AR47)","v":882.66219999999998},{"$f":"IF(MONTH(Serie_Encadeada[[#This Row],[Período]])=1,Serie_Encadeada[[#This Row],[Emprego]],Serie_Encadeada[[#This Row],[Emprego]]+AS47)","v":895.17590000000018},{"$f":"IF(MONTH(Serie_Encadeada[[#This Row],[Período]])=1,Serie_Encadeada[[#This Row],[Horas]],Serie_Encadeada[[#This Row],[Horas]]+AT47)","v":898.87450000000013},{"$f":"IF(MONTH(Serie_Encadeada[[#This Row],[Período]])=1,Serie_Encadeada[[#This Row],[Massa Real]],Serie_Encadeada[[#This Row],[Massa Real]]+AU47)","v":857.77830000000006},{"$f":"IF(MONTH(Serie_Encadeada[[#This Row],[Período]])=1,Serie_Encadeada[[#This Row],[RMR Real]],Serie_Encadeada[[#This Row],[RMR Real]]+AV47)","v":862.86739999999998},{"$f":"IF(MONTH(Serie_Encadeada[[#This Row],[Período]])=1,Serie_Encadeada[[#This Row],[UCI]],Serie_Encadeada[[#This Row],[UCI]]+AW47)","v":734.61810000000003},81.624233333333336,"2006-09-01",1173.1676,1189.2691000000002,1210.5382999999999,857.77830000000006,862.86739999999998,82.079274999999996]
["2006-10-01",{"$f":"MONTH(Serie_Encadeada[[#This Row],[Período]])&YEAR(Serie_Encadeada[[#This Row],[Período]])","v":"102006"},108.33369999999999,102.04179999999999,103.4658,94.432100000000005,92.5351,84.565399999999997,null,"2006-10-01",4.609295260828711,0.2326015421639292,3.1372048652991547,0.40830170944442296,0.1644238346365981,0.67869999999999209,null,"2006-10-01",9.7985220831107807,3.1686075314585911,-4.5349360772387657,null,null,-0.22790000000000532,null,"2006-10-01",4.8915437061373526,3.8634280572092901,-3.092944274350693,null,null,-2.0190599999999961,null,"2006-10-01",4.3574826742913393,3.9687553950436456,-2.3543596769527322,null,null,-1.7125333333333401,null,null,"2006-10-01",{"$f":"IF(MONTH(Serie_Encadeada[[#This Row],[Período]])=1,Serie_Encadeada[[#This Row],[Fat.real]],Serie_Encadeada[[#This Row],[Fat.real]]+AR48)","v":990.99590000000001},{"$f":"IF(MONTH(Serie_Encadeada[[#This Row],[Período]])=1,Serie_Encadeada[[#This Row],[Emprego]],Serie_Encadeada[[#This Row],[Emprego]]+AS48)","v":997.21770000000015},{"$f":"IF(MONTH(Serie_Encadeada[[#This Row],[Período]])=1,Serie_Encadeada[[#This Row],[Horas]],Serie_Encadeada[[#This Row],[Horas]]+AT48)","v":1002.3403000000001},{"$f":"IF(MONTH(Serie_Encadeada[[#This Row],[Período]])=1,Serie_Encadeada[[#This Row],[Massa Real]],Serie_Encadeada[[#This Row],[Massa Real]]+AU48)","v":952.21040000000005},{"$f":"IF(MONTH(Serie_Encadeada[[#This Row],[Período]])=1,Serie_Encadeada[[#This Row],[RMR Real]],Serie_Encadeada[[#This Row],[RMR Real]]+AV48)","v":955.40249999999992},{"$f":"IF(MONTH(Serie_Encadeada[[#This Row],[Período]])=1,Serie_Encadeada[[#This Row],[UCI]],Serie_Encadeada[[#This Row],[UCI]]+AW48)","v":819.18349999999998},81.918350000000004,"2006-10-01",1182.8353999999999,1192.4031,1205.6233,952.21040000000005,955.40249999999992,82.060283333333317]
["2006-11-01",{"$f":"MONTH(Serie_Encadeada[[#This Row],[Período]])&YEAR(Serie_Encadeada[[#This Row],[Período]])","v":"112006"},108.3523,101.953,103.54040000000001,107.5064,105.42610000000001,85.832499999999996,null,"2006-11-01",1.7169172658190745E-2,-8.702316109671919E-2,7.2101119403709987E-2,13.845186117856104,13.930929993051292,1.2670999999999992,null,"2006-11-01",12.680235151951303,4.17377656889572,-1.5303909857954774,null,null,2.2968999999999937,null,"2006-11-01",5.6110406299840747,3.8921364448622571,-2.9487542225356402,null,null,-1.6266999999999996,null,"2006-11-01",5.4194907240125714,3.9566573248088845,-2.5512338577078406,null,null,-1.5363333333333316,null,null,"2006-11-01",{"$f":"IF(MONTH(Serie_Encadeada[[#This Row],[Período]])=1,Serie_Encadeada[[#This Row],[Fat.real]],Serie_Encadeada[[#This Row],[Fat.real]]+AR49)","v":1099.3481999999999},{"$f":"IF(MONTH(Serie_Encadeada[[#This Row],[Período]])=1,Serie_Encadeada[[#This Row],[Emprego]],Serie_Encadeada[[#This Row],[Emprego]]+AS49)","v":1099.1707000000001},{"$f":"IF(MONTH(Serie_Encadeada[[#This Row],[Período]])=1,Serie_Encadeada[[#This Row],[Horas]],Serie_Encadeada[[#This Row],[Horas]]+AT49)","v":1105.8807000000002},{"$f":"IF(MONTH(Serie_Encadeada[[#This Row],[Período]])=1,Serie_Encadeada[[#This Row],[Massa Real]],Serie_Encadeada[[#This Row],[Massa Real]]+AU49)","v":1059.7168000000001},{"$f":"IF(MONTH(Serie_Encadeada[[#This Row],[Período]])=1,Serie_Encadeada[[#This Row],[RMR Real]],Serie_Encadeada[[#This Row],[RMR Real]]+AV49)","v":1060.8285999999998},{"$f":"IF(MONTH(Serie_Encadeada[[#This Row],[Período]])=1,Serie_Encadeada[[#This Row],[UCI]],Serie_Encadeada[[#This Row],[UCI]]+AW49)","v":905.01599999999996},82.274181818181816,"2006-11-01",1195.0286000000001,1196.4879000000001,1204.0141000000001,1059.7168000000001,1060.8285999999998,82.251691666666659]
["2006-12-01",{"$f":"MONTH(Serie_Encadeada[[#This Row],[Período]])&YEAR(Serie_Encadeada[[#This Row],[Período]])","v":"122006"},99.758700000000005,100.7664,94.117800000000003,139.57769999999999,138.5222,83.728200000000001,null,"2006-12-01",-7.9311652821398297,-1.1638696262003065,-9.100409115668862,29.831991397721431,31.392700668999414,-2.104299999999995,null,"2006-12-01",4.2624194714905022,3.544286107697308,-4.0919809157738269,null,null,1.7239000000000004,null,"2006-12-01",5.4975141230014346,3.8628353582165955,-3.0394033813110912,null,null,-1.3474833333333436,null,"2006-12-01",5.4975141230014346,3.8628353582165955,-3.0394033813110912,null,null,-1.3474833333333436,null,null,"2006-12-01",{"$f":"IF(MONTH(Serie_Encadeada[[#This Row],[Período]])=1,Serie_Encadeada[[#This Row],[Fat.real]],Serie_Encadeada[[#This Row],[Fat.real]]+AR50)","v":1199.1069},{"$f":"IF(MONTH(Serie_Encadeada[[#This Row],[Período]])=1,Serie_Encadeada[[#This Row],[Emprego]],Serie_Encadeada[[#This Row],[Emprego]]+AS50)","v":1199.9371000000001},{"$f":"IF(MONTH(Serie_Encadeada[[#This Row],[Período]])=1,Serie_Encadeada[[#This Row],[Horas]],Serie_Encadeada[[#This Row],[Horas]]+AT50)","v":1199.9985000000001},{"$f":"IF(MONTH(Serie_Encadeada[[#This Row],[Período]])=1,Serie_Encadeada[[#This Row],[Massa Real]],Serie_Encadeada[[#This Row],[Massa Real]]+AU50)","v":1199.2945000000002},{"$f":"IF(MONTH(Serie_Encadeada[[#This Row],[Período]])=1,Serie_Encadeada[[#This Row],[RMR Real]],Serie_Encadeada[[#This Row],[RMR Real]]+AV50)","v":1199.3507999999997},{"$f":"IF(MONTH(Serie_Encadeada[[#This Row],[Período]])=1,Serie_Encadeada[[#This Row],[UCI]],Serie_Encadeada[[#This Row],[UCI]]+AW50)","v":988.74419999999998},82.395349999999993,"2006-12-01",1199.1069,1199.9371000000001,1199.9985000000001,1199.2945000000002,1199.3507999999997,82.395349999999993]
["2007-01-01",{"$f":"MONTH(Serie_Encadeada[[#This Row],[Período]])&YEAR(Serie_Encadeada[[#This Row],[Período]])","v":"12007"},95.017799999999994,101.25839999999999,96.660600000000002,103.9529,102.6442,84.461399999999998,null,"2007-01-01",-4.7523674626874755,0.48825799075881465,2.701720609704009,-25.523274849779007,-25.900541573841593,0.73319999999999652,null,"2007-01-01",7.8527030769719719,4.0590451409227919,1.7267979936813156,8.2497662203505886,4.0163841395691895,4.2706000000000017,null,"2007-01-01",7.8527030769719719,4.0590451409227919,1.7267979936813156,8.2497662203505886,4.0163841395691895,4.2706000000000017,null,"2007-01-01",5.5128069409534408,3.8058506817770539,-3.0517529059117168,null,null,-0.79885000000000161,null,null,"2007-01-01",{"$f":"IF(MONTH(Serie_Encadeada[[#This Row],[Período]])=1,Serie_Encadeada[[#This Row],[Fat.real]],Serie_Encadeada[[#This Row],[Fat.real]]+AR51)","v":95.017799999999994},{"$f":"IF(MONTH(Serie_Encadeada[[#This Row],[Período]])=1,Serie_Encadeada[[#This Row],[Emprego]],Serie_Encadeada[[#This Row],[Emprego]]+AS51)","v":101.25839999999999},{"$f":"IF(MONTH(Serie_Encadeada[[#This Row],[Período]])=1,Serie_Encadeada[[#This Row],[Horas]],Serie_Encadeada[[#This Row],[Horas]]+AT51)","v":96.660600000000002},{"$f":"IF(MONTH(Serie_Encadeada[[#This Row],[Período]])=1,Serie_Encadeada[[#This Row],[Massa Real]],Serie_Encadeada[[#This Row],[Massa Real]]+AU51)","v":103.9529},{"$f":"IF(MONTH(Serie_Encadeada[[#This Row],[Período]])=1,Serie_Encadeada[[#This Row],[RMR Real]],Serie_Encadeada[[#This Row],[RMR Real]]+AV51)","v":102.6442},{"$f":"IF(MONTH(Serie_Encadeada[[#This Row],[Período]])=1,Serie_Encadeada[[#This Row],[UCI]],Serie_Encadeada[[#This Row],[UCI]]+AW51)","v":84.461399999999998},84.461399999999998,"2007-01-01",1206.0251000000001,1203.8869,1201.6393,1207.2167999999999,1203.3142,82.751233333333332]
["2007-02-01",{"$f":"MONTH(Serie_Encadeada[[#This Row],[Período]])&YEAR(Serie_Encadeada[[#This Row],[Período]])","v":"22007"},92.772400000000005,102.42449999999999,93.808499999999995,108.6465,106.0599,83.863900000000001,null,"2007-02-01",-2.3631361702754532,1.1516081628783392,-2.9506334535477818,4.5151217522551113,3.3277087258705325,-0.59749999999999659,null,"2007-02-01",6.0759102888798733,5.2964609730396583,1.1535637225883055,5.6950708418132105,0.36337518772019006,3.7676000000000016,null,"2007-02-01",6.9675509133443585,4.6776382701094805,1.4436630032728208,6.9289770298204907,2.1273586821474382,4.0190999999999946,null,"2007-02-01",5.6514603120721736,3.863922880297026,-3.1692956160988937,null,null,-0.32989166666668268,null,null,"2007-02-01",{"$f":"IF(MONTH(Serie_Encadeada[[#This Row],[Período]])=1,Serie_Encadeada[[#This Row],[Fat.real]],Serie_Encadeada[[#This Row],[Fat.real]]+AR52)","v":187.7902},{"$f":"IF(MONTH(Serie_Encadeada[[#This Row],[Período]])=1,Serie_Encadeada[[#This Row],[Emprego]],Serie_Encadeada[[#This Row],[Emprego]]+AS52)","v":203.68289999999999},{"$f":"IF(MONTH(Serie_Encadeada[[#This Row],[Período]])=1,Serie_Encadeada[[#This Row],[Horas]],Serie_Encadeada[[#This Row],[Horas]]+AT52)","v":190.4691},{"$f":"IF(MONTH(Serie_Encadeada[[#This Row],[Período]])=1,Serie_Encadeada[[#This Row],[Massa Real]],Serie_Encadeada[[#This Row],[Massa Real]]+AU52)","v":212.5994},{"$f":"IF(MONTH(Serie_Encadeada[[#This Row],[Período]])=1,Serie_Encadeada[[#This Row],[RMR Real]],Serie_Encadeada[[#This Row],[RMR Real]]+AV52)","v":208.70409999999998},{"$f":"IF(MONTH(Serie_Encadeada[[#This Row],[Período]])=1,Serie_Encadeada[[#This Row],[UCI]],Serie_Encadeada[[#This Row],[UCI]]+AW52)","v":168.3253},84.162649999999999,"2007-02-01",1211.3390000000002,1209.0389,1202.7091,1213.0708999999999,1203.6982,83.065200000000004]
["2007-03-01",{"$f":"MONTH(Serie_Encadeada[[#This Row],[Período]])&YEAR(Serie_Encadeada[[#This Row],[Período]])","v":"32007"},109.08580000000001,103.55800000000001,104.9152,101.0286,97.534700000000001,85.593500000000006,null,"2007-03-01",17.584324648279015,1.106668814590271,11.839758657264538,-7.0116386630034153,-8.0380992250605541,1.7296000000000049,null,"2007-03-01",8.0988574316490531,6.2298943014705879,3.5800531153432229,7.3910926767252603,1.0473064674204773,5.1866000000000128,null,"2007-03-01",7.3804820829374211,5.1957452068180539,2.1923040330741426,7.0774029492820532,1.7808731373418969,4.4082666666666626,null,"2007-03-01",5.9427072247970409,4.0358504432974067,-2.9879527800058256,null,null,0.37776666666665903,null,null,"2007-03-01",{"$f":"IF(MONTH(Serie_Encadeada[[#This Row],[Período]])=1,Serie_Encadeada[[#This Row],[Fat.real]],Serie_Encadeada[[#This Row],[Fat.real]]+AR53)","v":296.87599999999998},{"$f":"IF(MONTH(Serie_Encadeada[[#This Row],[Período]])=1,Serie_Encadeada[[#This Row],[Emprego]],Serie_Encadeada[[#This Row],[Emprego]]+AS53)","v":307.24090000000001},{"$f":"IF(MONTH(Serie_Encadeada[[#This Row],[Período]])=1,Serie_Encadeada[[#This Row],[Horas]],Serie_Encadeada[[#This Row],[Horas]]+AT53)","v":295.3843},{"$f":"IF(MONTH(Serie_Encadeada[[#This Row],[Período]])=1,Serie_Encadeada[[#This Row],[Massa Real]],Serie_Encadeada[[#This Row],[Massa Real]]+AU53)","v":313.62799999999999},{"$f":"IF(MONTH(Serie_Encadeada[[#This Row],[Período]])=1,Serie_Encadeada[[#This Row],[RMR Real]],Serie_Encadeada[[#This Row],[RMR Real]]+AV53)","v":306.23879999999997},{"$f":"IF(MONTH(Serie_Encadeada[[#This Row],[Período]])=1,Serie_Encadeada[[#This Row],[UCI]],Serie_Encadeada[[#This Row],[UCI]]+AW53)","v":253.9188},84.639600000000002,"2007-03-01",1219.5118,1215.1121000000001,1206.3353,1220.0241000000001,1204.7090999999998,83.497416666666652]
["2007-04-01",{"$f":"MONTH(Serie_Encadeada[[#This Row],[Período]])&YEAR(Serie_Encadeada[[#This Row],[Período]])","v":"42007"},103.6996,105.8167,101.8978,100.18219999999999,94.659800000000004,84.920400000000001,null,"2007-04-01",-4.9375812433882338,2.1810965835570308,-2.8760370279997511,-0.83778256850040755,-2.9475663533081011,-0.67310000000000514,null,"2007-04-01",13.075972735173316,6.9540493609038503,7.2769901153542165,8.5187163052885744,1.4525558788697219,4.736699999999999,null,"2007-04-01",8.7991438946816736,5.6406544715187197,3.4499360992747481,7.4228167395824007,1.7031596839047618,4.4903750000000002,null,"2007-04-01",7.0637533932766914,4.2569350927329648,-2.0430951557794748,null,null,1.0702666666666687,null,null,"2007-04-01",{"$f":"IF(MONTH(Serie_Encadeada[[#This Row],[Período]])=1,Serie_Encadeada[[#This Row],[Fat.real]],Serie_Encadeada[[#This Row],[Fat.real]]+AR54)","v":400.57560000000001},{"$f":"IF(MONTH(Serie_Encadeada[[#This Row],[Período]])=1,Serie_Encadeada[[#This Row],[Emprego]],Serie_Encadeada[[#This Row],[Emprego]]+AS54)","v":413.05759999999998},{"$f":"IF(MONTH(Serie_Encadeada[[#This Row],[Período]])=1,Serie_Encadeada[[#This Row],[Horas]],Serie_Encadeada[[#This Row],[Horas]]+AT54)","v":397.28210000000001},{"$f":"IF(MONTH(Serie_Encadeada[[#This Row],[Período]])=1,Serie_Encadeada[[#This Row],[Massa Real]],Serie_Encadeada[[#This Row],[Massa Real]]+AU54)","v":413.81020000000001},{"$f":"IF(MONTH(Serie_Encadeada[[#This Row],[Período]])=1,Serie_Encadeada[[#This Row],[RMR Real]],Serie_Encadeada[[#This Row],[RMR Real]]+AV54)","v":400.89859999999999},{"$f":"IF(MONTH(Serie_Encadeada[[#This Row],[Período]])=1,Serie_Encadeada[[#This Row],[UCI]],Serie_Encadeada[[#This Row],[UCI]]+AW54)","v":338.83920000000001},84.709800000000001,"2007-04-01",1231.5035,1221.9922000000001,1213.2474,1227.8884,1206.0643999999998,83.89214166666666]
["2007-05-01",{"$f":"MONTH(Serie_Encadeada[[#This Row],[Período]])&YEAR(Serie_Encadeada[[#This Row],[Período]])","v":"52007"},114.4828,107.48009999999999,108.2256,100.63639999999999,93.617699999999999,86.690799999999996,null,"2007-05-01",10.398497197674816,1.5719635936482577,6.209947614178124,0.45337395265825686,-1.1008897124228076,1.7703999999999951,null,"2007-05-01",12.08474684132975,6.9337753417788379,3.4001230571680852,9.7543525962893192,2.6119447973194361,4.9419999999999931,null,"2007-05-01",9.5126813000126589,5.9050882437793115,3.4392674442398103,7.8710872751954239,1.8739659721267938,4.5806999999999931,null,"2007-05-01",7.7844703655851468,4.4682179678397667,-1.5835361288815626,null,null,1.6303583333333336,null,null,"2007-05-01",{"$f":"IF(MONTH(Serie_Encadeada[[#This Row],[Período]])=1,Serie_Encadeada[[#This Row],[Fat.real]],Serie_Encadeada[[#This Row],[Fat.real]]+AR55)","v":515.05840000000001},{"$f":"IF(MONTH(Serie_Encadeada[[#This Row],[Período]])=1,Serie_Encadeada[[#This Row],[Emprego]],Serie_Encadeada[[#This Row],[Emprego]]+AS55)","v":520.53769999999997},{"$f":"IF(MONTH(Serie_Encadeada[[#This Row],[Período]])=1,Serie_Encadeada[[#This Row],[Horas]],Serie_Encadeada[[#This Row],[Horas]]+AT55)","v":505.5077},{"$f":"IF(MONTH(Serie_Encadeada[[#This Row],[Período]])=1,Serie_Encadeada[[#This Row],[Massa Real]],Serie_Encadeada[[#This Row],[Massa Real]]+AU55)","v":514.44659999999999},{"$f":"IF(MONTH(Serie_Encadeada[[#This Row],[Período]])=1,Serie_Encadeada[[#This Row],[RMR Real]],Serie_Encadeada[[#This Row],[RMR Real]]+AV55)","v":494.5163},{"$f":"IF(MONTH(Serie_Encadeada[[#This Row],[Período]])=1,Serie_Encadeada[[#This Row],[UCI]],Serie_Encadeada[[#This Row],[UCI]]+AW55)","v":425.53},85.105999999999995,"2007-05-01",1243.8468,1228.9613999999999,1216.8062,1236.8324000000002,1208.4474,84.303974999999994]
["2007-06-01",{"$f":"MONTH(Serie_Encadeada[[#This Row],[Período]])&YEAR(Serie_Encadeada[[#This Row],[Período]])","v":"62007"},110.4438,109.30670000000001,107.90900000000001,105.8115,96.787800000000004,85.625399999999999,null,"2007-06-01",-3.5280408934791967,1.6994773916287884,-0.29253707071154517,5.142373932294876,3.3862186317331071,-1.0653999999999968,null,"2007-06-01",9.518261174811661,8.9125454978433059,6.338172515599573,11.691263166894847,2.5308611241468357,3.4963000000000051,null,"2007-06-01",9.5136664871500987,6.4150506027198482,3.9377156555691926,8.5041854691483021,1.9809133342439746,4.399966666666657,null,"2007-06-01",8.1931731325724222,4.9115193271322779,-0.49108628924953401,null,null,2.0834499999999991,null,null,"2007-06-01",{"$f":"IF(MONTH(Serie_Encadeada[[#This Row],[Período]])=1,Serie_Encadeada[[#This Row],[Fat.real]],Serie_Encadeada[[#This Row],[Fat.real]]+AR56)","v":625.50220000000002},{"$f":"IF(MONTH(Serie_Encadeada[[#This Row],[Período]])=1,Serie_Encadeada[[#This Row],[Emprego]],Serie_Encadeada[[#This Row],[Emprego]]+AS56)","v":629.84439999999995},{"$f":"IF(MONTH(Serie_Encadeada[[#This Row],[Período]])=1,Serie_Encadeada[[#This Row],[Horas]],Serie_Encadeada[[#This Row],[Horas]]+AT56)","v":613.41669999999999},{"$f":"IF(MONTH(Serie_Encadeada[[#This Row],[Período]])=1,Serie_Encadeada[[#This Row],[Massa Real]],Serie_Encadeada[[#This Row],[Massa Real]]+AU56)","v":620.25810000000001},{"$f":"IF(MONTH(Serie_Encadeada[[#This Row],[Período]])=1,Serie_Encadeada[[#This Row],[RMR Real]],Serie_Encadeada[[#This Row],[RMR Real]]+AV56)","v":591.30410000000006},{"$f":"IF(MONTH(Serie_Encadeada[[#This Row],[Período]])=1,Serie_Encadeada[[#This Row],[UCI]],Serie_Encadeada[[#This Row],[UCI]]+AW56)","v":511.15539999999999},85.192566666666664,"2007-06-01",1253.4455,1237.9061999999999,1223.2380000000003,1247.9082000000003,1210.8365000000001,84.595333333333329]
["2007-07-01",{"$f":"MONTH(Serie_Encadeada[[#This Row],[Período]])&YEAR(Serie_Encadeada[[#This Row],[Período]])","v":"72007"},115.4569,109.4062,109.6155,102.86360000000001,94.002600000000001,85.821299999999994,null,"2007-07-01",4.5390506302753151,9.1028271825964846E-2,1.5814250896588711,-2.7859920708051487,-2.8776354044621359,0.19589999999999463,null,"2007-07-01",14.807548505652033,8.979870745643046,8.1472923589350899,6.2873273898829094,-2.4932006447718065,3.6766999999999967,null,"2007-07-01",10.306221614305295,6.7869960484870919,4.5547093219314272,8.1832138681003244,1.3430596875653567,4.2966428571428423,null,"2007-07-01",8.9518582139612271,5.4056836780945101,0.6955497733667978,null,null,2.4987666666666541,null,null,"2007-07-01",{"$f":"IF(MONTH(Serie_Encadeada[[#This Row],[Período]])=1,Serie_Encadeada[[#This Row],[Fat.real]],Serie_Encadeada[[#This Row],[Fat.real]]+AR57)","v":740.95910000000003},{"$f":"IF(MONTH(Serie_Encadeada[[#This Row],[Período]])=1,Serie_Encadeada[[#This Row],[Emprego]],Serie_Encadeada[[#This Row],[Emprego]]+AS57)","v":739.25059999999996},{"$f":"IF(MONTH(Serie_Encadeada[[#This Row],[Período]])=1,Serie_Encadeada[[#This Row],[Horas]],Serie_Encadeada[[#This Row],[Horas]]+AT57)","v":723.03219999999999},{"$f":"IF(MONTH(Serie_Encadeada[[#This Row],[Período]])=1,Serie_Encadeada[[#This Row],[Massa Real]],Serie_Encadeada[[#This Row],[Massa Real]]+AU57)","v":723.12170000000003},{"$f":"IF(MONTH(Serie_Encadeada[[#This Row],[Período]])=1,Serie_Encadeada[[#This Row],[RMR Real]],Serie_Encadeada[[#This Row],[RMR Real]]+AV57)","v":685.30670000000009},{"$f":"IF(MONTH(Serie_Encadeada[[#This Row],[Período]])=1,Serie_Encadeada[[#This Row],[UCI]],Serie_Encadeada[[#This Row],[UCI]]+AW57)","v":596.97669999999994},85.282385714285709,"2007-07-01",1268.3367999999998,1246.9211999999998,1231.4958999999999,1253.9929999999999,1208.4329,84.901724999999985]
["2007-08-01",{"$f":"MONTH(Serie_Encadeada[[#This Row],[Período]])&YEAR(Serie_Encadeada[[#This Row],[Período]])","v":"82007"},127.45650000000001,110.053,114.8749,100.2471,91.072699999999998,87.913899999999998,null,"2007-08-01",10.393142376072804,0.59119135844220794,4.7980440722343092,-2.5436597591373449,-3.1168286834619505,2.0926000000000045,null,"2007-08-01",18.70475456051679,8.8508511993543291,7.3385528648088947,5.1833548427712559,-3.3809818840733552,4.0827000000000027,null,"2007-08-01",11.463673750506839,7.0500064975914585,4.9277952864664609,7.8088571068683663,0.76512925248824637,4.2698999999999927,null,"2007-08-01",10.098937917719203,5.886339465316353,1.6957390102766603,null,null,3.1156416666666615,null,null,"2007-08-01",{"$f":"IF(MONTH(Serie_Encadeada[[#This Row],[Período]])=1,Serie_Encadeada[[#This Row],[Fat.real]],Serie_Encadeada[[#This Row],[Fat.real]]+AR58)","v":868.41560000000004},{"$f":"IF(MONTH(Serie_Encadeada[[#This Row],[Período]])=1,Serie_Encadeada[[#This Row],[Emprego]],Serie_Encadeada[[#This Row],[Emprego]]+AS58)","v":849.30359999999996},{"$f":"IF(MONTH(Serie_Encadeada[[#This Row],[Período]])=1,Serie_Encadeada[[#This Row],[Horas]],Serie_Encadeada[[#This Row],[Horas]]+AT58)","v":837.90710000000001},{"$f":"IF(MONTH(Serie_Encadeada[[#This Row],[Período]])=1,Serie_Encadeada[[#This Row],[Massa Real]],Serie_Encadeada[[#This Row],[Massa Real]]+AU58)","v":823.36880000000008},{"$f":"IF(MONTH(Serie_Encadeada[[#This Row],[Período]])=1,Serie_Encadeada[[#This Row],[RMR Real]],Serie_Encadeada[[#This Row],[RMR Real]]+AV58)","v":776.37940000000003},{"$f":"IF(MONTH(Serie_Encadeada[[#This Row],[Período]])=1,Serie_Encadeada[[#This Row],[UCI]],Serie_Encadeada[[#This Row],[UCI]]+AW58)","v":684.89059999999995},85.611324999999994,"2007-08-01",1288.4205999999999,1255.8697999999999,1239.3497,1258.9331,1205.2460000000001,85.241949999999989]
["2007-09-01",{"$f":"MONTH(Serie_Encadeada[[#This Row],[Período]])&YEAR(Serie_Encadeada[[#This Row],[Período]])","v":"92007"},113.13890000000001,110.4366,108.7953,97.795699999999997,88.538799999999995,87.696200000000005,null,"2007-09-01",-11.233322741484349,0.34855933050439453,-5.292365869306523,-2.4453575215642216,-2.7822827257784195,-0.21769999999999357,null,"2007-09-01",9.2492972693203956,8.4785619566818831,8.449779004092953,3.9847694956091524,-4.161362672000978,3.8094999999999999,null,"2007-09-01",11.203867119267155,7.2124707557475309,5.3208651485830201,7.3895784027178149,0.23767267137454665,4.2187444444444395,null,"2007-09-01",10.640559797253179,6.325927412055008,3.0802908094688113,null,null,3.4801333333333417,null,null,"2007-09-01",{"$f":"IF(MONTH(Serie_Encadeada[[#This Row],[Período]])=1,Serie_Encadeada[[#This Row],[Fat.real]],Serie_Encadeada[[#This Row],[Fat.real]]+AR59)","v":981.55450000000008},{"$f":"IF(MONTH(Serie_Encadeada[[#This Row],[Período]])=1,Serie_Encadeada[[#This Row],[Emprego]],Serie_Encadeada[[#This Row],[Emprego]]+AS59)","v":959.74019999999996},{"$f":"IF(MONTH(Serie_Encadeada[[#This Row],[Período]])=1,Serie_Encadeada[[#This Row],[Horas]],Serie_Encadeada[[#This Row],[Horas]]+AT59)","v":946.70240000000001},{"$f":"IF(MONTH(Serie_Encadeada[[#This Row],[Período]])=1,Serie_Encadeada[[#This Row],[Massa Real]],Serie_Encadeada[[#This Row],[Massa Real]]+AU59)","v":921.16450000000009},{"$f":"IF(MONTH(Serie_Encadeada[[#This Row],[Período]])=1,Serie_Encadeada[[#This Row],[RMR Real]],Serie_Encadeada[[#This Row],[RMR Real]]+AV59)","v":864.91820000000007},{"$f":"IF(MONTH(Serie_Encadeada[[#This Row],[Período]])=1,Serie_Encadeada[[#This Row],[UCI]],Serie_Encadeada[[#This Row],[UCI]]+AW59)","v":772.58679999999993},85.842977777777776,"2007-09-01",1297.9992,1264.5014000000001,1247.8263999999999,1262.6806999999999,1201.4016000000001,85.559408333333337]
["2007-10-01",{"$f":"MONTH(Serie_Encadeada[[#This Row],[Período]])&YEAR(Serie_Encadeada[[#This Row],[Período]])","v":"102007"},124.5371,110.49509999999999,116.0103,103.6185,93.760999999999996,87.877099999999999,null,"2007-10-01",10.074519020425324,5.2971569208029874E-2,6.6317203040940225,5.9540450142490942,5.8982050807103787,0.18089999999999407,null,"2007-10-01",14.956933991915722,8.2841541407540831,12.124296144233167,9.7280479836835045,1.3247945914577233,3.3117000000000019,null,"2007-10-01",11.614144922294832,7.3221323688899513,6.0231440360125168,7.6214878560452686,0.34296539939974191,4.1280399999999986,null,"2007-10-01",11.106126854167549,6.7554000824050195,4.5410203999872865,null,null,3.775100000000009,null,null,"2007-10-01",{"$f":"IF(MONTH(Serie_Encadeada[[#This Row],[Período]])=1,Serie_Encadeada[[#This Row],[Fat.real]],Serie_Encadeada[[#This Row],[Fat.real]]+AR60)","v":1106.0916},{"$f":"IF(MONTH(Serie_Encadeada[[#This Row],[Período]])=1,Serie_Encadeada[[#This Row],[Emprego]],Serie_Encadeada[[#This Row],[Emprego]]+AS60)","v":1070.2353000000001},{"$f":"IF(MONTH(Serie_Encadeada[[#This Row],[Período]])=1,Serie_Encadeada[[#This Row],[Horas]],Serie_Encadeada[[#This Row],[Horas]]+AT60)","v":1062.7127},{"$f":"IF(MONTH(Serie_Encadeada[[#This Row],[Período]])=1,Serie_Encadeada[[#This Row],[Massa Real]],Serie_Encadeada[[#This Row],[Massa Real]]+AU60)","v":1024.7830000000001},{"$f":"IF(MONTH(Serie_Encadeada[[#This Row],[Período]])=1,Serie_Encadeada[[#This Row],[RMR Real]],Serie_Encadeada[[#This Row],[RMR Real]]+AV60)","v":958.67920000000004},{"$f":"IF(MONTH(Serie_Encadeada[[#This Row],[Período]])=1,Serie_Encadeada[[#This Row],[UCI]],Serie_Encadeada[[#This Row],[UCI]]+AW60)","v":860.46389999999997},86.046390000000002,"2007-10-01",1314.2026000000001,1272.9547,1260.3708999999999,1271.8670999999999,1202.6275000000001,85.835383333333326]
["2007-11-01",{"$f":"MONTH(Serie_Encadeada[[#This Row],[Período]])&YEAR(Serie_Encadeada[[#This Row],[Período]])","v":"112007"},124.4153,110.66070000000001,113.7255,119.0967,107.6071,87.500399999999999,null,"2007-11-01",-9.7802181036810112E-2,0.14987089925255687,-1.9694802961461215,14.937680047481869,14.76744062030056,-0.37669999999999959,null,"2007-11-01",14.824789136917262,8.5408962953517822,9.8368366357479697,10.78103257108414,2.0687476820256059,1.667900000000003,null,"2007-11-01",11.930587597268996,7.4351781756918944,6.38020900446132,7.9420180938907476,0.51447519420198129,3.9043909090909068,null,"2007-11-01",11.316632924099061,7.1187096835663652,5.5266711577547083,null,null,3.722683333333336,null,null,"2007-11-01",{"$f":"IF(MONTH(Serie_Encadeada[[#This Row],[Período]])=1,Serie_Encadeada[[#This Row],[Fat.real]],Serie_Encadeada[[#This Row],[Fat.real]]+AR61)","v":1230.5068999999999},{"$f":"IF(MONTH(Serie_Encadeada[[#This Row],[Período]])=1,Serie_Encadeada[[#This Row],[Emprego]],Serie_Encadeada[[#This Row],[Emprego]]+AS61)","v":1180.896},{"$f":"IF(MONTH(Serie_Encadeada[[#This Row],[Período]])=1,Serie_Encadeada[[#This Row],[Horas]],Serie_Encadeada[[#This Row],[Horas]]+AT61)","v":1176.4382000000001},{"$f":"IF(MONTH(Serie_Encadeada[[#This Row],[Período]])=1,Serie_Encadeada[[#This Row],[Massa Real]],Serie_Encadeada[[#This Row],[Massa Real]]+AU61)","v":1143.8797000000002},{"$f":"IF(MONTH(Serie_Encadeada[[#This Row],[Período]])=1,Serie_Encadeada[[#This Row],[RMR Real]],Serie_Encadeada[[#This Row],[RMR Real]]+AV61)","v":1066.2863},{"$f":"IF(MONTH(Serie_Encadeada[[#This Row],[Período]])=1,Serie_Encadeada[[#This Row],[UCI]],Serie_Encadeada[[#This Row],[UCI]]+AW61)","v":947.96429999999998},86.178572727272723,"2007-11-01",1330.2656000000002,1281.6623999999999,1270.556,1283.4574,1204.8084999999999,85.974374999999995]
["2007-12-01",{"$f":"MONTH(Serie_Encadeada[[#This Row],[Período]])&YEAR(Serie_Encadeada[[#This Row],[Período]])","v":"122007"},113.1956,109.13549999999999,103.3779,154.82980000000001,141.84780000000001,86.234899999999996,null,"2007-12-01",-9.0179423270289121,-1.3782670812673445,-9.0987509397628497,30.003434184154564,31.820112241664354,-1.265500000000003,null,"2007-12-01",13.469401666220584,8.3054470537798206,9.8388402618845685,10.927318618948451,2.4007704180268639,2.506699999999995,null,"2007-12-01",12.058607952301823,7.5082602246401038,6.6514749810103799,8.2894568431690416,0.73233786144973456,3.7879166666666748,null,"2007-12-01",12.058607952301823,7.5082602246401038,6.6514749810103799,null,null,3.7879166666666748,null,null,"2007-12-01",{"$f":"IF(MONTH(Serie_Encadeada[[#This Row],[Período]])=1,Serie_Encadeada[[#This Row],[Fat.real]],Serie_Encadeada[[#This Row],[Fat.real]]+AR62)","v":1343.7024999999999},{"$f":"IF(MONTH(Serie_Encadeada[[#This Row],[Período]])=1,Serie_Encadeada[[#This Row],[Emprego]],Serie_Encadeada[[#This Row],[Emprego]]+AS62)","v":1290.0315000000001},{"$f":"IF(MONTH(Serie_Encadeada[[#This Row],[Período]])=1,Serie_Encadeada[[#This Row],[Horas]],Serie_Encadeada[[#This Row],[Horas]]+AT62)","v":1279.8161},{"$f":"IF(MONTH(Serie_Encadeada[[#This Row],[Período]])=1,Serie_Encadeada[[#This Row],[Massa Real]],Serie_Encadeada[[#This Row],[Massa Real]]+AU62)","v":1298.7095000000002},{"$f":"IF(MONTH(Serie_Encadeada[[#This Row],[Período]])=1,Serie_Encadeada[[#This Row],[RMR Real]],Serie_Encadeada[[#This Row],[RMR Real]]+AV62)","v":1208.1341},{"$f":"IF(MONTH(Serie_Encadeada[[#This Row],[Período]])=1,Serie_Encadeada[[#This Row],[UCI]],Serie_Encadeada[[#This Row],[UCI]]+AW62)","v":1034.1992},86.183266666666668,"2007-12-01",1343.7024999999999,1290.0315000000001,1279.8161,1298.7095000000002,1208.1341,86.183266666666668]
["2008-01-01",{"$f":"MONTH(Serie_Encadeada[[#This Row],[Período]])&YEAR(Serie_Encadeada[[#This Row],[Período]])","v":"12008"},116.0009,109.12649999999999,108.1692,120.36790000000001,110.28489999999999,85.857200000000006,null,"2008-01-01",2.4782765407842731,-8.2466291903187713E-3,4.6347430156735694,-22.257924508072733,-22.251243938926098,-0.37769999999999015,null,"2008-01-01",22.083335964419309,7.7703183143324397,11.906195492268827,15.790805258920152,7.4438692103401802,1.3958000000000084,null,"2008-01-01",22.083335964419309,7.7703183143324397,11.906195492268827,15.790805258920152,7.4438692103401802,1.3958000000000084,null,"2008-01-01",13.155654886453041,7.8090973495932401,7.4635874509097757,8.9385518823131207,1.0355233903165202,3.5483499999999992,null,null,"2008-01-01",{"$f":"IF(MONTH(Serie_Encadeada[[#This Row],[Período]])=1,Serie_Encadeada[[#This Row],[Fat.real]],Serie_Encadeada[[#This Row],[Fat.real]]+AR63)","v":116.0009},{"$f":"IF(MONTH(Serie_Encadeada[[#This Row],[Período]])=1,Serie_Encadeada[[#This Row],[Emprego]],Serie_Encadeada[[#This Row],[Emprego]]+AS63)","v":109.12649999999999},{"$f":"IF(MONTH(Serie_Encadeada[[#This Row],[Período]])=1,Serie_Encadeada[[#This Row],[Horas]],Serie_Encadeada[[#This Row],[Horas]]+AT63)","v":108.1692},{"$f":"IF(MONTH(Serie_Encadeada[[#This Row],[Período]])=1,Serie_Encadeada[[#This Row],[Massa Real]],Serie_Encadeada[[#This Row],[Massa Real]]+AU63)","v":120.36790000000001},{"$f":"IF(MONTH(Serie_Encadeada[[#This Row],[Período]])=1,Serie_Encadeada[[#This Row],[RMR Real]],Serie_Encadeada[[#This Row],[RMR Real]]+AV63)","v":110.28489999999999},{"$f":"IF(MONTH(Serie_Encadeada[[#This Row],[Período]])=1,Serie_Encadeada[[#This Row],[UCI]],Serie_Encadeada[[#This Row],[UCI]]+AW63)","v":85.857200000000006},85.857200000000006,"2008-01-01",1364.6856000000002,1297.8996000000002,1291.3247000000001,1315.1245000000001,1215.7748000000001,86.299583333333331]
["2008-02-01",{"$f":"MONTH(Serie_Encadeada[[#This Row],[Período]])&YEAR(Serie_Encadeada[[#This Row],[Período]])","v":"22008"},117.9355,109.9247,106.6798,124.3771,113.1336,84.6417,null,"2008-02-01",1.6677456812835101,0.73144469950012925,-1.3769169042574072,3.3307883580256803,2.5830372063628007,-1.2155000000000058,null,"2008-02-01",27.123476378750574,7.322662058394239,13.720824871946578,14.478699267808899,6.6695329714623552,0.77779999999999916,null,"2008-02-01",24.573273791710108,7.5452087534103285,12.799923977170046,15.120268448546891,7.0503646071160144,1.0867999999999967,null,"2008-02-01",14.736560120659849,7.970041327867956,8.438191745618278,9.7095891097544307,1.5909552743370403,3.299199999999999,null,null,"2008-02-01",{"$f":"IF(MONTH(Serie_Encadeada[[#This Row],[Período]])=1,Serie_Encadeada[[#This Row],[Fat.real]],Serie_Encadeada[[#This Row],[Fat.real]]+AR64)","v":233.93639999999999},{"$f":"IF(MONTH(Serie_Encadeada[[#This Row],[Período]])=1,Serie_Encadeada[[#This Row],[Emprego]],Serie_Encadeada[[#This Row],[Emprego]]+AS64)","v":219.05119999999999},{"$f":"IF(MONTH(Serie_Encadeada[[#This Row],[Período]])=1,Serie_Encadeada[[#This Row],[Horas]],Serie_Encadeada[[#This Row],[Horas]]+AT64)","v":214.84899999999999},{"$f":"IF(MONTH(Serie_Encadeada[[#This Row],[Período]])=1,Serie_Encadeada[[#This Row],[Massa Real]],Serie_Encadeada[[#This Row],[Massa Real]]+AU64)","v":244.745},{"$f":"IF(MONTH(Serie_Encadeada[[#This Row],[Período]])=1,Serie_Encadeada[[#This Row],[RMR Real]],Serie_Encadeada[[#This Row],[RMR Real]]+AV64)","v":223.41849999999999},{"$f":"IF(MONTH(Serie_Encadeada[[#This Row],[Período]])=1,Serie_Encadeada[[#This Row],[UCI]],Serie_Encadeada[[#This Row],[UCI]]+AW64)","v":170.49889999999999},85.249449999999996,"2008-02-01",1389.8487,1305.3998000000001,1304.1959999999999,1330.8551,1222.8485000000001,86.364400000000003]
["2008-03-01",{"$f":"MONTH(Serie_Encadeada[[#This Row],[Período]])&YEAR(Serie_Encadeada[[#This Row],[Período]])","v":"32008"},125.97410000000001,110.8181,113.9456,103.9731,93.799800000000005,85.298599999999993,null,"2008-03-01",6.8160986301834496,0.81273817440484231,6.8108489142274342,-16.40494914256724,-17.089352765226241,0.65689999999999316,null,"2008-03-01",15.481666724724942,7.0106606925587531,8.607332397974746,2.914521234581104,-3.8293038272532711,-0.2949000000000126,null,"2008-03-01",21.23260216386641,7.3650350588089015,11.310790722458847,11.188446184651884,3.5852739757339798,0.62623333333333164,null,"2008-03-01",15.352471374200732,8.0278848346584493,8.8608117494365004,9.3256764354080985,1.195682841608825,2.842408333333367,null,null,"2008-03-01",{"$f":"IF(MONTH(Serie_Encadeada[[#This Row],[Período]])=1,Serie_Encadeada[[#This Row],[Fat.real]],Serie_Encadeada[[#This Row],[Fat.real]]+AR65)","v":359.91050000000001},{"$f":"IF(MONTH(Serie_Encadeada[[#This Row],[Período]])=1,Serie_Encadeada[[#This Row],[Emprego]],Serie_Encadeada[[#This Row],[Emprego]]+AS65)","v":329.86930000000001},{"$f":"IF(MONTH(Serie_Encadeada[[#This Row],[Período]])=1,Serie_Encadeada[[#This Row],[Horas]],Serie_Encadeada[[#This Row],[Horas]]+AT65)","v":328.7946},{"$f":"IF(MONTH(Serie_Encadeada[[#This Row],[Período]])=1,Serie_Encadeada[[#This Row],[Massa Real]],Serie_Encadeada[[#This Row],[Massa Real]]+AU65)","v":348.71809999999999},{"$f":"IF(MONTH(Serie_Encadeada[[#This Row],[Período]])=1,Serie_Encadeada[[#This Row],[RMR Real]],Serie_Encadeada[[#This Row],[RMR Real]]+AV65)","v":317.2183},{"$f":"IF(MONTH(Serie_Encadeada[[#This Row],[Período]])=1,Serie_Encadeada[[#This Row],[UCI]],Serie_Encadeada[[#This Row],[UCI]]+AW65)","v":255.79749999999999},85.265833333333333,"2008-03-01",1406.7370000000001,1312.6598999999999,1313.2264,1333.7995999999998,1219.1135999999999,86.339825000000019]
["2008-04-01",{"$f":"MONTH(Serie_Encadeada[[#This Row],[Período]])&YEAR(Serie_Encadeada[[#This Row],[Período]])","v":"42008"},130.97909999999999,112.27070000000001,117.8638,103.94159999999999,92.566699999999997,86.118099999999998,null,"2008-04-01",3.9730389024410422,1.3107967019828024,3.4386584475398778,-3.0296297792417749E-2,-1.3146083467129006,0.819500000000005,null,"2008-04-01",26.306273119664862,6.0992263035985887,15.668640539835005,3.7525628305227872,-2.2111815152789323,1.1976999999999975,null,"2008-04-01",22.546056225092084,7.040761385337059,12.428523711488641,9.3882412758312821,2.2166203623559624,0.76909999999999457,null,"2008-04-01",16.444370641252757,7.947816688191601,9.5565834305517701,8.9316423218917684,0.9084174941238905,2.5474916666666871,null,null,"2008-04-01",{"$f":"IF(MONTH(Serie_Encadeada[[#This Row],[Período]])=1,Serie_Encadeada[[#This Row],[Fat.real]],Serie_Encadeada[[#This Row],[Fat.real]]+AR66)","v":490.88959999999997},{"$f":"IF(MONTH(Serie_Encadeada[[#This Row],[Período]])=1,Serie_Encadeada[[#This Row],[Emprego]],Serie_Encadeada[[#This Row],[Emprego]]+AS66)","v":442.14},{"$f":"IF(MONTH(Serie_Encadeada[[#This Row],[Período]])=1,Serie_Encadeada[[#This Row],[Horas]],Serie_Encadeada[[#This Row],[Horas]]+AT66)","v":446.65840000000003},{"$f":"IF(MONTH(Serie_Encadeada[[#This Row],[Período]])=1,Serie_Encadeada[[#This Row],[Massa Real]],Serie_Encadeada[[#This Row],[Massa Real]]+AU66)","v":452.65969999999999},{"$f":"IF(MONTH(Serie_Encadeada[[#This Row],[Período]])=1,Serie_Encadeada[[#This Row],[RMR Real]],Serie_Encadeada[[#This Row],[RMR Real]]+AV66)","v":409.78499999999997},{"$f":"IF(MONTH(Serie_Encadeada[[#This Row],[Período]])=1,Serie_Encadeada[[#This Row],[UCI]],Serie_Encadeada[[#This Row],[UCI]]+AW66)","v":341.91559999999998},85.478899999999996,"2008-04-01",1434.0165000000002,1319.1138999999998,1329.1924000000001,1337.5589999999997,1217.0205000000001,86.439633333333347]
["2008-05-01",{"$f":"MONTH(Serie_Encadeada[[#This Row],[Período]])&YEAR(Serie_Encadeada[[#This Row],[Período]])","v":"52008"},134.4188,113.5767,117.25239999999999,102.8535,90.544600000000003,86.370500000000007,null,"2008-05-01",2.6261441710929581,1.1632598710081947,-0.51873433573328132,-1.0468378397099884,-2.1844788676705496,0.25240000000000862,null,"2008-05-01",17.413969609408582,5.6723058501062145,8.340725299744232,2.203079601416587,-3.2826057465628793,-0.32029999999998893,null,"2008-05-01",21.405339666336864,6.7582040647584174,11.553355171444469,7.9826749754007498,1.1755527573105213,0.55122000000000071,null,"2008-05-01",16.891605943754474,7.8317431287915333,9.9780063579557901,8.3231729699189287,0.45512944957306373,2.1089666666666744,null,null,"2008-05-01",{"$f":"IF(MONTH(Serie_Encadeada[[#This Row],[Período]])=1,Serie_Encadeada[[#This Row],[Fat.real]],Serie_Encadeada[[#This Row],[Fat.real]]+AR67)","v":625.30840000000001},{"$f":"IF(MONTH(Serie_Encadeada[[#This Row],[Período]])=1,Serie_Encadeada[[#This Row],[Emprego]],Serie_Encadeada[[#This Row],[Emprego]]+AS67)","v":555.71669999999995},{"$f":"IF(MONTH(Serie_Encadeada[[#This Row],[Período]])=1,Serie_Encadeada[[#This Row],[Horas]],Serie_Encadeada[[#This Row],[Horas]]+AT67)","v":563.91079999999999},{"$f":"IF(MONTH(Serie_Encadeada[[#This Row],[Período]])=1,Serie_Encadeada[[#This Row],[Massa Real]],Serie_Encadeada[[#This Row],[Massa Real]]+AU67)","v":555.51319999999998},{"$f":"IF(MONTH(Serie_Encadeada[[#This Row],[Período]])=1,Serie_Encadeada[[#This Row],[RMR Real]],Serie_Encadeada[[#This Row],[RMR Real]]+AV67)","v":500.32959999999997},{"$f":"IF(MONTH(Serie_Encadeada[[#This Row],[Período]])=1,Serie_Encadeada[[#This Row],[UCI]],Serie_Encadeada[[#This Row],[UCI]]+AW67)","v":428.28609999999998},85.657219999999995,"2008-05-01",1453.9524999999999,1325.2105000000001,1338.2192000000002,1339.7760999999998,1213.9474,86.412941666666669]
["2008-06-01",{"$f":"MONTH(Serie_Encadeada[[#This Row],[Período]])&YEAR(Serie_Encadeada[[#This Row],[Período]])","v":"62008"},136.702,114.75449999999999,118.634,113.4404,98.840800000000002,86.463399999999993,null,"2008-06-01",1.6985719259508294,1.0370084709275675,1.1783127680115768,10.293183994710924,9.1625563534434953,9.2899999999985994E-2,null,"2008-06-01",23.775168909436296,4.9839579824475413,9.9389300243723824,7.2098968448609098,2.1211351017380262,0.83799999999999386,null,"2008-06-01",21.823776159380412,6.4502915323213168,11.269354094859175,7.8508446725645218,1.330330704623883,0.59901666666667097,null,"2008-06-01",18.091349005600964,7.4926597831079738,10.27651201156274,7.9730864818421452,0.42647376421174821,1.8874416666666747,null,null,"2008-06-01",{"$f":"IF(MONTH(Serie_Encadeada[[#This Row],[Período]])=1,Serie_Encadeada[[#This Row],[Fat.real]],Serie_Encadeada[[#This Row],[Fat.real]]+AR68)","v":762.0104},{"$f":"IF(MONTH(Serie_Encadeada[[#This Row],[Período]])=1,Serie_Encadeada[[#This Row],[Emprego]],Serie_Encadeada[[#This Row],[Emprego]]+AS68)","v":670.47119999999995},{"$f":"IF(MONTH(Serie_Encadeada[[#This Row],[Período]])=1,Serie_Encadeada[[#This Row],[Horas]],Serie_Encadeada[[#This Row],[Horas]]+AT68)","v":682.54480000000001},{"$f":"IF(MONTH(Serie_Encadeada[[#This Row],[Período]])=1,Serie_Encadeada[[#This Row],[Massa Real]],Serie_Encadeada[[#This Row],[Massa Real]]+AU68)","v":668.95359999999994},{"$f":"IF(MONTH(Serie_Encadeada[[#This Row],[Período]])=1,Serie_Encadeada[[#This Row],[RMR Real]],Serie_Encadeada[[#This Row],[RMR Real]]+AV68)","v":599.17039999999997},{"$f":"IF(MONTH(Serie_Encadeada[[#This Row],[Período]])=1,Serie_Encadeada[[#This Row],[UCI]],Serie_Encadeada[[#This Row],[UCI]]+AW68)","v":514.74950000000001},{"$f":"AW69/MONTH(AQ69)","v":85.791583333333335},"2008-06-01",1480.2107000000001,1330.6583000000001,1348.9442000000001,1347.405,1216.0003999999999,86.482775000000004]
["2008-07-01",{"$f":"MONTH(Serie_Encadeada[[#This Row],[Período]])&YEAR(Serie_Encadeada[[#This Row],[Período]])","v":"72008"},143.12739999999999,114.8199,121.18640000000001,110.2989,96.046199999999999,87.585899999999995,null,"2008-07-01",4.7002969963862977,5.6991229102136304E-2,2.1514911408196689,-2.7692955948674314,-2.827374930190774,1.1225000000000023,null,"2008-07-01",23.966086045961731,4.9482570457615802,10.555897660458612,7.2283101116429886,2.1739824217627999,1.7646000000000015,null,"2008-07-01",22.157592774014102,6.227996297872461,11.16119033149562,7.7622895288579921,1.4460532780432291,0.76552857142858954,null,"2008-07-01",18.886497655827714,7.14967393288366,10.476624404514883,8.0420943338599109,0.79533584363681686,1.728100000000012,null,null,"2008-07-01",{"$f":"IF(MONTH(Serie_Encadeada[[#This Row],[Período]])=1,Serie_Encadeada[[#This Row],[Fat.real]],Serie_Encadeada[[#This Row],[Fat.real]]+AR69)","v":905.13779999999997},{"$f":"IF(MONTH(Serie_Encadeada[[#This Row],[Período]])=1,Serie_Encadeada[[#This Row],[Emprego]],Serie_Encadeada[[#This Row],[Emprego]]+AS69)","v":785.29109999999991},{"$f":"IF(MONTH(Serie_Encadeada[[#This Row],[Período]])=1,Serie_Encadeada[[#This Row],[Horas]],Serie_Encadeada[[#This Row],[Horas]]+AT69)","v":803.73120000000006},{"$f":"IF(MONTH(Serie_Encadeada[[#This Row],[Período]])=1,Serie_Encadeada[[#This Row],[Massa Real]],Serie_Encadeada[[#This Row],[Massa Real]]+AU69)","v":779.25249999999994},{"$f":"IF(MONTH(Serie_Encadeada[[#This Row],[Período]])=1,Serie_Encadeada[[#This Row],[RMR Real]],Serie_Encadeada[[#This Row],[RMR Real]]+AV69)","v":695.21659999999997},{"$f":"IF(MONTH(Serie_Encadeada[[#This Row],[Período]])=1,Serie_Encadeada[[#This Row],[UCI]],Serie_Encadeada[[#This Row],[UCI]]+AW69)","v":602.33540000000005},86.047914285714299,"2008-07-01",1507.8812,1336.0719999999999,1360.5151000000001,1354.8402999999998,1218.0439999999999,86.629824999999997]
["2008-08-01",{"$f":"MONTH(Serie_Encadeada[[#This Row],[Período]])&YEAR(Serie_Encadeada[[#This Row],[Período]])","v":"82008"},137.7773,115.60680000000001,121.5431,107.2015,92.711699999999993,87.591300000000004,null,"2008-08-01",-3.7379984545237304,0.68533416245790391,0.29433995893927811,-2.8081875703202908,-3.471766712269726,5.4000000000087311E-3,null,"2008-08-01",8.097507777163182,5.0464776062442729,5.8047493403693924,6.9372580353945326,1.7996611498286488,-0.32259999999999422,null,"2008-08-01",20.094007984195574,6.074894772611346,10.426836101520088,7.6618399919938511,1.4875330283106287,0.62951250000001835,null,"2008-08-01",17.83434695160884,6.8284148563808014,10.314570617155123,8.1705374177547601,1.1978467466392668,1.3609916666666777,null,null,"2008-08-01",{"$f":"IF(MONTH(Serie_Encadeada[[#This Row],[Período]])=1,Serie_Encadeada[[#This Row],[Fat.real]],Serie_Encadeada[[#This Row],[Fat.real]]+AR70)","v":1042.9150999999999},{"$f":"IF(MONTH(Serie_Encadeada[[#This Row],[Período]])=1,Serie_Encadeada[[#This Row],[Emprego]],Serie_Encadeada[[#This Row],[Emprego]]+AS70)","v":900.89789999999994},{"$f":"IF(MONTH(Serie_Encadeada[[#This Row],[Período]])=1,Serie_Encadeada[[#This Row],[Horas]],Serie_Encadeada[[#This Row],[Horas]]+AT70)","v":925.27430000000004},{"$f":"IF(MONTH(Serie_Encadeada[[#This Row],[Período]])=1,Serie_Encadeada[[#This Row],[Massa Real]],Serie_Encadeada[[#This Row],[Massa Real]]+AU70)","v":886.45399999999995},{"$f":"IF(MONTH(Serie_Encadeada[[#This Row],[Período]])=1,Serie_Encadeada[[#This Row],[RMR Real]],Serie_Encadeada[[#This Row],[RMR Real]]+AV70)","v":787.92829999999992},{"$f":"IF(MONTH(Serie_Encadeada[[#This Row],[Período]])=1,Serie_Encadeada[[#This Row],[UCI]],Serie_Encadeada[[#This Row],[UCI]]+AW70)","v":689.9267000000001},86.240837500000012,"2008-08-01",1518.2020000000002,1341.6257999999998,1367.1833000000001,1361.7946999999999,1219.683,86.602941666666666]
["2008-09-01",{"$f":"MONTH(Serie_Encadeada[[#This Row],[Período]])&YEAR(Serie_Encadeada[[#This Row],[Período]])","v":"92008"},139.1841,117.8674,124.70740000000001,107.7863,91.430999999999997,87.6096,null,"2008-09-01",1.0210680569295552,1.9554213073971396,2.6034386156022116,0.54551475492413948,-1.3813790492462075,1.829999999999643E-2,null,"2008-09-01",23.020552612761829,6.7285664354027608,14.625723721521068,10.2157865836637,3.2665904665525201,-8.6600000000004229E-2,null,"2008-09-01",20.431336212100273,6.1501122908053611,10.909373420834259,7.9329804828561929,1.6696492223195085,0.54994444444446344,null,"2008-09-01",18.971352216549924,6.6868411533589454,10.840370102764314,8.6407117808959857,1.7624081739195161,1.0363166666666785,null,null,"2008-09-01",{"$f":"IF(MONTH(Serie_Encadeada[[#This Row],[Período]])=1,Serie_Encadeada[[#This Row],[Fat.real]],Serie_Encadeada[[#This Row],[Fat.real]]+AR71)","v":1182.0991999999999},{"$f":"IF(MONTH(Serie_Encadeada[[#This Row],[Período]])=1,Serie_Encadeada[[#This Row],[Emprego]],Serie_Encadeada[[#This Row],[Emprego]]+AS71)","v":1018.7652999999999},{"$f":"IF(MONTH(Serie_Encadeada[[#This Row],[Período]])=1,Serie_Encadeada[[#This Row],[Horas]],Serie_Encadeada[[#This Row],[Horas]]+AT71)","v":1049.9817},{"$f":"IF(MONTH(Serie_Encadeada[[#This Row],[Período]])=1,Serie_Encadeada[[#This Row],[Massa Real]],Serie_Encadeada[[#This Row],[Massa Real]]+AU71)","v":994.24029999999993},{"$f":"IF(MONTH(Serie_Encadeada[[#This Row],[Período]])=1,Serie_Encadeada[[#This Row],[RMR Real]],Serie_Encadeada[[#This Row],[RMR Real]]+AV71)","v":879.35929999999996},{"$f":"IF(MONTH(Serie_Encadeada[[#This Row],[Período]])=1,Serie_Encadeada[[#This Row],[UCI]],Serie_Encadeada[[#This Row],[UCI]]+AW71)","v":777.5363000000001},86.392922222222239,"2008-09-01",1544.2472000000002,1349.0566000000001,1383.0954000000002,1371.7852999999998,1222.5752,86.595725000000016]
["2008-10-01",{"$f":"MONTH(Serie_Encadeada[[#This Row],[Período]])&YEAR(Serie_Encadeada[[#This Row],[Período]])","v":"102008"},136.10640000000001,117.81619999999999,121.2929,114.9158,97.521699999999996,87.4923,null,"2008-10-01",-2.2112439567450544,-4.3438643764101496E-2,-2.7380091317756636,6.6144769789852766,6.6615261782108899,-0.11730000000000018,null,"2008-10-01",9.2898421434255436,6.6257236746244867,4.5535611924113653,10.902782804228982,4.0109427160546494,-0.38479999999999848,null,"2008-10-01",19.176892763673443,6.1992161910562986,10.215545556197824,8.2332649936620523,1.898633035951957,0.45647000000001015,null,"2008-10-01",18.384828944943482,6.5534932232859502,10.15630398956371,8.744270529523094,1.9713834915632631,0.72827499999999645,null,null,"2008-10-01",{"$f":"IF(MONTH(Serie_Encadeada[[#This Row],[Período]])=1,Serie_Encadeada[[#This Row],[Fat.real]],Serie_Encadeada[[#This Row],[Fat.real]]+AR72)","v":1318.2055999999998},{"$f":"IF(MONTH(Serie_Encadeada[[#This Row],[Período]])=1,Serie_Encadeada[[#This Row],[Emprego]],Serie_Encadeada[[#This Row],[Emprego]]+AS72)","v":1136.5815},{"$f":"IF(MONTH(Serie_Encadeada[[#This Row],[Período]])=1,Serie_Encadeada[[#This Row],[Horas]],Serie_Encadeada[[#This Row],[Horas]]+AT72)","v":1171.2746},{"$f":"IF(MONTH(Serie_Encadeada[[#This Row],[Período]])=1,Serie_Encadeada[[#This Row],[Massa Real]],Serie_Encadeada[[#This Row],[Massa Real]]+AU72)","v":1109.1560999999999},{"$f":"IF(MONTH(Serie_Encadeada[[#This Row],[Período]])=1,Serie_Encadeada[[#This Row],[RMR Real]],Serie_Encadeada[[#This Row],[RMR Real]]+AV72)","v":976.88099999999997},{"$f":"IF(MONTH(Serie_Encadeada[[#This Row],[Período]])=1,Serie_Encadeada[[#This Row],[UCI]],Serie_Encadeada[[#This Row],[UCI]]+AW72)","v":865.0286000000001},86.502860000000013,"2008-10-01",1555.8164999999999,1356.3777,1388.3779999999999,1383.0826,1226.3359,86.563658333333322]
["2008-11-01",{"$f":"MONTH(Serie_Encadeada[[#This Row],[Período]])&YEAR(Serie_Encadeada[[#This Row],[Período]])","v":"112008"},100.87430000000001,116.34690000000001,113.21299999999999,132.01249999999999,113.4455,85.230999999999995,null,"2008-11-01",-25.885704125595858,-1.2471120270387179,-6.6614781244409267,14.877588634461043,16.328468433179488,-2.2613000000000056,null,"2008-11-01",-18.921306302359916,5.1384095708774655,-0.45064651287530311,10.84480090548268,5.4256642916684799,-2.2694000000000045,null,"2008-11-01",15.3248226401656,6.0998089586212547,9.1844518479593642,8.505168856480255,2.2545727165396303,0.20866363636365293,null,"2008-11-01",15.185681716493272,6.2732198432286026,9.2329263723912867,8.7685808660263849,2.2713817175094664,0.40016666666669209,null,null,"2008-11-01",{"$f":"IF(MONTH(Serie_Encadeada[[#This Row],[Período]])=1,Serie_Encadeada[[#This Row],[Fat.real]],Serie_Encadeada[[#This Row],[Fat.real]]+AR73)","v":1419.0798999999997},{"$f":"IF(MONTH(Serie_Encadeada[[#This Row],[Período]])=1,Serie_Encadeada[[#This Row],[Emprego]],Serie_Encadeada[[#This Row],[Emprego]]+AS73)","v":1252.9284},{"$f":"IF(MONTH(Serie_Encadeada[[#This Row],[Período]])=1,Serie_Encadeada[[#This Row],[Horas]],Serie_Encadeada[[#This Row],[Horas]]+AT73)","v":1284.4875999999999},{"$f":"IF(MONTH(Serie_Encadeada[[#This Row],[Período]])=1,Serie_Encadeada[[#This Row],[Massa Real]],Serie_Encadeada[[#This Row],[Massa Real]]+AU73)","v":1241.1686},{"$f":"IF(MONTH(Serie_Encadeada[[#This Row],[Período]])=1,Serie_Encadeada[[#This Row],[RMR Real]],Serie_Encadeada[[#This Row],[RMR Real]]+AV73)","v":1090.3264999999999},{"$f":"IF(MONTH(Serie_Encadeada[[#This Row],[Período]])=1,Serie_Encadeada[[#This Row],[UCI]],Serie_Encadeada[[#This Row],[UCI]]+AW73)","v":950.25960000000009},86.387236363636376,"2008-11-01",1532.2754999999997,1362.0638999999999,1387.8654999999999,1395.9983999999997,1232.1742999999999,86.374541666666687]
["2008-12-01",{"$f":"MONTH(Serie_Encadeada[[#This Row],[Período]])&YEAR(Serie_Encadeada[[#This Row],[Período]])","v":"122008"},100.08759999999999,112.4053,95.869600000000005,172.19569999999999,153.16739999999999,80.764899999999997,null,"2008-12-01",-0.77988149607978474,-3.387799760887491,-15.319265455380556,30.438935706845946,35.014081651541922,-4.4660999999999973,null,"2008-12-01",-11.579955404627039,2.9960920140559248,-7.2629643279656406,11.216122477714226,7.9801026170303517,-5.4699999999999989,null,"2008-12-01",13.058322061617057,5.8372373077711552,7.8559021096859087,8.8283638488822778,2.926810856510047,-0.26455833333334056,null,"2008-12-01",13.058322061617057,5.8372373077711552,7.8559021096859087,8.8283638488822778,2.926810856510047,-0.26455833333334056,null,null,"2008-12-01",{"$f":"IF(MONTH(Serie_Encadeada[[#This Row],[Período]])=1,Serie_Encadeada[[#This Row],[Fat.real]],Serie_Encadeada[[#This Row],[Fat.real]]+AR74)","v":1519.1674999999998},{"$f":"IF(MONTH(Serie_Encadeada[[#This Row],[Período]])=1,Serie_Encadeada[[#This Row],[Emprego]],Serie_Encadeada[[#This Row],[Emprego]]+AS74)","v":1365.3336999999999},{"$f":"IF(MONTH(Serie_Encadeada[[#This Row],[Período]])=1,Serie_Encadeada[[#This Row],[Horas]],Serie_Encadeada[[#This Row],[Horas]]+AT74)","v":1380.3571999999999},{"$f":"IF(MONTH(Serie_Encadeada[[#This Row],[Período]])=1,Serie_Encadeada[[#This Row],[Massa Real]],Serie_Encadeada[[#This Row],[Massa Real]]+AU74)","v":1413.3643},{"$f":"IF(MONTH(Serie_Encadeada[[#This Row],[Período]])=1,Serie_Encadeada[[#This Row],[RMR Real]],Serie_Encadeada[[#This Row],[RMR Real]]+AV74)","v":1243.4938999999999},{"$f":"IF(MONTH(Serie_Encadeada[[#This Row],[Período]])=1,Serie_Encadeada[[#This Row],[UCI]],Serie_Encadeada[[#This Row],[UCI]]+AW74)","v":1031.0245},85.918708333333328,"2008-12-01",1519.1674999999998,1365.3336999999999,1380.3571999999999,1413.3643,1243.4938999999999,85.918708333333328]
["2009-01-01",{"$f":"MONTH(Serie_Encadeada[[#This Row],[Período]])&YEAR(Serie_Encadeada[[#This Row],[Período]])","v":"12009"},91.298500000000004,109.28489999999999,97.916200000000003,117.02079999999999,107.0592,76.816999999999993,null,"2009-01-01",-8.7814074870413421,-2.7760256856215886,2.1347747356826332,-32.041973173546147,-30.103142052421067,-3.9479000000000042,null,"2009-01-01",-21.295007193909701,0.14515264394991165,-9.4786686043716699,-2.7807247613358808,-2.9248791085633568,-9.0402000000000129,null,"2009-01-01",-21.295007193909701,0.14515264394991165,-9.4786686043716699,-2.7807247613358808,-2.9248791085633568,-9.0402000000000129,null,"2009-01-01",9.509846077367536,5.2078373396524462,6.1006732079080992,7.2154917652283013,2.014632973146,-1.1342249999999865,null,null,"2009-01-01",{"$f":"IF(MONTH(Serie_Encadeada[[#This Row],[Período]])=1,Serie_Encadeada[[#This Row],[Fat.real]],Serie_Encadeada[[#This Row],[Fat.real]]+AR75)","v":91.298500000000004},{"$f":"IF(MONTH(Serie_Encadeada[[#This Row],[Período]])=1,Serie_Encadeada[[#This Row],[Emprego]],Serie_Encadeada[[#This Row],[Emprego]]+AS75)","v":109.28489999999999},{"$f":"IF(MONTH(Serie_Encadeada[[#This Row],[Período]])=1,Serie_Encadeada[[#This Row],[Horas]],Serie_Encadeada[[#This Row],[Horas]]+AT75)","v":97.916200000000003},{"$f":"IF(MONTH(Serie_Encadeada[[#This Row],[Período]])=1,Serie_Encadeada[[#This Row],[Massa Real]],Serie_Encadeada[[#This Row],[Massa Real]]+AU75)","v":117.02079999999999},{"$f":"IF(MONTH(Serie_Encadeada[[#This Row],[Período]])=1,Serie_Encadeada[[#This Row],[RMR Real]],Serie_Encadeada[[#This Row],[RMR Real]]+AV75)","v":107.0592},{"$f":"IF(MONTH(Serie_Encadeada[[#This Row],[Período]])=1,Serie_Encadeada[[#This Row],[UCI]],Serie_Encadeada[[#This Row],[UCI]]+AW75)","v":76.816999999999993},76.816999999999993,"2009-01-01",1494.4650999999999,1365.4920999999999,1370.1041999999998,1410.0172,1240.2682,85.165358333333344]
["2009-02-01",{"$f":"MONTH(Serie_Encadeada[[#This Row],[Período]])&YEAR(Serie_Encadeada[[#This Row],[Período]])","v":"22009"},94.698300000000003,107.8199,95.741699999999994,121.8676,113.0115,77.526499999999999,null,"2009-02-01",3.7238289785702929,-1.3405328641010692,-2.2207765415733136,4.1418277776258599,5.5598211083213718,0.70950000000000557,null,"2009-02-01",-19.70331240381395,-1.9147652893298752,-10.253206323971366,-2.0176543752829121,-0.10792549693460052,-7.1152000000000015,null,"2009-02-01",-20.492578324707051,-0.88855938702914339,-9.8632527961498564,-2.3929395901857093,-1.4984435040070569,-8.077699999999993,null,"2009-02-01",5.8552560433376568,4.4421256997281384,4.2148649436127705,5.759650318054903,1.4145333620640743,-1.7919750000000079,null,null,"2009-02-01",{"$f":"IF(MONTH(Serie_Encadeada[[#This Row],[Período]])=1,Serie_Encadeada[[#This Row],[Fat.real]],Serie_Encadeada[[#This Row],[Fat.real]]+AR76)","v":185.99680000000001},{"$f":"IF(MONTH(Serie_Encadeada[[#This Row],[Período]])=1,Serie_Encadeada[[#This Row],[Emprego]],Serie_Encadeada[[#This Row],[Emprego]]+AS76)","v":217.10480000000001},{"$f":"IF(MONTH(Serie_Encadeada[[#This Row],[Período]])=1,Serie_Encadeada[[#This Row],[Horas]],Serie_Encadeada[[#This Row],[Horas]]+AT76)","v":193.65789999999998},{"$f":"IF(MONTH(Serie_Encadeada[[#This Row],[Período]])=1,Serie_Encadeada[[#This Row],[Massa Real]],Serie_Encadeada[[#This Row],[Massa Real]]+AU76)","v":238.88839999999999},{"$f":"IF(MONTH(Serie_Encadeada[[#This Row],[Período]])=1,Serie_Encadeada[[#This Row],[RMR Real]],Serie_Encadeada[[#This Row],[RMR Real]]+AV76)","v":220.07069999999999},{"$f":"IF(MONTH(Serie_Encadeada[[#This Row],[Período]])=1,Serie_Encadeada[[#This Row],[UCI]],Serie_Encadeada[[#This Row],[UCI]]+AW76)","v":154.34350000000001},77.171750000000003,"2009-02-01",1471.2278999999999,1363.3872999999999,1359.1660999999999,1407.5076999999999,1240.1461000000002,84.572424999999996]
["2009-03-01",{"$f":"MONTH(Serie_Encadeada[[#This Row],[Período]])&YEAR(Serie_Encadeada[[#This Row],[Período]])","v":"32009"},122.2385,108.00239999999999,102.87430000000001,111.39700000000001,103.11839999999999,79.667000000000002,null,"2009-03-01",29.082042655464775,0.16926374444790834,7.449836382683837,-8.591783213914109,-8.7540648518071205,2.140500000000003,null,"2009-03-01",-2.9653714533384283,-2.5408304239109016,-9.7163032183778864,7.1402122279705065,9.9345627602617377,-5.6315999999999917,null,"2009-03-01",-14.35779172877702,-1.4436323719727708,-9.8123266014709536,0.44944612854910282,1.8822369327368558,-7.2623333333333306,null,"2009-03-01",4.3188812123374891,3.6499705673952647,2.6551705022073753,6.0827728543328456,2.4896039220627255,-2.2367000000000132,null,null,"2009-03-01",{"$f":"IF(MONTH(Serie_Encadeada[[#This Row],[Período]])=1,Serie_Encadeada[[#This Row],[Fat.real]],Serie_Encadeada[[#This Row],[Fat.real]]+AR77)","v":308.2353},{"$f":"IF(MONTH(Serie_Encadeada[[#This Row],[Período]])=1,Serie_Encadeada[[#This Row],[Emprego]],Serie_Encadeada[[#This Row],[Emprego]]+AS77)","v":325.10720000000003},{"$f":"IF(MONTH(Serie_Encadeada[[#This Row],[Período]])=1,Serie_Encadeada[[#This Row],[Horas]],Serie_Encadeada[[#This Row],[Horas]]+AT77)","v":296.53219999999999},{"$f":"IF(MONTH(Serie_Encadeada[[#This Row],[Período]])=1,Serie_Encadeada[[#This Row],[Massa Real]],Serie_Encadeada[[#This Row],[Massa Real]]+AU77)","v":350.28539999999998},{"$f":"IF(MONTH(Serie_Encadeada[[#This Row],[Período]])=1,Serie_Encadeada[[#This Row],[RMR Real]],Serie_Encadeada[[#This Row],[RMR Real]]+AV77)","v":323.1891},{"$f":"IF(MONTH(Serie_Encadeada[[#This Row],[Período]])=1,Serie_Encadeada[[#This Row],[UCI]],Serie_Encadeada[[#This Row],[UCI]]+AW77)","v":234.01050000000001},78.003500000000003,"2009-03-01",1467.4923000000001,1360.5716,1348.0947999999999,1414.9315999999999,1249.4647,84.103125000000006]
["2009-04-01",{"$f":"MONTH(Serie_Encadeada[[#This Row],[Período]])&YEAR(Serie_Encadeada[[#This Row],[Período]])","v":"42009"},108.8339,108.8459,100.152,105.40860000000001,96.824399999999997,81.084800000000001,null,"2009-04-01",-10.965939536234494,0.7810011629371254,-2.6462391481643173,-5.3757282512096358,-6.1036633617278753,1.4177999999999997,null,"2009-04-01",-16.907430269409389,-3.0504842314156808,-15.027345122081586,1.4113694613129035,4.5996022327683717,-5.033299999999997,null,"2009-04-01",-15.038085956597971,-1.8516533224770262,-11.188460801364096,0.67032695864022651,2.4960650097002217,-6.7050749999999937,null,"2009-04-01",0.79013037855561652,2.883215770829203,8.9573187448250824E-2,5.8942895229294754,3.0157174838057386,-2.7559499999999986,null,null,"2009-04-01",{"$f":"IF(MONTH(Serie_Encadeada[[#This Row],[Período]])=1,Serie_Encadeada[[#This Row],[Fat.real]],Serie_Encadeada[[#This Row],[Fat.real]]+AR78)","v":417.06920000000002},{"$f":"IF(MONTH(Serie_Encadeada[[#This Row],[Período]])=1,Serie_Encadeada[[#This Row],[Emprego]],Serie_Encadeada[[#This Row],[Emprego]]+AS78)","v":433.95310000000006},{"$f":"IF(MONTH(Serie_Encadeada[[#This Row],[Período]])=1,Serie_Encadeada[[#This Row],[Horas]],Serie_Encadeada[[#This Row],[Horas]]+AT78)","v":396.68419999999998},{"$f":"IF(MONTH(Serie_Encadeada[[#This Row],[Período]])=1,Serie_Encadeada[[#This Row],[Massa Real]],Serie_Encadeada[[#This Row],[Massa Real]]+AU78)","v":455.69399999999996},{"$f":"IF(MONTH(Serie_Encadeada[[#This Row],[Período]])=1,Serie_Encadeada[[#This Row],[RMR Real]],Serie_Encadeada[[#This Row],[RMR Real]]+AV78)","v":420.01350000000002},{"$f":"IF(MONTH(Serie_Encadeada[[#This Row],[Período]])=1,Serie_Encadeada[[#This Row],[UCI]],Serie_Encadeada[[#This Row],[UCI]]+AW78)","v":315.09530000000001},78.773825000000002,"2009-04-01",{"$f":"SUM(C68:C79)","v":1445.3471000000002},{"$f":"SUM(D68:D79)","v":1357.1468},1330.383,1416.3986,1253.7224000000001,{"$f":"SUM(H68:H79)/12","v":83.683683333333349}]
["2009-05-01",{"$f":"MONTH(Serie_Encadeada[[#This Row],[Período]])&YEAR(Serie_Encadeada[[#This Row],[Período]])","v":"52009"},113.03879999999999,109.7016,102.5209,105.66079999999999,96.299199999999999,82.294700000000006,null,"2009-05-01",3.8635939720987622,0.7861573104728784,2.3653047368000601,0.23925941526591546,-0.54242525644362183,1.2099000000000046,null,"2009-05-01",-15.905513216901214,-3.4118793731460793,-12.563921932514813,2.7294161112650497,6.3555419097328789,-4.075800000000001,null,"2009-05-01",-15.22455159725984,-2.1705304159475323,-11.474456598454939,1.0515681715573943,3.1945141762550313,-6.1792200000000008,null,"2009-05-01",-2.0623369745572706,2.1174900138506372,-1.6863978636683947,5.9285876199762129,3.7505414155506114,-3.0689083333333258,null,null,"2009-05-01",{"$f":"IF(MONTH(Serie_Encadeada[[#This Row],[Período]])=1,Serie_Encadeada[[#This Row],[Fat.real]],Serie_Encadeada[[#This Row],[Fat.real]]+AR79)","v":530.10800000000006},{"$f":"IF(MONTH(Serie_Encadeada[[#This Row],[Período]])=1,Serie_Encadeada[[#This Row],[Emprego]],Serie_Encadeada[[#This Row],[Emprego]]+AS79)","v":543.65470000000005},{"$f":"IF(MONTH(Serie_Encadeada[[#This Row],[Período]])=1,Serie_Encadeada[[#This Row],[Horas]],Serie_Encadeada[[#This Row],[Horas]]+AT79)","v":499.20509999999996},{"$f":"IF(MONTH(Serie_Encadeada[[#This Row],[Período]])=1,Serie_Encadeada[[#This Row],[Massa Real]],Serie_Encadeada[[#This Row],[Massa Real]]+AU79)","v":561.35479999999995},{"$f":"IF(MONTH(Serie_Encadeada[[#This Row],[Período]])=1,Serie_Encadeada[[#This Row],[RMR Real]],Serie_Encadeada[[#This Row],[RMR Real]]+AV79)","v":516.31270000000006},{"$f":"IF(MONTH(Serie_Encadeada[[#This Row],[Período]])=1,Serie_Encadeada[[#This Row],[UCI]],Serie_Encadeada[[#This Row],[UCI]]+AW79)","v":397.39},79.477999999999994,"2009-05-01",1423.9671000000001,1353.2717000000002,1315.6514999999999,1419.2058999999999,1259.4769999999999,83.344033333333343]
["2009-06-01",{"$f":"MONTH(Serie_Encadeada[[#This Row],[Período]])&YEAR(Serie_Encadeada[[#This Row],[Período]])","v":"62009"},116.8621,109.9134,102.7912,111.127,101.0864,82.205600000000004,null,"2009-06-01",3.3822899747697281,0.1930691986260881,0.26365355746975105,5.1733471637542028,4.9711731769318943,-8.9100000000001955E-2,null,"2009-06-01",-14.513247794472649,-4.2186580918395338,-13.354350354872969,-2.0393087471482838,2.2719362854205913,-4.2577999999999889,null,"2009-06-01",-15.096946183411671,-2.5210777137034195,-11.801203378884432,0.52742073590753835,3.0423231855245381,-5.8589833333333416,null,"2009-06-01",-5.1400452651774478,1.3356020850732198,-3.6425153835125341,5.1571353824573869,3.7600481052473285,-3.4935583333333255,null,null,"2009-06-01",{"$f":"IF(MONTH(Serie_Encadeada[[#This Row],[Período]])=1,Serie_Encadeada[[#This Row],[Fat.real]],Serie_Encadeada[[#This Row],[Fat.real]]+AR80)","v":646.9701},{"$f":"IF(MONTH(Serie_Encadeada[[#This Row],[Período]])=1,Serie_Encadeada[[#This Row],[Emprego]],Serie_Encadeada[[#This Row],[Emprego]]+AS80)","v":653.56810000000007},{"$f":"IF(MONTH(Serie_Encadeada[[#This Row],[Período]])=1,Serie_Encadeada[[#This Row],[Horas]],Serie_Encadeada[[#This Row],[Horas]]+AT80)","v":601.99630000000002},{"$f":"IF(MONTH(Serie_Encadeada[[#This Row],[Período]])=1,Serie_Encadeada[[#This Row],[Massa Real]],Serie_Encadeada[[#This Row],[Massa Real]]+AU80)","v":672.48179999999991},{"$f":"IF(MONTH(Serie_Encadeada[[#This Row],[Período]])=1,Serie_Encadeada[[#This Row],[RMR Real]],Serie_Encadeada[[#This Row],[RMR Real]]+AV80)","v":617.39910000000009},{"$f":"IF(MONTH(Serie_Encadeada[[#This Row],[Período]])=1,Serie_Encadeada[[#This Row],[UCI]],Serie_Encadeada[[#This Row],[UCI]]+AW80)","v":479.59559999999999},79.932599999999994,"2009-06-01",1404.1272000000001,1348.4305999999999,1299.8087,1416.8924999999999,1261.7225999999998,82.989216666666678]
["2009-07-01",{"$f":"MONTH(Serie_Encadeada[[#This Row],[Período]])&YEAR(Serie_Encadeada[[#This Row],[Período]])","v":"72009"},123.94629999999999,110.2839,105.779,113.3797,102.7877,82.388199999999998,null,"2009-07-01",6.0620166846222991,0.33708355851061561,2.9066690533819948,2.0271401189629925,1.6830157172478231,0.18259999999999366,null,"2009-07-01",-13.40141719894304,-3.9505347069628183,-12.713802868968802,2.7931375562222254,7.0190179309540639,-5.1976999999999975,null,"2009-07-01",-14.828836007069865,-2.7300831500573262,-11.938804913881661,0.8481204744290104,3.5917151575494732,-5.7645142857142986,null,"2009-07-01",-8.1528372394323849,0.58549239861324587,-5.5944840303499817,4.8074300712785316,4.1394317446660427,-4.0737499999999898,null,null,"2009-07-01",{"$f":"IF(MONTH(Serie_Encadeada[[#This Row],[Período]])=1,Serie_Encadeada[[#This Row],[Fat.real]],Serie_Encadeada[[#This Row],[Fat.real]]+AR81)","v":770.91639999999995},{"$f":"IF(MONTH(Serie_Encadeada[[#This Row],[Período]])=1,Serie_Encadeada[[#This Row],[Emprego]],Serie_Encadeada[[#This Row],[Emprego]]+AS81)","v":763.85200000000009},{"$f":"IF(MONTH(Serie_Encadeada[[#This Row],[Período]])=1,Serie_Encadeada[[#This Row],[Horas]],Serie_Encadeada[[#This Row],[Horas]]+AT81)","v":707.77530000000002},{"$f":"IF(MONTH(Serie_Encadeada[[#This Row],[Período]])=1,Serie_Encadeada[[#This Row],[Massa Real]],Serie_Encadeada[[#This Row],[Massa Real]]+AU81)","v":785.86149999999986},{"$f":"IF(MONTH(Serie_Encadeada[[#This Row],[Período]])=1,Serie_Encadeada[[#This Row],[RMR Real]],Serie_Encadeada[[#This Row],[RMR Real]]+AV81)","v":720.18680000000006},{"$f":"IF(MONTH(Serie_Encadeada[[#This Row],[Período]])=1,Serie_Encadeada[[#This Row],[UCI]],Serie_Encadeada[[#This Row],[UCI]]+AW81)","v":561.98379999999997},80.2834,"2009-07-01",1384.9461000000001,1343.8945999999999,1284.4013,1419.9733000000001,1268.4640999999999,82.556075000000007]
["2009-08-01",{"$f":"MONTH(Serie_Encadeada[[#This Row],[Período]])&YEAR(Serie_Encadeada[[#This Row],[Período]])","v":"82009"},121.45359999999999,111.3245,106.0337,106.35939999999999,95.523300000000006,83.748800000000003,null,"2009-08-01",-2.0111128771088764,0.94356474517132394,0.24078503294604761,-6.1918491581826434,-7.0673825759307727,1.3606000000000051,null,"2009-08-01",-11.847887859611127,-3.7041938709487732,-12.760411738716554,-0.78553005321754088,3.0326269499966165,-3.8425000000000011,null,"2009-08-01",-14.43502927515385,-2.8550849102878257,-12.046730358770374,0.65055829180079849,3.5259299608860468,-5.5242625000000203,null,"2009-08-01",-9.8524175307370161,-0.15007910551511622,-7.1893359142113615,4.2103629864325454,4.2300089449471647,-4.3670749999999998,null,null,"2009-08-01",{"$f":"IF(MONTH(Serie_Encadeada[[#This Row],[Período]])=1,Serie_Encadeada[[#This Row],[Fat.real]],Serie_Encadeada[[#This Row],[Fat.real]]+AR82)","v":892.36999999999989},{"$f":"IF(MONTH(Serie_Encadeada[[#This Row],[Período]])=1,Serie_Encadeada[[#This Row],[Emprego]],Serie_Encadeada[[#This Row],[Emprego]]+AS82)","v":875.17650000000003},{"$f":"IF(MONTH(Serie_Encadeada[[#This Row],[Período]])=1,Serie_Encadeada[[#This Row],[Horas]],Serie_Encadeada[[#This Row],[Horas]]+AT82)","v":813.80899999999997},{"$f":"IF(MONTH(Serie_Encadeada[[#This Row],[Período]])=1,Serie_Encadeada[[#This Row],[Massa Real]],Serie_Encadeada[[#This Row],[Massa Real]]+AU82)","v":892.2208999999998},{"$f":"IF(MONTH(Serie_Encadeada[[#This Row],[Período]])=1,Serie_Encadeada[[#This Row],[RMR Real]],Serie_Encadeada[[#This Row],[RMR Real]]+AV82)","v":815.71010000000001},{"$f":"IF(MONTH(Serie_Encadeada[[#This Row],[Período]])=1,Serie_Encadeada[[#This Row],[UCI]],Serie_Encadeada[[#This Row],[UCI]]+AW82)","v":645.73259999999993},80.716574999999992,"2009-08-01",1368.6224000000002,1339.6122999999998,1268.8919000000001,1419.1312,1271.2756999999999,82.235866666666666]
["2009-09-01",{"$f":"MONTH(Serie_Encadeada[[#This Row],[Período]])&YEAR(Serie_Encadeada[[#This Row],[Período]])","v":"92009"},130.00049999999999,113.2623,107.4325,106.8852,94.3523,84.315700000000007,null,"2009-09-01",7.0371730438620128,1.7406770297643337,1.3192032344433973,0.49436157029844457,-1.2258789216871762,0.56690000000000396,null,"2009-09-01",-6.598167463093854,-3.9070175468365358,-13.852345570511455,-0.83600606013936796,3.1950870055014189,-3.2938999999999936,null,"2009-09-01",-13.512292369371371,-2.9767896491959336,-12.26118512351216,0.4893987902119647,3.4915307087785465,-5.2764444444444649,null,"2009-09-01",-11.967539912003717,-1.041424058857138,-9.5060976994067374,3.3857193250285027,4.2223823941463987,-4.6343500000000262,null,null,"2009-09-01",{"$f":"IF(MONTH(Serie_Encadeada[[#This Row],[Período]])=1,Serie_Encadeada[[#This Row],[Fat.real]],Serie_Encadeada[[#This Row],[Fat.real]]+AR83)","v":1022.3704999999999},{"$f":"IF(MONTH(Serie_Encadeada[[#This Row],[Período]])=1,Serie_Encadeada[[#This Row],[Emprego]],Serie_Encadeada[[#This Row],[Emprego]]+AS83)","v":988.43880000000001},{"$f":"IF(MONTH(Serie_Encadeada[[#This Row],[Período]])=1,Serie_Encadeada[[#This Row],[Horas]],Serie_Encadeada[[#This Row],[Horas]]+AT83)","v":921.24149999999997},{"$f":"IF(MONTH(Serie_Encadeada[[#This Row],[Período]])=1,Serie_Encadeada[[#This Row],[Massa Real]],Serie_Encadeada[[#This Row],[Massa Real]]+AU83)","v":999.10609999999974},{"$f":"IF(MONTH(Serie_Encadeada[[#This Row],[Período]])=1,Serie_Encadeada[[#This Row],[RMR Real]],Serie_Encadeada[[#This Row],[RMR Real]]+AV83)","v":910.06240000000003},{"$f":"IF(MONTH(Serie_Encadeada[[#This Row],[Período]])=1,Serie_Encadeada[[#This Row],[UCI]],Serie_Encadeada[[#This Row],[UCI]]+AW83)","v":730.04829999999993},81.116477777777774,"2009-09-01",1359.4388000000004,1335.0072,1251.6169999999997,1418.2301,1274.1970000000001,81.96137499999999]
["2009-10-01",{"$f":"MONTH(Serie_Encadeada[[#This Row],[Período]])&YEAR(Serie_Encadeada[[#This Row],[Período]])","v":"102009"},133.91210000000001,114.679,110.6724,112.723,98.277100000000004,84.819400000000002,null,"2009-10-01",3.0089115041865391,1.2508133774433381,3.0157540781420811,5.4617477443088491,4.1597290156148867,0.50369999999999493,null,"2009-10-01",-1.6121945771837314,-2.6627917043666263,-8.756077231231183,-1.9081797281139803,0.77459683332018281,-2.6728999999999985,null,"2009-10-01",-12.283592180157617,-2.9442411300905404,-11.898209010935604,0.24099403140818274,3.2203001184381796,-5.0160900000000197,null,"2009-10-01",-12.763201830035877,-1.8068492279104602,-10.61537275871558,2.3826993413119362,3.9643706100424922,-4.8250249999999966,null,null,"2009-10-01",{"$f":"IF(MONTH(Serie_Encadeada[[#This Row],[Período]])=1,Serie_Encadeada[[#This Row],[Fat.real]],Serie_Encadeada[[#This Row],[Fat.real]]+AR84)","v":1156.2826},{"$f":"IF(MONTH(Serie_Encadeada[[#This Row],[Período]])=1,Serie_Encadeada[[#This Row],[Emprego]],Serie_Encadeada[[#This Row],[Emprego]]+AS84)","v":1103.1178},{"$f":"IF(MONTH(Serie_Encadeada[[#This Row],[Período]])=1,Serie_Encadeada[[#This Row],[Horas]],Serie_Encadeada[[#This Row],[Horas]]+AT84)","v":1031.9139},{"$f":"IF(MONTH(Serie_Encadeada[[#This Row],[Período]])=1,Serie_Encadeada[[#This Row],[Massa Real]],Serie_Encadeada[[#This Row],[Massa Real]]+AU84)","v":1111.8290999999997},{"$f":"IF(MONTH(Serie_Encadeada[[#This Row],[Período]])=1,Serie_Encadeada[[#This Row],[RMR Real]],Serie_Encadeada[[#This Row],[RMR Real]]+AV84)","v":1008.3395},{"$f":"IF(MONTH(Serie_Encadeada[[#This Row],[Período]])=1,Serie_Encadeada[[#This Row],[UCI]],Serie_Encadeada[[#This Row],[UCI]]+AW84)","v":814.8676999999999},81.486769999999993,"2009-10-01",1357.2444999999998,1331.8700000000003,1240.9964999999997,1416.0373,1274.9524000000001,81.738633333333325]
["2009-11-01",{"$f":"MONTH(Serie_Encadeada[[#This Row],[Período]])&YEAR(Serie_Encadeada[[#This Row],[Período]])","v":"112009"},117.0711,115.0395,109.64870000000001,129.9126,112.9091,84.234300000000005,null,"2009-11-01",-12.576160033335306,0.31435572336696505,-0.92498219971735585,15.249416711762461,14.888514211347292,-0.58509999999999707,null,"2009-11-01",16.056418731034562,-1.1237084958860108,-3.1483133562399979,-1.5906827005018398,-0.47282615881634832,-0.99669999999998993,null,"2009-11-01",-10.269062369215408,-2.7751865150474626,-11.127005040764891,4.6174226450750762E-2,2.8360403970737416,-4.6506909090909403,null,"2009-11-01",-10.36590352061361,-2.3127622720196497,-10.839184344592464,1.2850301261090329,3.428224399746064,-4.7189666666667023,null,null,"2009-11-01",{"$f":"IF(MONTH(Serie_Encadeada[[#This Row],[Período]])=1,Serie_Encadeada[[#This Row],[Fat.real]],Serie_Encadeada[[#This Row],[Fat.real]]+AR85)","v":1273.3537000000001},{"$f":"IF(MONTH(Serie_Encadeada[[#This Row],[Período]])=1,Serie_Encadeada[[#This Row],[Emprego]],Serie_Encadeada[[#This Row],[Emprego]]+AS85)","v":1218.1573000000001},{"$f":"IF(MONTH(Serie_Encadeada[[#This Row],[Período]])=1,Serie_Encadeada[[#This Row],[Horas]],Serie_Encadeada[[#This Row],[Horas]]+AT85)","v":1141.5626},{"$f":"IF(MONTH(Serie_Encadeada[[#This Row],[Período]])=1,Serie_Encadeada[[#This Row],[Massa Real]],Serie_Encadeada[[#This Row],[Massa Real]]+AU85)","v":1241.7416999999996},{"$f":"IF(MONTH(Serie_Encadeada[[#This Row],[Período]])=1,Serie_Encadeada[[#This Row],[RMR Real]],Serie_Encadeada[[#This Row],[RMR Real]]+AV85)","v":1121.2486000000001},{"$f":"IF(MONTH(Serie_Encadeada[[#This Row],[Período]])=1,Serie_Encadeada[[#This Row],[UCI]],Serie_Encadeada[[#This Row],[UCI]]+AW85)","v":899.10199999999986},81.736545454545436,"2009-11-01",1373.4413,1330.5626000000004,1237.4322,1413.9373999999998,1274.4160000000002,81.655574999999985]
["2009-12-01",{"$f":"MONTH(Serie_Encadeada[[#This Row],[Período]])&YEAR(Serie_Encadeada[[#This Row],[Período]])","v":"122009"},123.8211,115.3614,102.95140000000001,173.82400000000001,150.65039999999999,83.064999999999998,null,"2009-12-01",5.7657269812959813,0.27981693244494232,-6.107961152298202,33.800724487078249,33.426269450380879,-1.1693000000000069,null,"2009-12-01",23.712727650578103,2.6298582006364528,7.3869088845682063,0.94561014009062039,-1.6433000756035527,2.3001000000000005,null,"2009-12-01",-8.0302336641614289,-2.3301995695264703,-9.8411628526297417,0.1557560212890402,2.2842974943423666,-4.0714583333333394,null,"2009-12-01",-8.0302336641614289,-2.3301995695264703,-9.8411628526297417,0.1557560212890402,2.2842974943423666,-4.0714583333333394,null,null,"2009-12-01",{"$f":"IF(MONTH(Serie_Encadeada[[#This Row],[Período]])=1,Serie_Encadeada[[#This Row],[Fat.real]],Serie_Encadeada[[#This Row],[Fat.real]]+AR86)","v":1397.1748000000002},{"$f":"IF(MONTH(Serie_Encadeada[[#This Row],[Período]])=1,Serie_Encadeada[[#This Row],[Emprego]],Serie_Encadeada[[#This Row],[Emprego]]+AS86)","v":1333.5187000000001},{"$f":"IF(MONTH(Serie_Encadeada[[#This Row],[Período]])=1,Serie_Encadeada[[#This Row],[Horas]],Serie_Encadeada[[#This Row],[Horas]]+AT86)","v":1244.5139999999999},{"$f":"IF(MONTH(Serie_Encadeada[[#This Row],[Período]])=1,Serie_Encadeada[[#This Row],[Massa Real]],Serie_Encadeada[[#This Row],[Massa Real]]+AU86)","v":1415.5656999999997},{"$f":"IF(MONTH(Serie_Encadeada[[#This Row],[Período]])=1,Serie_Encadeada[[#This Row],[RMR Real]],Serie_Encadeada[[#This Row],[RMR Real]]+AV86)","v":1271.8990000000001},{"$f":"IF(MONTH(Serie_Encadeada[[#This Row],[Período]])=1,Serie_Encadeada[[#This Row],[UCI]],Serie_Encadeada[[#This Row],[UCI]]+AW86)","v":982.16699999999992},81.847249999999988,"2009-12-01",1397.1748000000002,1333.5187000000001,1244.5139999999999,1415.5656999999997,1271.8990000000001,81.847249999999988]
["2010-01-01",{"$f":"MONTH(Serie_Encadeada[[#This Row],[Período]])&YEAR(Serie_Encadeada[[#This Row],[Período]])","v":"12010"},106.9254,116.602,102.4072,130.53579999999999,111.9498,82.405600000000007,null,"2010-01-01",-13.645251092099816,1.0754030377578641,-0.52859893114615586,-24.903465574374088,-25.689012442051265,-0.65939999999999088,null,"2010-01-01",17.11627244697338,6.6954355084737331,4.5865750509108807,11.549228855041155,4.5681267934002792,5.5886000000000138,null,"2010-01-01",17.11627244697338,6.6954355084737331,4.5865750509108807,11.549228855041155,4.5681267934002792,5.5886000000000138,null,"2010-01-01",-5.4643899011090635,-1.805671376641423,-8.8386854080149462,1.3520047840551148,2.944637296997525,-2.8523916666666764,null,null,"2010-01-01",{"$f":"IF(MONTH(Serie_Encadeada[[#This Row],[Período]])=1,Serie_Encadeada[[#This Row],[Fat.real]],Serie_Encadeada[[#This Row],[Fat.real]]+AR87)","v":106.9254},{"$f":"IF(MONTH(Serie_Encadeada[[#This Row],[Período]])=1,Serie_Encadeada[[#This Row],[Emprego]],Serie_Encadeada[[#This Row],[Emprego]]+AS87)","v":116.602},{"$f":"IF(MONTH(Serie_Encadeada[[#This Row],[Período]])=1,Serie_Encadeada[[#This Row],[Horas]],Serie_Encadeada[[#This Row],[Horas]]+AT87)","v":102.4072},{"$f":"IF(MONTH(Serie_Encadeada[[#This Row],[Período]])=1,Serie_Encadeada[[#This Row],[Massa Real]],Serie_Encadeada[[#This Row],[Massa Real]]+AU87)","v":130.53579999999999},{"$f":"IF(MONTH(Serie_Encadeada[[#This Row],[Período]])=1,Serie_Encadeada[[#This Row],[RMR Real]],Serie_Encadeada[[#This Row],[RMR Real]]+AV87)","v":111.9498},{"$f":"IF(MONTH(Serie_Encadeada[[#This Row],[Período]])=1,Serie_Encadeada[[#This Row],[UCI]],Serie_Encadeada[[#This Row],[UCI]]+AW87)","v":82.405600000000007},82.405600000000007,"2010-01-01",1412.8017000000004,1340.8358000000001,1249.0049999999999,1429.0807,1276.7895999999998,82.312966666666668]
["2010-02-01",{"$f":"MONTH(Serie_Encadeada[[#This Row],[Período]])&YEAR(Serie_Encadeada[[#This Row],[Período]])","v":"22010"},105.7157,118.2931,104.0346,144.73339999999999,122.3515,83.160700000000006,null,"2010-02-01",-1.1313495203197725,1.4503181763606041,1.5891460756665492,10.876403254892523,9.2913966795831762,0.75509999999999877,null,"2010-02-01",11.634210962604392,9.7136057443941155,8.6617430022654744,18.762821291303016,8.2646456334089926,5.634200000000007,null,"2010-02-01",14.325138927121319,8.1943374812532941,6.6012798858192809,15.229203259764796,6.4663764871925293,5.6114000000000033,null,"2010-02-01",-3.2223967476418802,-0.88590380737738084,-7.4949044123451793,3.1572686955815681,3.7079098986804895,-1.7899416666666639,null,null,"2010-02-01",{"$f":"IF(MONTH(Serie_Encadeada[[#This Row],[Período]])=1,Serie_Encadeada[[#This Row],[Fat.real]],Serie_Encadeada[[#This Row],[Fat.real]]+AR88)","v":212.64109999999999},{"$f":"IF(MONTH(Serie_Encadeada[[#This Row],[Período]])=1,Serie_Encadeada[[#This Row],[Emprego]],Serie_Encadeada[[#This Row],[Emprego]]+AS88)","v":234.89510000000001},{"$f":"IF(MONTH(Serie_Encadeada[[#This Row],[Período]])=1,Serie_Encadeada[[#This Row],[Horas]],Serie_Encadeada[[#This Row],[Horas]]+AT88)","v":206.4418},{"$f":"IF(MONTH(Serie_Encadeada[[#This Row],[Período]])=1,Serie_Encadeada[[#This Row],[Massa Real]],Serie_Encadeada[[#This Row],[Massa Real]]+AU88)","v":275.26919999999996},{"$f":"IF(MONTH(Serie_Encadeada[[#This Row],[Período]])=1,Serie_Encadeada[[#This Row],[RMR Real]],Serie_Encadeada[[#This Row],[RMR Real]]+AV88)","v":234.3013},{"$f":"IF(MONTH(Serie_Encadeada[[#This Row],[Período]])=1,Serie_Encadeada[[#This Row],[UCI]],Serie_Encadeada[[#This Row],[UCI]]+AW88)","v":165.56630000000001},82.783150000000006,"2010-02-01",1423.8190999999999,1351.3090000000002,1257.2979,1451.9465,1286.1296000000002,82.782483333333332]
["2010-03-01",{"$f":"MONTH(Serie_Encadeada[[#This Row],[Período]])&YEAR(Serie_Encadeada[[#This Row],[Período]])","v":"32010"},133.6003,121.8912,118.8871,120.67529999999999,99.002399999999994,84.973699999999994,null,"2010-03-01",26.376971443219887,3.0416820592240819,14.276500318163386,-16.622355309831729,-19.083623821530594,1.8129999999999882,null,"2010-03-01",9.2947802860800834,12.859714228572702,15.565403604204352,8.3290393816709489,-3.991528185076572,5.3066999999999922,null,"2010-03-01",12.330223047133149,9.7442012972951524,9.7111544715885785,13.034828171542395,3.1296228740387582,5.5098333333333329,null,"2010-03-01",-2.201810530794611,0.3400188567804997,-5.5473917709644649,3.2717623947334324,2.605027577009579,-0.8784166666666664,null,null,"2010-03-01",{"$f":"IF(MONTH(Serie_Encadeada[[#This Row],[Período]])=1,Serie_Encadeada[[#This Row],[Fat.real]],Serie_Encadeada[[#This Row],[Fat.real]]+AR89)","v":346.2414},{"$f":"IF(MONTH(Serie_Encadeada[[#This Row],[Período]])=1,Serie_Encadeada[[#This Row],[Emprego]],Serie_Encadeada[[#This Row],[Emprego]]+AS89)","v":356.78629999999998},{"$f":"IF(MONTH(Serie_Encadeada[[#This Row],[Período]])=1,Serie_Encadeada[[#This Row],[Horas]],Serie_Encadeada[[#This Row],[Horas]]+AT89)","v":325.32889999999998},{"$f":"IF(MONTH(Serie_Encadeada[[#This Row],[Período]])=1,Serie_Encadeada[[#This Row],[Massa Real]],Serie_Encadeada[[#This Row],[Massa Real]]+AU89)","v":395.94449999999995},{"$f":"IF(MONTH(Serie_Encadeada[[#This Row],[Período]])=1,Serie_Encadeada[[#This Row],[RMR Real]],Serie_Encadeada[[#This Row],[RMR Real]]+AV89)","v":333.30369999999999},{"$f":"IF(MONTH(Serie_Encadeada[[#This Row],[Período]])=1,Serie_Encadeada[[#This Row],[UCI]],Serie_Encadeada[[#This Row],[UCI]]+AW89)","v":250.54000000000002},83.513333333333335,"2010-03-01",1435.1809000000001,1365.1978000000001,1273.3107,1461.2248,1282.0136,83.224708333333339]
["2010-04-01",{"$f":"MONTH(Serie_Encadeada[[#This Row],[Período]])&YEAR(Serie_Encadeada[[#This Row],[Período]])","v":"42010"},127.66589999999999,122.8364,113.44110000000001,114.28530000000001,93.038600000000002,85.371600000000001,null,"2010-04-01",-4.4419061933244244,0.77544564332782007,-4.5808165898570978,-5.295201254937826,-6.0238943702374819,0.39790000000000703,null,"2010-04-01",17.303432110766952,12.853492873870303,13.268931224538706,8.4212293873554902,-3.9099648435724825,4.2867999999999995,null,"2010-04-01",13.627978282740594,10.524086589080696,10.609396593058158,11.967636176908188,1.5068087097200449,5.2040750000000031,null,"2010-04-01",0.59956532240593019,1.6241058078610244,-3.2910222093938422,3.7915103841531455,1.9546113238464915,-0.10174166666666906,null,null,"2010-04-01",{"$f":"IF(MONTH(Serie_Encadeada[[#This Row],[Período]])=1,Serie_Encadeada[[#This Row],[Fat.real]],Serie_Encadeada[[#This Row],[Fat.real]]+AR90)","v":473.90729999999996},{"$f":"IF(MONTH(Serie_Encadeada[[#This Row],[Período]])=1,Serie_Encadeada[[#This Row],[Emprego]],Serie_Encadeada[[#This Row],[Emprego]]+AS90)","v":479.62270000000001},{"$f":"IF(MONTH(Serie_Encadeada[[#This Row],[Período]])=1,Serie_Encadeada[[#This Row],[Horas]],Serie_Encadeada[[#This Row],[Horas]]+AT90)","v":438.77},{"$f":"IF(MONTH(Serie_Encadeada[[#This Row],[Período]])=1,Serie_Encadeada[[#This Row],[Massa Real]],Serie_Encadeada[[#This Row],[Massa Real]]+AU90)","v":510.22979999999995},{"$f":"IF(MONTH(Serie_Encadeada[[#This Row],[Período]])=1,Serie_Encadeada[[#This Row],[RMR Real]],Serie_Encadeada[[#This Row],[RMR Real]]+AV90)","v":426.34230000000002},{"$f":"IF(MONTH(Serie_Encadeada[[#This Row],[Período]])=1,Serie_Encadeada[[#This Row],[UCI]],Serie_Encadeada[[#This Row],[UCI]]+AW90)","v":335.91160000000002},83.977900000000005,"2010-04-01",1454.0128999999999,1379.1883,1286.5998,1470.1014999999998,1278.2278000000001,83.58194166666668]
["2010-05-01",{"$f":"MONTH(Serie_Encadeada[[#This Row],[Período]])&YEAR(Serie_Encadeada[[#This Row],[Período]])","v":"52010"},132.6301,123.6112,116.8672,119.04649999999999,96.307299999999998,85.799899999999994,null,"2010-05-01",3.8884306615940556,0.63075765815344564,3.0201575972024166,4.1660651019859838,3.513272985621017,0.42829999999999302,null,"2010-05-01",17.331482641358548,12.679486899006029,13.993536927592325,12.668558254338413,8.4112848289486196E-3,3.5051999999999879,null,"2010-05-01",14.417703562292941,10.959014977705499,11.304391721959583,12.099566976179778,1.2273376192373149,4.8643000000000001,null,"2010-05-01",3.4858319409205554,2.9429566878550508,-1.1177276049166558,4.52938505963089,1.4894198147326445,0.53000833333334185,null,null,"2010-05-01",{"$f":"IF(MONTH(Serie_Encadeada[[#This Row],[Período]])=1,Serie_Encadeada[[#This Row],[Fat.real]],Serie_Encadeada[[#This Row],[Fat.real]]+AR91)","v":606.53739999999993},{"$f":"IF(MONTH(Serie_Encadeada[[#This Row],[Período]])=1,Serie_Encadeada[[#This Row],[Emprego]],Serie_Encadeada[[#This Row],[Emprego]]+AS91)","v":603.23389999999995},{"$f":"IF(MONTH(Serie_Encadeada[[#This Row],[Período]])=1,Serie_Encadeada[[#This Row],[Horas]],Serie_Encadeada[[#This Row],[Horas]]+AT91)","v":555.63720000000001},{"$f":"IF(MONTH(Serie_Encadeada[[#This Row],[Período]])=1,Serie_Encadeada[[#This Row],[Massa Real]],Serie_Encadeada[[#This Row],[Massa Real]]+AU91)","v":629.27629999999999},{"$f":"IF(MONTH(Serie_Encadeada[[#This Row],[Período]])=1,Serie_Encadeada[[#This Row],[RMR Real]],Serie_Encadeada[[#This Row],[RMR Real]]+AV91)","v":522.64959999999996},{"$f":"IF(MONTH(Serie_Encadeada[[#This Row],[Período]])=1,Serie_Encadeada[[#This Row],[UCI]],Serie_Encadeada[[#This Row],[UCI]]+AW91)","v":421.7115},84.342299999999994,"2010-05-01",1473.6042000000002,1393.0979,1300.9460999999999,1483.4872,1278.2359000000001,83.874041666666685]
["2010-06-01",{"$f":"MONTH(Serie_Encadeada[[#This Row],[Período]])&YEAR(Serie_Encadeada[[#This Row],[Período]])","v":"62010"},135.0504,123.17019999999999,113.6409,118.8259,96.472899999999996,85.047300000000007,null,"2010-06-01",1.8248497136019632,-0.35676378839458117,-2.7606548287286725,-0.18530574187396553,0.17194958222273676,-0.75259999999998684,null,"2010-06-01",15.56389967320457,12.061131763733993,10.555086427631936,6.9280192932410749,-4.5639175992022682,2.841700000000003,null,"2010-06-01",14.624740772409714,11.144362768011458,11.176447429992505,11.244973469914003,0.27913872890320957,4.5272000000000077,null,"2010-06-01",6.2434015949552064,4.2956678675194668,0.92222032365222872,5.2434182550899378,0.9431391654552389,1.1216333333333353,null,null,"2010-06-01",{"$f":"IF(MONTH(Serie_Encadeada[[#This Row],[Período]])=1,Serie_Encadeada[[#This Row],[Fat.real]],Serie_Encadeada[[#This Row],[Fat.real]]+AR92)","v":741.5877999999999},{"$f":"IF(MONTH(Serie_Encadeada[[#This Row],[Período]])=1,Serie_Encadeada[[#This Row],[Emprego]],Serie_Encadeada[[#This Row],[Emprego]]+AS92)","v":726.40409999999997},{"$f":"IF(MONTH(Serie_Encadeada[[#This Row],[Período]])=1,Serie_Encadeada[[#This Row],[Horas]],Serie_Encadeada[[#This Row],[Horas]]+AT92)","v":669.27809999999999},{"$f":"IF(MONTH(Serie_Encadeada[[#This Row],[Período]])=1,Serie_Encadeada[[#This Row],[Massa Real]],Serie_Encadeada[[#This Row],[Massa Real]]+AU92)","v":748.10220000000004},{"$f":"IF(MONTH(Serie_Encadeada[[#This Row],[Período]])=1,Serie_Encadeada[[#This Row],[RMR Real]],Serie_Encadeada[[#This Row],[RMR Real]]+AV92)","v":619.12249999999995},{"$f":"IF(MONTH(Serie_Encadeada[[#This Row],[Período]])=1,Serie_Encadeada[[#This Row],[UCI]],Serie_Encadeada[[#This Row],[UCI]]+AW92)","v":506.75880000000001},84.459800000000001,"2010-06-01",1491.7925,1406.3546999999999,1311.7957999999999,1491.1861000000001,1273.6224,84.110850000000013]
["2010-07-01",{"$f":"MONTH(Serie_Encadeada[[#This Row],[Período]])&YEAR(Serie_Encadeada[[#This Row],[Período]])","v":"72010"},135.92320000000001,124.0489,119.1523,134.04730000000001,108.06010000000001,86.591800000000006,null,"2010-07-01",0.64627724168163314,0.71340307964102456,4.8498383944512886,12.809833546390141,12.010834130621149,1.5444999999999993,null,"2010-07-01",9.6629750141795405,12.481422945688356,12.64267954887076,18.228659980578541,5.1294075069293354,4.2036000000000087,null,"2010-07-01",13.826998621380998,11.337405675444964,11.39557992487163,12.25254068305931,0.97138686796257812,4.4809714285714222,null,"2010-07-01",8.57963353230857,5.6719552262506392,3.1740702847311102,6.4705723692128414,0.82230943705855675,1.9050749999999965,null,null,"2010-07-01",{"$f":"IF(MONTH(Serie_Encadeada[[#This Row],[Período]])=1,Serie_Encadeada[[#This Row],[Fat.real]],Serie_Encadeada[[#This Row],[Fat.real]]+AR93)","v":877.51099999999997},{"$f":"IF(MONTH(Serie_Encadeada[[#This Row],[Período]])=1,Serie_Encadeada[[#This Row],[Emprego]],Serie_Encadeada[[#This Row],[Emprego]]+AS93)","v":850.45299999999997},{"$f":"IF(MONTH(Serie_Encadeada[[#This Row],[Período]])=1,Serie_Encadeada[[#This Row],[Horas]],Serie_Encadeada[[#This Row],[Horas]]+AT93)","v":788.43039999999996},{"$f":"IF(MONTH(Serie_Encadeada[[#This Row],[Período]])=1,Serie_Encadeada[[#This Row],[Massa Real]],Serie_Encadeada[[#This Row],[Massa Real]]+AU93)","v":882.14949999999999},{"$f":"IF(MONTH(Serie_Encadeada[[#This Row],[Período]])=1,Serie_Encadeada[[#This Row],[RMR Real]],Serie_Encadeada[[#This Row],[RMR Real]]+AV93)","v":727.18259999999998},{"$f":"IF(MONTH(Serie_Encadeada[[#This Row],[Período]])=1,Serie_Encadeada[[#This Row],[UCI]],Serie_Encadeada[[#This Row],[UCI]]+AW93)","v":593.35059999999999},84.764371428571422,"2010-07-01",1503.7693999999999,1420.1197,1325.1691000000001,1511.8536999999999,1278.8947999999998,84.461150000000004]
["2010-08-01",{"$f":"MONTH(Serie_Encadeada[[#This Row],[Período]])&YEAR(Serie_Encadeada[[#This Row],[Período]])","v":"82010"},140.91489999999999,124.9813,120.24890000000001,121.723,97.393000000000001,86.555499999999995,null,"2010-08-01",3.6724414963744083,0.75163907136621222,0.92033473126411269,-9.1939934635013216,-9.8714511646759568,-3.6300000000011323E-2,null,"2010-08-01",16.023650184103225,12.267560150730526,13.406303844909694,14.444985586605421,1.9573235011771939,2.8066999999999922,null,"2010-08-01",14.125967928101581,11.455723502630608,11.657563384037292,12.513896502536554,1.0868444561370514,4.2716874999999987,null,"2010-08-01",11.296636676412708,7.0292128550924904,5.5554298991111919,7.6163571063760527,0.74639985645913443,2.4591750000000019,null,null,"2010-08-01",{"$f":"IF(MONTH(Serie_Encadeada[[#This Row],[Período]])=1,Serie_Encadeada[[#This Row],[Fat.real]],Serie_Encadeada[[#This Row],[Fat.real]]+AR94)","v":1018.4259},{"$f":"IF(MONTH(Serie_Encadeada[[#This Row],[Período]])=1,Serie_Encadeada[[#This Row],[Emprego]],Serie_Encadeada[[#This Row],[Emprego]]+AS94)","v":975.43430000000001},{"$f":"IF(MONTH(Serie_Encadeada[[#This Row],[Período]])=1,Serie_Encadeada[[#This Row],[Horas]],Serie_Encadeada[[#This Row],[Horas]]+AT94)","v":908.67930000000001},{"$f":"IF(MONTH(Serie_Encadeada[[#This Row],[Período]])=1,Serie_Encadeada[[#This Row],[Massa Real]],Serie_Encadeada[[#This Row],[Massa Real]]+AU94)","v":1003.8724999999999},{"$f":"IF(MONTH(Serie_Encadeada[[#This Row],[Período]])=1,Serie_Encadeada[[#This Row],[RMR Real]],Serie_Encadeada[[#This Row],[RMR Real]]+AV94)","v":824.57560000000001},{"$f":"IF(MONTH(Serie_Encadeada[[#This Row],[Período]])=1,Serie_Encadeada[[#This Row],[UCI]],Serie_Encadeada[[#This Row],[UCI]]+AW94)","v":679.90609999999992},84.98826249999999,"2010-08-01",1523.2307000000001,1433.7764999999999,1339.3843000000002,1527.2172999999998,1280.7644999999998,84.695041666666668]
["2010-09-01",{"$f":"MONTH(Serie_Encadeada[[#This Row],[Período]])&YEAR(Serie_Encadeada[[#This Row],[Período]])","v":"92010"},141.25399999999999,124.9665,118.5125,121.6669,97.3596,85.031999999999996,null,"2010-09-01",0.24064169225539811,-1.1841771529027253E-2,-1.4440048931840568,-4.6088249550208842E-2,-3.4294045773310522E-2,-1.5234999999999985,null,"2010-09-01",8.6565051672878202,10.333712100142767,10.313452633048657,13.829510540280602,3.1873096893239494,0.71629999999998972,null,"2010-09-01",13.430493152922546,11.3271555102855,11.500817103875594,12.654641984469935,1.3046138374687255,3.8766444444444375,null,"2010-09-01",12.876298660888541,8.2751239094440887,7.8975677064150123,8.7269971212710686,0.75143796445915667,2.7933583333333587,null,null,"2010-09-01",{"$f":"IF(MONTH(Serie_Encadeada[[#This Row],[Período]])=1,Serie_Encadeada[[#This Row],[Fat.real]],Serie_Encadeada[[#This Row],[Fat.real]]+AR95)","v":1159.6798999999999},{"$f":"IF(MONTH(Serie_Encadeada[[#This Row],[Período]])=1,Serie_Encadeada[[#This Row],[Emprego]],Serie_Encadeada[[#This Row],[Emprego]]+AS95)","v":1100.4007999999999},{"$f":"IF(MONTH(Serie_Encadeada[[#This Row],[Período]])=1,Serie_Encadeada[[#This Row],[Horas]],Serie_Encadeada[[#This Row],[Horas]]+AT95)","v":1027.1918000000001},{"$f":"IF(MONTH(Serie_Encadeada[[#This Row],[Período]])=1,Serie_Encadeada[[#This Row],[Massa Real]],Serie_Encadeada[[#This Row],[Massa Real]]+AU95)","v":1125.5393999999999},{"$f":"IF(MONTH(Serie_Encadeada[[#This Row],[Período]])=1,Serie_Encadeada[[#This Row],[RMR Real]],Serie_Encadeada[[#This Row],[RMR Real]]+AV95)","v":921.93520000000001},{"$f":"IF(MONTH(Serie_Encadeada[[#This Row],[Período]])=1,Serie_Encadeada[[#This Row],[UCI]],Serie_Encadeada[[#This Row],[UCI]]+AW95)","v":764.93809999999996},84.993122222222212,"2010-09-01",1534.4841999999996,1445.4807000000001,1350.4643000000001,1541.9989999999998,1283.7717999999998,84.754733333333348]
["2010-10-01",{"$f":"MONTH(Serie_Encadeada[[#This Row],[Período]])&YEAR(Serie_Encadeada[[#This Row],[Período]])","v":"102010"},132.61660000000001,123.8707,117.3022,128.64150000000001,103.8515,87.150999999999996,null,"2010-10-01",-6.1148002888413684,-0.87687500250066786,-1.0212424849699431,5.7325369512990054,6.6679608379656461,2.1189999999999998,null,"2010-10-01",-0.96742564712225709,8.0151553466632919,5.9904727827353552,14.121785261215553,5.6721250423547263,2.3315999999999946,null,"2010-10-01",11.763032670386973,10.982843355442171,10.909834628644901,12.803388578334582,1.7302902445059491,3.722139999999996,null,"2010-10-01",12.963338587852073,9.2202992784580733,9.3551915738682823,10.019524203211303,1.1289676383212111,3.210400000000007,null,null,"2010-10-01",{"$f":"IF(MONTH(Serie_Encadeada[[#This Row],[Período]])=1,Serie_Encadeada[[#This Row],[Fat.real]],Serie_Encadeada[[#This Row],[Fat.real]]+AR96)","v":1292.2964999999999},{"$f":"IF(MONTH(Serie_Encadeada[[#This Row],[Período]])=1,Serie_Encadeada[[#This Row],[Emprego]],Serie_Encadeada[[#This Row],[Emprego]]+AS96)","v":1224.2714999999998},{"$f":"IF(MONTH(Serie_Encadeada[[#This Row],[Período]])=1,Serie_Encadeada[[#This Row],[Horas]],Serie_Encadeada[[#This Row],[Horas]]+AT96)","v":1144.4940000000001},{"$f":"IF(MONTH(Serie_Encadeada[[#This Row],[Período]])=1,Serie_Encadeada[[#This Row],[Massa Real]],Serie_Encadeada[[#This Row],[Massa Real]]+AU96)","v":1254.1808999999998},{"$f":"IF(MONTH(Serie_Encadeada[[#This Row],[Período]])=1,Serie_Encadeada[[#This Row],[RMR Real]],Serie_Encadeada[[#This Row],[RMR Real]]+AV96)","v":1025.7867000000001},{"$f":"IF(MONTH(Serie_Encadeada[[#This Row],[Período]])=1,Serie_Encadeada[[#This Row],[UCI]],Serie_Encadeada[[#This Row],[UCI]]+AW96)","v":852.08909999999992},85.208909999999989,"2010-10-01",1533.1886999999997,1454.6723999999999,1357.0941,1557.9174999999998,1289.3461999999997,84.949033333333333]
["2010-11-01",{"$f":"MONTH(Serie_Encadeada[[#This Row],[Período]])&YEAR(Serie_Encadeada[[#This Row],[Período]])","v":"112010"},135.4768,123.6932,118.85509999999999,148.31630000000001,119.9066,86.615600000000001,null,"2010-11-01",2.1567435750878787,-0.14329458055859448,1.3238455885737812,15.294286835896662,15.459670779911697,-0.53539999999999566,null,"2010-11-01",15.721813496242877,7.5223727502292697,8.3962691760139307,14.166216363924681,6.1974632691253433,2.381299999999996,null,"2010-11-01",12.126999748773629,10.656045816086287,10.668403116920627,12.945969359006005,2.1801320420823722,3.6002454545454583,null,"2010-11-01",12.971293349049557,9.9779972772419203,10.414170570314891,11.48451126619892,1.7206077136507802,3.4919000000000153,null,null,"2010-11-01",{"$f":"IF(MONTH(Serie_Encadeada[[#This Row],[Período]])=1,Serie_Encadeada[[#This Row],[Fat.real]],Serie_Encadeada[[#This Row],[Fat.real]]+AR97)","v":1427.7732999999998},{"$f":"IF(MONTH(Serie_Encadeada[[#This Row],[Período]])=1,Serie_Encadeada[[#This Row],[Emprego]],Serie_Encadeada[[#This Row],[Emprego]]+AS97)","v":1347.9646999999998},{"$f":"IF(MONTH(Serie_Encadeada[[#This Row],[Período]])=1,Serie_Encadeada[[#This Row],[Horas]],Serie_Encadeada[[#This Row],[Horas]]+AT97)","v":1263.3491000000001},{"$f":"IF(MONTH(Serie_Encadeada[[#This Row],[Período]])=1,Serie_Encadeada[[#This Row],[Massa Real]],Serie_Encadeada[[#This Row],[Massa Real]]+AU97)","v":1402.4971999999998},{"$f":"IF(MONTH(Serie_Encadeada[[#This Row],[Período]])=1,Serie_Encadeada[[#This Row],[RMR Real]],Serie_Encadeada[[#This Row],[RMR Real]]+AV97)","v":1145.6933000000001},{"$f":"IF(MONTH(Serie_Encadeada[[#This Row],[Período]])=1,Serie_Encadeada[[#This Row],[UCI]],Serie_Encadeada[[#This Row],[UCI]]+AW97)","v":938.70469999999989},85.336790909090894,"2010-11-01",1551.5943999999997,1463.3260999999998,1366.3005000000001,1576.3211999999999,1296.3436999999999,85.147475]
["2010-12-01",{"$f":"MONTH(Serie_Encadeada[[#This Row],[Período]])&YEAR(Serie_Encadeada[[#This Row],[Período]])","v":"122010"},133.4666,122.3215,113.819,188.57570000000001,154.16399999999999,81.285300000000007,null,"2010-12-01",-1.4837964876643068,-1.1089534428731767,-4.2371761918504047,27.14428555728534,28.570070371439094,-5.330299999999994,null,"2010-12-01",7.7898678012067393,6.0333005667406923,10.556048776412943,8.4865726251840936,2.3322872026891379,-1.7796999999999912,null,"2010-12-01",11.742632346360638,10.256136640603517,10.659108696246102,12.398378966091103,2.1981540987138133,3.1519166666666649,null,"2010-12-01",11.742632346360638,10.256136640603517,10.659108696246102,12.398378966091103,2.1981540987138133,3.1519166666666649,null,null,"2010-12-01",{"$f":"IF(MONTH(Serie_Encadeada[[#This Row],[Período]])=1,Serie_Encadeada[[#This Row],[Fat.real]],Serie_Encadeada[[#This Row],[Fat.real]]+AR98)","v":1561.2398999999998},{"$f":"IF(MONTH(Serie_Encadeada[[#This Row],[Período]])=1,Serie_Encadeada[[#This Row],[Emprego]],Serie_Encadeada[[#This Row],[Emprego]]+AS98)","v":1470.2861999999998},{"$f":"IF(MONTH(Serie_Encadeada[[#This Row],[Período]])=1,Serie_Encadeada[[#This Row],[Horas]],Serie_Encadeada[[#This Row],[Horas]]+AT98)","v":1377.1681000000001},{"$f":"IF(MONTH(Serie_Encadeada[[#This Row],[Período]])=1,Serie_Encadeada[[#This Row],[Massa Real]],Serie_Encadeada[[#This Row],[Massa Real]]+AU98)","v":1591.0728999999999},{"$f":"IF(MONTH(Serie_Encadeada[[#This Row],[Período]])=1,Serie_Encadeada[[#This Row],[RMR Real]],Serie_Encadeada[[#This Row],[RMR Real]]+AV98)","v":1299.8573000000001},{"$f":"IF(MONTH(Serie_Encadeada[[#This Row],[Período]])=1,Serie_Encadeada[[#This Row],[UCI]],Serie_Encadeada[[#This Row],[UCI]]+AW98)","v":1019.9899999999999},84.999166666666653,"2010-12-01",1561.2398999999998,1470.2861999999998,1377.1681000000001,1591.0728999999999,1299.8573000000001,84.999166666666653]
["2011-01-01",{"$f":"MONTH(Serie_Encadeada[[#This Row],[Período]])&YEAR(Serie_Encadeada[[#This Row],[Período]])","v":"12011"},110.7529,121.8626,108.8682,139.249,114.2672,82.929100000000005,null,"2011-01-01",-17.018265243888735,-0.37515890501669769,-4.3497131410397216,-26.157505977705512,-25.879453049998695,1.6437999999999988,null,"2011-01-01",3.579598486421375,4.5115864221882953,6.3091267020287622,6.6749504733567351,2.0700349620990894,0.52349999999999852,null,"2011-01-01",3.579598486421375,4.5115864221882953,6.3091267020287622,6.6749504733567351,2.0700349620990894,0.52349999999999852,null,"2011-01-01",10.777570553602759,10.046793201673148,10.778507692122949,11.945119684283737,1.9881975855693215,2.7298250000000053,null,null,"2011-01-01",{"$f":"IF(MONTH(Serie_Encadeada[[#This Row],[Período]])=1,Serie_Encadeada[[#This Row],[Fat.real]],Serie_Encadeada[[#This Row],[Fat.real]]+AR99)","v":110.7529},{"$f":"IF(MONTH(Serie_Encadeada[[#This Row],[Período]])=1,Serie_Encadeada[[#This Row],[Emprego]],Serie_Encadeada[[#This Row],[Emprego]]+AS99)","v":121.8626},{"$f":"IF(MONTH(Serie_Encadeada[[#This Row],[Período]])=1,Serie_Encadeada[[#This Row],[Horas]],Serie_Encadeada[[#This Row],[Horas]]+AT99)","v":108.8682},{"$f":"IF(MONTH(Serie_Encadeada[[#This Row],[Período]])=1,Serie_Encadeada[[#This Row],[Massa Real]],Serie_Encadeada[[#This Row],[Massa Real]]+AU99)","v":139.249},{"$f":"IF(MONTH(Serie_Encadeada[[#This Row],[Período]])=1,Serie_Encadeada[[#This Row],[RMR Real]],Serie_Encadeada[[#This Row],[RMR Real]]+AV99)","v":114.2672},{"$f":"IF(MONTH(Serie_Encadeada[[#This Row],[Período]])=1,Serie_Encadeada[[#This Row],[UCI]],Serie_Encadeada[[#This Row],[UCI]]+AW99)","v":82.929100000000005},82.929100000000005,"2011-01-01",1565.0673999999997,1475.5467999999998,1383.6291000000001,1599.7860999999998,1302.1747,85.042791666666673]
["2011-02-01",{"$f":"MONTH(Serie_Encadeada[[#This Row],[Período]])&YEAR(Serie_Encadeada[[#This Row],[Período]])","v":"22011"},127.1263,121.4911,112.8107,165.43709999999999,136.1722,84.045299999999997,null,"2011-02-01",14.7837212389021,-0.30485152950946187,3.621351322057309,18.80667006585325,19.169980536846971,1.1161999999999921,null,"2011-02-01",20.252999317982098,2.7034543857587701,8.4357511827795744,14.304714737579577,11.29589747571546,0.88459999999999184,null,"2011-02-01",11.868872010161725,3.6010116856417991,7.3808211321544368,10.686593342081155,6.887755210918594,0.70404999999999518,null,"2011-02-01",11.424126843079973,9.4305447532725477,10.745846310568094,11.608092997916922,2.3221454509716444,2.3340249999999969,null,null,"2011-02-01",{"$f":"IF(MONTH(Serie_Encadeada[[#This Row],[Período]])=1,Serie_Encadeada[[#This Row],[Fat.real]],Serie_Encadeada[[#This Row],[Fat.real]]+AR100)","v":237.8792},{"$f":"IF(MONTH(Serie_Encadeada[[#This Row],[Período]])=1,Serie_Encadeada[[#This Row],[Emprego]],Serie_Encadeada[[#This Row],[Emprego]]+AS100)","v":243.3537},{"$f":"IF(MONTH(Serie_Encadeada[[#This Row],[Período]])=1,Serie_Encadeada[[#This Row],[Horas]],Serie_Encadeada[[#This Row],[Horas]]+AT100)","v":221.6789},{"$f":"IF(MONTH(Serie_Encadeada[[#This Row],[Período]])=1,Serie_Encadeada[[#This Row],[Massa Real]],Serie_Encadeada[[#This Row],[Massa Real]]+AU100)","v":304.68610000000001},{"$f":"IF(MONTH(Serie_Encadeada[[#This Row],[Período]])=1,Serie_Encadeada[[#This Row],[RMR Real]],Serie_Encadeada[[#This Row],[RMR Real]]+AV100)","v":250.43940000000001},{"$f":"IF(MONTH(Serie_Encadeada[[#This Row],[Período]])=1,Serie_Encadeada[[#This Row],[UCI]],Serie_Encadeada[[#This Row],[UCI]]+AW100)","v":166.9744},83.487200000000001,"2011-02-01",1586.4779999999996,1478.7447999999999,1392.4052000000001,1620.4897999999998,1315.9954,85.116508333333329]
["2011-03-01",{"$f":"MONTH(Serie_Encadeada[[#This Row],[Período]])&YEAR(Serie_Encadeada[[#This Row],[Período]])","v":"32011"},134.42609999999999,121.95,117.7282,131.43190000000001,107.7752,84.713999999999999,null,"2011-03-01",5.7421635019661474,0.37772314185977396,4.3590723220403778,-20.554760691525647,-20.8537425406948,0.66870000000000118,null,"2011-03-01",0.61811238447816863,4.8239741671265088E-2,-0.97479036834105859,8.913671646144671,8.8611993244608254,-0.25969999999999516,null,"2011-03-01",7.5276671131759487,2.3872553402414862,4.3273745431162247,10.1462452439673,7.473934432771081,0.38280000000000314,null,"2011-03-01",10.599562745016994,8.3215633661290553,9.2621227482027955,11.635553954463409,3.3349568210508829,1.8701583333333076,null,null,"2011-03-01",{"$f":"IF(MONTH(Serie_Encadeada[[#This Row],[Período]])=1,Serie_Encadeada[[#This Row],[Fat.real]],Serie_Encadeada[[#This Row],[Fat.real]]+AR101)","v":372.30529999999999},{"$f":"IF(MONTH(Serie_Encadeada[[#This Row],[Período]])=1,Serie_Encadeada[[#This Row],[Emprego]],Serie_Encadeada[[#This Row],[Emprego]]+AS101)","v":365.30369999999999},{"$f":"IF(MONTH(Serie_Encadeada[[#This Row],[Período]])=1,Serie_Encadeada[[#This Row],[Horas]],Serie_Encadeada[[#This Row],[Horas]]+AT101)","v":339.40710000000001},{"$f":"IF(MONTH(Serie_Encadeada[[#This Row],[Período]])=1,Serie_Encadeada[[#This Row],[Massa Real]],Serie_Encadeada[[#This Row],[Massa Real]]+AU101)","v":436.11800000000005},{"$f":"IF(MONTH(Serie_Encadeada[[#This Row],[Período]])=1,Serie_Encadeada[[#This Row],[RMR Real]],Serie_Encadeada[[#This Row],[RMR Real]]+AV101)","v":358.21460000000002},{"$f":"IF(MONTH(Serie_Encadeada[[#This Row],[Período]])=1,Serie_Encadeada[[#This Row],[UCI]],Serie_Encadeada[[#This Row],[UCI]]+AW101)","v":251.6884},83.896133333333339,"2011-03-01",1587.3037999999997,1478.8036,1391.2463000000002,1631.2464,1324.7682,85.094866666666647]
["2011-04-01",{"$f":"MONTH(Serie_Encadeada[[#This Row],[Período]])&YEAR(Serie_Encadeada[[#This Row],[Período]])","v":"42011"},130.9367,123.0536,114.48090000000001,123.66719999999999,100.4986,84.788899999999998,null,"2011-04-01",-2.5957756715399682,0.90496104961049617,-2.7583025986976746,-5.9077742922380478,-6.751646018750141,7.4899999999999523E-2,null,"2011-04-01",2.5619997195805682,0.17682055156289617,0.91659901041156999,8.2091922583219255,8.0181774016375922,-0.58270000000000266,null,"2011-04-01",6.1899658435310032,1.8211398251167012,3.4455409440025644,9.7123688189125925,7.5927019204990929,0.14142499999999814,null,"2011-04-01",9.3920556000569171,7.2384967302869363,8.2143880327044858,11.599661656014932,4.2246303827846567,1.4643666666666491,null,null,"2011-04-01",{"$f":"IF(MONTH(Serie_Encadeada[[#This Row],[Período]])=1,Serie_Encadeada[[#This Row],[Fat.real]],Serie_Encadeada[[#This Row],[Fat.real]]+AR102)","v":503.24199999999996},{"$f":"IF(MONTH(Serie_Encadeada[[#This Row],[Período]])=1,Serie_Encadeada[[#This Row],[Emprego]],Serie_Encadeada[[#This Row],[Emprego]]+AS102)","v":488.35730000000001},{"$f":"IF(MONTH(Serie_Encadeada[[#This Row],[Período]])=1,Serie_Encadeada[[#This Row],[Horas]],Serie_Encadeada[[#This Row],[Horas]]+AT102)","v":453.88800000000003},{"$f":"IF(MONTH(Serie_Encadeada[[#This Row],[Período]])=1,Serie_Encadeada[[#This Row],[Massa Real]],Serie_Encadeada[[#This Row],[Massa Real]]+AU102)","v":559.78520000000003},{"$f":"IF(MONTH(Serie_Encadeada[[#This Row],[Período]])=1,Serie_Encadeada[[#This Row],[RMR Real]],Serie_Encadeada[[#This Row],[RMR Real]]+AV102)","v":458.71320000000003},{"$f":"IF(MONTH(Serie_Encadeada[[#This Row],[Período]])=1,Serie_Encadeada[[#This Row],[UCI]],Serie_Encadeada[[#This Row],[UCI]]+AW102)","v":336.47730000000001},84.119325000000003,"2011-04-01",1590.5745999999999,1479.0208,1392.2860999999998,1640.6283000000001,1332.2282,85.046308333333329]
["2011-05-01",{"$f":"MONTH(Serie_Encadeada[[#This Row],[Período]])&YEAR(Serie_Encadeada[[#This Row],[Período]])","v":"52011"},141.4288,124.8694,121.40779999999999,132.27950000000001,105.93429999999999,86.314599999999999,null,"2011-05-01",8.0131086242436176,1.4756171294460265,6.0507036544960675,6.9640939553899655,5.408732061939169,1.5257000000000005,null,"2011-05-01",6.6340144507166903,1.0178689309706581,3.8852646422606152,11.11582448875021,9.9961269810284321,0.51470000000000482,null,"2011-05-01",6.2870649031700365,1.6565382018484212,3.5380280513975628,9.9778745838672176,8.035574886118745,0.21608000000000516,null,"2011-05-01",8.5347951641288411,6.2580741812905067,7.3700670611949404,11.484703069901798,4.9771172911040784,1.2151583333333065,null,null,"2011-05-01",{"$f":"IF(MONTH(Serie_Encadeada[[#This Row],[Período]])=1,Serie_Encadeada[[#This Row],[Fat.real]],Serie_Encadeada[[#This Row],[Fat.real]]+AR103)","v":644.67079999999999},{"$f":"IF(MONTH(Serie_Encadeada[[#This Row],[Período]])=1,Serie_Encadeada[[#This Row],[Emprego]],Serie_Encadeada[[#This Row],[Emprego]]+AS103)","v":613.22670000000005},{"$f":"IF(MONTH(Serie_Encadeada[[#This Row],[Período]])=1,Serie_Encadeada[[#This Row],[Horas]],Serie_Encadeada[[#This Row],[Horas]]+AT103)","v":575.29579999999999},{"$f":"IF(MONTH(Serie_Encadeada[[#This Row],[Período]])=1,Serie_Encadeada[[#This Row],[Massa Real]],Serie_Encadeada[[#This Row],[Massa Real]]+AU103)","v":692.06470000000002},{"$f":"IF(MONTH(Serie_Encadeada[[#This Row],[Período]])=1,Serie_Encadeada[[#This Row],[RMR Real]],Serie_Encadeada[[#This Row],[RMR Real]]+AV103)","v":564.64750000000004},{"$f":"IF(MONTH(Serie_Encadeada[[#This Row],[Período]])=1,Serie_Encadeada[[#This Row],[UCI]],Serie_Encadeada[[#This Row],[UCI]]+AW103)","v":422.7919},84.55838,"2011-05-01",1599.3732999999997,1480.2790000000002,1396.8267000000001,1653.8613000000003,1341.8552,85.089199999999991]
["2011-06-01",{"$f":"MONTH(Serie_Encadeada[[#This Row],[Período]])&YEAR(Serie_Encadeada[[#This Row],[Período]])","v":"62011"},138.0692,125.1276,117.5692,134.24799999999999,107.28879999999999,86.173400000000001,null,"2011-06-01",-2.3754709083298455,0.20677603960618229,-3.1617408436690226,1.4881368617208088,1.2786226934996519,-0.14119999999999777,null,"2011-06-01",2.2353136310592188,1.5891830978597152,3.4567660059010383,12.978736117294282,11.211334996667457,1.1260999999999939,null,"2011-06-01",5.5492013218124834,1.6451173664906502,3.5242300622118092,10.454520786063711,8.5304281462877114,0.36775000000000091,null,"2011-06-01",7.4138729079278489,5.3956302773404277,6.7814823008276148,11.943331553318536,6.2066040923903216,1.0721916666666544,null,null,"2011-06-01",{"$f":"IF(MONTH(Serie_Encadeada[[#This Row],[Período]])=1,Serie_Encadeada[[#This Row],[Fat.real]],Serie_Encadeada[[#This Row],[Fat.real]]+AR104)","v":782.74},{"$f":"IF(MONTH(Serie_Encadeada[[#This Row],[Período]])=1,Serie_Encadeada[[#This Row],[Emprego]],Serie_Encadeada[[#This Row],[Emprego]]+AS104)","v":738.35430000000008},{"$f":"IF(MONTH(Serie_Encadeada[[#This Row],[Período]])=1,Serie_Encadeada[[#This Row],[Horas]],Serie_Encadeada[[#This Row],[Horas]]+AT104)","v":692.86500000000001},{"$f":"IF(MONTH(Serie_Encadeada[[#This Row],[Período]])=1,Serie_Encadeada[[#This Row],[Massa Real]],Serie_Encadeada[[#This Row],[Massa Real]]+AU104)","v":826.31269999999995},{"$f":"IF(MONTH(Serie_Encadeada[[#This Row],[Período]])=1,Serie_Encadeada[[#This Row],[RMR Real]],Serie_Encadeada[[#This Row],[RMR Real]]+AV104)","v":671.93630000000007},{"$f":"IF(MONTH(Serie_Encadeada[[#This Row],[Período]])=1,Serie_Encadeada[[#This Row],[UCI]],Serie_Encadeada[[#This Row],[UCI]]+AW104)","v":508.96530000000001},84.827550000000002,"2011-06-01",1602.3920999999996,1482.2364,1400.7549999999999,1669.2834000000003,1352.6710999999998,85.183041666666668]
["2011-07-01",{"$f":"MONTH(Serie_Encadeada[[#This Row],[Período]])&YEAR(Serie_Encadeada[[#This Row],[Período]])","v":"72011"},136.1849,125.0462,120.0123,133.05680000000001,106.4061,86.173400000000001,null,"2011-07-01",-1.3647504294947723,-6.5053593291969261E-2,2.0780102271683409,-0.88731303259637451,-0.82273266175034099,0,null,"2011-07-01",0.19253519634616495,0.80395714915649841,0.72176533730360171,-0.7389182773543348,-1.5306297143904277,-0.41840000000000543,null,"2011-07-01",4.7194736020403179,1.5224239317164034,3.1007048941796294,8.753618292590998,7.0353443550492178,0.25544285714285309,null,"2011-07-01",6.5757688645612618,4.444273253867264,5.7687656616804555,10.347509153828872,5.6394239776406945,0.68702500000000555,null,null,"2011-07-01",{"$f":"IF(MONTH(Serie_Encadeada[[#This Row],[Período]])=1,Serie_Encadeada[[#This Row],[Fat.real]],Serie_Encadeada[[#This Row],[Fat.real]]+AR105)","v":918.92489999999998},{"$f":"IF(MONTH(Serie_Encadeada[[#This Row],[Período]])=1,Serie_Encadeada[[#This Row],[Emprego]],Serie_Encadeada[[#This Row],[Emprego]]+AS105)","v":863.40050000000008},{"$f":"IF(MONTH(Serie_Encadeada[[#This Row],[Período]])=1,Serie_Encadeada[[#This Row],[Horas]],Serie_Encadeada[[#This Row],[Horas]]+AT105)","v":812.87729999999999},{"$f":"IF(MONTH(Serie_Encadeada[[#This Row],[Período]])=1,Serie_Encadeada[[#This Row],[Massa Real]],Serie_Encadeada[[#This Row],[Massa Real]]+AU105)","v":959.36950000000002},{"$f":"IF(MONTH(Serie_Encadeada[[#This Row],[Período]])=1,Serie_Encadeada[[#This Row],[RMR Real]],Serie_Encadeada[[#This Row],[RMR Real]]+AV105)","v":778.34240000000011},{"$f":"IF(MONTH(Serie_Encadeada[[#This Row],[Período]])=1,Serie_Encadeada[[#This Row],[UCI]],Serie_Encadeada[[#This Row],[UCI]]+AW105)","v":595.13869999999997},85.019814285714276,"2011-07-01",1602.6537999999996,1483.2337,1401.615,1668.2929000000004,1351.0170999999998,85.148175000000009]
["2011-08-01",{"$f":"MONTH(Serie_Encadeada[[#This Row],[Período]])&YEAR(Serie_Encadeada[[#This Row],[Período]])","v":"82011"},141.5292,125.518,123.6477,128.33199999999999,102.2419,87.685299999999998,null,"2011-08-01",3.9242970402739248,0.37730054971682608,3.0291895080754259,-3.5509647007894491,-3.9134974404662835,1.5118999999999971,null,"2011-08-01",0.43593686686078925,0.42942424186658018,2.8264707618946985,5.4295408427330862,4.9786945673713721,1.129800000000003,null,"2011-08-01",4.1267803578051163,1.3823791105151932,3.0644144749418154,8.3505624469243038,6.792427522715939,0.36473750000000393,null,"2011-08-01",5.2544502943644522,3.4868684205662577,4.899975309550797,9.6701759468021038,5.8638024398708914,0.54728333333333978,null,null,"2011-08-01",{"$f":"IF(MONTH(Serie_Encadeada[[#This Row],[Período]])=1,Serie_Encadeada[[#This Row],[Fat.real]],Serie_Encadeada[[#This Row],[Fat.real]]+AR106)","v":1060.4540999999999},{"$f":"IF(MONTH(Serie_Encadeada[[#This Row],[Período]])=1,Serie_Encadeada[[#This Row],[Emprego]],Serie_Encadeada[[#This Row],[Emprego]]+AS106)","v":988.91850000000011},{"$f":"IF(MONTH(Serie_Encadeada[[#This Row],[Período]])=1,Serie_Encadeada[[#This Row],[Horas]],Serie_Encadeada[[#This Row],[Horas]]+AT106)","v":936.52499999999998},{"$f":"IF(MONTH(Serie_Encadeada[[#This Row],[Período]])=1,Serie_Encadeada[[#This Row],[Massa Real]],Serie_Encadeada[[#This Row],[Massa Real]]+AU106)","v":1087.7015000000001},{"$f":"IF(MONTH(Serie_Encadeada[[#This Row],[Período]])=1,Serie_Encadeada[[#This Row],[RMR Real]],Serie_Encadeada[[#This Row],[RMR Real]]+AV106)","v":880.5843000000001},{"$f":"IF(MONTH(Serie_Encadeada[[#This Row],[Período]])=1,Serie_Encadeada[[#This Row],[UCI]],Serie_Encadeada[[#This Row],[UCI]]+AW106)","v":682.82399999999996},85.352999999999994,"2011-08-01",1603.2680999999998,1483.7704000000001,1405.0137999999999,1674.9019000000003,1355.866,85.242325000000008]
["2011-09-01",{"$f":"MONTH(Serie_Encadeada[[#This Row],[Período]])&YEAR(Serie_Encadeada[[#This Row],[Período]])","v":"92011"},142.34880000000001,125.2182,119.95440000000001,131.8922,105.32989999999999,86.667299999999997,null,"2011-09-01",0.57910311087747846,-0.2388502047515135,-2.986954063844288,2.7742106411495255,3.020288159746634,-1.0180000000000007,null,"2011-09-01",0.77505769748114794,0.20141397894635729,1.2166649087649015,8.4043400464711482,8.1864551621000849,1.6353000000000009,null,"2011-09-01",3.718526120871807,1.2482633600411897,2.8512299260955825,8.3563756186589515,6.9396417448861962,0.50591111111111786,null,"2011-09-01",4.5538885314035813,2.6663379178981819,4.1460851649317858,9.2819904552467509,6.2366613754874658,0.62386666666665747,null,null,"2011-09-01",{"$f":"IF(MONTH(Serie_Encadeada[[#This Row],[Período]])=1,Serie_Encadeada[[#This Row],[Fat.real]],Serie_Encadeada[[#This Row],[Fat.real]]+AR107)","v":1202.8028999999999},{"$f":"IF(MONTH(Serie_Encadeada[[#This Row],[Período]])=1,Serie_Encadeada[[#This Row],[Emprego]],Serie_Encadeada[[#This Row],[Emprego]]+AS107)","v":1114.1367},{"$f":"IF(MONTH(Serie_Encadeada[[#This Row],[Período]])=1,Serie_Encadeada[[#This Row],[Horas]],Serie_Encadeada[[#This Row],[Horas]]+AT107)","v":1056.4793999999999},{"$f":"IF(MONTH(Serie_Encadeada[[#This Row],[Período]])=1,Serie_Encadeada[[#This Row],[Massa Real]],Serie_Encadeada[[#This Row],[Massa Real]]+AU107)","v":1219.5937000000001},{"$f":"IF(MONTH(Serie_Encadeada[[#This Row],[Período]])=1,Serie_Encadeada[[#This Row],[RMR Real]],Serie_Encadeada[[#This Row],[RMR Real]]+AV107)","v":985.91420000000005},{"$f":"IF(MONTH(Serie_Encadeada[[#This Row],[Período]])=1,Serie_Encadeada[[#This Row],[UCI]],Serie_Encadeada[[#This Row],[UCI]]+AW107)","v":769.49129999999991},85.49903333333333,"2011-09-01",1604.3628999999996,1484.0221000000001,1406.4557,1685.1272000000001,1363.8362999999999,85.378600000000006]
["2011-10-01",{"$f":"MONTH(Serie_Encadeada[[#This Row],[Período]])&YEAR(Serie_Encadeada[[#This Row],[Período]])","v":"102011"},135.648,124.55759999999999,119.33450000000001,135.07939999999999,108.4473,85.950199999999995,null,"2011-10-01",-4.7073104936606525,-0.52755909284752722,-0.51677970962299102,2.4165189450172111,2.9596534317416077,-0.71710000000000207,null,"2011-10-01",2.2858375195865306,0.55452984442648201,1.7325335756703679,5.0045280877477207,4.4253573612321411,-1.200800000000001,null,"2011-10-01",3.5715023603329343,1.1780720207895292,2.7365717950465211,8.0125761762119314,6.6850934994575244,0.33523999999999887,null,"2011-10-01",4.8399521859246688,2.0648360414344933,3.7870550023023482,8.5786057348993587,6.1337986647806684,0.32949999999999591,null,null,"2011-10-01",{"$f":"IF(MONTH(Serie_Encadeada[[#This Row],[Período]])=1,Serie_Encadeada[[#This Row],[Fat.real]],Serie_Encadeada[[#This Row],[Fat.real]]+AR108)","v":1338.4508999999998},{"$f":"IF(MONTH(Serie_Encadeada[[#This Row],[Período]])=1,Serie_Encadeada[[#This Row],[Emprego]],Serie_Encadeada[[#This Row],[Emprego]]+AS108)","v":1238.6943000000001},{"$f":"IF(MONTH(Serie_Encadeada[[#This Row],[Período]])=1,Serie_Encadeada[[#This Row],[Horas]],Serie_Encadeada[[#This Row],[Horas]]+AT108)","v":1175.8138999999999},{"$f":"IF(MONTH(Serie_Encadeada[[#This Row],[Período]])=1,Serie_Encadeada[[#This Row],[Massa Real]],Serie_Encadeada[[#This Row],[Massa Real]]+AU108)","v":1354.6731000000002},{"$f":"IF(MONTH(Serie_Encadeada[[#This Row],[Período]])=1,Serie_Encadeada[[#This Row],[RMR Real]],Serie_Encadeada[[#This Row],[RMR Real]]+AV108)","v":1094.3615},{"$f":"IF(MONTH(Serie_Encadeada[[#This Row],[Período]])=1,Serie_Encadeada[[#This Row],[UCI]],Serie_Encadeada[[#This Row],[UCI]]+AW108)","v":855.44149999999991},85.544149999999988,"2011-10-01",1607.3942999999997,1484.7090000000001,1408.4880000000001,1691.5651000000005,1368.4321,85.278533333333328]
["2011-11-01",{"$f":"MONTH(Serie_Encadeada[[#This Row],[Período]])&YEAR(Serie_Encadeada[[#This Row],[Período]])","v":"112011"},133.33009999999999,123.2803,119.7022,154.5849,125.393,85.732200000000006,null,"2011-11-01",-1.7087609105921273,-1.0254693410919902,0.30812547922017458,14.440025644176695,15.6257463302452,-0.21799999999998931,null,"2011-11-01",-1.5845517461292338,-0.33380978097422298,0.7127165767392496,4.2265078079752474,4.5755613118877552,-0.88339999999999463,null,"2011-11-01",3.0822610284139569,1.0393373060882267,2.5461687509809985,7.6121934503684203,6.4643129186493331,0.22445454545454879,null,"2011-11-01",3.4579397811696135,1.4330366963317511,3.1497170644378709,7.7086129400530989,5.9841228834606381,5.7441666666662172E-2,null,null,"2011-11-01",{"$f":"IF(MONTH(Serie_Encadeada[[#This Row],[Período]])=1,Serie_Encadeada[[#This Row],[Fat.real]],Serie_Encadeada[[#This Row],[Fat.real]]+AR109)","v":1471.7809999999997},{"$f":"IF(MONTH(Serie_Encadeada[[#This Row],[Período]])=1,Serie_Encadeada[[#This Row],[Emprego]],Serie_Encadeada[[#This Row],[Emprego]]+AS109)","v":1361.9746},{"$f":"IF(MONTH(Serie_Encadeada[[#This Row],[Período]])=1,Serie_Encadeada[[#This Row],[Horas]],Serie_Encadeada[[#This Row],[Horas]]+AT109)","v":1295.5160999999998},{"$f":"IF(MONTH(Serie_Encadeada[[#This Row],[Período]])=1,Serie_Encadeada[[#This Row],[Massa Real]],Serie_Encadeada[[#This Row],[Massa Real]]+AU109)","v":1509.2580000000003},{"$f":"IF(MONTH(Serie_Encadeada[[#This Row],[Período]])=1,Serie_Encadeada[[#This Row],[RMR Real]],Serie_Encadeada[[#This Row],[RMR Real]]+AV109)","v":1219.7545},{"$f":"IF(MONTH(Serie_Encadeada[[#This Row],[Período]])=1,Serie_Encadeada[[#This Row],[UCI]],Serie_Encadeada[[#This Row],[UCI]]+AW109)","v":941.17369999999994},85.561245454545443,"2011-11-01",1605.2475999999997,1484.2961,1409.3351,1697.8337000000001,1373.9185000000002,85.204916666666662]
["2011-12-01",{"$f":"MONTH(Serie_Encadeada[[#This Row],[Período]])&YEAR(Serie_Encadeada[[#This Row],[Período]])","v":"122011"},129.9691,121.747,112.15470000000001,204.8039,168.2209,84.193600000000004,null,"2011-12-01",-2.5208111296698874,-1.2437510291587521,-6.305230814471245,32.486355394349637,34.154936878454137,-1.5386000000000024,null,"2011-12-01",-2.6205058044484555,-0.46966395932031607,-1.4622338976796467,8.6056687049285703,9.1181469084870752,2.908299999999997,null,"2011-12-01",2.5947453687290434,0.91379487884741772,2.2148857499676167,7.7299412239376508,6.779059516763871,0.44810833333333733,null,"2011-12-01",2.5947453687290434,0.91379487884741772,2.2148857499676167,7.7299412239376508,6.779059516763871,0.44810833333333733,null,null,"2011-12-01",{"$f":"IF(MONTH(Serie_Encadeada[[#This Row],[Período]])=1,Serie_Encadeada[[#This Row],[Fat.real]],Serie_Encadeada[[#This Row],[Fat.real]]+AR110)","v":1601.7500999999997},{"$f":"IF(MONTH(Serie_Encadeada[[#This Row],[Período]])=1,Serie_Encadeada[[#This Row],[Emprego]],Serie_Encadeada[[#This Row],[Emprego]]+AS110)","v":1483.7216000000001},{"$f":"IF(MONTH(Serie_Encadeada[[#This Row],[Período]])=1,Serie_Encadeada[[#This Row],[Horas]],Serie_Encadeada[[#This Row],[Horas]]+AT110)","v":1407.6707999999999},{"$f":"IF(MONTH(Serie_Encadeada[[#This Row],[Período]])=1,Serie_Encadeada[[#This Row],[Massa Real]],Serie_Encadeada[[#This Row],[Massa Real]]+AU110)","v":1714.0619000000002},{"$f":"IF(MONTH(Serie_Encadeada[[#This Row],[Período]])=1,Serie_Encadeada[[#This Row],[RMR Real]],Serie_Encadeada[[#This Row],[RMR Real]]+AV110)","v":1387.9754},{"$f":"IF(MONTH(Serie_Encadeada[[#This Row],[Período]])=1,Serie_Encadeada[[#This Row],[UCI]],Serie_Encadeada[[#This Row],[UCI]]+AW110)","v":1025.3672999999999},85.447274999999991,"2011-12-01",1601.7500999999997,{"$f":"SUM(D100:D111)","v":1483.7216000000001},1407.6707999999999,1714.0619000000002,1387.9754,85.447274999999991]
["2012-01-01",{"$f":"MONTH(Serie_Encadeada[[#This Row],[Período]])&YEAR(Serie_Encadeada[[#This Row],[Período]])","v":"12012"},116.7773,121.9662,111.7731,136.4811,111.9008,83.932599999999994,null,"2012-01-01",-10.149951026820991,0.18004550420133614,-0.34024432324281184,-33.360106912026581,-33.479847034464797,-0.26100000000000989,null,"2012-01-01",5.4394963924195219,8.501377781206057E-2,2.6682722778552392,-1.9877342027590845,-2.0709354915496299,1.0034999999999883,null,"2012-01-01",5.4394963924195219,8.501377781206057E-2,2.6682722778552392,-1.9877342027590845,-2.0709354915496299,1.0034999999999883,null,"2012-01-01",2.7287706586949603,0.56103947363786599,1.9475305918327217,6.9701755753472625,6.407304641996185,0.48810833333334358,null,null,"2012-01-01",{"$f":"IF(MONTH(Serie_Encadeada[[#This Row],[Período]])=1,Serie_Encadeada[[#This Row],[Fat.real]],Serie_Encadeada[[#This Row],[Fat.real]]+AR111)","v":116.7773},{"$f":"IF(MONTH(Serie_Encadeada[[#This Row],[Período]])=1,Serie_Encadeada[[#This Row],[Emprego]],Serie_Encadeada[[#This Row],[Emprego]]+AS111)","v":121.9662},{"$f":"IF(MONTH(Serie_Encadeada[[#This Row],[Período]])=1,Serie_Encadeada[[#This Row],[Horas]],Serie_Encadeada[[#This Row],[Horas]]+AT111)","v":111.7731},{"$f":"IF(MONTH(Serie_Encadeada[[#This Row],[Período]])=1,Serie_Encadeada[[#This Row],[Massa Real]],Serie_Encadeada[[#This Row],[Massa Real]]+AU111)","v":136.4811},{"$f":"IF(MONTH(Serie_Encadeada[[#This Row],[Período]])=1,Serie_Encadeada[[#This Row],[RMR Real]],Serie_Encadeada[[#This Row],[RMR Real]]+AV111)","v":111.9008},{"$f":"IF(MONTH(Serie_Encadeada[[#This Row],[Período]])=1,Serie_Encadeada[[#This Row],[UCI]],Serie_Encadeada[[#This Row],[UCI]]+AW111)","v":83.932599999999994},83.932599999999994,"2012-01-01",1607.7744999999998,1483.8252000000002,1410.5756999999999,1711.2940000000003,1385.6089999999999,85.530900000000017]
["2012-02-01",{"$f":"MONTH(Serie_Encadeada[[#This Row],[Período]])&YEAR(Serie_Encadeada[[#This Row],[Período]])","v":"22012"},115.6884,121.9806,112.02719999999999,169.63040000000001,139.0634,83.199399999999997,null,"2012-02-01",-0.93245861995438784,1.1806549683432671E-2,0.22733555748207215,24.288564497208778,24.273821098687407,-0.73319999999999652,null,"2012-02-01",-8.9972727909173784,0.40291017202082496,-0.6945263170958107,2.5346793433879236,2.1231940146373471,-0.84590000000000032,null,"2012-02-01",-2.2757349108286893,0.24371932705358193,0.95696974317356964,0.4678257393428738,0.20955169194623491,7.8800000000001091E-2,null,"2012-02-01",0.62141422698582982,0.37666404642641443,1.2487026046728147,5.8622707776377494,5.5095025408143474,0.34390000000001919,null,null,"2012-02-01",{"$f":"IF(MONTH(Serie_Encadeada[[#This Row],[Período]])=1,Serie_Encadeada[[#This Row],[Fat.real]],Serie_Encadeada[[#This Row],[Fat.real]]+AR112)","v":232.4657},{"$f":"IF(MONTH(Serie_Encadeada[[#This Row],[Período]])=1,Serie_Encadeada[[#This Row],[Emprego]],Serie_Encadeada[[#This Row],[Emprego]]+AS112)","v":243.9468},{"$f":"IF(MONTH(Serie_Encadeada[[#This Row],[Período]])=1,Serie_Encadeada[[#This Row],[Horas]],Serie_Encadeada[[#This Row],[Horas]]+AT112)","v":223.80029999999999},{"$f":"IF(MONTH(Serie_Encadeada[[#This Row],[Período]])=1,Serie_Encadeada[[#This Row],[Massa Real]],Serie_Encadeada[[#This Row],[Massa Real]]+AU112)","v":306.11149999999998},{"$f":"IF(MONTH(Serie_Encadeada[[#This Row],[Período]])=1,Serie_Encadeada[[#This Row],[RMR Real]],Serie_Encadeada[[#This Row],[RMR Real]]+AV112)","v":250.96420000000001},{"$f":"IF(MONTH(Serie_Encadeada[[#This Row],[Período]])=1,Serie_Encadeada[[#This Row],[UCI]],Serie_Encadeada[[#This Row],[UCI]]+AW112)","v":167.13200000000001},83.566000000000003,"2012-02-01",1596.3365999999999,1484.3147000000001,1409.7921999999999,1715.4873000000002,1388.5001999999999,85.460408333333348]
["2012-03-01",{"$f":"MONTH(Serie_Encadeada[[#This Row],[Período]])&YEAR(Serie_Encadeada[[#This Row],[Período]])","v":"32012"},132.3134,122.5234,123.3365,147.95429999999999,120.7559,83.526700000000005,null,"2012-03-01",14.370498684397052,0.44498879329991797,10.095137609437716,-12.778428866523935,-13.164858618443102,0.32730000000000814,null,"2012-03-01",-1.5716441970718407,0.47019270192701301,4.7637694282253529,12.571072928261689,12.044236521945679,-1.1872999999999934,null,"2012-03-01",-2.0215129894739658,0.31932334657436673,2.2774125821174569,4.1153541014129003,3.770226004188546,-0.34323333333333039,null,"2012-03-01",0.43596569226384241,0.41144747010356136,1.7361555606652457,6.1770741685621546,5.7906507719614675,0.26660000000002526,null,null,"2012-03-01",{"$f":"IF(MONTH(Serie_Encadeada[[#This Row],[Período]])=1,Serie_Encadeada[[#This Row],[Fat.real]],Serie_Encadeada[[#This Row],[Fat.real]]+AR113)","v":364.77909999999997},{"$f":"IF(MONTH(Serie_Encadeada[[#This Row],[Período]])=1,Serie_Encadeada[[#This Row],[Emprego]],Serie_Encadeada[[#This Row],[Emprego]]+AS113)","v":366.47019999999998},{"$f":"IF(MONTH(Serie_Encadeada[[#This Row],[Período]])=1,Serie_Encadeada[[#This Row],[Horas]],Serie_Encadeada[[#This Row],[Horas]]+AT113)","v":347.13679999999999},{"$f":"IF(MONTH(Serie_Encadeada[[#This Row],[Período]])=1,Serie_Encadeada[[#This Row],[Massa Real]],Serie_Encadeada[[#This Row],[Massa Real]]+AU113)","v":454.06579999999997},{"$f":"IF(MONTH(Serie_Encadeada[[#This Row],[Período]])=1,Serie_Encadeada[[#This Row],[RMR Real]],Serie_Encadeada[[#This Row],[RMR Real]]+AV113)","v":371.7201},{"$f":"IF(MONTH(Serie_Encadeada[[#This Row],[Período]])=1,Serie_Encadeada[[#This Row],[UCI]],Serie_Encadeada[[#This Row],[UCI]]+AW113)","v":250.65870000000001},83.552900000000008,"2012-03-01",1594.2239,1484.8881000000003,1415.4004999999997,1732.0097000000001,1401.4809,85.361466666666672]
["2012-04-01",{"$f":"MONTH(Serie_Encadeada[[#This Row],[Período]])&YEAR(Serie_Encadeada[[#This Row],[Período]])","v":"42012"},119.3413,121.3655,115.71080000000001,130.6532,107.65260000000001,83.809399999999997,null,"2012-04-01",-9.8040712429731212,-0.94504396711158678,-6.1828412513732713,-11.693543208950326,-10.851064005982309,0.28269999999999129,null,"2012-04-01",-8.8557295242663034,-1.3718412139100407,1.0743276826090646,5.6490322413703913,7.1185071234823276,-0.97950000000000159,null,"2012-04-01",-3.7996828563593663,-0.10680704476006295,1.9739671460800827,4.4541727791302632,4.5037945278226088,-0.5023000000000053,null,"2012-04-01",-0.49957417904195678,0.28256532971005305,1.7485127517972046,5.9957151781424001,5.7352561670740796,0.23353333333334092,null,null,"2012-04-01",{"$f":"IF(MONTH(Serie_Encadeada[[#This Row],[Período]])=1,Serie_Encadeada[[#This Row],[Fat.real]],Serie_Encadeada[[#This Row],[Fat.real]]+AR114)","v":484.12039999999996},{"$f":"IF(MONTH(Serie_Encadeada[[#This Row],[Período]])=1,Serie_Encadeada[[#This Row],[Emprego]],Serie_Encadeada[[#This Row],[Emprego]]+AS114)","v":487.83569999999997},{"$f":"IF(MONTH(Serie_Encadeada[[#This Row],[Período]])=1,Serie_Encadeada[[#This Row],[Horas]],Serie_Encadeada[[#This Row],[Horas]]+AT114)","v":462.8476},{"$f":"IF(MONTH(Serie_Encadeada[[#This Row],[Período]])=1,Serie_Encadeada[[#This Row],[Massa Real]],Serie_Encadeada[[#This Row],[Massa Real]]+AU114)","v":584.71899999999994},{"$f":"IF(MONTH(Serie_Encadeada[[#This Row],[Período]])=1,Serie_Encadeada[[#This Row],[RMR Real]],Serie_Encadeada[[#This Row],[RMR Real]]+AV114)","v":479.37270000000001},{"$f":"IF(MONTH(Serie_Encadeada[[#This Row],[Período]])=1,Serie_Encadeada[[#This Row],[UCI]],Serie_Encadeada[[#This Row],[UCI]]+AW114)","v":334.46809999999999},83.617024999999998,"2012-04-01",1582.6285,1483.2000000000003,1416.6303999999998,1738.9956999999997,1408.6349,85.27984166666667]
["2012-05-01",{"$f":"MONTH(Serie_Encadeada[[#This Row],[Período]])&YEAR(Serie_Encadeada[[#This Row],[Período]])","v":"52012"},137.1677,121.4919,120.1045,129.17429999999999,106.3233,84.525099999999995,null,"2012-05-01",14.937326809746493,0.10414821345440331,3.7971390743128519,-1.1319278823633943,-1.234805290350631,0.71569999999999823,null,"2012-05-01",-3.012894120575158,-2.704826002207104,-1.0734895122059647,-2.347453687079271,0.36720873220478167,-1.7895000000000039,null,"2012-05-01",-3.6270760208155854,-0.63583337124754824,1.3308458014120714,3.154127063553442,3.7277239339587953,-0.75973999999999364,null,"2012-05-01",-1.3133831857765577,-3.0838781067654149E-2,1.3244592188851825,4.9598596931919081,5.0056593289648665,4.1516666666666424E-2,null,null,"2012-05-01",{"$f":"IF(MONTH(Serie_Encadeada[[#This Row],[Período]])=1,Serie_Encadeada[[#This Row],[Fat.real]],Serie_Encadeada[[#This Row],[Fat.real]]+AR115)","v":621.28809999999999},{"$f":"IF(MONTH(Serie_Encadeada[[#This Row],[Período]])=1,Serie_Encadeada[[#This Row],[Emprego]],Serie_Encadeada[[#This Row],[Emprego]]+AS115)","v":609.32759999999996},{"$f":"IF(MONTH(Serie_Encadeada[[#This Row],[Período]])=1,Serie_Encadeada[[#This Row],[Horas]],Serie_Encadeada[[#This Row],[Horas]]+AT115)","v":582.95209999999997},{"$f":"IF(MONTH(Serie_Encadeada[[#This Row],[Período]])=1,Serie_Encadeada[[#This Row],[Massa Real]],Serie_Encadeada[[#This Row],[Massa Real]]+AU115)","v":713.89329999999995},{"$f":"IF(MONTH(Serie_Encadeada[[#This Row],[Período]])=1,Serie_Encadeada[[#This Row],[RMR Real]],Serie_Encadeada[[#This Row],[RMR Real]]+AV115)","v":585.69600000000003},{"$f":"IF(MONTH(Serie_Encadeada[[#This Row],[Período]])=1,Serie_Encadeada[[#This Row],[UCI]],Serie_Encadeada[[#This Row],[UCI]]+AW115)","v":418.9932},83.798640000000006,"2012-05-01",1578.3674000000001,1479.8224999999998,1415.3270999999997,1735.8905,1409.0239000000001,85.130716666666657]
["2012-06-01",{"$f":"MONTH(Serie_Encadeada[[#This Row],[Período]])&YEAR(Serie_Encadeada[[#This Row],[Período]])","v":"62012"},135.97800000000001,123.8912,119.21429999999999,129.05179999999999,104.16549999999999,87.150999999999996,null,"2012-06-01",-0.86733246967032895,1.9748641678992565,-0.74118788221924004,-9.4833105346808375E-2,-2.0294704923568108,2.6259000000000015,null,"2012-06-01",-1.5146028223528394,-0.98811133594826661,1.3992610309502824,-3.8705976997795162,-2.9111146736658444,0.97759999999999536,null,"2012-06-01",-3.2544523085571146,-0.69553329614252835,1.3424548793776485,2.0128457422958599,2.6676933512893859,-0.47018333333333828,null,"2012-06-01",-1.6298070865426344,-0.24626975831925432,1.1577470721147007,3.6788780143623079,3.9351398872941212,2.9141666666660626E-2,null,null,"2012-06-01",{"$f":"IF(MONTH(Serie_Encadeada[[#This Row],[Período]])=1,Serie_Encadeada[[#This Row],[Fat.real]],Serie_Encadeada[[#This Row],[Fat.real]]+AR116)","v":757.26610000000005},{"$f":"IF(MONTH(Serie_Encadeada[[#This Row],[Período]])=1,Serie_Encadeada[[#This Row],[Emprego]],Serie_Encadeada[[#This Row],[Emprego]]+AS116)","v":733.21879999999999},{"$f":"IF(MONTH(Serie_Encadeada[[#This Row],[Período]])=1,Serie_Encadeada[[#This Row],[Horas]],Serie_Encadeada[[#This Row],[Horas]]+AT116)","v":702.16639999999995},{"$f":"IF(MONTH(Serie_Encadeada[[#This Row],[Período]])=1,Serie_Encadeada[[#This Row],[Massa Real]],Serie_Encadeada[[#This Row],[Massa Real]]+AU116)","v":842.94509999999991},{"$f":"IF(MONTH(Serie_Encadeada[[#This Row],[Período]])=1,Serie_Encadeada[[#This Row],[RMR Real]],Serie_Encadeada[[#This Row],[RMR Real]]+AV116)","v":689.86149999999998},{"$f":"IF(MONTH(Serie_Encadeada[[#This Row],[Período]])=1,Serie_Encadeada[[#This Row],[UCI]],Serie_Encadeada[[#This Row],[UCI]]+AW116)","v":506.14420000000001},84.357366666666664,"2012-06-01",1576.2762000000002,1478.5861,1416.9722000000002,1730.6942999999999,1405.9005999999999,85.212183333333329]
["2012-07-01",{"$f":"MONTH(Serie_Encadeada[[#This Row],[Período]])&YEAR(Serie_Encadeada[[#This Row],[Período]])","v":"72012"},143.2662,125.33629999999999,124.8445,136.79740000000001,109.1443,84.894099999999995,null,"2012-07-01",5.3598376207915903,1.1664266711437103,4.7227555754636841,6.0019310075489267,4.7797015326571728,-2.2569000000000017,null,"2012-07-01",5.1997688436823752,0.23199425492337661,4.0264206252192487,2.811280595956013,2.5733487083917241,-1.2793000000000063,null,"2012-07-01",-2.0015346194231869,-0.56119958234909983,1.7387125953695597,2.1235822068556414,2.6547956272200905,-0.58577142857140529,null,"2012-07-01",-1.2040217294589464,-0.29378377797106908,1.4404383514731205,3.9646515309151726,4.2650607457152381,-4.260000000002151E-2,null,null,"2012-07-01",{"$f":"IF(MONTH(Serie_Encadeada[[#This Row],[Período]])=1,Serie_Encadeada[[#This Row],[Fat.real]],Serie_Encadeada[[#This Row],[Fat.real]]+AR117)","v":900.53230000000008},{"$f":"IF(MONTH(Serie_Encadeada[[#This Row],[Período]])=1,Serie_Encadeada[[#This Row],[Emprego]],Serie_Encadeada[[#This Row],[Emprego]]+AS117)","v":858.55510000000004},{"$f":"IF(MONTH(Serie_Encadeada[[#This Row],[Período]])=1,Serie_Encadeada[[#This Row],[Horas]],Serie_Encadeada[[#This Row],[Horas]]+AT117)","v":827.01089999999999},{"$f":"IF(MONTH(Serie_Encadeada[[#This Row],[Período]])=1,Serie_Encadeada[[#This Row],[Massa Real]],Serie_Encadeada[[#This Row],[Massa Real]]+AU117)","v":979.74249999999995},{"$f":"IF(MONTH(Serie_Encadeada[[#This Row],[Período]])=1,Serie_Encadeada[[#This Row],[RMR Real]],Serie_Encadeada[[#This Row],[RMR Real]]+AV117)","v":799.00580000000002},{"$f":"IF(MONTH(Serie_Encadeada[[#This Row],[Período]])=1,Serie_Encadeada[[#This Row],[UCI]],Serie_Encadeada[[#This Row],[UCI]]+AW117)","v":591.03830000000005},84.43404285714287,"2012-07-01",1583.3575000000001,1478.8761999999999,1421.8044,1734.4348999999995,1408.6388000000002,85.105574999999988]
["2012-08-01",{"$f":"MONTH(Serie_Encadeada[[#This Row],[Período]])&YEAR(Serie_Encadeada[[#This Row],[Período]])","v":"82012"},151.84829999999999,125.7016,128.1019,133.203,105.9676,87.150999999999996,null,"2012-08-01",5.9903173253705324,0.29145586713506372,2.6091658022580124,-2.6275353186537225,-2.9105505280623878,2.2569000000000017,null,"2012-08-01",7.2911455727863874,0.14627384120205741,3.6023314626960308,3.7956238506374165,3.6440050507668609,-0.53430000000000177,null,"2012-08-01",-0.76132479472708603,-0.47140386189560457,1.9847628199994678,2.3208573308026064,2.7696496519413283,-0.57933749999999407,null,"2012-08-01",-0.5982467935337541,-0.31747499478355179,1.5120705575988058,3.8452401301831052,4.1669678272041573,-0.18127500000002783,null,null,"2012-08-01",{"$f":"IF(MONTH(Serie_Encadeada[[#This Row],[Período]])=1,Serie_Encadeada[[#This Row],[Fat.real]],Serie_Encadeada[[#This Row],[Fat.real]]+AR118)","v":1052.3806},{"$f":"IF(MONTH(Serie_Encadeada[[#This Row],[Período]])=1,Serie_Encadeada[[#This Row],[Emprego]],Serie_Encadeada[[#This Row],[Emprego]]+AS118)","v":984.25670000000002},{"$f":"IF(MONTH(Serie_Encadeada[[#This Row],[Período]])=1,Serie_Encadeada[[#This Row],[Horas]],Serie_Encadeada[[#This Row],[Horas]]+AT118)","v":955.11279999999999},{"$f":"IF(MONTH(Serie_Encadeada[[#This Row],[Período]])=1,Serie_Encadeada[[#This Row],[Massa Real]],Serie_Encadeada[[#This Row],[Massa Real]]+AU118)","v":1112.9455},{"$f":"IF(MONTH(Serie_Encadeada[[#This Row],[Período]])=1,Serie_Encadeada[[#This Row],[RMR Real]],Serie_Encadeada[[#This Row],[RMR Real]]+AV118)","v":904.97340000000008},{"$f":"IF(MONTH(Serie_Encadeada[[#This Row],[Período]])=1,Serie_Encadeada[[#This Row],[UCI]],Serie_Encadeada[[#This Row],[UCI]]+AW118)","v":678.1893},84.7736625,"2012-08-01",1593.6766000000002,1479.0598000000002,1426.2586000000001,1739.3058999999996,1412.3644999999999,85.06104999999998]
["2012-09-01",{"$f":"MONTH(Serie_Encadeada[[#This Row],[Período]])&YEAR(Serie_Encadeada[[#This Row],[Período]])","v":"92012"},134.80629999999999,125.8061,121.08669999999999,127.7145,101.517,85.7423,null,"2012-09-01",-11.223042997517918,8.3133388914700831E-2,-5.476265379358157,-4.1204026936330278,-4.1999630075608092,-1.4086999999999961,null,"2012-09-01",-5.2986045544465545,0.46950044003188418,0.94394203130521803,-3.1675110431094495,-3.6199597645113109,-0.92499999999999716,null,"2012-09-01",-1.2983008271762553,-0.36565530962224779,1.8665863243523728,1.7273211562178414,2.0870173084027073,-0.61774444444444043,null,"2012-09-01",-1.136201790754426,-0.29476649977113889,1.4885076010570488,2.9671944052650594,3.2786412856147082,-0.3946333333333456,null,null,"2012-09-01",{"$f":"IF(MONTH(Serie_Encadeada[[#This Row],[Período]])=1,Serie_Encadeada[[#This Row],[Fat.real]],Serie_Encadeada[[#This Row],[Fat.real]]+AR119)","v":1187.1868999999999},{"$f":"IF(MONTH(Serie_Encadeada[[#This Row],[Período]])=1,Serie_Encadeada[[#This Row],[Emprego]],Serie_Encadeada[[#This Row],[Emprego]]+AS119)","v":1110.0627999999999},{"$f":"IF(MONTH(Serie_Encadeada[[#This Row],[Período]])=1,Serie_Encadeada[[#This Row],[Horas]],Serie_Encadeada[[#This Row],[Horas]]+AT119)","v":1076.1994999999999},{"$f":"IF(MONTH(Serie_Encadeada[[#This Row],[Período]])=1,Serie_Encadeada[[#This Row],[Massa Real]],Serie_Encadeada[[#This Row],[Massa Real]]+AU119)","v":1240.6600000000001},{"$f":"IF(MONTH(Serie_Encadeada[[#This Row],[Período]])=1,Serie_Encadeada[[#This Row],[RMR Real]],Serie_Encadeada[[#This Row],[RMR Real]]+AV119)","v":1006.4904000000001},{"$f":"IF(MONTH(Serie_Encadeada[[#This Row],[Período]])=1,Serie_Encadeada[[#This Row],[UCI]],Serie_Encadeada[[#This Row],[UCI]]+AW119)","v":763.9316},84.881288888888889,"2012-09-01",1586.1341,1479.6477,1427.3909000000001,1735.1281999999999,1408.5516,84.98396666666666]
["2012-10-01",{"$f":"MONTH(Serie_Encadeada[[#This Row],[Período]])&YEAR(Serie_Encadeada[[#This Row],[Período]])","v":"102012"},143.0625,126.29649999999999,126.9585,138.06489999999999,109.3181,87.150999999999996,null,"2012-10-01",6.1244912144313783,0.38980621766352663,4.8492526429409732,8.1043264468795577,7.6845257444565993,1.4086999999999961,null,"2012-10-01",5.4659854918612911,1.3960609388748668,6.3887643556557361,2.2101815672856127,0.80297065948161239,1.200800000000001,null,"2012-10-01",-0.61276061751685451,-0.18850494427884779,2.3255465852206738,1.7754689304748101,1.9597728904023137,-0.43588999999998634,null,"2012-10-01",-0.86137545716068886,-0.22377449048938317,1.8833600286264467,2.7518065961516576,2.9954208177373167,-0.194500000000005,null,null,"2012-10-01",{"$f":"IF(MONTH(Serie_Encadeada[[#This Row],[Período]])=1,Serie_Encadeada[[#This Row],[Fat.real]],Serie_Encadeada[[#This Row],[Fat.real]]+AR120)","v":1330.2493999999999},{"$f":"IF(MONTH(Serie_Encadeada[[#This Row],[Período]])=1,Serie_Encadeada[[#This Row],[Emprego]],Serie_Encadeada[[#This Row],[Emprego]]+AS120)","v":1236.3592999999998},{"$f":"IF(MONTH(Serie_Encadeada[[#This Row],[Período]])=1,Serie_Encadeada[[#This Row],[Horas]],Serie_Encadeada[[#This Row],[Horas]]+AT120)","v":1203.1579999999999},{"$f":"IF(MONTH(Serie_Encadeada[[#This Row],[Período]])=1,Serie_Encadeada[[#This Row],[Massa Real]],Serie_Encadeada[[#This Row],[Massa Real]]+AU120)","v":1378.7249000000002},{"$f":"IF(MONTH(Serie_Encadeada[[#This Row],[Período]])=1,Serie_Encadeada[[#This Row],[RMR Real]],Serie_Encadeada[[#This Row],[RMR Real]]+AV120)","v":1115.8085000000001},{"$f":"IF(MONTH(Serie_Encadeada[[#This Row],[Período]])=1,Serie_Encadeada[[#This Row],[UCI]],Serie_Encadeada[[#This Row],[UCI]]+AW120)","v":851.08259999999996},85.108260000000001,"2012-10-01",1593.5485999999999,1481.3866,1435.0149000000001,1738.1136999999999,1409.4223999999999,85.084033333333323]
["2012-11-01",{"$f":"MONTH(Serie_Encadeada[[#This Row],[Período]])&YEAR(Serie_Encadeada[[#This Row],[Período]])","v":"112012"},142.1738,126.9217,122.2916,165.2704,130.21449999999999,85.578400000000002,null,"2012-11-01",-0.62119702927042375,0.49502559453350381,-3.6759255977346914,19.704863437412406,19.115224285822737,-1.5725999999999942,null,"2012-11-01",6.6329358486943413,2.9537566018252752,2.1632016788329684,6.9123827747729498,3.8451109711068292,-0.15380000000000393,null,"2012-11-01",4.3634209165645567E-2,9.5919556796429217E-2,2.3105463529168104,2.301614435702827,2.1535891033810599,-0.41024545454544636,null,"2012-11-01",-0.17787287144983047,4.9309568353645611E-2,2.005853682349922,3.0017957589132429,2.9350649256123953,-0.13370000000000459,null,null,"2012-11-01",{"$f":"IF(MONTH(Serie_Encadeada[[#This Row],[Período]])=1,Serie_Encadeada[[#This Row],[Fat.real]],Serie_Encadeada[[#This Row],[Fat.real]]+AR121)","v":1472.4232},{"$f":"IF(MONTH(Serie_Encadeada[[#This Row],[Período]])=1,Serie_Encadeada[[#This Row],[Emprego]],Serie_Encadeada[[#This Row],[Emprego]]+AS121)","v":1363.2809999999999},{"$f":"IF(MONTH(Serie_Encadeada[[#This Row],[Período]])=1,Serie_Encadeada[[#This Row],[Horas]],Serie_Encadeada[[#This Row],[Horas]]+AT121)","v":1325.4495999999999},{"$f":"IF(MONTH(Serie_Encadeada[[#This Row],[Período]])=1,Serie_Encadeada[[#This Row],[Massa Real]],Serie_Encadeada[[#This Row],[Massa Real]]+AU121)","v":1543.9953},{"$f":"IF(MONTH(Serie_Encadeada[[#This Row],[Período]])=1,Serie_Encadeada[[#This Row],[RMR Real]],Serie_Encadeada[[#This Row],[RMR Real]]+AV121)","v":1246.0230000000001},{"$f":"IF(MONTH(Serie_Encadeada[[#This Row],[Período]])=1,Serie_Encadeada[[#This Row],[UCI]],Serie_Encadeada[[#This Row],[UCI]]+AW121)","v":936.66099999999994},85.150999999999996,"2012-11-01",1602.3923000000002,1485.028,1437.6043,1748.7991999999999,1414.2439000000002,85.071216666666658]
["2012-12-01",{"$f":"MONTH(Serie_Encadeada[[#This Row],[Período]])&YEAR(Serie_Encadeada[[#This Row],[Período]])","v":"122012"},131.00020000000001,126.1005,115.0072,213.00880000000001,168.92,84.827299999999994,null,"2012-12-01",-7.8591132824753878,-0.64701307971765631,-5.9565824635543283,28.88502720390343,29.724416251646325,-0.75110000000000809,null,"2012-12-01",0.79334241754386947,3.5758581320278915,2.5433619812633728,4.0062225377544127,0.41558450822697252,0.63369999999999038,null,"2012-12-01",0.10446698270848581,0.38146644222203674,2.329095694817287,2.505288752990773,1.94294509830651,-0.32324999999998738,null,"2012-12-01",0.10446698270848581,0.38146644222203674,2.329095694817287,2.505288752990773,1.94294509830651,-0.32324999999998738,null,null,"2012-12-01",{"$f":"IF(MONTH(Serie_Encadeada[[#This Row],[Período]])=1,Serie_Encadeada[[#This Row],[Fat.real]],Serie_Encadeada[[#This Row],[Fat.real]]+AR122)","v":1603.4233999999999},{"$f":"IF(MONTH(Serie_Encadeada[[#This Row],[Período]])=1,Serie_Encadeada[[#This Row],[Emprego]],Serie_Encadeada[[#This Row],[Emprego]]+AS122)","v":1489.3815},{"$f":"IF(MONTH(Serie_Encadeada[[#This Row],[Período]])=1,Serie_Encadeada[[#This Row],[Horas]],Serie_Encadeada[[#This Row],[Horas]]+AT122)","v":1440.4567999999999},{"$f":"IF(MONTH(Serie_Encadeada[[#This Row],[Período]])=1,Serie_Encadeada[[#This Row],[Massa Real]],Serie_Encadeada[[#This Row],[Massa Real]]+AU122)","v":1757.0041000000001},{"$f":"IF(MONTH(Serie_Encadeada[[#This Row],[Período]])=1,Serie_Encadeada[[#This Row],[RMR Real]],Serie_Encadeada[[#This Row],[RMR Real]]+AV122)","v":1414.9430000000002},{"$f":"IF(MONTH(Serie_Encadeada[[#This Row],[Período]])=1,Serie_Encadeada[[#This Row],[UCI]],Serie_Encadeada[[#This Row],[UCI]]+AW122)","v":1021.4883},85.124025000000003,"2012-12-01",1603.4233999999999,1489.3815,1440.4567999999999,1757.0041000000001,1414.9430000000002,85.124025000000003]
["2013-01-01",{"$f":"MONTH(Serie_Encadeada[[#This Row],[Período]])&YEAR(Serie_Encadeada[[#This Row],[Período]])","v":"12013"},126.9169,126.8062,122.1671,139.95509999999999,110.36920000000001,84.4071,null,"2013-01-01",-3.1170181419570415,0.55963299114595688,6.2256102226643266,-34.296094809228549,-34.6618517641487,-0.42019999999999413,null,"2013-01-01",8.6828518898792844,3.968312532488512,9.2991963182554702,2.545407386077625,-1.3687122880265354,0.47450000000000614,null,"2013-01-01",8.6828518898792844,3.968312532488512,9.2991963182554702,2.545407386077625,-1.3687122880265354,0.47450000000000614,null,"2013-01-01",0.36003183282234796,0.70064182762227523,2.8552242889197861,2.8740882630336873,2.0065112163676955,-0.36733333333334883,null,null,"2013-01-01",{"$f":"IF(MONTH(Serie_Encadeada[[#This Row],[Período]])=1,Serie_Encadeada[[#This Row],[Fat.real]],Serie_Encadeada[[#This Row],[Fat.real]]+AR123)","v":126.9169},{"$f":"IF(MONTH(Serie_Encadeada[[#This Row],[Período]])=1,Serie_Encadeada[[#This Row],[Emprego]],Serie_Encadeada[[#This Row],[Emprego]]+AS123)","v":126.8062},{"$f":"IF(MONTH(Serie_Encadeada[[#This Row],[Período]])=1,Serie_Encadeada[[#This Row],[Horas]],Serie_Encadeada[[#This Row],[Horas]]+AT123)","v":122.1671},{"$f":"IF(MONTH(Serie_Encadeada[[#This Row],[Período]])=1,Serie_Encadeada[[#This Row],[Massa Real]],Serie_Encadeada[[#This Row],[Massa Real]]+AU123)","v":139.95509999999999},{"$f":"IF(MONTH(Serie_Encadeada[[#This Row],[Período]])=1,Serie_Encadeada[[#This Row],[RMR Real]],Serie_Encadeada[[#This Row],[RMR Real]]+AV123)","v":110.36920000000001},{"$f":"IF(MONTH(Serie_Encadeada[[#This Row],[Período]])=1,Serie_Encadeada[[#This Row],[UCI]],Serie_Encadeada[[#This Row],[UCI]]+AW123)","v":84.4071},84.4071,"2013-01-01",{"$f":"SUM(C113:C124)","v":1613.5630000000001},{"$f":"SUM(D113:D124)","v":1494.2215000000001},1450.8508000000002,1760.4781,1413.4114000000002,{"$f":"SUM(H113:H124)/12","v":85.163566666666668}]
["2013-02-01",{"$f":"MONTH(Serie_Encadeada[[#This Row],[Período]])&YEAR(Serie_Encadeada[[#This Row],[Período]])","v":"22013"},110.7637,125.92570000000001,114.357,190.51560000000001,151.2921,81.642300000000006,null,"2013-02-01",-12.727383035671371,-0.69436667923177087,-6.3929650454173057,36.126229054889762,37.078188480119451,-2.7647999999999939,null,"2013-02-01",-4.2568658569052742,3.2342028158576124,2.0796735078623816,12.312179892283456,8.7936149986265288,-1.5570999999999913,null,"2013-02-01",2.2432986887958095,3.6012360071950114,5.6853364360995098,7.9576232843261323,4.2624007726998423,-0.54130000000000678,null,"2013-02-01",0.77062068237989301,0.93321854186311604,3.0776450600308203,3.8400750620537814,2.6748213648078787,-0.42660000000000764,null,null,"2013-02-01",{"$f":"IF(MONTH(Serie_Encadeada[[#This Row],[Período]])=1,Serie_Encadeada[[#This Row],[Fat.real]],Serie_Encadeada[[#This Row],[Fat.real]]+AR124)","v":237.6806},{"$f":"IF(MONTH(Serie_Encadeada[[#This Row],[Período]])=1,Serie_Encadeada[[#This Row],[Emprego]],Serie_Encadeada[[#This Row],[Emprego]]+AS124)","v":252.7319},{"$f":"IF(MONTH(Serie_Encadeada[[#This Row],[Período]])=1,Serie_Encadeada[[#This Row],[Horas]],Serie_Encadeada[[#This Row],[Horas]]+AT124)","v":236.5241},{"$f":"IF(MONTH(Serie_Encadeada[[#This Row],[Período]])=1,Serie_Encadeada[[#This Row],[Massa Real]],Serie_Encadeada[[#This Row],[Massa Real]]+AU124)","v":330.47069999999997},{"$f":"IF(MONTH(Serie_Encadeada[[#This Row],[Período]])=1,Serie_Encadeada[[#This Row],[RMR Real]],Serie_Encadeada[[#This Row],[RMR Real]]+AV124)","v":261.66129999999998},{"$f":"IF(MONTH(Serie_Encadeada[[#This Row],[Período]])=1,Serie_Encadeada[[#This Row],[UCI]],Serie_Encadeada[[#This Row],[UCI]]+AW124)","v":166.04939999999999},83.024699999999996,"2013-02-01",1608.6382999999998,1498.1666,1453.1805999999997,1781.3633,1425.6401000000001,85.03380833333334]
["2013-03-01",{"$f":"MONTH(Serie_Encadeada[[#This Row],[Período]])&YEAR(Serie_Encadeada[[#This Row],[Período]])","v":"32013"},135.86359999999999,127.28879999999999,123.5575,136.66579999999999,107.36669999999999,84.040400000000005,null,"2013-03-01",22.660763408950757,1.082463706773112,8.0454191697928472,-28.265296910069313,-29.033505384616916,2.3980999999999995,null,"2013-03-01",2.6831749467551962,3.8893794981203591,0.17918458850381164,-7.6297207989223699,-11.087822623987734,0.51370000000000005,null,"2013-03-01",2.4028514791554723,3.6975721354696782,3.7290197985347526,2.8785916050052633,-0.7242277186517595,-0.18963333333334731,null,"2013-03-01",1.1268555188515108,1.2151690083582503,2.6848301947046056,2.1977417332015983,0.76847283469938377,-0.28485000000002003,null,null,"2013-03-01",{"$f":"IF(MONTH(Serie_Encadeada[[#This Row],[Período]])=1,Serie_Encadeada[[#This Row],[Fat.real]],Serie_Encadeada[[#This Row],[Fat.real]]+AR125)","v":373.54419999999999},{"$f":"IF(MONTH(Serie_Encadeada[[#This Row],[Período]])=1,Serie_Encadeada[[#This Row],[Emprego]],Serie_Encadeada[[#This Row],[Emprego]]+AS125)","v":380.02069999999998},{"$f":"IF(MONTH(Serie_Encadeada[[#This Row],[Período]])=1,Serie_Encadeada[[#This Row],[Horas]],Serie_Encadeada[[#This Row],[Horas]]+AT125)","v":360.08159999999998},{"$f":"IF(MONTH(Serie_Encadeada[[#This Row],[Período]])=1,Serie_Encadeada[[#This Row],[Massa Real]],Serie_Encadeada[[#This Row],[Massa Real]]+AU125)","v":467.13649999999996},{"$f":"IF(MONTH(Serie_Encadeada[[#This Row],[Período]])=1,Serie_Encadeada[[#This Row],[RMR Real]],Serie_Encadeada[[#This Row],[RMR Real]]+AV125)","v":369.02799999999996},{"$f":"IF(MONTH(Serie_Encadeada[[#This Row],[Período]])=1,Serie_Encadeada[[#This Row],[UCI]],Serie_Encadeada[[#This Row],[UCI]]+AW125)","v":250.0898},83.363266666666661,"2013-03-01",1612.1884999999997,1502.932,1453.4015999999997,1770.0747999999999,1412.2509000000005,85.076616666666652]
["2013-04-01",{"$f":"MONTH(Serie_Encadeada[[#This Row],[Período]])&YEAR(Serie_Encadeada[[#This Row],[Período]])","v":"42013"},139.40989999999999,128.45519999999999,129.57669999999999,136.1841,106.01690000000001,87.150999999999996,null,"2013-04-01",2.6101913978431326,0.91634142202612945,4.8715780102381352,-0.35246564978216161,-1.2571868186318362,3.1105999999999909,null,"2013-04-01",16.816139928088589,5.8416106718960439,11.983237519747492,4.2332679184283295,-1.5194245192405942,3.3415999999999997,null,"2013-04-01",5.9558944427873657,4.230973665928917,5.7925546119284057,3.1812887899999964,-0.90280485309239022,0.69317499999999654,null,"2013-04-01",3.1358338359254732,1.8083670442286919,3.5744750359726964,2.1052380980585594,0.14058291470700962,7.5241666666656215E-2,null,null,"2013-04-01",{"$f":"IF(MONTH(Serie_Encadeada[[#This Row],[Período]])=1,Serie_Encadeada[[#This Row],[Fat.real]],Serie_Encadeada[[#This Row],[Fat.real]]+AR126)","v":512.95409999999993},{"$f":"IF(MONTH(Serie_Encadeada[[#This Row],[Período]])=1,Serie_Encadeada[[#This Row],[Emprego]],Serie_Encadeada[[#This Row],[Emprego]]+AS126)","v":508.47589999999997},{"$f":"IF(MONTH(Serie_Encadeada[[#This Row],[Período]])=1,Serie_Encadeada[[#This Row],[Horas]],Serie_Encadeada[[#This Row],[Horas]]+AT126)","v":489.65829999999994},{"$f":"IF(MONTH(Serie_Encadeada[[#This Row],[Período]])=1,Serie_Encadeada[[#This Row],[Massa Real]],Serie_Encadeada[[#This Row],[Massa Real]]+AU126)","v":603.32060000000001},{"$f":"IF(MONTH(Serie_Encadeada[[#This Row],[Período]])=1,Serie_Encadeada[[#This Row],[RMR Real]],Serie_Encadeada[[#This Row],[RMR Real]]+AV126)","v":475.04489999999998},{"$f":"IF(MONTH(Serie_Encadeada[[#This Row],[Período]])=1,Serie_Encadeada[[#This Row],[UCI]],Serie_Encadeada[[#This Row],[UCI]]+AW126)","v":337.24079999999998},84.310199999999995,"2013-04-01",1632.2570999999998,1510.0217000000002,1467.2674999999999,1775.6056999999998,1410.6152000000002,85.355083333333326]
["2013-05-01",{"$f":"MONTH(Serie_Encadeada[[#This Row],[Período]])&YEAR(Serie_Encadeada[[#This Row],[Período]])","v":"52013"},140.13220000000001,128.85849999999999,128.26830000000001,140.29920000000001,108.8785,86.173400000000001,null,"2013-05-01",0.51811241525890084,0.31396159906333226,-1.0097494379776439,3.0217183944381265,2.699192298586353,-0.97759999999999536,null,"2013-05-01",2.1612230867762712,6.0634494974562019,6.7972473970584026,8.6123168463076833,2.4032361674252014,1.6483000000000061,null,"2013-05-01",5.1181086520086172,4.5963452172525914,5.9995495341727105,4.1639976170108479,-0.30264847292793723,0.88419999999999277,null,"2013-05-01",3.6020890953525626,2.5385341823090637,4.2466649582276936,2.928761923635141,0.29428173645600048,0.36172500000000696,null,null,"2013-05-01",{"$f":"IF(MONTH(Serie_Encadeada[[#This Row],[Período]])=1,Serie_Encadeada[[#This Row],[Fat.real]],Serie_Encadeada[[#This Row],[Fat.real]]+AR127)","v":653.08629999999994},{"$f":"IF(MONTH(Serie_Encadeada[[#This Row],[Período]])=1,Serie_Encadeada[[#This Row],[Emprego]],Serie_Encadeada[[#This Row],[Emprego]]+AS127)","v":637.33439999999996},{"$f":"IF(MONTH(Serie_Encadeada[[#This Row],[Período]])=1,Serie_Encadeada[[#This Row],[Horas]],Serie_Encadeada[[#This Row],[Horas]]+AT127)","v":617.92660000000001},{"$f":"IF(MONTH(Serie_Encadeada[[#This Row],[Período]])=1,Serie_Encadeada[[#This Row],[Massa Real]],Serie_Encadeada[[#This Row],[Massa Real]]+AU127)","v":743.61980000000005},{"$f":"IF(MONTH(Serie_Encadeada[[#This Row],[Período]])=1,Serie_Encadeada[[#This Row],[RMR Real]],Serie_Encadeada[[#This Row],[RMR Real]]+AV127)","v":583.92340000000002},{"$f":"IF(MONTH(Serie_Encadeada[[#This Row],[Período]])=1,Serie_Encadeada[[#This Row],[UCI]],Serie_Encadeada[[#This Row],[UCI]]+AW127)","v":423.41419999999999},84.682839999999999,"2013-05-01",1635.2215999999999,1517.3883000000003,1475.4313,1786.7305999999996,1413.1704000000002,85.492441666666664]
["2013-06-01",{"$f":"MONTH(Serie_Encadeada[[#This Row],[Período]])&YEAR(Serie_Encadeada[[#This Row],[Período]])","v":"62013"},136.18549999999999,128.79400000000001,123.9148,134.65309999999999,104.5492,85.117099999999994,null,"2013-06-01",-2.816411931019438,-5.0054905186682389E-2,-3.3940576120522459,-4.0243280075724011,-3.976267123444944,-1.0563000000000073,null,"2013-06-01",0.15259821441702467,3.9573432172745227,3.942899467597432,4.3403501539691884,0.36835612558861103,-2.0339000000000027,null,"2013-06-01",4.2264799652328202,4.4883737296424959,5.6503700547334752,4.1909965429540001,-0.20133026701735371,0.39785000000000537,null,"2013-06-01",3.752698924211352,2.9558643896354719,4.4573633836993922,3.561437742066857,0.54438414778398236,0.11076666666666313,null,null,"2013-06-01",{"$f":"IF(MONTH(Serie_Encadeada[[#This Row],[Período]])=1,Serie_Encadeada[[#This Row],[Fat.real]],Serie_Encadeada[[#This Row],[Fat.real]]+AR128)","v":789.27179999999998},{"$f":"IF(MONTH(Serie_Encadeada[[#This Row],[Período]])=1,Serie_Encadeada[[#This Row],[Emprego]],Serie_Encadeada[[#This Row],[Emprego]]+AS128)","v":766.12839999999994},{"$f":"IF(MONTH(Serie_Encadeada[[#This Row],[Período]])=1,Serie_Encadeada[[#This Row],[Horas]],Serie_Encadeada[[#This Row],[Horas]]+AT128)","v":741.84140000000002},{"$f":"IF(MONTH(Serie_Encadeada[[#This Row],[Período]])=1,Serie_Encadeada[[#This Row],[Massa Real]],Serie_Encadeada[[#This Row],[Massa Real]]+AU128)","v":878.27290000000005},{"$f":"IF(MONTH(Serie_Encadeada[[#This Row],[Período]])=1,Serie_Encadeada[[#This Row],[RMR Real]],Serie_Encadeada[[#This Row],[RMR Real]]+AV128)","v":688.47260000000006},{"$f":"IF(MONTH(Serie_Encadeada[[#This Row],[Período]])=1,Serie_Encadeada[[#This Row],[UCI]],Serie_Encadeada[[#This Row],[UCI]]+AW128)","v":508.53129999999999},84.755216666666669,"2013-06-01",1635.4290999999998,1522.2910999999999,1480.1317999999999,1792.3318999999997,1413.5540999999998,85.322949999999992]
["2013-07-01",{"$f":"MONTH(Serie_Encadeada[[#This Row],[Período]])&YEAR(Serie_Encadeada[[#This Row],[Período]])","v":"72013"},141.76079999999999,128.5454,127.28100000000001,138.91749999999999,108.0689,84.2453,null,"2013-07-01",4.0939013331081497,-0.19302141404103479,2.7165439479384275,3.1669527103349235,3.3665489549417886,-0.87179999999999325,null,"2013-07-01",-1.0507712216838367,2.5603915226474747,1.9516278250143255,1.5498101572105751,-0.98530111054814762,-0.64879999999999427,null,"2013-07-01",3.3869190477676283,4.2069169468563956,5.0920126929403198,3.8222185931507635,-0.30842078993669131,0.24832857142855858,null,"2013-07-01",3.1936059923295752,3.1526641648570735,4.2737172567478288,3.4603258963481709,0.27259649528322771,0.16330833333334738,null,null,"2013-07-01",{"$f":"IF(MONTH(Serie_Encadeada[[#This Row],[Período]])=1,Serie_Encadeada[[#This Row],[Fat.real]],Serie_Encadeada[[#This Row],[Fat.real]]+AR129)","v":931.0326},{"$f":"IF(MONTH(Serie_Encadeada[[#This Row],[Período]])=1,Serie_Encadeada[[#This Row],[Emprego]],Serie_Encadeada[[#This Row],[Emprego]]+AS129)","v":894.67379999999991},{"$f":"IF(MONTH(Serie_Encadeada[[#This Row],[Período]])=1,Serie_Encadeada[[#This Row],[Horas]],Serie_Encadeada[[#This Row],[Horas]]+AT129)","v":869.12239999999997},{"$f":"IF(MONTH(Serie_Encadeada[[#This Row],[Período]])=1,Serie_Encadeada[[#This Row],[Massa Real]],Serie_Encadeada[[#This Row],[Massa Real]]+AU129)","v":1017.1904000000001},{"$f":"IF(MONTH(Serie_Encadeada[[#This Row],[Período]])=1,Serie_Encadeada[[#This Row],[RMR Real]],Serie_Encadeada[[#This Row],[RMR Real]]+AV129)","v":796.54150000000004},{"$f":"IF(MONTH(Serie_Encadeada[[#This Row],[Período]])=1,Serie_Encadeada[[#This Row],[UCI]],Serie_Encadeada[[#This Row],[UCI]]+AW129)","v":592.77660000000003},84.682371428571429,"2013-07-01",1633.9236999999998,1525.5001999999999,1482.5682999999999,1794.452,1412.4786999999999,85.268883333333335]
["2013-08-01",{"$f":"MONTH(Serie_Encadeada[[#This Row],[Período]])&YEAR(Serie_Encadeada[[#This Row],[Período]])","v":"82013"},141.1781,128.6876,130.0881,133.3955,103.6584,85.392799999999994,null,"2013-08-01",-0.4110445200647771,0.11062239488927846,2.2054352181393853,-3.9750211456439914,-4.0811926465430837,1.1474999999999937,null,"2013-08-01",-7.0268814336413348,2.3754669789406058,1.5504844190445237,0.14451626464869069,-2.1791566478810545,-1.7582000000000022,null,"2013-08-01",1.8843087757414123,3.9730184209058335,4.6170148698666713,3.3820524005892469,-0.52747406719357859,-2.487500000000864E-3,null,"2013-08-01",1.8558909630724196,3.3417445325739923,4.0873303060188118,3.1816484955291942,-0.15541313874711071,6.1316666666670017E-2,null,null,"2013-08-01",{"$f":"IF(MONTH(Serie_Encadeada[[#This Row],[Período]])=1,Serie_Encadeada[[#This Row],[Fat.real]],Serie_Encadeada[[#This Row],[Fat.real]]+AR130)","v":1072.2107000000001},{"$f":"IF(MONTH(Serie_Encadeada[[#This Row],[Período]])=1,Serie_Encadeada[[#This Row],[Emprego]],Serie_Encadeada[[#This Row],[Emprego]]+AS130)","v":1023.3613999999999},{"$f":"IF(MONTH(Serie_Encadeada[[#This Row],[Período]])=1,Serie_Encadeada[[#This Row],[Horas]],Serie_Encadeada[[#This Row],[Horas]]+AT130)","v":999.21049999999991},{"$f":"IF(MONTH(Serie_Encadeada[[#This Row],[Período]])=1,Serie_Encadeada[[#This Row],[Massa Real]],Serie_Encadeada[[#This Row],[Massa Real]]+AU130)","v":1150.5859},{"$f":"IF(MONTH(Serie_Encadeada[[#This Row],[Período]])=1,Serie_Encadeada[[#This Row],[RMR Real]],Serie_Encadeada[[#This Row],[RMR Real]]+AV130)","v":900.19990000000007},{"$f":"IF(MONTH(Serie_Encadeada[[#This Row],[Período]])=1,Serie_Encadeada[[#This Row],[UCI]],Serie_Encadeada[[#This Row],[UCI]]+AW130)","v":678.1694},84.771174999999999,"2013-08-01",1623.2535,1528.4862000000001,1484.5544999999997,1794.6445000000001,1410.1695,85.12236666666665]
["2013-09-01",{"$f":"MONTH(Serie_Encadeada[[#This Row],[Período]])&YEAR(Serie_Encadeada[[#This Row],[Período]])","v":"92013"},137.92150000000001,128.161,123.9718,133.2681,103.9849,84.073599999999999,null,"2013-09-01",-2.3067317098048434,-0.40920803558384955,-4.7016598751153991,-9.5505470574340529E-2,0.31497688561659815,-1.319199999999995,null,"2013-09-01",2.3108712278283847,1.8718488213210653,2.3826729112280778,4.3484490797834257,2.4310214052818742,-1.6687000000000012,null,"2013-09-01",1.9327453832248394,3.7348877919339261,4.3656218015340089,3.4815340222139795,-0.22907322315245396,-0.18762222222223102,null,"2013-09-01",2.5366455459220001,3.4598370950057986,4.2068854439242829,3.7501494125909653,0.29007102047236577,-6.583333333196606E-4,null,null,"2013-09-01",{"$f":"IF(MONTH(Serie_Encadeada[[#This Row],[Período]])=1,Serie_Encadeada[[#This Row],[Fat.real]],Serie_Encadeada[[#This Row],[Fat.real]]+AR131)","v":1210.1322},{"$f":"IF(MONTH(Serie_Encadeada[[#This Row],[Período]])=1,Serie_Encadeada[[#This Row],[Emprego]],Serie_Encadeada[[#This Row],[Emprego]]+AS131)","v":1151.5223999999998},{"$f":"IF(MONTH(Serie_Encadeada[[#This Row],[Período]])=1,Serie_Encadeada[[#This Row],[Horas]],Serie_Encadeada[[#This Row],[Horas]]+AT131)","v":1123.1822999999999},{"$f":"IF(MONTH(Serie_Encadeada[[#This Row],[Período]])=1,Serie_Encadeada[[#This Row],[Massa Real]],Serie_Encadeada[[#This Row],[Massa Real]]+AU131)","v":1283.854},{"$f":"IF(MONTH(Serie_Encadeada[[#This Row],[Período]])=1,Serie_Encadeada[[#This Row],[RMR Real]],Serie_Encadeada[[#This Row],[RMR Real]]+AV131)","v":1004.1848000000001},{"$f":"IF(MONTH(Serie_Encadeada[[#This Row],[Período]])=1,Serie_Encadeada[[#This Row],[UCI]],Serie_Encadeada[[#This Row],[UCI]]+AW131)","v":762.24299999999994},84.693666666666658,"2013-09-01",1626.3687,1530.8411000000001,1487.4395999999999,1800.1981000000001,1412.6373999999998,84.983308333333341]
["2013-10-01",{"$f":"MONTH(Serie_Encadeada[[#This Row],[Período]])&YEAR(Serie_Encadeada[[#This Row],[Período]])","v":"102013"},135.2988,127.8741,129.69980000000001,143.3039,112.0663,84.914000000000001,null,"2013-10-01",-1.901588947335991,-0.22385905228579897,4.6204056083722334,7.530534313913078,7.7717053149063009,0.84040000000000248,null,"2013-10-01",-5.4267889908256883,1.2491240849904819,2.15920950546833,3.7945922533533176,2.5139478274869367,-2.2369999999999948,null,"2013-10-01",1.1412596765689289,3.480962208963041,4.1327988510237343,3.5128835346340654,3.9666304746744978E-2,-0.39256000000000313,null,"2013-10-01",1.5723649721131925,3.4448873778121203,3.8442806412672046,3.8733599533793575,0.42309530485680824,-0.28714166666665619,null,null,"2013-10-01",{"$f":"IF(MONTH(Serie_Encadeada[[#This Row],[Período]])=1,Serie_Encadeada[[#This Row],[Fat.real]],Serie_Encadeada[[#This Row],[Fat.real]]+AR132)","v":1345.431},{"$f":"IF(MONTH(Serie_Encadeada[[#This Row],[Período]])=1,Serie_Encadeada[[#This Row],[Emprego]],Serie_Encadeada[[#This Row],[Emprego]]+AS132)","v":1279.3964999999998},{"$f":"IF(MONTH(Serie_Encadeada[[#This Row],[Período]])=1,Serie_Encadeada[[#This Row],[Horas]],Serie_Encadeada[[#This Row],[Horas]]+AT132)","v":1252.8821},{"$f":"IF(MONTH(Serie_Encadeada[[#This Row],[Período]])=1,Serie_Encadeada[[#This Row],[Massa Real]],Serie_Encadeada[[#This Row],[Massa Real]]+AU132)","v":1427.1579000000002},{"$f":"IF(MONTH(Serie_Encadeada[[#This Row],[Período]])=1,Serie_Encadeada[[#This Row],[RMR Real]],Serie_Encadeada[[#This Row],[RMR Real]]+AV132)","v":1116.2511000000002},{"$f":"IF(MONTH(Serie_Encadeada[[#This Row],[Período]])=1,Serie_Encadeada[[#This Row],[UCI]],Serie_Encadeada[[#This Row],[UCI]]+AW132)","v":847.15699999999993},{"$f":"AW133/MONTH(AQ133)","v":84.715699999999998},"2013-10-01",1618.605,1532.4187000000002,1490.1809000000001,1805.4371000000001,1415.3856000000001,84.796891666666667]
["2013-11-01",{"$f":"MONTH(Serie_Encadeada[[#This Row],[Período]])&YEAR(Serie_Encadeada[[#This Row],[Período]])","v":"112013"},131.2895,126.4592,122.41079999999999,162.6172,128.5926,87.150999999999996,null,"2013-11-01",-2.9632930964650064,-1.1064789507804966,-5.6199007245963486,13.477162868561148,14.746895364618986,2.2369999999999948,null,"2013-11-01",-7.6556299402562189,-0.3643978925589601,9.747194410735667E-2,-1.6053691405115484,-1.2455602102684282,1.5725999999999942,null,"2013-11-01",0.29185223378714609,3.1229585096542749,3.7604824808125485,2.9650219790176835,-9.4645122923093059E-2,-0.21390909090909815,null,"2013-11-01",0.33252780857720504,3.1600885639866765,3.6655288245868465,3.0869581825060419,-3.3954539241811313E-2,-0.14327499999998849,null,null,"2013-11-01",{"$f":"IF(MONTH(Serie_Encadeada[[#This Row],[Período]])=1,Serie_Encadeada[[#This Row],[Fat.real]],Serie_Encadeada[[#This Row],[Fat.real]]+AR133)","v":1476.7205000000001},{"$f":"IF(MONTH(Serie_Encadeada[[#This Row],[Período]])=1,Serie_Encadeada[[#This Row],[Emprego]],Serie_Encadeada[[#This Row],[Emprego]]+AS133)","v":1405.8556999999998},{"$f":"IF(MONTH(Serie_Encadeada[[#This Row],[Período]])=1,Serie_Encadeada[[#This Row],[Horas]],Serie_Encadeada[[#This Row],[Horas]]+AT133)","v":1375.2928999999999},{"$f":"IF(MONTH(Serie_Encadeada[[#This Row],[Período]])=1,Serie_Encadeada[[#This Row],[Massa Real]],Serie_Encadeada[[#This Row],[Massa Real]]+AU133)","v":1589.7751000000001},{"$f":"IF(MONTH(Serie_Encadeada[[#This Row],[Período]])=1,Serie_Encadeada[[#This Row],[RMR Real]],Serie_Encadeada[[#This Row],[RMR Real]]+AV133)","v":1244.8437000000001},{"$f":"IF(MONTH(Serie_Encadeada[[#This Row],[Período]])=1,Serie_Encadeada[[#This Row],[UCI]],Serie_Encadeada[[#This Row],[UCI]]+AW133)","v":934.30799999999988},84.937090909090898,"2013-11-01",1607.7207000000001,1531.9562000000001,1490.3000999999999,1802.7839000000001,1413.7636999999997,84.927941666666669]
["2013-12-01",{"$f":"MONTH(Serie_Encadeada[[#This Row],[Período]])&YEAR(Serie_Encadeada[[#This Row],[Período]])","v":"122013"},128.73609999999999,124.922,111.19240000000001,198.18199999999999,158.6446,87.150999999999996,null,"2013-12-01",-1.9448623081053782,-1.2155699229474792,-9.164550840285326,21.870257266758983,23.369929529381931,0,null,"2013-12-01",-1.7283179720336406,-0.93457202786666171,-3.3170097176524522,-6.9606513909284589,-6.0829978688136341,2.3237000000000023,null,"2013-12-01",0.12680368765981004,2.7794221963949406,3.1954099560639304,1.7616919619026485,-0.8095520455594325,-2.4416666666837727E-3,null,"2013-12-01",0.12680368765981004,2.7794221963949406,3.1954099560639304,1.7616919619026485,-0.8095520455594325,-2.4416666666837727E-3,null,null,"2013-12-01",{"$f":"IF(MONTH(Serie_Encadeada[[#This Row],[Período]])=1,Serie_Encadeada[[#This Row],[Fat.real]],Serie_Encadeada[[#This Row],[Fat.real]]+AR134)","v":1605.4566000000002},{"$f":"IF(MONTH(Serie_Encadeada[[#This Row],[Período]])=1,Serie_Encadeada[[#This Row],[Emprego]],Serie_Encadeada[[#This Row],[Emprego]]+AS134)","v":1530.7776999999999},{"$f":"IF(MONTH(Serie_Encadeada[[#This Row],[Período]])=1,Serie_Encadeada[[#This Row],[Horas]],Serie_Encadeada[[#This Row],[Horas]]+AT134)","v":1486.4852999999998},{"$f":"IF(MONTH(Serie_Encadeada[[#This Row],[Período]])=1,Serie_Encadeada[[#This Row],[Massa Real]],Serie_Encadeada[[#This Row],[Massa Real]]+AU134)","v":1787.9571000000001},{"$f":"IF(MONTH(Serie_Encadeada[[#This Row],[Período]])=1,Serie_Encadeada[[#This Row],[RMR Real]],Serie_Encadeada[[#This Row],[RMR Real]]+AV134)","v":1403.4883000000002},{"$f":"IF(MONTH(Serie_Encadeada[[#This Row],[Período]])=1,Serie_Encadeada[[#This Row],[UCI]],Serie_Encadeada[[#This Row],[UCI]]+AW134)","v":1021.4589999999998},85.121583333333319,"2013-12-01",1605.4566000000002,1530.7776999999999,1486.4852999999998,1787.9571000000001,1403.4883000000002,85.121583333333319]
["2014-01-01",{"$f":"MONTH(Serie_Encadeada[[#This Row],[Período]])&YEAR(Serie_Encadeada[[#This Row],[Período]])","v":"12014"},120.041,124.86660000000001,120.2398,149.27709999999999,119.5493,85.6006,null,"2014-01-01",-6.7542049199874761,-4.4347672947912843E-2,8.1367071850234325,-24.676761764438748,-24.643322243555719,-1.5503999999999962,null,"2014-01-01",-5.4176394160273391,-1.5295782067438333,-1.5775933127658774,6.6607076126557754,8.3176284688119466,1.1935000000000002,null,"2014-01-01",-5.4176394160273391,-1.5295782067438333,-1.5775933127658774,6.6607076126557754,8.3176284688119466,1.1935000000000002,null,"2014-01-01",-0.92852277847223164,2.3166980263635502,2.3232712833049445,2.0903980572095686,-5.2567851087104961E-2,5.7474999999996612E-2,null,null,"2014-01-01",{"$f":"IF(MONTH(Serie_Encadeada[[#This Row],[Período]])=1,Serie_Encadeada[[#This Row],[Fat.real]],Serie_Encadeada[[#This Row],[Fat.real]]+AR135)","v":120.041},{"$f":"IF(MONTH(Serie_Encadeada[[#This Row],[Período]])=1,Serie_Encadeada[[#This Row],[Emprego]],Serie_Encadeada[[#This Row],[Emprego]]+AS135)","v":124.86660000000001},{"$f":"IF(MONTH(Serie_Encadeada[[#This Row],[Período]])=1,Serie_Encadeada[[#This Row],[Horas]],Serie_Encadeada[[#This Row],[Horas]]+AT135)","v":120.2398},{"$f":"IF(MONTH(Serie_Encadeada[[#This Row],[Período]])=1,Serie_Encadeada[[#This Row],[Massa Real]],Serie_Encadeada[[#This Row],[Massa Real]]+AU135)","v":149.27709999999999},{"$f":"IF(MONTH(Serie_Encadeada[[#This Row],[Período]])=1,Serie_Encadeada[[#This Row],[RMR Real]],Serie_Encadeada[[#This Row],[RMR Real]]+AV135)","v":119.5493},{"$f":"IF(MONTH(Serie_Encadeada[[#This Row],[Período]])=1,Serie_Encadeada[[#This Row],[UCI]],Serie_Encadeada[[#This Row],[UCI]]+AW135)","v":85.6006},85.6006,"2014-01-01",1598.5807000000002,1528.8380999999999,1484.5580000000002,1797.2791,1412.6684,85.221041666666665]
["2014-02-01",{"$f":"MONTH(Serie_Encadeada[[#This Row],[Período]])&YEAR(Serie_Encadeada[[#This Row],[Período]])","v":"22014"},122.973,126.1965,123.3485,201.9059,159.9933,84.494900000000001,null,"2014-02-01",2.4424988129055922,1.0650566284338605,2.5854168087438594,35.255776003151198,33.830394657266922,-1.1056999999999988,null,"2014-02-01",11.022835098502487,0.21504744464394016,7.8626581669683553,5.9786705130708437,5.7512586579206708,2.8525999999999954,null,"2014-02-01",2.2439357692634618,-0.66030445701550777,2.986672394060478,6.267514790267346,6.8337579917244202,2.023050000000012,null,"2014-02-01",0.13375909301676744,2.0653444016172791,2.777968547061556,1.532876533383156,-0.29954965492341695,0.42494999999998129,null,null,"2014-02-01",{"$f":"IF(MONTH(Serie_Encadeada[[#This Row],[Período]])=1,Serie_Encadeada[[#This Row],[Fat.real]],Serie_Encadeada[[#This Row],[Fat.real]]+AR136)","v":243.01400000000001},{"$f":"IF(MONTH(Serie_Encadeada[[#This Row],[Período]])=1,Serie_Encadeada[[#This Row],[Emprego]],Serie_Encadeada[[#This Row],[Emprego]]+AS136)","v":251.06310000000002},{"$f":"IF(MONTH(Serie_Encadeada[[#This Row],[Período]])=1,Serie_Encadeada[[#This Row],[Horas]],Serie_Encadeada[[#This Row],[Horas]]+AT136)","v":243.5883},{"$f":"IF(MONTH(Serie_Encadeada[[#This Row],[Período]])=1,Serie_Encadeada[[#This Row],[Massa Real]],Serie_Encadeada[[#This Row],[Massa Real]]+AU136)","v":351.18299999999999},{"$f":"IF(MONTH(Serie_Encadeada[[#This Row],[Período]])=1,Serie_Encadeada[[#This Row],[RMR Real]],Serie_Encadeada[[#This Row],[RMR Real]]+AV136)","v":279.54259999999999},{"$f":"IF(MONTH(Serie_Encadeada[[#This Row],[Período]])=1,Serie_Encadeada[[#This Row],[UCI]],Serie_Encadeada[[#This Row],[UCI]]+AW136)","v":170.09550000000002},85.047750000000008,"2014-02-01",1610.7900000000002,1529.1088999999999,1493.5495000000001,1808.6693999999998,1421.3696000000002,85.458758333333321]
["2014-03-01",{"$f":"MONTH(Serie_Encadeada[[#This Row],[Período]])&YEAR(Serie_Encadeada[[#This Row],[Período]])","v":"32014"},126.2368,127.3473,120.3809,148.46549999999999,116.5831,87.150999999999996,null,"2014-03-01",2.6540785375651592,0.9119111861264011,-2.4058663056299867,-26.467973447036471,-27.13251117390541,2.656099999999995,null,"2014-03-01",-7.0856358877580083,4.5958481814589593E-2,-2.5709487485583695,8.6339815813466156,8.5840395578889996,3.1105999999999909,null,"2014-03-01",-1.1493686690892171,-0.42374007521167623,1.0796441695437979,6.9598500652379034,7.3429929436248838,2.3855666666666764,null,"2014-03-01",-0.68387164404161116,1.7456145720498351,2.5437773014699183,2.8470152786763681,1.2982891354503332,0.64135833333332926,null,null,"2014-03-01",{"$f":"IF(MONTH(Serie_Encadeada[[#This Row],[Período]])=1,Serie_Encadeada[[#This Row],[Fat.real]],Serie_Encadeada[[#This Row],[Fat.real]]+AR137)","v":369.25080000000003},{"$f":"IF(MONTH(Serie_Encadeada[[#This Row],[Período]])=1,Serie_Encadeada[[#This Row],[Emprego]],Serie_Encadeada[[#This Row],[Emprego]]+AS137)","v":378.41040000000004},{"$f":"IF(MONTH(Serie_Encadeada[[#This Row],[Período]])=1,Serie_Encadeada[[#This Row],[Horas]],Serie_Encadeada[[#This Row],[Horas]]+AT137)","v":363.9692},{"$f":"IF(MONTH(Serie_Encadeada[[#This Row],[Período]])=1,Serie_Encadeada[[#This Row],[Massa Real]],Serie_Encadeada[[#This Row],[Massa Real]]+AU137)","v":499.64850000000001},{"$f":"IF(MONTH(Serie_Encadeada[[#This Row],[Período]])=1,Serie_Encadeada[[#This Row],[RMR Real]],Serie_Encadeada[[#This Row],[RMR Real]]+AV137)","v":396.12569999999999},{"$f":"IF(MONTH(Serie_Encadeada[[#This Row],[Período]])=1,Serie_Encadeada[[#This Row],[UCI]],Serie_Encadeada[[#This Row],[UCI]]+AW137)","v":257.24650000000003},85.748833333333337,"2014-03-01",1601.1632,1529.1674,1490.3729000000003,1820.4691,1430.586,85.717974999999981]
["2014-04-01",{"$f":"MONTH(Serie_Encadeada[[#This Row],[Período]])&YEAR(Serie_Encadeada[[#This Row],[Período]])","v":"42014"},119.40560000000001,127.8177,121.5219,138.3151,108.2129,84.863200000000006,null,"2014-04-01",-5.4114172729346715,0.36938356761391716,0.94782477951236899,-6.8368745600829763,-7.179599787619301,-2.2877999999999901,null,"2014-04-01",-14.349267878393132,-0.49628197223622605,-6.2162410371617636,1.5647935405087674,2.0713678668212312,-2.2877999999999901,null,"2014-04-01",-4.7368175827037762,-0.44206618248769058,-0.85104245144010082,5.742054887567245,6.1665118391966747,1.2172250000000133,null,"2014-04-01",-3.1305239842424282,1.2256909950366779,1.0257570620217691,2.6466686832555375,1.5714278422634298,0.17224166666665042,null,null,"2014-04-01",{"$f":"IF(MONTH(Serie_Encadeada[[#This Row],[Período]])=1,Serie_Encadeada[[#This Row],[Fat.real]],Serie_Encadeada[[#This Row],[Fat.real]]+AR138)","v":488.65640000000002},{"$f":"IF(MONTH(Serie_Encadeada[[#This Row],[Período]])=1,Serie_Encadeada[[#This Row],[Emprego]],Serie_Encadeada[[#This Row],[Emprego]]+AS138)","v":506.22810000000004},{"$f":"IF(MONTH(Serie_Encadeada[[#This Row],[Período]])=1,Serie_Encadeada[[#This Row],[Horas]],Serie_Encadeada[[#This Row],[Horas]]+AT138)","v":485.49110000000002},{"$f":"IF(MONTH(Serie_Encadeada[[#This Row],[Período]])=1,Serie_Encadeada[[#This Row],[Massa Real]],Serie_Encadeada[[#This Row],[Massa Real]]+AU138)","v":637.96360000000004},{"$f":"IF(MONTH(Serie_Encadeada[[#This Row],[Período]])=1,Serie_Encadeada[[#This Row],[RMR Real]],Serie_Encadeada[[#This Row],[RMR Real]]+AV138)","v":504.33859999999999},{"$f":"IF(MONTH(Serie_Encadeada[[#This Row],[Período]])=1,Serie_Encadeada[[#This Row],[UCI]],Serie_Encadeada[[#This Row],[UCI]]+AW138)","v":342.10970000000003},85.527425000000008,"2014-04-01",1581.1588999999999,1528.5299,1482.3181000000002,1822.6001000000001,1432.7820000000002,85.527324999999976]
["2014-05-01",{"$f":"MONTH(Serie_Encadeada[[#This Row],[Período]])&YEAR(Serie_Encadeada[[#This Row],[Período]])","v":"52014"},128.5489,128.40940000000001,123.28870000000001,141.4725,110.1729,85.942899999999995,null,"2014-05-01",7.6573460541214109,0.46292493136709784,1.4538943186372197,2.2827587154258615,1.8112443156037714,1.0796999999999883,null,"2014-05-01",-8.2659802672048297,-0.3485218282068992,-3.8821750970426865,0.83628416983131992,1.1888481196930487,-0.23050000000000637,null,"2014-05-01",-5.4940671699896111,-0.42315305748440918,-1.4802405334225754,4.816480142137145,5.2383754444504094,0.92768000000000939,null,"2014-05-01",-4.0145017653876369,0.70466471897798866,0.1292638972753325,2.073216857650527,1.4793686592926052,1.5674999999987449E-2,null,null,"2014-05-01",{"$f":"IF(MONTH(Serie_Encadeada[[#This Row],[Período]])=1,Serie_Encadeada[[#This Row],[Fat.real]],Serie_Encadeada[[#This Row],[Fat.real]]+AR139)","v":617.20530000000008},{"$f":"IF(MONTH(Serie_Encadeada[[#This Row],[Período]])=1,Serie_Encadeada[[#This Row],[Emprego]],Serie_Encadeada[[#This Row],[Emprego]]+AS139)","v":634.63750000000005},{"$f":"IF(MONTH(Serie_Encadeada[[#This Row],[Período]])=1,Serie_Encadeada[[#This Row],[Horas]],Serie_Encadeada[[#This Row],[Horas]]+AT139)","v":608.77980000000002},{"$f":"IF(MONTH(Serie_Encadeada[[#This Row],[Período]])=1,Serie_Encadeada[[#This Row],[Massa Real]],Serie_Encadeada[[#This Row],[Massa Real]]+AU139)","v":779.43610000000001},{"$f":"IF(MONTH(Serie_Encadeada[[#This Row],[Período]])=1,Serie_Encadeada[[#This Row],[RMR Real]],Serie_Encadeada[[#This Row],[RMR Real]]+AV139)","v":614.51149999999996},{"$f":"IF(MONTH(Serie_Encadeada[[#This Row],[Período]])=1,Serie_Encadeada[[#This Row],[UCI]],Serie_Encadeada[[#This Row],[UCI]]+AW139)","v":428.05260000000004},85.610520000000008,"2014-05-01",1569.5755999999999,{"$f":"SUM(D129:D140)","v":1528.0808000000002},1477.3385000000001,1823.7734,1434.0764000000001,85.508116666666652]
["2014-06-01",{"$f":"MONTH(Serie_Encadeada[[#This Row],[Período]])&YEAR(Serie_Encadeada[[#This Row],[Período]])","v":"62014"},119.67,128.38919999999999,118.3386,134.36680000000001,104.6558,83.740700000000004,null,"2014-06-01",-6.9070213747453311,-1.5730935585725709E-2,-4.0150476077694108,-5.0226722507907793,-5.0076743010304705,-2.2021999999999906,null,"2014-06-01",-12.127208843819636,-0.31430035560664543,-4.5000274382075425,-0.21262042983041826,0.10196156450742833,-1.3763999999999896,null,"2014-06-01",-6.638587619626084,-0.40485380779513425,-1.9846560194672278,4.0454396349927197,4.4583764117845641,0.54366666666666674,null,"2014-06-01",-5.0365375056613537,0.35373654881121253,-0.56545640057188085,1.7382494838149332,1.4593640243412092,7.0466666666675337E-2,null,null,"2014-06-01",{"$f":"IF(MONTH(Serie_Encadeada[[#This Row],[Período]])=1,Serie_Encadeada[[#This Row],[Fat.real]],Serie_Encadeada[[#This Row],[Fat.real]]+AR140)","v":736.87530000000004},{"$f":"IF(MONTH(Serie_Encadeada[[#This Row],[Período]])=1,Serie_Encadeada[[#This Row],[Emprego]],Serie_Encadeada[[#This Row],[Emprego]]+AS140)","v":763.02670000000001},{"$f":"IF(MONTH(Serie_Encadeada[[#This Row],[Período]])=1,Serie_Encadeada[[#This Row],[Horas]],Serie_Encadeada[[#This Row],[Horas]]+AT140)","v":727.11840000000007},{"$f":"IF(MONTH(Serie_Encadeada[[#This Row],[Período]])=1,Serie_Encadeada[[#This Row],[Massa Real]],Serie_Encadeada[[#This Row],[Massa Real]]+AU140)","v":913.80290000000002},{"$f":"IF(MONTH(Serie_Encadeada[[#This Row],[Período]])=1,Serie_Encadeada[[#This Row],[RMR Real]],Serie_Encadeada[[#This Row],[RMR Real]]+AV140)","v":719.16729999999995},{"$f":"IF(MONTH(Serie_Encadeada[[#This Row],[Período]])=1,Serie_Encadeada[[#This Row],[UCI]],Serie_Encadeada[[#This Row],[UCI]]+AW140)","v":511.79330000000004},85.298883333333336,"2014-06-01",1553.0600999999999,1527.6760000000002,1471.7623000000001,1823.4871000000001,1434.183,85.393416666666667]
["2014-07-01",{"$f":"MONTH(Serie_Encadeada[[#This Row],[Período]])&YEAR(Serie_Encadeada[[#This Row],[Período]])","v":"72014"},124.0887,128.06899999999999,124.8634,140.2046,109.47580000000001,85.608099999999993,null,"2014-07-01",3.6924041113060926,-0.24939792443601164,5.5136700958098199,4.3446744285046508,4.6055736996898471,1.8673999999999893,null,"2014-07-01",-12.466140145935963,-0.37060836093707933,-1.8994193948821954,0.92652113664585778,1.3018546501352446,1.3627999999999929,null,"2014-07-01",-7.5259018857126962,-0.39993347295963622,-1.9721733095361424,3.6194895272310736,4.0301227243024949,0.66068571428571943,null,"2014-07-01",-6.0306181983895524,0.11139952652908182,-0.89193867156068329,1.6897749285018655,1.6362158239979163,0.23809999999998865,null,null,"2014-07-01",{"$f":"IF(MONTH(Serie_Encadeada[[#This Row],[Período]])=1,Serie_Encadeada[[#This Row],[Fat.real]],Serie_Encadeada[[#This Row],[Fat.real]]+AR141)","v":860.96400000000006},{"$f":"IF(MONTH(Serie_Encadeada[[#This Row],[Período]])=1,Serie_Encadeada[[#This Row],[Emprego]],Serie_Encadeada[[#This Row],[Emprego]]+AS141)","v":891.09569999999997},{"$f":"IF(MONTH(Serie_Encadeada[[#This Row],[Período]])=1,Serie_Encadeada[[#This Row],[Horas]],Serie_Encadeada[[#This Row],[Horas]]+AT141)","v":851.98180000000002},{"$f":"IF(MONTH(Serie_Encadeada[[#This Row],[Período]])=1,Serie_Encadeada[[#This Row],[Massa Real]],Serie_Encadeada[[#This Row],[Massa Real]]+AU141)","v":1054.0074999999999},{"$f":"IF(MONTH(Serie_Encadeada[[#This Row],[Período]])=1,Serie_Encadeada[[#This Row],[RMR Real]],Serie_Encadeada[[#This Row],[RMR Real]]+AV141)","v":828.6431},{"$f":"IF(MONTH(Serie_Encadeada[[#This Row],[Período]])=1,Serie_Encadeada[[#This Row],[UCI]],Serie_Encadeada[[#This Row],[UCI]]+AW141)","v":597.40140000000008},85.343057142857148,"2014-07-01",1535.3879999999999,1527.1996000000001,1469.3447000000001,1824.7742000000003,1435.5898999999999,85.506983333333324]
["2014-08-01",{"$f":"MONTH(Serie_Encadeada[[#This Row],[Período]])&YEAR(Serie_Encadeada[[#This Row],[Período]])","v":"82014"},124.13509999999999,127.7988,120.407,137.1001,107.27809999999999,86.035399999999996,null,"2014-08-01",3.7392607062521677E-2,-0.2109800185837232,-3.5690202253022121,-2.2142640113091878,-2.0074756247499552,0.42730000000000246,null,"2014-08-01",-12.071985669165405,-0.69066483484034458,-7.4419566432287052,2.7771551514106543,3.4919504835112201,0.64260000000000161,null,"2014-08-01",-8.1244852341055775,-0.43649291442885146,-2.6842892463599863,3.5218317902209457,3.968151962691834,0.65842500000000825,null,"2014-08-01",-6.4628537686812324,-0.14232382340122413,-1.6766578795187297,1.8852926025182264,2.0593340020472675,0.4381666666666888,null,null,"2014-08-01",{"$f":"IF(MONTH(Serie_Encadeada[[#This Row],[Período]])=1,Serie_Encadeada[[#This Row],[Fat.real]],Serie_Encadeada[[#This Row],[Fat.real]]+AR142)","v":985.09910000000002},{"$f":"IF(MONTH(Serie_Encadeada[[#This Row],[Período]])=1,Serie_Encadeada[[#This Row],[Emprego]],Serie_Encadeada[[#This Row],[Emprego]]+AS142)","v":1018.8945},{"$f":"IF(MONTH(Serie_Encadeada[[#This Row],[Período]])=1,Serie_Encadeada[[#This Row],[Horas]],Serie_Encadeada[[#This Row],[Horas]]+AT142)","v":972.38880000000006},{"$f":"IF(MONTH(Serie_Encadeada[[#This Row],[Período]])=1,Serie_Encadeada[[#This Row],[Massa Real]],Serie_Encadeada[[#This Row],[Massa Real]]+AU142)","v":1191.1075999999998},{"$f":"IF(MONTH(Serie_Encadeada[[#This Row],[Período]])=1,Serie_Encadeada[[#This Row],[RMR Real]],Serie_Encadeada[[#This Row],[RMR Real]]+AV142)","v":935.9212},{"$f":"IF(MONTH(Serie_Encadeada[[#This Row],[Período]])=1,Serie_Encadeada[[#This Row],[UCI]],Serie_Encadeada[[#This Row],[UCI]]+AW142)","v":683.43680000000006},85.429600000000008,"2014-08-01",1518.345,1526.3108,1459.6635999999999,1828.4788000000003,1439.2095999999999,85.560533333333339]
["2014-09-01",{"$f":"MONTH(Serie_Encadeada[[#This Row],[Período]])&YEAR(Serie_Encadeada[[#This Row],[Período]])","v":"92014"},132.12180000000001,125.1848,122.5971,138.96960000000001,111.0115,85.961500000000001,null,"2014-09-01",6.4338772837013973,-2.0454026172389761,1.8189141827302409,1.3636022147321676,3.4801138349765735,-7.3899999999994748E-2,null,"2014-09-01",-4.2050731756832702,-2.322235313394875,-1.1088812133081913,4.2782181182143439,6.7573272657857073,1.8879000000000019,null,"2014-09-01",-7.6777809895480829,-0.64637040495260534,-2.5104028081638941,3.6003470799638961,4.2569754093071266,0.79503333333335036,null,"2014-09-01",-6.9986221451507413,-0.49035134998661584,-1.9597905017454251,1.8876922489808161,2.3784447445607921,0.73454999999998449,null,null,"2014-09-01",{"$f":"IF(MONTH(Serie_Encadeada[[#This Row],[Período]])=1,Serie_Encadeada[[#This Row],[Fat.real]],Serie_Encadeada[[#This Row],[Fat.real]]+AR143)","v":1117.2209},{"$f":"IF(MONTH(Serie_Encadeada[[#This Row],[Período]])=1,Serie_Encadeada[[#This Row],[Emprego]],Serie_Encadeada[[#This Row],[Emprego]]+AS143)","v":1144.0792999999999},{"$f":"IF(MONTH(Serie_Encadeada[[#This Row],[Período]])=1,Serie_Encadeada[[#This Row],[Horas]],Serie_Encadeada[[#This Row],[Horas]]+AT143)","v":1094.9859000000001},{"$f":"IF(MONTH(Serie_Encadeada[[#This Row],[Período]])=1,Serie_Encadeada[[#This Row],[Massa Real]],Serie_Encadeada[[#This Row],[Massa Real]]+AU143)","v":1330.0771999999997},{"$f":"IF(MONTH(Serie_Encadeada[[#This Row],[Período]])=1,Serie_Encadeada[[#This Row],[RMR Real]],Serie_Encadeada[[#This Row],[RMR Real]]+AV143)","v":1046.9327000000001},{"$f":"IF(MONTH(Serie_Encadeada[[#This Row],[Período]])=1,Serie_Encadeada[[#This Row],[UCI]],Serie_Encadeada[[#This Row],[UCI]]+AW143)","v":769.39830000000006},85.488700000000009,"2014-09-01",1512.5452999999998,1523.3346000000001,1458.2888999999998,1834.1803,1446.2362000000001,85.717858333333325]
["2014-10-01",{"$f":"MONTH(Serie_Encadeada[[#This Row],[Período]])&YEAR(Serie_Encadeada[[#This Row],[Período]])","v":"102014"},138.6481,124.1895,123.5654,137.6601,110.8468,86.173400000000001,null,"2014-10-01",4.9396087549518635,-0.79506457653005824,0.78982292403327592,-0.94229241503178673,-0.14836300743616318,0.21189999999999998,null,"2014-10-01",2.4754838919487825,-2.8814279044779227,-4.7296911791691372,-3.938343618003417,-1.0881951130714556,1.2593999999999994,null,"2014-10-01",-6.6567516282886228,-0.8697616415239533,-2.740146099940286,2.8433714307295372,3.7203457179123864,0.84147000000001526,null,"2014-10-01",-6.3456124255145872,-0.83323833101228006,-2.5517975703486866,1.279435323446054,2.0935001740868397,1.0259166666666744,null,null,"2014-10-01",{"$f":"IF(MONTH(Serie_Encadeada[[#This Row],[Período]])=1,Serie_Encadeada[[#This Row],[Fat.real]],Serie_Encadeada[[#This Row],[Fat.real]]+AR144)","v":1255.8690000000001},{"$f":"IF(MONTH(Serie_Encadeada[[#This Row],[Período]])=1,Serie_Encadeada[[#This Row],[Emprego]],Serie_Encadeada[[#This Row],[Emprego]]+AS144)","v":1268.2687999999998},{"$f":"IF(MONTH(Serie_Encadeada[[#This Row],[Período]])=1,Serie_Encadeada[[#This Row],[Horas]],Serie_Encadeada[[#This Row],[Horas]]+AT144)","v":1218.5513000000001},{"$f":"IF(MONTH(Serie_Encadeada[[#This Row],[Período]])=1,Serie_Encadeada[[#This Row],[Massa Real]],Serie_Encadeada[[#This Row],[Massa Real]]+AU144)","v":1467.7372999999998},{"$f":"IF(MONTH(Serie_Encadeada[[#This Row],[Período]])=1,Serie_Encadeada[[#This Row],[RMR Real]],Serie_Encadeada[[#This Row],[RMR Real]]+AV144)","v":1157.7795000000001},{"$f":"IF(MONTH(Serie_Encadeada[[#This Row],[Período]])=1,Serie_Encadeada[[#This Row],[UCI]],Serie_Encadeada[[#This Row],[UCI]]+AW144)","v":855.57170000000008},85.557170000000013,"2014-10-01",1515.8945999999996,1519.65,1452.1544999999999,1828.5365000000002,1445.0167000000001,85.822808333333342]
["2014-11-01",{"$f":"MONTH(Serie_Encadeada[[#This Row],[Período]])&YEAR(Serie_Encadeada[[#This Row],[Período]])","v":"112014"},128.66820000000001,123.85299999999999,116.4248,167.40299999999999,135.1626,84.58,null,"2014-11-01",-7.1980070408465648,-0.27095688443870125,-5.7788021565907544,21.606042709543281,21.936402313824122,-1.5934000000000026,null,"2014-11-01",-1.9965800768530544,-2.060901856092717,-4.8900913971642943,2.9429851208851185,5.1091586918687337,-2.570999999999998,null,"2014-11-01",-6.2424338254937144,-0.97690680487335579,-2.9315064449180124,2.8535608590170853,3.8638103723383166,0.5312454545454699,null,"2014-11-01",-5.8746149129012419,-0.97342208608837255,-2.9612559242262795,1.6939578836930986,2.6753410064213772,0.68061666666666554,null,null,"2014-11-01",{"$f":"IF(MONTH(Serie_Encadeada[[#This Row],[Período]])=1,Serie_Encadeada[[#This Row],[Fat.real]],Serie_Encadeada[[#This Row],[Fat.real]]+AR145)","v":1384.5372000000002},{"$f":"IF(MONTH(Serie_Encadeada[[#This Row],[Período]])=1,Serie_Encadeada[[#This Row],[Emprego]],Serie_Encadeada[[#This Row],[Emprego]]+AS145)","v":1392.1217999999999},{"$f":"IF(MONTH(Serie_Encadeada[[#This Row],[Período]])=1,Serie_Encadeada[[#This Row],[Horas]],Serie_Encadeada[[#This Row],[Horas]]+AT145)","v":1334.9761000000001},{"$f":"IF(MONTH(Serie_Encadeada[[#This Row],[Período]])=1,Serie_Encadeada[[#This Row],[Massa Real]],Serie_Encadeada[[#This Row],[Massa Real]]+AU145)","v":1635.1402999999998},{"$f":"IF(MONTH(Serie_Encadeada[[#This Row],[Período]])=1,Serie_Encadeada[[#This Row],[RMR Real]],Serie_Encadeada[[#This Row],[RMR Real]]+AV145)","v":1292.9421000000002},{"$f":"IF(MONTH(Serie_Encadeada[[#This Row],[Período]])=1,Serie_Encadeada[[#This Row],[UCI]],Serie_Encadeada[[#This Row],[UCI]]+AW145)","v":940.15170000000012},85.468336363636368,"2014-11-01",1513.2732999999998,1517.0437999999999,1446.1684999999998,1833.3223,1451.5866999999998,85.608558333333335]
["2014-12-01",{"$f":"MONTH(Serie_Encadeada[[#This Row],[Período]])&YEAR(Serie_Encadeada[[#This Row],[Período]])","v":"122014"},120.1275,122.8002,103.4205,189.1233,154.00899999999999,84.386899999999997,null,"2014-12-01",-6.6377706379665016,-0.85003996673475057,-11.169699239337323,12.974857081414317,13.943502122628589,-0.19310000000000116,null,"2014-12-01",-6.6870131998716724,-1.6984998639150777,-6.98959641126552,-4.5708994762390063,-2.9220030180668051,-2.7640999999999991,null,"2014-12-01",-6.2780831322378896,-1.0357937667892647,-3.2350605821665237,2.0306135980555511,3.0967696702566037,0.25663333333335459,null,"2014-12-01",-6.2780831322378896,-1.0357937667892647,-3.2350605821665237,2.0306135980555511,3.0967696702566037,0.25663333333335459,null,null,"2014-12-01",{"$f":"IF(MONTH(Serie_Encadeada[[#This Row],[Período]])=1,Serie_Encadeada[[#This Row],[Fat.real]],Serie_Encadeada[[#This Row],[Fat.real]]+AR146)","v":1504.6647000000003},{"$f":"IF(MONTH(Serie_Encadeada[[#This Row],[Período]])=1,Serie_Encadeada[[#This Row],[Emprego]],Serie_Encadeada[[#This Row],[Emprego]]+AS146)","v":1514.9219999999998},{"$f":"IF(MONTH(Serie_Encadeada[[#This Row],[Período]])=1,Serie_Encadeada[[#This Row],[Horas]],Serie_Encadeada[[#This Row],[Horas]]+AT146)","v":1438.3966},{"$f":"IF(MONTH(Serie_Encadeada[[#This Row],[Período]])=1,Serie_Encadeada[[#This Row],[Massa Real]],Serie_Encadeada[[#This Row],[Massa Real]]+AU146)","v":1824.2635999999998},{"$f":"IF(MONTH(Serie_Encadeada[[#This Row],[Período]])=1,Serie_Encadeada[[#This Row],[RMR Real]],Serie_Encadeada[[#This Row],[RMR Real]]+AV146)","v":1446.9511000000002},{"$f":"IF(MONTH(Serie_Encadeada[[#This Row],[Período]])=1,Serie_Encadeada[[#This Row],[UCI]],Serie_Encadeada[[#This Row],[UCI]]+AW146)","v":1024.5386000000001},85.378216666666674,"2014-12-01",1504.6647000000003,1514.9219999999998,1438.3966,1824.2635999999998,1446.9511000000002,85.378216666666674]
["2015-01-01",{"$f":"MONTH(Serie_Encadeada[[#This Row],[Período]])&YEAR(Serie_Encadeada[[#This Row],[Período]])","v":"12015"},107.1846,122.5184,110.31180000000001,144.84370000000001,118.22199999999999,84.221199999999996,null,"2015-01-01",-10.774302303802205,-0.229478453618157,6.6633791172929939,-23.413085537318768,-23.236953684524927,-0.16570000000000107,null,"2015-01-01",-10.7100074141335,-1.8805669410394819,-8.2568334278666438,-2.969913000721462,-1.1102532595339396,-1.379400000000004,null,"2015-01-01",-10.7100074141335,-1.8805669410394819,-8.2568334278666438,-2.969913000721462,-1.1102532595339396,-1.379400000000004,null,"2015-01-01",-6.6791998677326738,-1.0638340318703496,-3.7781885247999933,1.2547355611045556,2.3328475387429952,4.2225000000001955E-2,null,null,"2015-01-01",{"$f":"IF(MONTH(Serie_Encadeada[[#This Row],[Período]])=1,Serie_Encadeada[[#This Row],[Fat.real]],Serie_Encadeada[[#This Row],[Fat.real]]+AR147)","v":107.1846},{"$f":"IF(MONTH(Serie_Encadeada[[#This Row],[Período]])=1,Serie_Encadeada[[#This Row],[Emprego]],Serie_Encadeada[[#This Row],[Emprego]]+AS147)","v":122.5184},{"$f":"IF(MONTH(Serie_Encadeada[[#This Row],[Período]])=1,Serie_Encadeada[[#This Row],[Horas]],Serie_Encadeada[[#This Row],[Horas]]+AT147)","v":110.31180000000001},{"$f":"IF(MONTH(Serie_Encadeada[[#This Row],[Período]])=1,Serie_Encadeada[[#This Row],[Massa Real]],Serie_Encadeada[[#This Row],[Massa Real]]+AU147)","v":144.84370000000001},{"$f":"IF(MONTH(Serie_Encadeada[[#This Row],[Período]])=1,Serie_Encadeada[[#This Row],[RMR Real]],Serie_Encadeada[[#This Row],[RMR Real]]+AV147)","v":118.22199999999999},{"$f":"IF(MONTH(Serie_Encadeada[[#This Row],[Período]])=1,Serie_Encadeada[[#This Row],[UCI]],Serie_Encadeada[[#This Row],[UCI]]+AW147)","v":84.221199999999996},84.221199999999996,"2015-01-01",1491.8083000000001,1512.5737999999999,1428.4685999999999,1819.8301999999999,1445.6238000000001,85.263266666666667]
["2015-02-01",{"$f":"MONTH(Serie_Encadeada[[#This Row],[Período]])&YEAR(Serie_Encadeada[[#This Row],[Período]])","v":"22015"},98.492400000000004,122.964,106.1643,154.69329999999999,125.80370000000001,83.3476,null,"2015-02-01",-8.1095605152232686,0.36370047274531736,-3.7597972293082043,6.8001576872173111,6.4131041599702359,-0.87359999999999616,null,"2015-02-01",-19.907296723671045,-2.5614814990907053,-13.931421946760604,-23.383467248852067,-21.369394843409065,-1.1473000000000013,null,"2015-02-01",-15.364135399606601,-2.2228276477108881,-11.130337540842479,-14.706292730570659,-12.705362259634128,-1.2633500000000026,null,"2015-02-01",-8.9063316757615762,-1.2927529229605641,-5.5080263493108399,-1.9932774889650775,-0.69900186411755949,-0.29109999999998593,null,null,"2015-02-01",{"$f":"IF(MONTH(Serie_Encadeada[[#This Row],[Período]])=1,Serie_Encadeada[[#This Row],[Fat.real]],Serie_Encadeada[[#This Row],[Fat.real]]+AR148)","v":205.67700000000002},{"$f":"IF(MONTH(Serie_Encadeada[[#This Row],[Período]])=1,Serie_Encadeada[[#This Row],[Emprego]],Serie_Encadeada[[#This Row],[Emprego]]+AS148)","v":245.48239999999998},{"$f":"IF(MONTH(Serie_Encadeada[[#This Row],[Período]])=1,Serie_Encadeada[[#This Row],[Horas]],Serie_Encadeada[[#This Row],[Horas]]+AT148)","v":216.4761},{"$f":"IF(MONTH(Serie_Encadeada[[#This Row],[Período]])=1,Serie_Encadeada[[#This Row],[Massa Real]],Serie_Encadeada[[#This Row],[Massa Real]]+AU148)","v":299.53700000000003},{"$f":"IF(MONTH(Serie_Encadeada[[#This Row],[Período]])=1,Serie_Encadeada[[#This Row],[RMR Real]],Serie_Encadeada[[#This Row],[RMR Real]]+AV148)","v":244.0257},{"$f":"IF(MONTH(Serie_Encadeada[[#This Row],[Período]])=1,Serie_Encadeada[[#This Row],[UCI]],Serie_Encadeada[[#This Row],[UCI]]+AW148)","v":167.56880000000001},83.784400000000005,"2015-02-01",1467.3277000000003,1509.3412999999998,1411.2843999999998,1772.6176,1411.4341999999999,85.167658333333335]
["2015-03-01",{"$f":"MONTH(Serie_Encadeada[[#This Row],[Período]])&YEAR(Serie_Encadeada[[#This Row],[Período]])","v":"32015"},114.1093,122.80710000000001,113.3736,144.21700000000001,117.43380000000001,84.528999999999996,null,"2015-03-01",15.855944214985117,-0.12759832145993394,6.7907008288096842,-6.7723036485742956,-6.6531429520753367,1.1813999999999965,null,"2015-03-01",-9.606945042966867,-3.5652110409879114,-5.8209400328457432,-2.8616075788651094,0.72969409802964869,-2.6219999999999999,null,"2015-03-01",-13.395908688620304,-2.6745829395809579,-9.3742822194845097,-11.186764295299595,-8.7513130301820876,-1.7162333333333351,null,"2015-03-01",-9.1160601242896249,-1.5934357481071311,-5.7767958609553682,-2.8618997158479722,-1.2792729692587606,-0.76881666666665183,null,null,"2015-03-01",{"$f":"IF(MONTH(Serie_Encadeada[[#This Row],[Período]])=1,Serie_Encadeada[[#This Row],[Fat.real]],Serie_Encadeada[[#This Row],[Fat.real]]+AR149)","v":319.78630000000004},{"$f":"IF(MONTH(Serie_Encadeada[[#This Row],[Período]])=1,Serie_Encadeada[[#This Row],[Emprego]],Serie_Encadeada[[#This Row],[Emprego]]+AS149)","v":368.28949999999998},{"$f":"IF(MONTH(Serie_Encadeada[[#This Row],[Período]])=1,Serie_Encadeada[[#This Row],[Horas]],Serie_Encadeada[[#This Row],[Horas]]+AT149)","v":329.84969999999998},{"$f":"IF(MONTH(Serie_Encadeada[[#This Row],[Período]])=1,Serie_Encadeada[[#This Row],[Massa Real]],Serie_Encadeada[[#This Row],[Massa Real]]+AU149)","v":443.75400000000002},{"$f":"IF(MONTH(Serie_Encadeada[[#This Row],[Período]])=1,Serie_Encadeada[[#This Row],[RMR Real]],Serie_Encadeada[[#This Row],[RMR Real]]+AV149)","v":361.45949999999999},{"$f":"IF(MONTH(Serie_Encadeada[[#This Row],[Período]])=1,Serie_Encadeada[[#This Row],[UCI]],Serie_Encadeada[[#This Row],[UCI]]+AW149)","v":252.09780000000001},84.032600000000002,"2015-03-01",1455.2002000000002,1504.8010999999997,1404.2770999999998,1768.3690999999999,1412.2848999999999,84.94915833333333]
["2015-04-01",{"$f":"MONTH(Serie_Encadeada[[#This Row],[Período]])&YEAR(Serie_Encadeada[[#This Row],[Período]])","v":"42015"},98.325299999999999,120.6484,109.06100000000001,132.67429999999999,109.96769999999999,83.134699999999995,null,"2015-04-01",-13.832351964300898,-1.7577973911931886,-3.8038837965804997,-8.0037027534895504,-6.3577096202285981,-1.3943000000000012,null,"2015-04-01",-17.654364619414842,-5.6090040737706959,-10.254036515228938,-4.0782242864300517,1.6216181250109634,-1.728500000000011,null,"2015-04-01",-14.436483385871943,-3.4154958999708001,-9.5944910215655845,-9.6455816601448738,-6.5256555813891728,-1.719300000000004,null,"2015-04-01",-9.2994448565542367,-2.0214259465909117,-6.1054304066044018,-3.2849663510936993,-1.308105489879138,-0.72220833333332735,null,null,"2015-04-01",{"$f":"IF(MONTH(Serie_Encadeada[[#This Row],[Período]])=1,Serie_Encadeada[[#This Row],[Fat.real]],Serie_Encadeada[[#This Row],[Fat.real]]+AR150)","v":418.11160000000007},{"$f":"IF(MONTH(Serie_Encadeada[[#This Row],[Período]])=1,Serie_Encadeada[[#This Row],[Emprego]],Serie_Encadeada[[#This Row],[Emprego]]+AS150)","v":488.93789999999996},{"$f":"IF(MONTH(Serie_Encadeada[[#This Row],[Período]])=1,Serie_Encadeada[[#This Row],[Horas]],Serie_Encadeada[[#This Row],[Horas]]+AT150)","v":438.91070000000002},{"$f":"IF(MONTH(Serie_Encadeada[[#This Row],[Período]])=1,Serie_Encadeada[[#This Row],[Massa Real]],Serie_Encadeada[[#This Row],[Massa Real]]+AU150)","v":576.42830000000004},{"$f":"IF(MONTH(Serie_Encadeada[[#This Row],[Período]])=1,Serie_Encadeada[[#This Row],[RMR Real]],Serie_Encadeada[[#This Row],[RMR Real]]+AV150)","v":471.42719999999997},{"$f":"IF(MONTH(Serie_Encadeada[[#This Row],[Período]])=1,Serie_Encadeada[[#This Row],[UCI]],Serie_Encadeada[[#This Row],[UCI]]+AW150)","v":335.23250000000002},83.808125000000004,"2015-04-01",1434.1199000000004,1497.6317999999999,1391.8161999999995,1762.7283,1414.0397,84.805116666666649]
["2015-05-01",{"$f":"MONTH(Serie_Encadeada[[#This Row],[Período]])&YEAR(Serie_Encadeada[[#This Row],[Período]])","v":"52015"},105.79040000000001,120.3039,111.06180000000001,135.87309999999999,112.9415,83.582300000000004,null,"2015-05-01",7.592247366649282,-0.28554046303141734,1.8345696445108681,2.4110170545463636,2.7042486111831123,0.44760000000000844,null,"2015-05-01",-17.70415771741337,-6.3122325935640271,-9.9172916901548973,-3.9579423562883265,2.512959175986115,-2.3605999999999909,null,"2015-05-01",-15.117060725175241,-4.0016072167182104,-9.6598638785320965,-8.6132397511482921,-4.9051645087195226,-1.8475600000000156,null,"2015-05-01",-10.080062406678559,-2.5230668430622374,-6.6165743328289643,-3.6542094538718395,-1.2041269209925098,-0.89971666666666295,null,null,"2015-05-01",{"$f":"IF(MONTH(Serie_Encadeada[[#This Row],[Período]])=1,Serie_Encadeada[[#This Row],[Fat.real]],Serie_Encadeada[[#This Row],[Fat.real]]+AR151)","v":523.90200000000004},{"$f":"IF(MONTH(Serie_Encadeada[[#This Row],[Período]])=1,Serie_Encadeada[[#This Row],[Emprego]],Serie_Encadeada[[#This Row],[Emprego]]+AS151)","v":609.24180000000001},{"$f":"IF(MONTH(Serie_Encadeada[[#This Row],[Período]])=1,Serie_Encadeada[[#This Row],[Horas]],Serie_Encadeada[[#This Row],[Horas]]+AT151)","v":549.97250000000008},{"$f":"IF(MONTH(Serie_Encadeada[[#This Row],[Período]])=1,Serie_Encadeada[[#This Row],[Massa Real]],Serie_Encadeada[[#This Row],[Massa Real]]+AU151)","v":712.30140000000006},{"$f":"IF(MONTH(Serie_Encadeada[[#This Row],[Período]])=1,Serie_Encadeada[[#This Row],[RMR Real]],Serie_Encadeada[[#This Row],[RMR Real]]+AV151)","v":584.36869999999999},{"$f":"IF(MONTH(Serie_Encadeada[[#This Row],[Período]])=1,Serie_Encadeada[[#This Row],[UCI]],Serie_Encadeada[[#This Row],[UCI]]+AW151)","v":418.81479999999999},83.762959999999993,"2015-05-01",1411.3614000000005,1489.5263,1379.5892999999996,1757.1289000000002,1416.8082999999999,84.608399999999989]
["2015-06-01",{"$f":"MONTH(Serie_Encadeada[[#This Row],[Período]])&YEAR(Serie_Encadeada[[#This Row],[Período]])","v":"62015"},103.4978,118.1961,109.5376,129.1609,109.27679999999999,81.716899999999995,null,"2015-06-01",-2.1671153526217948,-1.7520629007039652,-1.3723890662676164,-4.9400506796415158,-3.2447771633987599,-1.8654000000000082,null,"2015-06-01",-13.513996824600989,-7.9392191866605506,-7.437133783904831,-3.874394567705723,4.4154265697648816,-2.0238000000000085,null,"2015-06-01",-14.856719990478716,-4.6641618176664057,-9.2981143098565493,-7.9164336204229588,-3.5487987287519869,-1.8769333333333407,null,"2015-06-01",-10.165150724044722,-3.1644668110253824,-6.8607546204981862,-3.9245739660017365,-0.88926587471752072,-0.95366666666666333,null,null,"2015-06-01",{"$f":"IF(MONTH(Serie_Encadeada[[#This Row],[Período]])=1,Serie_Encadeada[[#This Row],[Fat.real]],Serie_Encadeada[[#This Row],[Fat.real]]+AR152)","v":627.39980000000003},{"$f":"IF(MONTH(Serie_Encadeada[[#This Row],[Período]])=1,Serie_Encadeada[[#This Row],[Emprego]],Serie_Encadeada[[#This Row],[Emprego]]+AS152)","v":727.43790000000001},{"$f":"IF(MONTH(Serie_Encadeada[[#This Row],[Período]])=1,Serie_Encadeada[[#This Row],[Horas]],Serie_Encadeada[[#This Row],[Horas]]+AT152)","v":659.51010000000008},{"$f":"IF(MONTH(Serie_Encadeada[[#This Row],[Período]])=1,Serie_Encadeada[[#This Row],[Massa Real]],Serie_Encadeada[[#This Row],[Massa Real]]+AU152)","v":841.46230000000003},{"$f":"IF(MONTH(Serie_Encadeada[[#This Row],[Período]])=1,Serie_Encadeada[[#This Row],[RMR Real]],Serie_Encadeada[[#This Row],[RMR Real]]+AV152)","v":693.64549999999997},{"$f":"IF(MONTH(Serie_Encadeada[[#This Row],[Período]])=1,Serie_Encadeada[[#This Row],[UCI]],Serie_Encadeada[[#This Row],[UCI]]+AW152)","v":500.5317},83.421949999999995,"2015-06-01",1395.1892000000003,1479.3332,1370.7882999999997,1751.923,1421.4293,84.439750000000004]
["2015-07-01",{"$f":"MONTH(Serie_Encadeada[[#This Row],[Período]])&YEAR(Serie_Encadeada[[#This Row],[Período]])","v":"72015"},109.06440000000001,117.0147,111.1041,131.52379999999999,112.3994,81.474500000000006,null,"2015-07-01",5.3784718129274323,-0.9995253650501128,1.4301025401323426,1.8294236103960226,2.8575141292570847,-0.24239999999998929,null,"2015-07-01",-12.107710049343732,-8.6315189468177191,-11.01948209002798,-6.1915229600170072,2.6705445404372412,-4.1335999999999871,null,"2015-07-01",-14.460511705483626,-5.2343536165644045,-9.550391804144164,-7.6869851495363992,-2.7271330685068178,-2.19931428571428,null,"2015-07-01",-10.109698655974888,-3.8580877051041735,-7.6439313389159196,-4.4680596645875621,-0.78274443140062866,-1.411699999999982,null,null,"2015-07-01",{"$f":"IF(MONTH(Serie_Encadeada[[#This Row],[Período]])=1,Serie_Encadeada[[#This Row],[Fat.real]],Serie_Encadeada[[#This Row],[Fat.real]]+AR153)","v":736.46420000000001},{"$f":"IF(MONTH(Serie_Encadeada[[#This Row],[Período]])=1,Serie_Encadeada[[#This Row],[Emprego]],Serie_Encadeada[[#This Row],[Emprego]]+AS153)","v":844.45260000000007},{"$f":"IF(MONTH(Serie_Encadeada[[#This Row],[Período]])=1,Serie_Encadeada[[#This Row],[Horas]],Serie_Encadeada[[#This Row],[Horas]]+AT153)","v":770.6142000000001},{"$f":"IF(MONTH(Serie_Encadeada[[#This Row],[Período]])=1,Serie_Encadeada[[#This Row],[Massa Real]],Serie_Encadeada[[#This Row],[Massa Real]]+AU153)","v":972.98610000000008},{"$f":"IF(MONTH(Serie_Encadeada[[#This Row],[Período]])=1,Serie_Encadeada[[#This Row],[RMR Real]],Serie_Encadeada[[#This Row],[RMR Real]]+AV153)","v":806.04489999999998},{"$f":"IF(MONTH(Serie_Encadeada[[#This Row],[Período]])=1,Serie_Encadeada[[#This Row],[UCI]],Serie_Encadeada[[#This Row],[UCI]]+AW153)","v":582.00620000000004},83.143742857142868,"2015-07-01",1380.1649000000002,1468.2789,1357.029,1743.2421999999999,1424.3529000000001,84.095283333333342]
["2015-08-01",{"$f":"MONTH(Serie_Encadeada[[#This Row],[Período]])&YEAR(Serie_Encadeada[[#This Row],[Período]])","v":"82015"},110.6056,115.50190000000001,111.26090000000001,125.22150000000001,108.4151,82.1995,null,"2015-08-01",1.4131100524093922,-1.2928290206273216,0.14112890523392391,-4.7917563209092107,-3.5447698119385018,0.72499999999999432,null,"2015-08-01",-10.899012446922747,-9.6220778285868054,-7.5959869442806403,-8.6641804054118055,1.059862171309895,-3.8358999999999952,null,"2015-08-01",-14.011717196777465,-5.7847009675682752,-9.3083856992182508,-7.7994632894626523,-2.2930562957650666,-2.4038875000000104,null,"2015-08-01",-9.9917739380707218,-4.6077640281389609,-7.6579768105472779,-5.3112565483395358,-0.953280189348367,-1.784908333333334,null,null,"2015-08-01",{"$f":"IF(MONTH(Serie_Encadeada[[#This Row],[Período]])=1,Serie_Encadeada[[#This Row],[Fat.real]],Serie_Encadeada[[#This Row],[Fat.real]]+AR154)","v":847.06979999999999},{"$f":"IF(MONTH(Serie_Encadeada[[#This Row],[Período]])=1,Serie_Encadeada[[#This Row],[Emprego]],Serie_Encadeada[[#This Row],[Emprego]]+AS154)","v":959.95450000000005},{"$f":"IF(MONTH(Serie_Encadeada[[#This Row],[Período]])=1,Serie_Encadeada[[#This Row],[Horas]],Serie_Encadeada[[#This Row],[Horas]]+AT154)","v":881.87510000000009},{"$f":"IF(MONTH(Serie_Encadeada[[#This Row],[Período]])=1,Serie_Encadeada[[#This Row],[Massa Real]],Serie_Encadeada[[#This Row],[Massa Real]]+AU154)","v":1098.2076000000002},{"$f":"IF(MONTH(Serie_Encadeada[[#This Row],[Período]])=1,Serie_Encadeada[[#This Row],[RMR Real]],Serie_Encadeada[[#This Row],[RMR Real]]+AV154)","v":914.46},{"$f":"IF(MONTH(Serie_Encadeada[[#This Row],[Período]])=1,Serie_Encadeada[[#This Row],[UCI]],Serie_Encadeada[[#This Row],[UCI]]+AW154)","v":664.20569999999998},83.025712499999997,"2015-08-01",1366.6354000000001,1455.982,1347.8829000000003,1731.3636000000001,1425.4899,83.775625000000005]
["2015-09-01",{"$f":"MONTH(Serie_Encadeada[[#This Row],[Período]])&YEAR(Serie_Encadeada[[#This Row],[Período]])","v":"92015"},109.1313,114.2256,107.8687,120.7102,105.67700000000001,82.3339,null,"2015-09-01",-1.3329343179730497,-1.1050034674754321,-3.0488698185975509,-3.6026560934024952,-2.5255707000224037,0.13439999999999941,null,"2015-09-01",-17.400989087342143,-8.7544174692135108,-12.013661008294644,-13.139132587270893,-4.8053580034500856,-3.627600000000001,null,"2015-09-01",-14.412530234620569,-6.1096464204884962,-9.6112744465476716,-8.3573645198940003,-2.5594481861154978,-2.539855555555576,null,"2015-09-01",-11.166634149734213,-5.1408141061064434,-8.5809060193765401,-6.6011013203009536,-1.8033568790492143,-2.2445333333333224,null,null,"2015-09-01",{"$f":"IF(MONTH(Serie_Encadeada[[#This Row],[Período]])=1,Serie_Encadeada[[#This Row],[Fat.real]],Serie_Encadeada[[#This Row],[Fat.real]]+AR155)","v":956.2011},{"$f":"IF(MONTH(Serie_Encadeada[[#This Row],[Período]])=1,Serie_Encadeada[[#This Row],[Emprego]],Serie_Encadeada[[#This Row],[Emprego]]+AS155)","v":1074.1801},{"$f":"IF(MONTH(Serie_Encadeada[[#This Row],[Período]])=1,Serie_Encadeada[[#This Row],[Horas]],Serie_Encadeada[[#This Row],[Horas]]+AT155)","v":989.74380000000008},{"$f":"IF(MONTH(Serie_Encadeada[[#This Row],[Período]])=1,Serie_Encadeada[[#This Row],[Massa Real]],Serie_Encadeada[[#This Row],[Massa Real]]+AU155)","v":1218.9178000000002},{"$f":"IF(MONTH(Serie_Encadeada[[#This Row],[Período]])=1,Serie_Encadeada[[#This Row],[RMR Real]],Serie_Encadeada[[#This Row],[RMR Real]]+AV155)","v":1020.1370000000001},{"$f":"IF(MONTH(Serie_Encadeada[[#This Row],[Período]])=1,Serie_Encadeada[[#This Row],[UCI]],Serie_Encadeada[[#This Row],[UCI]]+AW155)","v":746.53959999999995},82.948844444444433,"2015-09-01",1343.6449,1445.0228,1333.1544999999999,1713.1042,1420.1554000000001,83.473325000000003]
["2015-10-01",{"$f":"MONTH(Serie_Encadeada[[#This Row],[Período]])&YEAR(Serie_Encadeada[[#This Row],[Período]])","v":"102015"},111.7979,112.324,110.23909999999999,125.506,111.73560000000001,82.425799999999995,null,"2015-10-01",2.4434786353685904,-1.6647756720034756,2.1974863885445819,3.972986541319623,5.7331301986241074,9.189999999999543E-2,null,"2015-10-01",-19.365717957909268,-9.5543504080457673,-10.784815166705245,-8.8290652120694375,0.80182738698817047,-3.7476000000000056,null,"2015-10-01",-14.959362799782468,-6.4469535164785041,-9.7302756149864269,-8.4016056551809069,-2.2376367866247371,-2.660630000000026,null,"2015-10-01",-13.134151939059599,-5.6916197808705959,-9.1124119368841079,-6.977514531429911,-1.6589773668359893,-2.6617833333333323,null,null,"2015-10-01",{"$f":"IF(MONTH(Serie_Encadeada[[#This Row],[Período]])=1,Serie_Encadeada[[#This Row],[Fat.real]],Serie_Encadeada[[#This Row],[Fat.real]]+AR156)","v":1067.999},{"$f":"IF(MONTH(Serie_Encadeada[[#This Row],[Período]])=1,Serie_Encadeada[[#This Row],[Emprego]],Serie_Encadeada[[#This Row],[Emprego]]+AS156)","v":1186.5041000000001},{"$f":"IF(MONTH(Serie_Encadeada[[#This Row],[Período]])=1,Serie_Encadeada[[#This Row],[Horas]],Serie_Encadeada[[#This Row],[Horas]]+AT156)","v":1099.9829},{"$f":"IF(MONTH(Serie_Encadeada[[#This Row],[Período]])=1,Serie_Encadeada[[#This Row],[Massa Real]],Serie_Encadeada[[#This Row],[Massa Real]]+AU156)","v":1344.4238000000003},{"$f":"IF(MONTH(Serie_Encadeada[[#This Row],[Período]])=1,Serie_Encadeada[[#This Row],[RMR Real]],Serie_Encadeada[[#This Row],[RMR Real]]+AV156)","v":1131.8726000000001},{"$f":"IF(MONTH(Serie_Encadeada[[#This Row],[Período]])=1,Serie_Encadeada[[#This Row],[UCI]],Serie_Encadeada[[#This Row],[UCI]]+AW156)","v":828.96539999999993},82.896539999999987,"2015-10-01",1316.7946999999999,1433.1573000000001,1319.8282000000002,1700.9501000000002,1421.0441999999998,83.161025000000009]
["2015-11-01",{"$f":"MONTH(Serie_Encadeada[[#This Row],[Período]])&YEAR(Serie_Encadeada[[#This Row],[Período]])","v":"112015"},97.926400000000001,111.18300000000001,107.0047,147.90049999999999,133.02440000000001,81.141999999999996,null,"2015-11-01",-12.407657031124911,-1.0158114027278151,-2.9339862172314488,17.843370038085823,19.052835443672389,-1.2837999999999994,null,"2015-11-01",-23.892305946613078,-10.229869280518024,-8.0911455291312535,-11.650030166723415,-1.5819464851963365,-3.4380000000000024,null,"2015-11-01",-15.789521581651984,-6.783508454504469,-9.5873251963087682,-8.734174064451814,-2.1690917172547821,-2.7313000000000187,null,"2015-11-01",-15.015159522077074,-6.3647799753705145,-9.3875921097714183,-8.2841244008213852,-2.2513777509810398,-2.7340333333333433,null,null,"2015-11-01",{"$f":"IF(MONTH(Serie_Encadeada[[#This Row],[Período]])=1,Serie_Encadeada[[#This Row],[Fat.real]],Serie_Encadeada[[#This Row],[Fat.real]]+AR157)","v":1165.9254000000001},{"$f":"IF(MONTH(Serie_Encadeada[[#This Row],[Período]])=1,Serie_Encadeada[[#This Row],[Emprego]],Serie_Encadeada[[#This Row],[Emprego]]+AS157)","v":1297.6871000000001},{"$f":"IF(MONTH(Serie_Encadeada[[#This Row],[Período]])=1,Serie_Encadeada[[#This Row],[Horas]],Serie_Encadeada[[#This Row],[Horas]]+AT157)","v":1206.9875999999999},{"$f":"IF(MONTH(Serie_Encadeada[[#This Row],[Período]])=1,Serie_Encadeada[[#This Row],[Massa Real]],Serie_Encadeada[[#This Row],[Massa Real]]+AU157)","v":1492.3243000000002},{"$f":"IF(MONTH(Serie_Encadeada[[#This Row],[Período]])=1,Serie_Encadeada[[#This Row],[RMR Real]],Serie_Encadeada[[#This Row],[RMR Real]]+AV157)","v":1264.8970000000002},{"$f":"IF(MONTH(Serie_Encadeada[[#This Row],[Período]])=1,Serie_Encadeada[[#This Row],[UCI]],Serie_Encadeada[[#This Row],[UCI]]+AW157)","v":910.10739999999987},82.737036363636349,"2015-11-01",1286.0528999999999,1420.4873,1310.4081000000001,1681.4476000000002,1418.9059999999999,82.874524999999991]
["2015-12-01",{"$f":"MONTH(Serie_Encadeada[[#This Row],[Período]])&YEAR(Serie_Encadeada[[#This Row],[Período]])","v":"122015"},98.936000000000007,109.5535,96.878399999999999,166.0471,151.56710000000001,80.268699999999995,null,"2015-12-01",1.0309783674269717,-1.4656017556640919,-9.4634160929379743,12.269464944337583,13.939322410024021,-0.87330000000000041,null,"2015-12-01",-17.640839940896125,-10.787197414987926,-6.3257284580910023,-12.201669492865237,-1.5855566882454764,-4.1182000000000016,null,"2015-12-01",-15.937324774084233,-7.1080491272817827,-9.3528168795727158,-9.0936529128794525,-2.106982053505476,-2.8468750000000256,null,"2015-12-01",-15.937324774084233,-7.1080491272817827,-9.3528168795727158,-9.0936529128794525,-2.106982053505476,-2.8468750000000256,null,null,"2015-12-01",{"$f":"IF(MONTH(Serie_Encadeada[[#This Row],[Período]])=1,Serie_Encadeada[[#This Row],[Fat.real]],Serie_Encadeada[[#This Row],[Fat.real]]+AR158)","v":1264.8614},{"$f":"IF(MONTH(Serie_Encadeada[[#This Row],[Período]])=1,Serie_Encadeada[[#This Row],[Emprego]],Serie_Encadeada[[#This Row],[Emprego]]+AS158)","v":1407.2406000000001},{"$f":"IF(MONTH(Serie_Encadeada[[#This Row],[Período]])=1,Serie_Encadeada[[#This Row],[Horas]],Serie_Encadeada[[#This Row],[Horas]]+AT158)","v":1303.866},{"$f":"IF(MONTH(Serie_Encadeada[[#This Row],[Período]])=1,Serie_Encadeada[[#This Row],[Massa Real]],Serie_Encadeada[[#This Row],[Massa Real]]+AU158)","v":1658.3714000000002},{"$f":"IF(MONTH(Serie_Encadeada[[#This Row],[Período]])=1,Serie_Encadeada[[#This Row],[RMR Real]],Serie_Encadeada[[#This Row],[RMR Real]]+AV158)","v":1416.4641000000001},{"$f":"IF(MONTH(Serie_Encadeada[[#This Row],[Período]])=1,Serie_Encadeada[[#This Row],[UCI]],Serie_Encadeada[[#This Row],[UCI]]+AW158)","v":990.37609999999984},82.531341666666648,"2015-12-01",1264.8614,1407.2406000000001,1303.866,1658.3714000000002,1416.4641000000001,82.531341666666648]
["2016-01-01",{"$f":"MONTH(Serie_Encadeada[[#This Row],[Período]])&YEAR(Serie_Encadeada[[#This Row],[Período]])","v":"12016"},86.242999999999995,110.2098,100.7796,122.48480000000001,111.1378,79.417000000000002,null,"2016-01-01",-12.829505943236043,0.59906803525218422,4.0269038299559066,-26.234905638219512,-26.674192486364131,-0.85169999999999391,null,"2016-01-01",-19.537881374749738,-10.04632773526262,-8.6411426520100321,-15.436570592990931,-5.9922856997851461,-4.8041999999999945,null,"2016-01-01",-19.537881374749738,-10.04632773526262,-8.6411426520100321,-15.436570592990931,-5.9922856997851461,-4.8041999999999945,null,"2016-01-01",-16.616645717817779,-7.777590752927221,-9.390111900254567,-10.100815999206951,-2.5071460500304394,-3.132275000000007,null,null,"2016-01-01",{"$f":"IF(MONTH(Serie_Encadeada[[#This Row],[Período]])=1,Serie_Encadeada[[#This Row],[Fat.real]],Serie_Encadeada[[#This Row],[Fat.real]]+AR159)","v":86.242999999999995},{"$f":"IF(MONTH(Serie_Encadeada[[#This Row],[Período]])=1,Serie_Encadeada[[#This Row],[Emprego]],Serie_Encadeada[[#This Row],[Emprego]]+AS159)","v":110.2098},{"$f":"IF(MONTH(Serie_Encadeada[[#This Row],[Período]])=1,Serie_Encadeada[[#This Row],[Horas]],Serie_Encadeada[[#This Row],[Horas]]+AT159)","v":100.7796},{"$f":"IF(MONTH(Serie_Encadeada[[#This Row],[Período]])=1,Serie_Encadeada[[#This Row],[Massa Real]],Serie_Encadeada[[#This Row],[Massa Real]]+AU159)","v":122.48480000000001},{"$f":"IF(MONTH(Serie_Encadeada[[#This Row],[Período]])=1,Serie_Encadeada[[#This Row],[RMR Real]],Serie_Encadeada[[#This Row],[RMR Real]]+AV159)","v":111.1378},{"$f":"IF(MONTH(Serie_Encadeada[[#This Row],[Período]])=1,Serie_Encadeada[[#This Row],[UCI]],Serie_Encadeada[[#This Row],[UCI]]+AW159)","v":79.417000000000002},79.417000000000002,"2016-01-01",1243.9197999999999,1394.932,1294.3338000000001,1636.0125,1409.3799000000001,82.13099166666666]
["2016-02-01",{"$f":"MONTH(Serie_Encadeada[[#This Row],[Período]])&YEAR(Serie_Encadeada[[#This Row],[Período]])","v":"22016"},84.611699999999999,110.31399999999999,99.051599999999993,129.87860000000001,117.7354,78.603999999999999,null,"2016-02-01",-1.8915158331690642,9.4546945915872857E-2,-1.7146327232892455,6.036504121327706,5.9364140733395843,-0.81300000000000239,null,"2016-02-01",-14.093168609963818,-10.287563839823042,-6.699709789448999,-16.041224797712626,-6.4134043752290335,-4.7436000000000007,null,"2016-02-01",-16.930575611274005,-10.16716473360208,-7.6890243310924422,-15.748839041587523,-6.2093869621109592,-4.7738999999999976,null,"2016-02-01",-16.171479622445656,-8.4181954074933003,-8.7908078626816692,-9.1062956838519558,-0.71718539907846368,-3.4319666666666535,null,null,"2016-02-01",{"$f":"IF(MONTH(Serie_Encadeada[[#This Row],[Período]])=1,Serie_Encadeada[[#This Row],[Fat.real]],Serie_Encadeada[[#This Row],[Fat.real]]+AR160)","v":170.85469999999998},{"$f":"IF(MONTH(Serie_Encadeada[[#This Row],[Período]])=1,Serie_Encadeada[[#This Row],[Emprego]],Serie_Encadeada[[#This Row],[Emprego]]+AS160)","v":220.52379999999999},{"$f":"IF(MONTH(Serie_Encadeada[[#This Row],[Período]])=1,Serie_Encadeada[[#This Row],[Horas]],Serie_Encadeada[[#This Row],[Horas]]+AT160)","v":199.8312},{"$f":"IF(MONTH(Serie_Encadeada[[#This Row],[Período]])=1,Serie_Encadeada[[#This Row],[Massa Real]],Serie_Encadeada[[#This Row],[Massa Real]]+AU160)","v":252.36340000000001},{"$f":"IF(MONTH(Serie_Encadeada[[#This Row],[Período]])=1,Serie_Encadeada[[#This Row],[RMR Real]],Serie_Encadeada[[#This Row],[RMR Real]]+AV160)","v":228.8732},{"$f":"IF(MONTH(Serie_Encadeada[[#This Row],[Período]])=1,Serie_Encadeada[[#This Row],[UCI]],Serie_Encadeada[[#This Row],[UCI]]+AW160)","v":158.02100000000002},79.010500000000008,"2016-02-01",1230.0390999999997,1382.2820000000002,1287.2211,1611.1977999999999,1401.3116,81.735691666666682]
["2016-03-01",{"$f":"MONTH(Serie_Encadeada[[#This Row],[Período]])&YEAR(Serie_Encadeada[[#This Row],[Período]])","v":"32016"},96.803799999999995,110.101,107.09820000000001,127.149,115.48390000000001,79.540400000000005,null,"2016-03-01",14.409472921593581,-0.19308519317583794,8.1236446458209794,-2.101654930065465,-1.912339024626402,0.93640000000000612,null,"2016-03-01",-15.16572268868533,-10.34638876742469,-5.5351510404538544,-11.834943175908535,-1.6604248521294547,-4.988599999999991,null,"2016-03-01",-16.300823393622561,-10.226927457882994,-6.9487102762258077,-14.476849786142774,-4.7314844401654925,-4.8454666666666668,null,"2016-03-01",-16.66207852362858,-8.9862507410447421,-8.7825543833193471,-9.8531070238673699,-0.9150561618268348,-3.6291833333333159,null,null,"2016-03-01",{"$f":"IF(MONTH(Serie_Encadeada[[#This Row],[Período]])=1,Serie_Encadeada[[#This Row],[Fat.real]],Serie_Encadeada[[#This Row],[Fat.real]]+AR161)","v":267.6585},{"$f":"IF(MONTH(Serie_Encadeada[[#This Row],[Período]])=1,Serie_Encadeada[[#This Row],[Emprego]],Serie_Encadeada[[#This Row],[Emprego]]+AS161)","v":330.62479999999999},{"$f":"IF(MONTH(Serie_Encadeada[[#This Row],[Período]])=1,Serie_Encadeada[[#This Row],[Horas]],Serie_Encadeada[[#This Row],[Horas]]+AT161)","v":306.92939999999999},{"$f":"IF(MONTH(Serie_Encadeada[[#This Row],[Período]])=1,Serie_Encadeada[[#This Row],[Massa Real]],Serie_Encadeada[[#This Row],[Massa Real]]+AU161)","v":379.51240000000001},{"$f":"IF(MONTH(Serie_Encadeada[[#This Row],[Período]])=1,Serie_Encadeada[[#This Row],[RMR Real]],Serie_Encadeada[[#This Row],[RMR Real]]+AV161)","v":344.3571},{"$f":"IF(MONTH(Serie_Encadeada[[#This Row],[Período]])=1,Serie_Encadeada[[#This Row],[UCI]],Serie_Encadeada[[#This Row],[UCI]]+AW161)","v":237.56140000000002},79.187133333333335,"2016-03-01",1212.7336,1369.5759000000003,1280.9457,1594.1297999999997,1399.3616999999999,81.319975000000014]
["2016-04-01",{"$f":"MONTH(Serie_Encadeada[[#This Row],[Período]])&YEAR(Serie_Encadeada[[#This Row],[Período]])","v":"42016"},93.165400000000005,109.67910000000001,103.3139,117.0633,106.73260000000001,79.456000000000003,null,"2016-04-01",-3.7585301403457203,-0.38319361313702305,-3.5334860903357868,-7.9321897930774155,-7.5779394357135494,-8.4400000000002251E-2,null,"2016-04-01",-5.2477846495255989,-9.091956461917432,-5.26961975408258,-11.766408415194194,-2.9418638381997519,-3.6786999999999921,null,"2016-04-01",-13.701533274848169,-9.9468664630007133,-6.531488068073994,-13.852997848995278,-4.3140277014139148,-4.5537750000000017,null,"2016-04-01",-15.796880023769278,-9.2830026712840628,-8.3788074890922832,-10.450249196089944,-1.2668031880575903,-3.7916999999999774,null,null,"2016-04-01",{"$f":"IF(MONTH(Serie_Encadeada[[#This Row],[Período]])=1,Serie_Encadeada[[#This Row],[Fat.real]],Serie_Encadeada[[#This Row],[Fat.real]]+AR162)","v":360.82389999999998},{"$f":"IF(MONTH(Serie_Encadeada[[#This Row],[Período]])=1,Serie_Encadeada[[#This Row],[Emprego]],Serie_Encadeada[[#This Row],[Emprego]]+AS162)","v":440.3039},{"$f":"IF(MONTH(Serie_Encadeada[[#This Row],[Período]])=1,Serie_Encadeada[[#This Row],[Horas]],Serie_Encadeada[[#This Row],[Horas]]+AT162)","v":410.24329999999998},{"$f":"IF(MONTH(Serie_Encadeada[[#This Row],[Período]])=1,Serie_Encadeada[[#This Row],[Massa Real]],Serie_Encadeada[[#This Row],[Massa Real]]+AU162)","v":496.57569999999998},{"$f":"IF(MONTH(Serie_Encadeada[[#This Row],[Período]])=1,Serie_Encadeada[[#This Row],[RMR Real]],Serie_Encadeada[[#This Row],[RMR Real]]+AV162)","v":451.08969999999999},{"$f":"IF(MONTH(Serie_Encadeada[[#This Row],[Período]])=1,Serie_Encadeada[[#This Row],[UCI]],Serie_Encadeada[[#This Row],[UCI]]+AW162)","v":317.01740000000001},79.254350000000002,"2016-04-01",1207.5737000000004,1358.6066000000003,1275.1985999999999,1578.5188000000001,1396.1266000000001,81.013416666666672]
["2016-05-01",{"$f":"MONTH(Serie_Encadeada[[#This Row],[Período]])&YEAR(Serie_Encadeada[[#This Row],[Período]])","v":"52016"},94.129099999999994,110.28100000000001,105.0608,117.5471,106.5887,79.488699999999994,null,"2016-05-01",1.0343968898324793,0.54878276718171515,1.6908663790641885,0.41328067806050423,-0.13482291258715906,3.2699999999991292E-2,null,"2016-05-01",-11.023022882983721,-8.3313176048324227,-5.403297983645146,-13.487585106985852,-5.624858887122981,-4.0936000000000092,null,"2016-05-01",-13.160667453073296,-9.6278521926761993,-6.303660637577357,-13.78329454357384,-4.567373303874759,-4.4617399999999918,null,"2016-05-01",-15.265331756983025,-9.4622431305845414,-8.0017799500184363,-11.207834553287487,-1.9081268792679984,-3.9361166666666492,null,null,"2016-05-01",{"$f":"IF(MONTH(Serie_Encadeada[[#This Row],[Período]])=1,Serie_Encadeada[[#This Row],[Fat.real]],Serie_Encadeada[[#This Row],[Fat.real]]+AR163)","v":454.95299999999997},{"$f":"IF(MONTH(Serie_Encadeada[[#This Row],[Período]])=1,Serie_Encadeada[[#This Row],[Emprego]],Serie_Encadeada[[#This Row],[Emprego]]+AS163)","v":550.58490000000006},{"$f":"IF(MONTH(Serie_Encadeada[[#This Row],[Período]])=1,Serie_Encadeada[[#This Row],[Horas]],Serie_Encadeada[[#This Row],[Horas]]+AT163)","v":515.30409999999995},{"$f":"IF(MONTH(Serie_Encadeada[[#This Row],[Período]])=1,Serie_Encadeada[[#This Row],[Massa Real]],Serie_Encadeada[[#This Row],[Massa Real]]+AU163)","v":614.12279999999998},{"$f":"IF(MONTH(Serie_Encadeada[[#This Row],[Período]])=1,Serie_Encadeada[[#This Row],[RMR Real]],Serie_Encadeada[[#This Row],[RMR Real]]+AV163)","v":557.67840000000001},{"$f":"IF(MONTH(Serie_Encadeada[[#This Row],[Período]])=1,Serie_Encadeada[[#This Row],[UCI]],Serie_Encadeada[[#This Row],[UCI]]+AW163)","v":396.5061},79.301220000000001,"2016-05-01",1195.9124000000002,1348.5836999999999,1269.1976,1560.1927999999998,1389.7737999999999,80.67228333333334]
["2016-06-01",{"$f":"MONTH(Serie_Encadeada[[#This Row],[Período]])&YEAR(Serie_Encadeada[[#This Row],[Período]])","v":"62016"},101.5654,110.4037,106.051,116.6516,105.6591,78.768199999999993,null,"2016-06-01",7.9001074056800746,0.11126123266926732,0.9425018655864047,-0.76182228230215665,-0.87213747798782393,-0.72050000000000125,null,"2016-06-01",-1.8670928270939104,-6.5927725195670588,-3.1830166079957896,-9.6850517455359917,-3.3105837652639898,-2.9487000000000023,null,"2016-06-01",-11.297644659752855,-9.1347041445049797,-5.7853549172332741,-13.154231627489432,-4.3693788830173332,-4.2095666666666602,null,"2016-06-01",-14.42164259872426,-9.3651585727948206,-7.6654651925464874,-11.658018074995313,-2.4815303863512495,-4.0131916666666712,null,null,"2016-06-01",{"$f":"IF(MONTH(Serie_Encadeada[[#This Row],[Período]])=1,Serie_Encadeada[[#This Row],[Fat.real]],Serie_Encadeada[[#This Row],[Fat.real]]+AR164)","v":556.51839999999993},{"$f":"IF(MONTH(Serie_Encadeada[[#This Row],[Período]])=1,Serie_Encadeada[[#This Row],[Emprego]],Serie_Encadeada[[#This Row],[Emprego]]+AS164)","v":660.98860000000002},{"$f":"IF(MONTH(Serie_Encadeada[[#This Row],[Período]])=1,Serie_Encadeada[[#This Row],[Horas]],Serie_Encadeada[[#This Row],[Horas]]+AT164)","v":621.35509999999999},{"$f":"IF(MONTH(Serie_Encadeada[[#This Row],[Período]])=1,Serie_Encadeada[[#This Row],[Massa Real]],Serie_Encadeada[[#This Row],[Massa Real]]+AU164)","v":730.77440000000001},{"$f":"IF(MONTH(Serie_Encadeada[[#This Row],[Período]])=1,Serie_Encadeada[[#This Row],[RMR Real]],Serie_Encadeada[[#This Row],[RMR Real]]+AV164)","v":663.33749999999998},{"$f":"IF(MONTH(Serie_Encadeada[[#This Row],[Período]])=1,Serie_Encadeada[[#This Row],[UCI]],Serie_Encadeada[[#This Row],[UCI]]+AW164)","v":475.27429999999998},79.212383333333335,"2016-06-01",1193.98,1340.7913000000001,1265.711,1547.6834999999999,1386.1561000000002,80.426558333333332]
["2016-07-01",{"$f":"MONTH(Serie_Encadeada[[#This Row],[Período]])&YEAR(Serie_Encadeada[[#This Row],[Período]])","v":"72016"},93.9178,109.36790000000001,106.0445,120.07980000000001,109.79430000000001,77.970200000000006,null,"2016-07-01",-7.5297296126436732,-0.93819319461213235,-6.1291265523216306E-3,2.9388366726217248,3.9137187426355249,-0.79799999999998761,null,"2016-07-01",-13.887758058541564,-6.5349054435041056,-4.5539273528159656,-8.7010867994993983,-2.3177169984893098,-3.5043000000000006,null,"2016-07-01",-11.681219535179054,-8.7744534151472902,-5.6078125733992605,-12.552275926655076,-4.0832836979676923,-4.1088142857142884,null,"2016-07-01",-14.587496030365662,-9.20359204235654,-7.1021031974998348,-11.874580594710249,-2.8645920543988734,-3.9607500000000044,null,null,"2016-07-01",{"$f":"IF(MONTH(Serie_Encadeada[[#This Row],[Período]])=1,Serie_Encadeada[[#This Row],[Fat.real]],Serie_Encadeada[[#This Row],[Fat.real]]+AR165)","v":650.43619999999987},{"$f":"IF(MONTH(Serie_Encadeada[[#This Row],[Período]])=1,Serie_Encadeada[[#This Row],[Emprego]],Serie_Encadeada[[#This Row],[Emprego]]+AS165)","v":770.35649999999998},{"$f":"IF(MONTH(Serie_Encadeada[[#This Row],[Período]])=1,Serie_Encadeada[[#This Row],[Horas]],Serie_Encadeada[[#This Row],[Horas]]+AT165)","v":727.39959999999996},{"$f":"IF(MONTH(Serie_Encadeada[[#This Row],[Período]])=1,Serie_Encadeada[[#This Row],[Massa Real]],Serie_Encadeada[[#This Row],[Massa Real]]+AU165)","v":850.85419999999999},{"$f":"IF(MONTH(Serie_Encadeada[[#This Row],[Período]])=1,Serie_Encadeada[[#This Row],[RMR Real]],Serie_Encadeada[[#This Row],[RMR Real]]+AV165)","v":773.1318},{"$f":"IF(MONTH(Serie_Encadeada[[#This Row],[Período]])=1,Serie_Encadeada[[#This Row],[UCI]],Serie_Encadeada[[#This Row],[UCI]]+AW165)","v":553.24450000000002},79.03492857142858,"2016-07-01",1178.8334,1333.1444999999999,1260.6514,1536.2394999999999,1383.5510000000002,80.134533333333337]
["2016-08-01",{"$f":"MONTH(Serie_Encadeada[[#This Row],[Período]])&YEAR(Serie_Encadeada[[#This Row],[Período]])","v":"82016"},97.257400000000004,109.49720000000001,106.5763,116.16759999999999,106.09180000000001,79.094099999999997,null,"2016-08-01",3.5558754570486153,0.11822481733671455,0.50148758304297159,-3.2580000966024367,-3.3722151332081904,1.1238999999999919,null,"2016-08-01",-12.068285873409657,-5.1987889376711545,-4.2104638736519329,-7.2303078944111139,-2.1429671697023656,-3.105400000000003,null,"2016-08-01",-11.731760475937184,-8.3442288150115491,-5.431517456383582,-11.945446380083345,-3.8532467248430771,-3.9833874999999921,null,"2016-08-01",-14.718644050929768,-8.8491615967779857,-6.8192941686551816,-11.792901271575786,-3.1050518141166692,-3.8998750000000086,null,null,"2016-08-01",{"$f":"IF(MONTH(Serie_Encadeada[[#This Row],[Período]])=1,Serie_Encadeada[[#This Row],[Fat.real]],Serie_Encadeada[[#This Row],[Fat.real]]+AR166)","v":747.69359999999983},{"$f":"IF(MONTH(Serie_Encadeada[[#This Row],[Período]])=1,Serie_Encadeada[[#This Row],[Emprego]],Serie_Encadeada[[#This Row],[Emprego]]+AS166)","v":879.8537},{"$f":"IF(MONTH(Serie_Encadeada[[#This Row],[Período]])=1,Serie_Encadeada[[#This Row],[Horas]],Serie_Encadeada[[#This Row],[Horas]]+AT166)","v":833.97589999999991},{"$f":"IF(MONTH(Serie_Encadeada[[#This Row],[Período]])=1,Serie_Encadeada[[#This Row],[Massa Real]],Serie_Encadeada[[#This Row],[Massa Real]]+AU166)","v":967.02179999999998},{"$f":"IF(MONTH(Serie_Encadeada[[#This Row],[Período]])=1,Serie_Encadeada[[#This Row],[RMR Real]],Serie_Encadeada[[#This Row],[RMR Real]]+AV166)","v":879.22360000000003},{"$f":"IF(MONTH(Serie_Encadeada[[#This Row],[Período]])=1,Serie_Encadeada[[#This Row],[UCI]],Serie_Encadeada[[#This Row],[UCI]]+AW166)","v":632.33860000000004},79.042325000000005,"2016-08-01",1165.4851999999998,1327.1397999999999,1255.9667999999999,1527.1855999999998,1381.2277000000001,79.875749999999996]
["2016-09-01",{"$f":"MONTH(Serie_Encadeada[[#This Row],[Período]])&YEAR(Serie_Encadeada[[#This Row],[Período]])","v":"92016"},96.691000000000003,109.011,103.7769,114.6245,105.1495,78.494200000000006,null,"2016-09-01",-0.58237213826403089,-0.44402961902223143,-2.6266627758704382,-1.3283393992817236,-0.88819305544820892,-0.599899999999991,null,"2016-09-01",-11.399387710033688,-4.5651762827247166,-3.7933153917679605,-5.0415789220794949,-0.4991625424643048,-3.8396999999999935,null,"2016-09-01",-11.69382674836916,-7.9423739091796675,-5.252975568020755,-11.261752022983032,-3.505793829652295,-3.9674222222222113,null,"2016-09-01",-14.185295534556797,-8.5187306387138015,-6.0967802306484264,-11.207975556886749,-2.7782311710394421,-3.9175500000000056,null,null,"2016-09-01",{"$f":"IF(MONTH(Serie_Encadeada[[#This Row],[Período]])=1,Serie_Encadeada[[#This Row],[Fat.real]],Serie_Encadeada[[#This Row],[Fat.real]]+AR167)","v":844.38459999999986},{"$f":"IF(MONTH(Serie_Encadeada[[#This Row],[Período]])=1,Serie_Encadeada[[#This Row],[Emprego]],Serie_Encadeada[[#This Row],[Emprego]]+AS167)","v":988.86469999999997},{"$f":"IF(MONTH(Serie_Encadeada[[#This Row],[Período]])=1,Serie_Encadeada[[#This Row],[Horas]],Serie_Encadeada[[#This Row],[Horas]]+AT167)","v":937.75279999999987},{"$f":"IF(MONTH(Serie_Encadeada[[#This Row],[Período]])=1,Serie_Encadeada[[#This Row],[Massa Real]],Serie_Encadeada[[#This Row],[Massa Real]]+AU167)","v":1081.6462999999999},{"$f":"IF(MONTH(Serie_Encadeada[[#This Row],[Período]])=1,Serie_Encadeada[[#This Row],[RMR Real]],Serie_Encadeada[[#This Row],[RMR Real]]+AV167)","v":984.37310000000002},{"$f":"IF(MONTH(Serie_Encadeada[[#This Row],[Período]])=1,Serie_Encadeada[[#This Row],[UCI]],Serie_Encadeada[[#This Row],[UCI]]+AW167)","v":710.83280000000002},78.981422222222221,"2016-09-01",1153.0448999999999,1321.9251999999999,1251.875,1521.0998999999997,1380.7002000000002,79.555774999999997]
["2016-10-01",{"$f":"MONTH(Serie_Encadeada[[#This Row],[Período]])&YEAR(Serie_Encadeada[[#This Row],[Período]])","v":"102016"},91.278000000000006,107.4358,101.0872,115.8753,107.8554,76.460999999999999,null,"2016-10-01",-5.598245958775891,-1.4449917898193718,-2.5918099307263969,1.0912152288559585,2.5733836109539272,-2.0332000000000079,null,"2016-10-01",-18.354459251917962,-4.3518749332288715,-8.3018638577419424,-7.6734976813857543,-3.4726622490951873,-5.9647999999999968,null,"2016-10-01",-12.391060291254966,-7.6024684617609024,-5.5585318644498978,-10.926777702090696,-3.5025231638260528,-4.1671599999999813,null,"2016-10-01",-13.993806323795203,-8.1024113682427092,-5.842055806960329,-11.139709507057288,-3.1120917984113454,-4.102316666666681,null,null,"2016-10-01",{"$f":"IF(MONTH(Serie_Encadeada[[#This Row],[Período]])=1,Serie_Encadeada[[#This Row],[Fat.real]],Serie_Encadeada[[#This Row],[Fat.real]]+AR168)","v":935.66259999999988},{"$f":"IF(MONTH(Serie_Encadeada[[#This Row],[Período]])=1,Serie_Encadeada[[#This Row],[Emprego]],Serie_Encadeada[[#This Row],[Emprego]]+AS168)","v":1096.3005000000001},{"$f":"IF(MONTH(Serie_Encadeada[[#This Row],[Período]])=1,Serie_Encadeada[[#This Row],[Horas]],Serie_Encadeada[[#This Row],[Horas]]+AT168)","v":1038.8399999999999},{"$f":"IF(MONTH(Serie_Encadeada[[#This Row],[Período]])=1,Serie_Encadeada[[#This Row],[Massa Real]],Serie_Encadeada[[#This Row],[Massa Real]]+AU168)","v":1197.5215999999998},{"$f":"IF(MONTH(Serie_Encadeada[[#This Row],[Período]])=1,Serie_Encadeada[[#This Row],[RMR Real]],Serie_Encadeada[[#This Row],[RMR Real]]+AV168)","v":1092.2284999999999},{"$f":"IF(MONTH(Serie_Encadeada[[#This Row],[Período]])=1,Serie_Encadeada[[#This Row],[UCI]],Serie_Encadeada[[#This Row],[UCI]]+AW168)","v":787.29380000000003},78.729380000000006,"2016-10-01",1132.5249999999999,1317.0369999999998,1242.7231000000002,1511.4691999999998,1376.8199999999997,79.058708333333328]
["2016-11-01",{"$f":"MONTH(Serie_Encadeada[[#This Row],[Período]])&YEAR(Serie_Encadeada[[#This Row],[Período]])","v":"112016"},92.842500000000001,106.32899999999999,102.9349,134.8305,126.80500000000001,76.363900000000001,null,"2016-11-01",1.7139946098731296,-1.0301966383644994,1.8278278555544156,16.358274800583047,17.569449466600656,-9.7099999999997522E-2,null,"2016-11-01",-5.1915520227436112,-4.3657753433528628,-3.8033843373235015,-8.8370221872136963,-4.675382862091471,-4.7780999999999949,null,"2016-11-01",-11.786371580891901,-7.3251556557817432,-5.4029304029304068,-10.719667300197441,-3.6258683513361287,-4.222699999999989,null,"2016-11-01",-12.333225172930282,-7.6244469063538975,-5.4757598033772954,-10.886357683700647,-3.4044115677853193,-4.2139916666666579,null,null,"2016-11-01",{"$f":"IF(MONTH(Serie_Encadeada[[#This Row],[Período]])=1,Serie_Encadeada[[#This Row],[Fat.real]],Serie_Encadeada[[#This Row],[Fat.real]]+AR169)","v":1028.5050999999999},{"$f":"IF(MONTH(Serie_Encadeada[[#This Row],[Período]])=1,Serie_Encadeada[[#This Row],[Emprego]],Serie_Encadeada[[#This Row],[Emprego]]+AS169)","v":1202.6295},{"$f":"IF(MONTH(Serie_Encadeada[[#This Row],[Período]])=1,Serie_Encadeada[[#This Row],[Horas]],Serie_Encadeada[[#This Row],[Horas]]+AT169)","v":1141.7748999999999},{"$f":"IF(MONTH(Serie_Encadeada[[#This Row],[Período]])=1,Serie_Encadeada[[#This Row],[Massa Real]],Serie_Encadeada[[#This Row],[Massa Real]]+AU169)","v":1332.3520999999998},{"$f":"IF(MONTH(Serie_Encadeada[[#This Row],[Período]])=1,Serie_Encadeada[[#This Row],[RMR Real]],Serie_Encadeada[[#This Row],[RMR Real]]+AV169)","v":1219.0335},{"$f":"IF(MONTH(Serie_Encadeada[[#This Row],[Período]])=1,Serie_Encadeada[[#This Row],[UCI]],Serie_Encadeada[[#This Row],[UCI]]+AW169)","v":863.65769999999998},78.51433636363636,"2016-11-01",1127.4411,1312.183,1238.6532999999999,1498.3992000000001,1370.6006,78.660533333333333]
["2016-12-01",{"$f":"MONTH(Serie_Encadeada[[#This Row],[Período]])&YEAR(Serie_Encadeada[[#This Row],[Período]])","v":"122016"},89.645399999999995,104.6652,96.448599999999999,166.11420000000001,158.71,75.031599999999997,null,"2016-12-01",-3.443573794329112,-1.5647659622492405,-6.3013613458603448,23.202242815980071,25.160679783920191,-1.3323000000000036,null,"2016-12-01",-9.3905150804560638,-4.462020839133392,-0.44364894548217165,4.0410220955385913E-2,4.712698204293674,-5.2370999999999981,null,"2016-12-01",-11.598970448461804,-7.1022609779735006,-5.0344513930112571,-9.6422972562117497,-2.7336096975560551,-4.3072333333333148,null,"2016-12-01",-11.598970448461804,-7.1022609779735006,-5.0344513930112571,-9.6422972562117497,-2.7336096975560551,-4.3072333333333148,null,null,"2016-12-01",{"$f":"IF(MONTH(Serie_Encadeada[[#This Row],[Período]])=1,Serie_Encadeada[[#This Row],[Fat.real]],Serie_Encadeada[[#This Row],[Fat.real]]+AR170)","v":1118.1504999999997},{"$f":"IF(MONTH(Serie_Encadeada[[#This Row],[Período]])=1,Serie_Encadeada[[#This Row],[Emprego]],Serie_Encadeada[[#This Row],[Emprego]]+AS170)","v":1307.2946999999999},{"$f":"IF(MONTH(Serie_Encadeada[[#This Row],[Período]])=1,Serie_Encadeada[[#This Row],[Horas]],Serie_Encadeada[[#This Row],[Horas]]+AT170)","v":1238.2234999999998},{"$f":"IF(MONTH(Serie_Encadeada[[#This Row],[Período]])=1,Serie_Encadeada[[#This Row],[Massa Real]],Serie_Encadeada[[#This Row],[Massa Real]]+AU170)","v":1498.4662999999998},{"$f":"IF(MONTH(Serie_Encadeada[[#This Row],[Período]])=1,Serie_Encadeada[[#This Row],[RMR Real]],Serie_Encadeada[[#This Row],[RMR Real]]+AV170)","v":1377.7435},{"$f":"IF(MONTH(Serie_Encadeada[[#This Row],[Período]])=1,Serie_Encadeada[[#This Row],[UCI]],Serie_Encadeada[[#This Row],[UCI]]+AW170)","v":938.6893},78.224108333333334,"2016-12-01",1118.1504999999997,1307.2946999999999,1238.2234999999998,1498.4662999999998,1377.7435,78.224108333333334]
["2017-01-01",{"$f":"MONTH(Serie_Encadeada[[#This Row],[Período]])&YEAR(Serie_Encadeada[[#This Row],[Período]])","v":"12017"},82.585800000000006,103.8408,98.446299999999994,122.0949,117.5789,77.017099999999999,null,"2017-01-01",-7.8750276087785762,-0.7876543492966116,2.0712586807895548,-26.499420278338643,-25.915884317308301,1.9855000000000018,null,"2017-01-01",-4.2405760467516078,-5.7789779130349563,-2.3152503085942078,-0.31832521259781738,5.7955978973850533,-2.3999000000000024,null,"2017-01-01",-4.2405760467516078,-5.7789779130349563,-2.3152503085942078,-0.31832521259781738,5.7955978973850533,-2.3999000000000024,null,"2017-01-01",-10.404730272803747,-6.7391313698445687,-4.5153421783468879,-8.4312375363880108,-1.7876869111018319,-4.1068749999999881,null,null,"2017-01-01",{"$f":"IF(MONTH(Serie_Encadeada[[#This Row],[Período]])=1,Serie_Encadeada[[#This Row],[Fat.real]],Serie_Encadeada[[#This Row],[Fat.real]]+AR171)","v":82.585800000000006},{"$f":"IF(MONTH(Serie_Encadeada[[#This Row],[Período]])=1,Serie_Encadeada[[#This Row],[Emprego]],Serie_Encadeada[[#This Row],[Emprego]]+AS171)","v":103.8408},{"$f":"IF(MONTH(Serie_Encadeada[[#This Row],[Período]])=1,Serie_Encadeada[[#This Row],[Horas]],Serie_Encadeada[[#This Row],[Horas]]+AT171)","v":98.446299999999994},{"$f":"IF(MONTH(Serie_Encadeada[[#This Row],[Período]])=1,Serie_Encadeada[[#This Row],[Massa Real]],Serie_Encadeada[[#This Row],[Massa Real]]+AU171)","v":122.0949},{"$f":"IF(MONTH(Serie_Encadeada[[#This Row],[Período]])=1,Serie_Encadeada[[#This Row],[RMR Real]],Serie_Encadeada[[#This Row],[RMR Real]]+AV171)","v":117.5789},{"$f":"IF(MONTH(Serie_Encadeada[[#This Row],[Período]])=1,Serie_Encadeada[[#This Row],[UCI]],Serie_Encadeada[[#This Row],[UCI]]+AW171)","v":77.017099999999999},77.017099999999999,"2017-01-01",1114.4933000000001,1300.9256999999998,1235.8902,1498.0764000000001,1384.1846,78.024116666666671]
["2017-02-01",{"$f":"MONTH(Serie_Encadeada[[#This Row],[Período]])&YEAR(Serie_Encadeada[[#This Row],[Período]])","v":"22017"},81.454099999999997,104.15730000000001,98.802700000000002,128.32380000000001,123.20189999999999,76.541200000000003,null,"2017-02-01",-1.3703324300303552,0.3047934915755704,0.36202477899119401,5.101687294063888,4.7823206374613045,-0.47589999999999577,null,"2017-02-01",-3.7318715969540883,-5.5810685860362117,-0.2512831695802914,-1.1971179239689989,4.6430385423585401,-2.0627999999999957,null,"2017-02-01",-3.9886523461163153,-5.6799764923332416,-1.2921906088738897,-0.77059510214239135,5.2027061272355182,-2.2313500000000062,null,"2017-02-01",-9.6503761547092211,-6.3310525638039223,-4.0070660743519495,-7.1174501355451136,-0.83211328586732292,-3.8834750000000042,null,null,"2017-02-01",{"$f":"IF(MONTH(Serie_Encadeada[[#This Row],[Período]])=1,Serie_Encadeada[[#This Row],[Fat.real]],Serie_Encadeada[[#This Row],[Fat.real]]+AR172)","v":164.03989999999999},{"$f":"IF(MONTH(Serie_Encadeada[[#This Row],[Período]])=1,Serie_Encadeada[[#This Row],[Emprego]],Serie_Encadeada[[#This Row],[Emprego]]+AS172)","v":207.99810000000002},{"$f":"IF(MONTH(Serie_Encadeada[[#This Row],[Período]])=1,Serie_Encadeada[[#This Row],[Horas]],Serie_Encadeada[[#This Row],[Horas]]+AT172)","v":197.249},{"$f":"IF(MONTH(Serie_Encadeada[[#This Row],[Período]])=1,Serie_Encadeada[[#This Row],[Massa Real]],Serie_Encadeada[[#This Row],[Massa Real]]+AU172)","v":250.4187},{"$f":"IF(MONTH(Serie_Encadeada[[#This Row],[Período]])=1,Serie_Encadeada[[#This Row],[RMR Real]],Serie_Encadeada[[#This Row],[RMR Real]]+AV172)","v":240.7808},{"$f":"IF(MONTH(Serie_Encadeada[[#This Row],[Período]])=1,Serie_Encadeada[[#This Row],[UCI]],Serie_Encadeada[[#This Row],[UCI]]+AW172)","v":153.5583},76.779150000000001,"2017-02-01",1111.3356999999999,1294.769,1235.6413,1496.5216,1389.6511,77.852216666666678]
["2017-03-01",{"$f":"MONTH(Serie_Encadeada[[#This Row],[Período]])&YEAR(Serie_Encadeada[[#This Row],[Período]])","v":"32017"},96.967100000000002,103.6842,105.8103,124.7076,120.27630000000001,78.447199999999995,null,"2017-03-01",19.045081831362701,-0.45421684317854077,7.092518726714955,-2.8180275210054613,-2.374638702812204,1.9059999999999917,null,"2017-03-01",0.16869172491163226,-5.828103286981948,-1.2025412191801612,-1.920109477856689,4.1498425321624923,-1.0932000000000102,null,"2017-03-01",-2.4850695942777827,-5.7293040328493019,-1.2609088604740959,-1.1557198131075557,4.8496168657477918,-1.8519666666666694,null,"2017-03-01",-8.3476371067809119,-5.9305731066091498,-3.6373360713104406,-6.2761263229631377,-0.35146024076547489,-3.5588583333333474,null,null,"2017-03-01",{"$f":"IF(MONTH(Serie_Encadeada[[#This Row],[Período]])=1,Serie_Encadeada[[#This Row],[Fat.real]],Serie_Encadeada[[#This Row],[Fat.real]]+AR173)","v":261.00700000000001},{"$f":"IF(MONTH(Serie_Encadeada[[#This Row],[Período]])=1,Serie_Encadeada[[#This Row],[Emprego]],Serie_Encadeada[[#This Row],[Emprego]]+AS173)","v":311.68230000000005},{"$f":"IF(MONTH(Serie_Encadeada[[#This Row],[Período]])=1,Serie_Encadeada[[#This Row],[Horas]],Serie_Encadeada[[#This Row],[Horas]]+AT173)","v":303.05930000000001},{"$f":"IF(MONTH(Serie_Encadeada[[#This Row],[Período]])=1,Serie_Encadeada[[#This Row],[Massa Real]],Serie_Encadeada[[#This Row],[Massa Real]]+AU173)","v":375.12630000000001},{"$f":"IF(MONTH(Serie_Encadeada[[#This Row],[Período]])=1,Serie_Encadeada[[#This Row],[RMR Real]],Serie_Encadeada[[#This Row],[RMR Real]]+AV173)","v":361.05709999999999},{"$f":"IF(MONTH(Serie_Encadeada[[#This Row],[Período]])=1,Serie_Encadeada[[#This Row],[UCI]],Serie_Encadeada[[#This Row],[UCI]]+AW173)","v":232.00549999999998},77.335166666666666,"2017-03-01",1111.499,1288.3522,1234.3534,1494.0802000000001,1394.4435000000001,77.761116666666666]
["2017-04-01",{"$f":"MONTH(Serie_Encadeada[[#This Row],[Período]])&YEAR(Serie_Encadeada[[#This Row],[Período]])","v":"42017"},85.999600000000001,103.44289999999999,100.5744,121.4879,117.4444,74.560699999999997,null,"2017-04-01",-11.310537285326674,-0.2327259119518785,-4.9483840420072536,-2.5817993450278918,-2.3544954409139658,-3.8864999999999981,null,"2017-04-01",-7.6914820308827139,-5.6858599313816489,-2.6516277093401821,3.7796645062970189,10.036108930167536,-4.895300000000006,null,"2017-04-01",-3.8293749388552114,-5.71848216652179,-1.6111414860401134,7.7530978660452186E-3,6.0767958124514863,-2.6128000000000071,null,"2017-04-01",-8.5494160729072117,-5.6300771687698479,-3.4178754587716678,-5.0689291758831203,0.64669636693406396,-3.6602416666666642,null,null,"2017-04-01",{"$f":"IF(MONTH(Serie_Encadeada[[#This Row],[Período]])=1,Serie_Encadeada[[#This Row],[Fat.real]],Serie_Encadeada[[#This Row],[Fat.real]]+AR174)","v":347.00659999999999},{"$f":"IF(MONTH(Serie_Encadeada[[#This Row],[Período]])=1,Serie_Encadeada[[#This Row],[Emprego]],Serie_Encadeada[[#This Row],[Emprego]]+AS174)","v":415.12520000000006},{"$f":"IF(MONTH(Serie_Encadeada[[#This Row],[Período]])=1,Serie_Encadeada[[#This Row],[Horas]],Serie_Encadeada[[#This Row],[Horas]]+AT174)","v":403.63369999999998},{"$f":"IF(MONTH(Serie_Encadeada[[#This Row],[Período]])=1,Serie_Encadeada[[#This Row],[Massa Real]],Serie_Encadeada[[#This Row],[Massa Real]]+AU174)","v":496.61419999999998},{"$f":"IF(MONTH(Serie_Encadeada[[#This Row],[Período]])=1,Serie_Encadeada[[#This Row],[RMR Real]],Serie_Encadeada[[#This Row],[RMR Real]]+AV174)","v":478.50149999999996},{"$f":"IF(MONTH(Serie_Encadeada[[#This Row],[Período]])=1,Serie_Encadeada[[#This Row],[UCI]],Serie_Encadeada[[#This Row],[UCI]]+AW174)","v":306.56619999999998},76.641549999999995,"2017-04-01",1104.3332,1282.116,1231.6139000000001,1498.5047999999999,1405.1553000000001,77.353175000000007]
["2017-05-01",{"$f":"MONTH(Serie_Encadeada[[#This Row],[Período]])&YEAR(Serie_Encadeada[[#This Row],[Período]])","v":"52017"},98.220799999999997,103.91589999999999,105.70010000000001,118.7771,114.3004,78.5959,null,"2017-05-01",14.210996330215492,0.45725709546039311,5.0964261283189449,-2.2313333261995574,-2.6770114198718757,4.0352000000000032,null,"2017-05-01",4.346902286328036,-5.7717104487627173,0.60850478960754706,1.0463890644686291,7.2350070879933739,-0.89279999999999404,null,"2017-05-01",-2.1377153244401041,-5.729143679748578,-1.1585974184952055,0.20655478024916471,6.2981639597301813,-2.2687999999999988,null,"2017-05-01",-7.3155441819986287,-5.4006881441619017,-2.9108469792253064,-3.8750339060659451,1.6616517018812884,-3.3935083333333296,null,null,"2017-05-01",{"$f":"IF(MONTH(Serie_Encadeada[[#This Row],[Período]])=1,Serie_Encadeada[[#This Row],[Fat.real]],Serie_Encadeada[[#This Row],[Fat.real]]+AR175)","v":445.22739999999999},{"$f":"IF(MONTH(Serie_Encadeada[[#This Row],[Período]])=1,Serie_Encadeada[[#This Row],[Emprego]],Serie_Encadeada[[#This Row],[Emprego]]+AS175)","v":519.04110000000003},{"$f":"IF(MONTH(Serie_Encadeada[[#This Row],[Período]])=1,Serie_Encadeada[[#This Row],[Horas]],Serie_Encadeada[[#This Row],[Horas]]+AT175)","v":509.3338},{"$f":"IF(MONTH(Serie_Encadeada[[#This Row],[Período]])=1,Serie_Encadeada[[#This Row],[Massa Real]],Serie_Encadeada[[#This Row],[Massa Real]]+AU175)","v":615.3913},{"$f":"IF(MONTH(Serie_Encadeada[[#This Row],[Período]])=1,Serie_Encadeada[[#This Row],[RMR Real]],Serie_Encadeada[[#This Row],[RMR Real]]+AV175)","v":592.80189999999993},{"$f":"IF(MONTH(Serie_Encadeada[[#This Row],[Período]])=1,Serie_Encadeada[[#This Row],[UCI]],Serie_Encadeada[[#This Row],[UCI]]+AW175)","v":385.16210000000001},77.032420000000002,"2017-05-01",1108.4249,1275.7509,1232.2531999999999,1499.7348000000002,1412.8670000000002,77.27877500000001]
["2017-06-01",{"$f":"MONTH(Serie_Encadeada[[#This Row],[Período]])&YEAR(Serie_Encadeada[[#This Row],[Período]])","v":"62017"},97.686099999999996,103.7316,101.4579,116.724,112.52460000000001,77.434100000000001,null,"2017-06-01",-0.54458822451411359,-0.17735495722983033,-4.0134304508699712,-1.7285318466270019,-1.5536253591413414,-1.1617999999999995,null,"2017-06-01",-3.8195093998546756,-6.0433663002236342,-4.331029410378032,6.2065158128994199E-2,6.4977839107090745,-1.3340999999999923,null,"2017-06-01",-2.4446451366208075,-5.7816277012947017,-1.7000584689817468,0.1834902809950695,6.3299602389432108,-2.1130166666666668,null,"2017-06-01",-7.4904437260255694,-5.348520683271146,-3.0062865851683327,-3.093416709553336,2.4222668716748363,-3.2589583333333394,null,null,"2017-06-01",{"$f":"IF(MONTH(Serie_Encadeada[[#This Row],[Período]])=1,Serie_Encadeada[[#This Row],[Fat.real]],Serie_Encadeada[[#This Row],[Fat.real]]+AR176)","v":542.9135},{"$f":"IF(MONTH(Serie_Encadeada[[#This Row],[Período]])=1,Serie_Encadeada[[#This Row],[Emprego]],Serie_Encadeada[[#This Row],[Emprego]]+AS176)","v":622.77269999999999},{"$f":"IF(MONTH(Serie_Encadeada[[#This Row],[Período]])=1,Serie_Encadeada[[#This Row],[Horas]],Serie_Encadeada[[#This Row],[Horas]]+AT176)","v":610.79169999999999},{"$f":"IF(MONTH(Serie_Encadeada[[#This Row],[Período]])=1,Serie_Encadeada[[#This Row],[Massa Real]],Serie_Encadeada[[#This Row],[Massa Real]]+AU176)","v":732.11530000000005},{"$f":"IF(MONTH(Serie_Encadeada[[#This Row],[Período]])=1,Serie_Encadeada[[#This Row],[RMR Real]],Serie_Encadeada[[#This Row],[RMR Real]]+AV176)","v":705.3264999999999},{"$f":"IF(MONTH(Serie_Encadeada[[#This Row],[Período]])=1,Serie_Encadeada[[#This Row],[UCI]],Serie_Encadeada[[#This Row],[UCI]]+AW176)","v":462.59620000000001},77.099366666666668,"2017-06-01",1104.5455999999999,1269.0788,1227.6601000000001,1499.8072,1419.7325000000001,77.167599999999993]
["2017-07-01",{"$f":"MONTH(Serie_Encadeada[[#This Row],[Período]])&YEAR(Serie_Encadeada[[#This Row],[Período]])","v":"72017"},95.793400000000005,103.64619999999999,101.86199999999999,118.3685,114.2034,79.181399999999996,null,"2017-07-01",-1.9375325660457228,-8.2327853807332596E-2,0.39829328223824828,1.4088790651451233,1.4919404290261822,1.7472999999999956,null,"2017-07-01",1.9970655189964051,-5.2316081775365646,-3.9440989395961172,-1.4251356181472723,4.0157822400616379,1.211199999999991,null,"2017-07-01",-1.8032975409425021,-5.7035411527000779,-2.0272076036335469,-4.353272276259601E-2,6.0013182745813696,-1.6381285714285809,null,"2017-07-01",-6.14270006262125,-5.2347963780370348,-2.9487771163384107,-2.482920143636465,2.9337986095199953,-2.8660000000000139,null,null,"2017-07-01",{"$f":"IF(MONTH(Serie_Encadeada[[#This Row],[Período]])=1,Serie_Encadeada[[#This Row],[Fat.real]],Serie_Encadeada[[#This Row],[Fat.real]]+AR177)","v":638.70690000000002},{"$f":"IF(MONTH(Serie_Encadeada[[#This Row],[Período]])=1,Serie_Encadeada[[#This Row],[Emprego]],Serie_Encadeada[[#This Row],[Emprego]]+AS177)","v":726.41890000000001},{"$f":"IF(MONTH(Serie_Encadeada[[#This Row],[Período]])=1,Serie_Encadeada[[#This Row],[Horas]],Serie_Encadeada[[#This Row],[Horas]]+AT177)","v":712.65369999999996},{"$f":"IF(MONTH(Serie_Encadeada[[#This Row],[Período]])=1,Serie_Encadeada[[#This Row],[Massa Real]],Serie_Encadeada[[#This Row],[Massa Real]]+AU177)","v":850.48380000000009},{"$f":"IF(MONTH(Serie_Encadeada[[#This Row],[Período]])=1,Serie_Encadeada[[#This Row],[RMR Real]],Serie_Encadeada[[#This Row],[RMR Real]]+AV177)","v":819.52989999999988},{"$f":"IF(MONTH(Serie_Encadeada[[#This Row],[Período]])=1,Serie_Encadeada[[#This Row],[UCI]],Serie_Encadeada[[#This Row],[UCI]]+AW177)","v":541.77760000000001},77.396799999999999,"2017-07-01",1106.4211999999998,1263.3570999999999,1223.4776000000002,1498.0958999999998,1424.1416000000002,77.268533333333323]
["2017-08-01",{"$f":"MONTH(Serie_Encadeada[[#This Row],[Período]])&YEAR(Serie_Encadeada[[#This Row],[Período]])","v":"82017"},101.3895,103.74509999999999,106.0056,118.2182,113.95010000000001,81.129000000000005,null,"2017-08-01",5.8418429662168716,9.5420767958690658E-2,4.0678565117511996,-0.12697634928211596,-0.22179724946892637,1.9476000000000084,null,"2017-08-01",4.2486227269081773,-5.253193688971054,-0.53548490611890465,1.7652081991880721,7.4070757589182197,2.0349000000000075,null,"2017-08-01",-1.0160846635573473,-5.6474957143443296,-1.836575853091198,0.17374996096263054,6.1709444559950244,-1.179000000000002,null,"2017-08-01",-4.7132215835945255,-5.2394480219792898,-2.6322272212927897,-1.7705182657563014,3.6758747308644244,-2.4376416666666785,null,null,"2017-08-01",{"$f":"IF(MONTH(Serie_Encadeada[[#This Row],[Período]])=1,Serie_Encadeada[[#This Row],[Fat.real]],Serie_Encadeada[[#This Row],[Fat.real]]+AR178)","v":740.09640000000002},{"$f":"IF(MONTH(Serie_Encadeada[[#This Row],[Período]])=1,Serie_Encadeada[[#This Row],[Emprego]],Serie_Encadeada[[#This Row],[Emprego]]+AS178)","v":830.16399999999999},{"$f":"IF(MONTH(Serie_Encadeada[[#This Row],[Período]])=1,Serie_Encadeada[[#This Row],[Horas]],Serie_Encadeada[[#This Row],[Horas]]+AT178)","v":818.65929999999992},{"$f":"IF(MONTH(Serie_Encadeada[[#This Row],[Período]])=1,Serie_Encadeada[[#This Row],[Massa Real]],Serie_Encadeada[[#This Row],[Massa Real]]+AU178)","v":968.70200000000011},{"$f":"IF(MONTH(Serie_Encadeada[[#This Row],[Período]])=1,Serie_Encadeada[[#This Row],[RMR Real]],Serie_Encadeada[[#This Row],[RMR Real]]+AV178)","v":933.4799999999999},{"$f":"IF(MONTH(Serie_Encadeada[[#This Row],[Período]])=1,Serie_Encadeada[[#This Row],[UCI]],Serie_Encadeada[[#This Row],[UCI]]+AW178)","v":622.90660000000003},77.863325000000003,"2017-08-01",1110.5533,1257.605,1222.9069,1500.1464999999998,1431.9999,77.438108333333318]
["2017-09-01",{"$f":"MONTH(Serie_Encadeada[[#This Row],[Período]])&YEAR(Serie_Encadeada[[#This Row],[Período]])","v":"92017"},100.55840000000001,103.8968,101.74120000000001,115.55249999999999,111.2186,80.773499999999999,null,"2017-09-01",-0.81990738685958486,0.14622377346014925,-4.0228063423064393,-2.2548981459707567,-2.3971018893357803,-0.35550000000000637,null,"2017-09-01",3.999751786619234,-4.6914531561035098,-1.961611880871361,0.80960004187586188,5.7718771843898367,2.2792999999999921,null,"2017-09-01",-0.44171814597279979,-5.5421029793054597,-1.8504130299584178,0.24113242933481349,6.128316590528522,-0.79474444444443293,null,"2017-09-01",-3.3497568047870447,-5.2525210957473139,-2.4765891163255263,-1.3165078769645417,4.1550511834502322,-1.9277249999999952,null,null,"2017-09-01",{"$f":"IF(MONTH(Serie_Encadeada[[#This Row],[Período]])=1,Serie_Encadeada[[#This Row],[Fat.real]],Serie_Encadeada[[#This Row],[Fat.real]]+AR179)","v":840.65480000000002},{"$f":"IF(MONTH(Serie_Encadeada[[#This Row],[Período]])=1,Serie_Encadeada[[#This Row],[Emprego]],Serie_Encadeada[[#This Row],[Emprego]]+AS179)","v":934.06079999999997},{"$f":"IF(MONTH(Serie_Encadeada[[#This Row],[Período]])=1,Serie_Encadeada[[#This Row],[Horas]],Serie_Encadeada[[#This Row],[Horas]]+AT179)","v":920.40049999999997},{"$f":"IF(MONTH(Serie_Encadeada[[#This Row],[Período]])=1,Serie_Encadeada[[#This Row],[Massa Real]],Serie_Encadeada[[#This Row],[Massa Real]]+AU179)","v":1084.2545},{"$f":"IF(MONTH(Serie_Encadeada[[#This Row],[Período]])=1,Serie_Encadeada[[#This Row],[RMR Real]],Serie_Encadeada[[#This Row],[RMR Real]]+AV179)","v":1044.6985999999999},{"$f":"IF(MONTH(Serie_Encadeada[[#This Row],[Período]])=1,Serie_Encadeada[[#This Row],[UCI]],Serie_Encadeada[[#This Row],[UCI]]+AW179)","v":703.68010000000004},78.186677777777788,"2017-09-01",1114.4206999999999,1252.4908,1220.8711999999998,1501.0744999999999,1438.069,77.628050000000002]
["2017-10-01",{"$f":"MONTH(Serie_Encadeada[[#This Row],[Período]])&YEAR(Serie_Encadeada[[#This Row],[Período]])","v":"102017"},103.14490000000001,103.6497,102.6962,116.217,112.1247,80.646500000000003,null,"2017-10-01",2.5726395261649504,-0.23783215652455439,0.93865611964474394,0.57506328292334985,0.81470185742313717,-0.12699999999999534,null,"2017-10-01",13.000832621223077,-3.5240580886445718,1.5916950909709726,0.29488596793277172,3.9583553535567075,4.1855000000000047,null,"2017-10-01",0.86966177765362718,-5.3443376154621971,-1.5154691771591369,0.24633376132842183,5.9140372184025667,-0.29671999999999343,null,"2017-10-01",-0.55075163903664404,-5.1883356352175234,-1.6289147598527933,-0.66511444626193228,4.75866852602375,-1.0818666666666701,null,null,"2017-10-01",{"$f":"IF(MONTH(Serie_Encadeada[[#This Row],[Período]])=1,Serie_Encadeada[[#This Row],[Fat.real]],Serie_Encadeada[[#This Row],[Fat.real]]+AR180)","v":943.79970000000003},{"$f":"IF(MONTH(Serie_Encadeada[[#This Row],[Período]])=1,Serie_Encadeada[[#This Row],[Emprego]],Serie_Encadeada[[#This Row],[Emprego]]+AS180)","v":1037.7104999999999},{"$f":"IF(MONTH(Serie_Encadeada[[#This Row],[Período]])=1,Serie_Encadeada[[#This Row],[Horas]],Serie_Encadeada[[#This Row],[Horas]]+AT180)","v":1023.0966999999999},{"$f":"IF(MONTH(Serie_Encadeada[[#This Row],[Período]])=1,Serie_Encadeada[[#This Row],[Massa Real]],Serie_Encadeada[[#This Row],[Massa Real]]+AU180)","v":1200.4715000000001},{"$f":"IF(MONTH(Serie_Encadeada[[#This Row],[Período]])=1,Serie_Encadeada[[#This Row],[RMR Real]],Serie_Encadeada[[#This Row],[RMR Real]]+AV180)","v":1156.8233},{"$f":"IF(MONTH(Serie_Encadeada[[#This Row],[Período]])=1,Serie_Encadeada[[#This Row],[UCI]],Serie_Encadeada[[#This Row],[UCI]]+AW180)","v":784.3266000000001},78.432660000000013,"2017-10-01",1126.2876000000001,1248.7047,1222.4802,1501.4162000000001,1442.3382999999999,77.976841666666658]
["2017-11-01",{"$f":"MONTH(Serie_Encadeada[[#This Row],[Período]])&YEAR(Serie_Encadeada[[#This Row],[Período]])","v":"112017"},95.957899999999995,103.1173,100.19410000000001,136.5223,132.39449999999999,79.516300000000001,null,"2017-11-01",-6.9681381198543484,-0.51365319918918773,-2.4364095263505354,17.4718844919418,18.077907900756916,-1.1302000000000021,null,"2017-11-01",3.3555753022591959,-3.0205306172351789,-2.6626537743758365,1.2547606068359909,4.4079492133590836,3.1524000000000001,null,"2017-11-01",1.0940636074629144,-5.138881093470598,-1.6188917798070268,0.34838388441016127,5.7573725414436838,1.6836363636372198E-2,null,"2017-11-01",0.17401352496372421,-5.0823703705961787,-1.526972882565284,0.31425537333442982,5.6418478147463196,-0.42099166666667998,null,null,"2017-11-01",{"$f":"IF(MONTH(Serie_Encadeada[[#This Row],[Período]])=1,Serie_Encadeada[[#This Row],[Fat.real]],Serie_Encadeada[[#This Row],[Fat.real]]+AR181)","v":1039.7575999999999},{"$f":"IF(MONTH(Serie_Encadeada[[#This Row],[Período]])=1,Serie_Encadeada[[#This Row],[Emprego]],Serie_Encadeada[[#This Row],[Emprego]]+AS181)","v":1140.8278},{"$f":"IF(MONTH(Serie_Encadeada[[#This Row],[Período]])=1,Serie_Encadeada[[#This Row],[Horas]],Serie_Encadeada[[#This Row],[Horas]]+AT181)","v":1123.2908},{"$f":"IF(MONTH(Serie_Encadeada[[#This Row],[Período]])=1,Serie_Encadeada[[#This Row],[Massa Real]],Serie_Encadeada[[#This Row],[Massa Real]]+AU181)","v":1336.9938000000002},{"$f":"IF(MONTH(Serie_Encadeada[[#This Row],[Período]])=1,Serie_Encadeada[[#This Row],[RMR Real]],Serie_Encadeada[[#This Row],[RMR Real]]+AV181)","v":1289.2177999999999},{"$f":"IF(MONTH(Serie_Encadeada[[#This Row],[Período]])=1,Serie_Encadeada[[#This Row],[UCI]],Serie_Encadeada[[#This Row],[UCI]]+AW181)","v":863.8429000000001},78.531172727272732,"2017-11-01",1129.4029999999998,1245.4929999999999,1219.7393999999999,1503.1080000000002,1447.9277999999999,78.239541666666653]
["2017-12-01",{"$f":"MONTH(Serie_Encadeada[[#This Row],[Período]])&YEAR(Serie_Encadeada[[#This Row],[Período]])","v":"122017"},96.0565,102.01390000000001,94.378,170.0907,166.73220000000001,77.927800000000005,null,"2017-12-01",0.10296181971469918,-1.0700435329474234,-5.8048328194973609,24.588217456049303,25.935896128615624,-1.5884999999999962,null,"2017-12-01",7.1516218344722704,-2.5331246679889707,-2.1468429816503285,2.3938350845382197,5.0546279377480925,2.8962000000000074,null,"2017-12-01",1.5797157896007821,-4.9302578829394763,-1.6600153364881149,0.57513472274954358,5.6764194496290328,0.25678333333334535,null,"2017-12-01",1.5797157896007821,-4.9302578829394763,-1.6600153364881149,0.57513472274954358,5.6764194496290328,0.25678333333334535,null,null,"2017-12-01",{"$f":"IF(MONTH(Serie_Encadeada[[#This Row],[Período]])=1,Serie_Encadeada[[#This Row],[Fat.real]],Serie_Encadeada[[#This Row],[Fat.real]]+AR182)","v":1135.8140999999998},{"$f":"IF(MONTH(Serie_Encadeada[[#This Row],[Período]])=1,Serie_Encadeada[[#This Row],[Emprego]],Serie_Encadeada[[#This Row],[Emprego]]+AS182)","v":1242.8416999999999},{"$f":"IF(MONTH(Serie_Encadeada[[#This Row],[Período]])=1,Serie_Encadeada[[#This Row],[Horas]],Serie_Encadeada[[#This Row],[Horas]]+AT182)","v":1217.6687999999999},{"$f":"IF(MONTH(Serie_Encadeada[[#This Row],[Período]])=1,Serie_Encadeada[[#This Row],[Massa Real]],Serie_Encadeada[[#This Row],[Massa Real]]+AU182)","v":1507.0845000000002},{"$f":"IF(MONTH(Serie_Encadeada[[#This Row],[Período]])=1,Serie_Encadeada[[#This Row],[RMR Real]],Serie_Encadeada[[#This Row],[RMR Real]]+AV182)","v":1455.9499999999998},{"$f":"IF(MONTH(Serie_Encadeada[[#This Row],[Período]])=1,Serie_Encadeada[[#This Row],[UCI]],Serie_Encadeada[[#This Row],[UCI]]+AW182)","v":941.77070000000015},78.480891666666679,"2017-12-01",1135.8140999999998,1242.8416999999999,1217.6687999999999,1507.0845000000002,1455.9499999999998,78.480891666666679]
["2018-01-01",{"$f":"MONTH(Serie_Encadeada[[#This Row],[Período]])&YEAR(Serie_Encadeada[[#This Row],[Período]])","v":"12018"},88.184600000000003,102.2974,98.105500000000006,125.3349,122.52119999999999,79.508799999999994,null,"2018-01-01",-8.1950726915929657,0.27790330533387059,3.9495433257750814,-26.312902469094428,-26.516173840445944,1.5809999999999889,null,"2018-01-01",6.7793736937827047,-1.4863136647637589,-0.34617857654374756,2.6536734949617138,4.2033902341321348,2.4916999999999945,null,"2018-01-01",6.7793736937827047,-1.4863136647637589,-0.34617857654374756,2.6536734949617138,4.2033902341321348,2.4916999999999945,null,"2018-01-01",2.4154115596746921,-4.5834593013267293,-1.5019295403426676,0.81758847546094771,5.5417247092620237,0.66441666666666777,null,null,"2018-01-01",{"$f":"IF(MONTH(Serie_Encadeada[[#This Row],[Período]])=1,Serie_Encadeada[[#This Row],[Fat.real]],Serie_Encadeada[[#This Row],[Fat.real]]+AR183)","v":88.184600000000003},{"$f":"IF(MONTH(Serie_Encadeada[[#This Row],[Período]])=1,Serie_Encadeada[[#This Row],[Emprego]],Serie_Encadeada[[#This Row],[Emprego]]+AS183)","v":102.2974},{"$f":"IF(MONTH(Serie_Encadeada[[#This Row],[Período]])=1,Serie_Encadeada[[#This Row],[Horas]],Serie_Encadeada[[#This Row],[Horas]]+AT183)","v":98.105500000000006},{"$f":"IF(MONTH(Serie_Encadeada[[#This Row],[Período]])=1,Serie_Encadeada[[#This Row],[Massa Real]],Serie_Encadeada[[#This Row],[Massa Real]]+AU183)","v":125.3349},{"$f":"IF(MONTH(Serie_Encadeada[[#This Row],[Período]])=1,Serie_Encadeada[[#This Row],[RMR Real]],Serie_Encadeada[[#This Row],[RMR Real]]+AV183)","v":122.52119999999999},{"$f":"IF(MONTH(Serie_Encadeada[[#This Row],[Período]])=1,Serie_Encadeada[[#This Row],[UCI]],Serie_Encadeada[[#This Row],[UCI]]+AW183)","v":79.508799999999994},79.508799999999994,"2018-01-01",1141.4129,1241.2982999999999,1217.328,1510.3245000000004,1460.8922999999998,78.688533333333339]
["2018-02-01",{"$f":"MONTH(Serie_Encadeada[[#This Row],[Período]])&YEAR(Serie_Encadeada[[#This Row],[Período]])","v":"22018"},83.846900000000005,102.44159999999999,95.657700000000006,127.6841,124.6407,78.345699999999994,null,"2018-02-01",-4.9188860640066379,0.14096154936488894,-2.4950690837924485,1.8743382728992453,1.7299047022066403,-1.1631,null,"2018-02-01",2.9376053507435578,-1.6472201180330253,-3.1831113927048511,-0.49850456423516509,1.1678391323510438,1.8044999999999902,null,"2018-02-01",4.8717415701911584,-1.566889312931246,-1.7672079452874201,1.0383809196357956,2.650169780979216,2.1480999999999852,null,"2018-02-01",2.9217094348719526,-4.2622583642333325,-1.7366123971414504,0.87958636881685903,5.230089768575712,0.9866916666666441,null,null,"2018-02-01",{"$f":"IF(MONTH(Serie_Encadeada[[#This Row],[Período]])=1,Serie_Encadeada[[#This Row],[Fat.real]],Serie_Encadeada[[#This Row],[Fat.real]]+AR184)","v":172.03149999999999},{"$f":"IF(MONTH(Serie_Encadeada[[#This Row],[Período]])=1,Serie_Encadeada[[#This Row],[Emprego]],Serie_Encadeada[[#This Row],[Emprego]]+AS184)","v":204.73899999999998},{"$f":"IF(MONTH(Serie_Encadeada[[#This Row],[Período]])=1,Serie_Encadeada[[#This Row],[Horas]],Serie_Encadeada[[#This Row],[Horas]]+AT184)","v":193.76320000000001},{"$f":"IF(MONTH(Serie_Encadeada[[#This Row],[Período]])=1,Serie_Encadeada[[#This Row],[Massa Real]],Serie_Encadeada[[#This Row],[Massa Real]]+AU184)","v":253.01900000000001},{"$f":"IF(MONTH(Serie_Encadeada[[#This Row],[Período]])=1,Serie_Encadeada[[#This Row],[RMR Real]],Serie_Encadeada[[#This Row],[RMR Real]]+AV184)","v":247.1619},{"$f":"IF(MONTH(Serie_Encadeada[[#This Row],[Período]])=1,Serie_Encadeada[[#This Row],[UCI]],Serie_Encadeada[[#This Row],[UCI]]+AW184)","v":157.85449999999997},78.927249999999987,"2018-02-01",1143.8057000000001,1239.5825999999997,1214.1830000000002,1509.6848,1462.3310999999999,78.838908333333322]
["2018-03-01",{"$f":"MONTH(Serie_Encadeada[[#This Row],[Período]])&YEAR(Serie_Encadeada[[#This Row],[Período]])","v":"32018"},100.16849999999999,102.8507,100.9486,122.8201,119.4162,79.786900000000003,null,"2018-03-01",19.465955211224255,0.39934948302253126,5.5310759092054198,-3.8094014838182706,-4.1916484743747366,1.4412000000000091,null,"2018-03-01",3.3015321691583974,-0.80388333034348602,-4.5947322708658787,-1.5135404738764942,-0.71510347425054044,1.3397000000000077,null,"2018-03-01",4.2883907328155884,-1.3130678257957096,-2.7544114303702174,0.190016002610325,1.5291210171465996,1.878633333333326,null,"2018-03-01",3.1946137603362676,-3.8501195558171157,-2.0279524486261309,0.91809663229589988,4.8067562436197608,1.1894333333333407,null,null,"2018-03-01",{"$f":"IF(MONTH(Serie_Encadeada[[#This Row],[Período]])=1,Serie_Encadeada[[#This Row],[Fat.real]],Serie_Encadeada[[#This Row],[Fat.real]]+AR185)","v":272.2},{"$f":"IF(MONTH(Serie_Encadeada[[#This Row],[Período]])=1,Serie_Encadeada[[#This Row],[Emprego]],Serie_Encadeada[[#This Row],[Emprego]]+AS185)","v":307.58969999999999},{"$f":"IF(MONTH(Serie_Encadeada[[#This Row],[Período]])=1,Serie_Encadeada[[#This Row],[Horas]],Serie_Encadeada[[#This Row],[Horas]]+AT185)","v":294.71180000000004},{"$f":"IF(MONTH(Serie_Encadeada[[#This Row],[Período]])=1,Serie_Encadeada[[#This Row],[Massa Real]],Serie_Encadeada[[#This Row],[Massa Real]]+AU185)","v":375.83910000000003},{"$f":"IF(MONTH(Serie_Encadeada[[#This Row],[Período]])=1,Serie_Encadeada[[#This Row],[RMR Real]],Serie_Encadeada[[#This Row],[RMR Real]]+AV185)","v":366.57810000000001},{"$f":"IF(MONTH(Serie_Encadeada[[#This Row],[Período]])=1,Serie_Encadeada[[#This Row],[UCI]],Serie_Encadeada[[#This Row],[UCI]]+AW185)","v":237.64139999999998},79.213799999999992,"2018-03-01",1147.0071,1238.7491,1209.3213000000001,1507.7973,1461.471,78.950550000000007]
["2018-04-01",{"$f":"MONTH(Serie_Encadeada[[#This Row],[Período]])&YEAR(Serie_Encadeada[[#This Row],[Período]])","v":"42018"},95.367800000000003,104.2414,100.7189,118.7653,113.9337,80.421599999999998,null,"2018-04-01",-4.7926244278390833,1.3521541418774936,-0.22754154094261239,-3.3014140193665371,-4.591085631597724,0.63469999999999516,null,"2018-04-01",10.89330648049526,0.77192344762183218,0.14367473233746147,-2.2410462276490088,-2.9892442721832628,5.8609000000000009,null,"2018-04-01",5.9253051671063277,-0.79351964178519419,-2.0322881860458923,-0.40470046970061013,0.42012407484616648,2.8742000000000019,null,"2018-04-01",4.7125360353197854,-3.3201675979396645,-1.7982989636605988,0.4384303607168934,3.7579476090649626,2.0857833333333247,null,null,"2018-04-01",{"$f":"IF(MONTH(Serie_Encadeada[[#This Row],[Período]])=1,Serie_Encadeada[[#This Row],[Fat.real]],Serie_Encadeada[[#This Row],[Fat.real]]+AR186)","v":367.56779999999998},{"$f":"IF(MONTH(Serie_Encadeada[[#This Row],[Período]])=1,Serie_Encadeada[[#This Row],[Emprego]],Serie_Encadeada[[#This Row],[Emprego]]+AS186)","v":411.83109999999999},{"$f":"IF(MONTH(Serie_Encadeada[[#This Row],[Período]])=1,Serie_Encadeada[[#This Row],[Horas]],Serie_Encadeada[[#This Row],[Horas]]+AT186)","v":395.43070000000006},{"$f":"IF(MONTH(Serie_Encadeada[[#This Row],[Período]])=1,Serie_Encadeada[[#This Row],[Massa Real]],Serie_Encadeada[[#This Row],[Massa Real]]+AU186)","v":494.60440000000006},{"$f":"IF(MONTH(Serie_Encadeada[[#This Row],[Período]])=1,Serie_Encadeada[[#This Row],[RMR Real]],Serie_Encadeada[[#This Row],[RMR Real]]+AV186)","v":480.51179999999999},{"$f":"IF(MONTH(Serie_Encadeada[[#This Row],[Período]])=1,Serie_Encadeada[[#This Row],[UCI]],Serie_Encadeada[[#This Row],[UCI]]+AW186)","v":318.06299999999999},79.515749999999997,"2018-04-01",1156.3753000000002,1239.5475999999999,1209.4658000000002,1505.0746999999999,1457.9602999999997,79.438958333333332]
["2018-05-01",{"$f":"MONTH(Serie_Encadeada[[#This Row],[Período]])&YEAR(Serie_Encadeada[[#This Row],[Período]])","v":"52018"},84.7864,105.2941,100.97669999999999,121.6253,115.5103,78.756399999999999,null,"2018-05-01",-11.095359230264306,1.0098674806746661,0.25595990424834753,2.4081107865681304,1.3837872376654134,-1.6651999999999987,null,"2018-05-01",-13.6777546100215,1.3262647968212822,-4.4686807297249596,2.3979369760669282,1.0585264793474081,0.16049999999999898,null,"2018-05-01",1.6007101090364166,-0.3691229846730979,-2.5379034338580992,0.13623852010909032,0.54321688240204546,2.3314599999999928,null,"2018-05-01",3.1139682986190653,-2.7297727166016514,-2.2325606458153073,0.54596986080469834,3.2772511496127965,2.1735583333333182,null,null,"2018-05-01",{"$f":"IF(MONTH(Serie_Encadeada[[#This Row],[Período]])=1,Serie_Encadeada[[#This Row],[Fat.real]],Serie_Encadeada[[#This Row],[Fat.real]]+AR187)","v":452.35419999999999},{"$f":"IF(MONTH(Serie_Encadeada[[#This Row],[Período]])=1,Serie_Encadeada[[#This Row],[Emprego]],Serie_Encadeada[[#This Row],[Emprego]]+AS187)","v":517.12519999999995},{"$f":"IF(MONTH(Serie_Encadeada[[#This Row],[Período]])=1,Serie_Encadeada[[#This Row],[Horas]],Serie_Encadeada[[#This Row],[Horas]]+AT187)","v":496.40740000000005},{"$f":"IF(MONTH(Serie_Encadeada[[#This Row],[Período]])=1,Serie_Encadeada[[#This Row],[Massa Real]],Serie_Encadeada[[#This Row],[Massa Real]]+AU187)","v":616.22970000000009},{"$f":"IF(MONTH(Serie_Encadeada[[#This Row],[Período]])=1,Serie_Encadeada[[#This Row],[RMR Real]],Serie_Encadeada[[#This Row],[RMR Real]]+AV187)","v":596.02210000000002},{"$f":"IF(MONTH(Serie_Encadeada[[#This Row],[Período]])=1,Serie_Encadeada[[#This Row],[UCI]],Serie_Encadeada[[#This Row],[UCI]]+AW187)","v":396.81939999999997},79.363879999999995,"2018-05-01",{"$f":"SUM(C177:C188)","v":1142.9409000000001},1240.9258,1204.7424000000001,1507.9228999999998,1459.1702,{"$f":"SUM(H177:H188)/12","v":79.452333333333328}]
["2018-06-01",{"$f":"MONTH(Serie_Encadeada[[#This Row],[Período]])&YEAR(Serie_Encadeada[[#This Row],[Período]])","v":"62018"},109.3663,104.2864,100.1741,113.59869999999999,108.9298,79.261700000000005,null,"2018-06-01",28.990380532726942,-0.95703367994977862,-0.79483682869414252,-6.5994492922114087,-5.6968945626493923,0.50530000000000541,null,"2018-06-01",11.956870015283648,0.53484184183026218,-1.265352426967244,-2.6775127651554178,-3.1946792079243171,1.8276000000000039,null,"2018-06-01",3.4640877414173743,-0.21855485958200779,-2.3265214638640286,-0.31236883042875158,-5.3110155367744313E-2,2.2474833333333351,null,"2018-06-01",4.533583765124785,-2.1746640161351607,-1.9713518424195853,0.33273610101351087,2.524623476605635,2.4370333333333463,null,null,"2018-06-01",{"$f":"IF(MONTH(Serie_Encadeada[[#This Row],[Período]])=1,Serie_Encadeada[[#This Row],[Fat.real]],Serie_Encadeada[[#This Row],[Fat.real]]+AR188)","v":561.72050000000002},{"$f":"IF(MONTH(Serie_Encadeada[[#This Row],[Período]])=1,Serie_Encadeada[[#This Row],[Emprego]],Serie_Encadeada[[#This Row],[Emprego]]+AS188)","v":621.41159999999991},{"$f":"IF(MONTH(Serie_Encadeada[[#This Row],[Período]])=1,Serie_Encadeada[[#This Row],[Horas]],Serie_Encadeada[[#This Row],[Horas]]+AT188)","v":596.58150000000001},{"$f":"IF(MONTH(Serie_Encadeada[[#This Row],[Período]])=1,Serie_Encadeada[[#This Row],[Massa Real]],Serie_Encadeada[[#This Row],[Massa Real]]+AU188)","v":729.8284000000001},{"$f":"IF(MONTH(Serie_Encadeada[[#This Row],[Período]])=1,Serie_Encadeada[[#This Row],[RMR Real]],Serie_Encadeada[[#This Row],[RMR Real]]+AV188)","v":704.95190000000002},{"$f":"IF(MONTH(Serie_Encadeada[[#This Row],[Período]])=1,Serie_Encadeada[[#This Row],[UCI]],Serie_Encadeada[[#This Row],[UCI]]+AW188)","v":476.08109999999999},{"$f":"AW189/MONTH(AQ189)","v":79.346850000000003},"2018-05-01",{"$f":"SUM(C178:C189)","v":1154.6211000000001},{"$f":"SUM(D178:D189)","v":1241.4806000000001},{"$f":"SUM(E178:E189)","v":1203.4585999999999},{"$f":"SUM(F178:F189)","v":1504.7975999999999},{"$f":"SUM(G178:G189)","v":1455.5754000000002},{"$f":"SUM(H178:H189)/12","v":79.604633333333339}]
["2018-07-01",{"$f":"MONTH(Serie_Encadeada[[#This Row],[Período]])&YEAR(Serie_Encadeada[[#This Row],[Período]])","v":"72018"},105.0562,104.1567,102.15779999999999,118.24420000000001,113.52500000000001,79.348600000000005,null,"2018-07-01",-3.9409763336603612,-0.12436904524463373,1.9802523806053651,4.0893953892078105,4.2184966831849557,8.6899999999999977E-2,null,"2018-07-01",9.6695596982673102,0.49254097111134565,0.29039288449078149,-0.10501104601307863,-0.59402784855792068,0.16720000000000823,null,"2018-07-01",4.394785777326029,-0.1170949709596074,-1.9524770586331064,-0.28350922145724677,-0.12848829554600555,1.9502999999999986,null,"2018-07-01",5.1935646207791644,-1.6912082894060583,-1.6120605722573391,0.43905066424653627,2.1595745816286653,2.350033333333343,null,null,"2018-07-01",{"$f":"IF(MONTH(Serie_Encadeada[[#This Row],[Período]])=1,Serie_Encadeada[[#This Row],[Fat.real]],Serie_Encadeada[[#This Row],[Fat.real]]+AR189)","v":666.77670000000001},{"$f":"IF(MONTH(Serie_Encadeada[[#This Row],[Período]])=1,Serie_Encadeada[[#This Row],[Emprego]],Serie_Encadeada[[#This Row],[Emprego]]+AS189)","v":725.56829999999991},{"$f":"IF(MONTH(Serie_Encadeada[[#This Row],[Período]])=1,Serie_Encadeada[[#This Row],[Horas]],Serie_Encadeada[[#This Row],[Horas]]+AT189)","v":698.73929999999996},{"$f":"IF(MONTH(Serie_Encadeada[[#This Row],[Período]])=1,Serie_Encadeada[[#This Row],[Massa Real]],Serie_Encadeada[[#This Row],[Massa Real]]+AU189)","v":848.07260000000008},{"$f":"IF(MONTH(Serie_Encadeada[[#This Row],[Período]])=1,Serie_Encadeada[[#This Row],[RMR Real]],Serie_Encadeada[[#This Row],[RMR Real]]+AV189)","v":818.4769},{"$f":"IF(MONTH(Serie_Encadeada[[#This Row],[Período]])=1,Serie_Encadeada[[#This Row],[UCI]],Serie_Encadeada[[#This Row],[UCI]]+AW189)","v":555.42970000000003},{"$f":"AW190/MONTH(AQ190)","v":79.347099999999998},"2018-05-01",{"$f":"SUM(C179:C190)","v":1163.8839},{"$f":"SUM(D179:D190)","v":1241.9911},{"$f":"SUM(E179:E190)","v":1203.7543999999998},{"$f":"SUM(F179:F190)","v":1504.6732999999999},{"$f":"SUM(G179:G190)","v":1454.8969999999999},{"$f":"SUM(H179:H190)/12","v":79.618566666666666}]
["2018-08-01",{"$f":"MONTH(Serie_Encadeada[[#This Row],[Período]])&YEAR(Serie_Encadeada[[#This Row],[Período]])","v":"82018"},110.5035,103.3104,102.47490000000001,114.974,111.2901,80.581199999999995,null,"2018-08-01",5.1851294830766754,-0.81252574246303833,0.31040214256768511,-2.7656324792251987,-1.9686412684430832,1.2325999999999908,null,"2018-08-01",8.9890965040758708,-0.41900774108848737,-3.3306730965156519,-2.7442475016537151,-2.3343551256207853,-0.54780000000000939,null,"2018-08-01",5.0241833361167574,-0.15482482979268195,-2.1309352987256007,-0.58381215275698672,-0.39775892359770454,1.6380374999999958,null,"2018-08-01",5.6228368327751612,-1.2761240612115949,-1.854859106609029,8.5498316331105162E-2,1.4132054059501178,2.1348083333333534,null,null,"2018-08-01",{"$f":"IF(MONTH(Serie_Encadeada[[#This Row],[Período]])=1,Serie_Encadeada[[#This Row],[Fat.real]],Serie_Encadeada[[#This Row],[Fat.real]]+AR190)","v":777.28020000000004},{"$f":"IF(MONTH(Serie_Encadeada[[#This Row],[Período]])=1,Serie_Encadeada[[#This Row],[Emprego]],Serie_Encadeada[[#This Row],[Emprego]]+AS190)","v":828.87869999999987},{"$f":"IF(MONTH(Serie_Encadeada[[#This Row],[Período]])=1,Serie_Encadeada[[#This Row],[Horas]],Serie_Encadeada[[#This Row],[Horas]]+AT190)","v":801.21420000000001},{"$f":"IF(MONTH(Serie_Encadeada[[#This Row],[Período]])=1,Serie_Encadeada[[#This Row],[Massa Real]],Serie_Encadeada[[#This Row],[Massa Real]]+AU190)","v":963.04660000000013},{"$f":"IF(MONTH(Serie_Encadeada[[#This Row],[Período]])=1,Serie_Encadeada[[#This Row],[RMR Real]],Serie_Encadeada[[#This Row],[RMR Real]]+AV190)","v":929.76700000000005},{"$f":"IF(MONTH(Serie_Encadeada[[#This Row],[Período]])=1,Serie_Encadeada[[#This Row],[UCI]],Serie_Encadeada[[#This Row],[UCI]]+AW190)","v":636.01089999999999},{"$f":"AW191/MONTH(AQ191)","v":79.501362499999999},"2018-05-01",{"$f":"SUM(C180:C191)","v":1172.9979000000001},{"$f":"SUM(D180:D191)","v":1241.5563999999999},{"$f":"SUM(E180:E191)","v":1200.2236999999998},{"$f":"SUM(F180:F191)","v":1501.4290999999998},{"$f":"SUM(G180:G191)","v":1452.2370000000003},{"$f":"SUM(H180:H191)/12","v":79.572916666666671}]
["2018-09-01",{"$f":"MONTH(Serie_Encadeada[[#This Row],[Período]])&YEAR(Serie_Encadeada[[#This Row],[Período]])","v":"92018"},102.9306,103.208,96.111999999999995,110.4376,107.0056,80.502600000000001,null,"2018-09-01",-6.8530861013452098,-9.9118772166212635E-2,-6.2092278206663387,-3.9455876980882638,-3.8498482794066988,-7.8599999999994452E-2,null,"2018-09-01",2.3590271921589765,-0.66296555813076108,-5.5328618101614797,-4.4264728153869379,-3.7880354545013102,-0.27089999999999748,null,"2018-09-01",4.7053796635670242,-0.21134598518641773,-2.5069847311034703,-0.99333689645741907,-0.75868772103264337,1.4259333333333188,null,"2018-09-01",5.4691554096222346,-0.92800681649717476,-2.1522909214338002,-0.31712616529025811,0.6922477294205045,1.9222916666666663,null,null,"2018-09-01",{"$f":"IF(MONTH(Serie_Encadeada[[#This Row],[Período]])=1,Serie_Encadeada[[#This Row],[Fat.real]],Serie_Encadeada[[#This Row],[Fat.real]]+AR191)","v":880.21080000000006},{"$f":"IF(MONTH(Serie_Encadeada[[#This Row],[Período]])=1,Serie_Encadeada[[#This Row],[Emprego]],Serie_Encadeada[[#This Row],[Emprego]]+AS191)","v":932.08669999999984},{"$f":"IF(MONTH(Serie_Encadeada[[#This Row],[Período]])=1,Serie_Encadeada[[#This Row],[Horas]],Serie_Encadeada[[#This Row],[Horas]]+AT191)","v":897.32619999999997},{"$f":"IF(MONTH(Serie_Encadeada[[#This Row],[Período]])=1,Serie_Encadeada[[#This Row],[Massa Real]],Serie_Encadeada[[#This Row],[Massa Real]]+AU191)","v":1073.4842000000001},{"$f":"IF(MONTH(Serie_Encadeada[[#This Row],[Período]])=1,Serie_Encadeada[[#This Row],[RMR Real]],Serie_Encadeada[[#This Row],[RMR Real]]+AV191)","v":1036.7726},{"$f":"IF(MONTH(Serie_Encadeada[[#This Row],[Período]])=1,Serie_Encadeada[[#This Row],[UCI]],Serie_Encadeada[[#This Row],[UCI]]+AW191)","v":716.51350000000002},{"$f":"AW192/MONTH(AQ192)","v":79.612611111111107},"2018-05-01",{"$f":"SUM(C181:C192)","v":1175.3700999999999},{"$f":"SUM(D181:D192)","v":1240.8676},{"$f":"SUM(E181:E192)","v":1194.5944999999999},{"$f":"SUM(F181:F192)","v":1496.3142},{"$f":"SUM(G181:G192)","v":1448.0240000000001},{"$f":"SUM(H181:H192)/12","v":79.550341666666668}]
["2018-10-01",{"$f":"MONTH(Serie_Encadeada[[#This Row],[Período]])&YEAR(Serie_Encadeada[[#This Row],[Período]])","v":"102018"},105.2654,102.8631,100.008,115.245,112.0369,80.856200000000001,null,"2018-10-01",2.2683244827097107,-0.33417952096736253,4.0536041285167315,4.3530464262171593,4.7019034517819644,0.35360000000000014,null,"2018-10-01",2.0558457083190662,-0.75890234125134259,-2.6176236316436334,-0.83636645241229268,-7.8305672166794141E-2,0.209699999999998,null,"2018-10-01",4.4158204330855408,-0.26603758948184902,-2.5180904209738859,-0.97814067222752776,-0.692741925236114,1.3043099999999868,null,"2018-10-01",4.5461745294896234,-0.69061163940520698,-2.50097302189435,-0.40455138288770753,0.38811283039493644,1.5909750000000145,null,null,"2018-10-01",{"$f":"IF(MONTH(Serie_Encadeada[[#This Row],[Período]])=1,Serie_Encadeada[[#This Row],[Fat.real]],Serie_Encadeada[[#This Row],[Fat.real]]+AR192)","v":985.47620000000006},{"$f":"IF(MONTH(Serie_Encadeada[[#This Row],[Período]])=1,Serie_Encadeada[[#This Row],[Emprego]],Serie_Encadeada[[#This Row],[Emprego]]+AS192)","v":1034.9497999999999},{"$f":"IF(MONTH(Serie_Encadeada[[#This Row],[Período]])=1,Serie_Encadeada[[#This Row],[Horas]],Serie_Encadeada[[#This Row],[Horas]]+AT192)","v":997.33420000000001},{"$f":"IF(MONTH(Serie_Encadeada[[#This Row],[Período]])=1,Serie_Encadeada[[#This Row],[Massa Real]],Serie_Encadeada[[#This Row],[Massa Real]]+AU192)","v":1188.7292000000002},{"$f":"IF(MONTH(Serie_Encadeada[[#This Row],[Período]])=1,Serie_Encadeada[[#This Row],[RMR Real]],Serie_Encadeada[[#This Row],[RMR Real]]+AV192)","v":1148.8095000000001},{"$f":"IF(MONTH(Serie_Encadeada[[#This Row],[Período]])=1,Serie_Encadeada[[#This Row],[UCI]],Serie_Encadeada[[#This Row],[UCI]]+AW192)","v":797.36969999999997},{"$f":"AW193/MONTH(AQ193)","v":79.736969999999999},"2018-05-01",{"$f":"SUM(C182:C193)","v":1177.4906000000001},{"$f":"SUM(D182:D193)","v":1240.0810000000001},{"$f":"SUM(E182:E193)","v":1191.9062999999999},{"$f":"SUM(F182:F193)","v":1495.3422},{"$f":"SUM(G182:G193)","v":1447.9362000000001},{"$f":"SUM(H182:H193)/12","v":79.567816666666673}]
["2018-11-01",{"$f":"MONTH(Serie_Encadeada[[#This Row],[Período]])&YEAR(Serie_Encadeada[[#This Row],[Período]])","v":"112018"},96.832099999999997,103.8796,99.105099999999993,132.40389999999999,127.4589,80.240499999999997,null,"2018-11-01",-8.011464355809224,0.98820665525343243,-0.90282777377810031,14.889062432209629,13.765107745751619,-0.61570000000000391,null,"2018-11-01",0.9110245222123472,0.73925519772142623,-1.0868903458387398,-3.0166500271384296,-3.7279494238808968,0.72419999999999618,null,"2018-11-01",4.0923672979163834,-0.17517104684862819,-2.3904317564071556,-1.186295703091514,-1.004438505270385,1.2515727272727162,null,"2018-11-01",4.335193017904194,-0.37332204998341534,-2.3711704319791589,-0.79064179021069614,-0.34029321075262575,1.3886250000000189,null,null,"2018-11-01",{"$f":"IF(MONTH(Serie_Encadeada[[#This Row],[Período]])=1,Serie_Encadeada[[#This Row],[Fat.real]],Serie_Encadeada[[#This Row],[Fat.real]]+AR193)","v":1082.3083000000001},{"$f":"IF(MONTH(Serie_Encadeada[[#This Row],[Período]])=1,Serie_Encadeada[[#This Row],[Emprego]],Serie_Encadeada[[#This Row],[Emprego]]+AS193)","v":1138.8293999999999},{"$f":"IF(MONTH(Serie_Encadeada[[#This Row],[Período]])=1,Serie_Encadeada[[#This Row],[Horas]],Serie_Encadeada[[#This Row],[Horas]]+AT193)","v":1096.4393},{"$f":"IF(MONTH(Serie_Encadeada[[#This Row],[Período]])=1,Serie_Encadeada[[#This Row],[Massa Real]],Serie_Encadeada[[#This Row],[Massa Real]]+AU193)","v":1321.1331000000002},{"$f":"IF(MONTH(Serie_Encadeada[[#This Row],[Período]])=1,Serie_Encadeada[[#This Row],[RMR Real]],Serie_Encadeada[[#This Row],[RMR Real]]+AV193)","v":1276.2684000000002},{"$f":"IF(MONTH(Serie_Encadeada[[#This Row],[Período]])=1,Serie_Encadeada[[#This Row],[UCI]],Serie_Encadeada[[#This Row],[UCI]]+AW193)","v":877.61019999999996},{"$f":"AW194/MONTH(AQ194)","v":79.782745454545449},"2018-05-01",{"$f":"SUM(C183:C194)","v":1178.3648000000003},{"$f":"SUM(D183:D194)","v":1240.8433},{"$f":"SUM(E183:E194)","v":1190.8172999999999},{"$f":"SUM(F183:F194)","v":1491.2238},{"$f":"SUM(G183:G194)","v":1443.0006000000001},{"$f":"SUM(H183:H194)/12","v":79.628166666666672}]
["2018-12-01",{"$f":"MONTH(Serie_Encadeada[[#This Row],[Período]])&YEAR(Serie_Encadeada[[#This Row],[Período]])","v":"122018"},93.2483,103.2346,89.026899999999998,176.33439999999999,170.80850000000001,78.963800000000006,null,"2018-12-01",-3.7010454177901715,-0.62091113173327206,-10.169204208461519,33.179158619950016,34.010649707474336,-1.2766999999999911,null,"2018-12-01",-2.9234877389869496,1.1966016395804822,-5.6698595011549324,3.6708062227975957,2.4448186972882282,1.0360000000000014,null,"2018-12-01",3.4990321039332315,-6.2574340722563085E-2,-2.6446107512978774,-0.63811949495864106,-0.60943713726429949,1.2336083333333221,null,"2018-12-01",3.4990321039332315,-6.2574340722563085E-2,-2.6446107512978774,-0.63811949495864106,-0.60943713726429949,1.2336083333333221,null,null,"2018-12-01",{"$f":"IF(MONTH(Serie_Encadeada[[#This Row],[Período]])=1,Serie_Encadeada[[#This Row],[Fat.real]],Serie_Encadeada[[#This Row],[Fat.real]]+AR194)","v":1175.5566000000001},{"$f":"IF(MONTH(Serie_Encadeada[[#This Row],[Período]])=1,Serie_Encadeada[[#This Row],[Emprego]],Serie_Encadeada[[#This Row],[Emprego]]+AS194)","v":1242.0639999999999},{"$f":"IF(MONTH(Serie_Encadeada[[#This Row],[Período]])=1,Serie_Encadeada[[#This Row],[Horas]],Serie_Encadeada[[#This Row],[Horas]]+AT194)","v":1185.4662000000001},{"$f":"IF(MONTH(Serie_Encadeada[[#This Row],[Período]])=1,Serie_Encadeada[[#This Row],[Massa Real]],Serie_Encadeada[[#This Row],[Massa Real]]+AU194)","v":1497.4675000000002},{"$f":"IF(MONTH(Serie_Encadeada[[#This Row],[Período]])=1,Serie_Encadeada[[#This Row],[RMR Real]],Serie_Encadeada[[#This Row],[RMR Real]]+AV194)","v":1447.0769000000003},{"$f":"IF(MONTH(Serie_Encadeada[[#This Row],[Período]])=1,Serie_Encadeada[[#This Row],[UCI]],Serie_Encadeada[[#This Row],[UCI]]+AW194)","v":956.57399999999996},{"$f":"AW195/MONTH(AQ195)","v":79.714500000000001},"2018-05-01",{"$f":"SUM(C184:C195)","v":1175.5566000000001},{"$f":"SUM(D184:D195)","v":1242.0639999999999},{"$f":"SUM(E184:E195)","v":1185.4662000000001},{"$f":"SUM(F184:F195)","v":1497.4675000000002},{"$f":"SUM(G184:G195)","v":1447.0769000000003},{"$f":"SUM(H184:H195)/12","v":79.714500000000001}]
["2019-01-01",{"$f":"MONTH(Serie_Encadeada[[#This Row],[Período]])&YEAR(Serie_Encadeada[[#This Row],[Período]])","v":"12019"},83.213200000000001,102.3839,94.539900000000003,124.6033,121.70140000000001,80.417000000000002,null,"2019-01-01",-10.761697532287451,-0.82404542663022218,6.1925103536122288,-29.336930287000147,-28.749798751233104,1.4531999999999954,null,"2019-01-01",-5.637492260553433,8.4557378779911235E-2,-3.6344547451468094,-0.58371610780397176,-0.66910869302617559,0.90820000000000789,null,"2019-01-01",-5.637492260553433,8.4557378779911235E-2,-3.6344547451468094,-0.58371610780397176,-0.66910869302617559,0.90820000000000789,null,"2019-01-01",2.5558060540580843,6.8653924685149331E-2,-2.9102591906207724,-0.89971393564763691,-1.0017986952220719,1.1016499999999922,null,null,"2019-01-01",{"$f":"IF(MONTH(Serie_Encadeada[[#This Row],[Período]])=1,Serie_Encadeada[[#This Row],[Fat.real]],Serie_Encadeada[[#This Row],[Fat.real]]+AR195)","v":83.213200000000001},{"$f":"IF(MONTH(Serie_Encadeada[[#This Row],[Período]])=1,Serie_Encadeada[[#This Row],[Emprego]],Serie_Encadeada[[#This Row],[Emprego]]+AS195)","v":102.3839},{"$f":"IF(MONTH(Serie_Encadeada[[#This Row],[Período]])=1,Serie_Encadeada[[#This Row],[Horas]],Serie_Encadeada[[#This Row],[Horas]]+AT195)","v":94.539900000000003},{"$f":"IF(MONTH(Serie_Encadeada[[#This Row],[Período]])=1,Serie_Encadeada[[#This Row],[Massa Real]],Serie_Encadeada[[#This Row],[Massa Real]]+AU195)","v":124.6033},{"$f":"IF(MONTH(Serie_Encadeada[[#This Row],[Período]])=1,Serie_Encadeada[[#This Row],[RMR Real]],Serie_Encadeada[[#This Row],[RMR Real]]+AV195)","v":121.70140000000001},{"$f":"IF(MONTH(Serie_Encadeada[[#This Row],[Período]])=1,Serie_Encadeada[[#This Row],[UCI]],Serie_Encadeada[[#This Row],[UCI]]+AW195)","v":80.417000000000002},{"$f":"AW196/MONTH(AQ196)","v":80.417000000000002},"2018-05-01",{"$f":"SUM(C185:C196)","v":1170.5852},{"$f":"SUM(D185:D196)","v":1242.1505},{"$f":"SUM(E185:E196)","v":1181.9005999999999},{"$f":"SUM(F185:F196)","v":1496.7358999999999},{"$f":"SUM(G185:G196)","v":1446.2571},{"$f":"SUM(H185:H196)/12","v":79.790183333333331}]
["2019-02-01",{"$f":"MONTH(Serie_Encadeada[[#This Row],[Período]])&YEAR(Serie_Encadeada[[#This Row],[Período]])","v":"22019"},83.72,102.2517,92.763400000000004,122.59229999999999,119.893,77.917400000000001,null,"2019-02-01",0.60903798916517859,-0.1291218638868,-1.879100781786313,-1.6139219426772884,-1.4859319613414521,-2.4996000000000009,null,"2019-02-01",-0.15134727700130382,-0.18537391059881378,-3.0256842888758575,-3.9878105417980834,-3.8091089026297147,-0.42829999999999302,null,"2019-02-01",-2.9635851573694323,-5.0503323743871509E-2,-3.33391479909498,-2.3015662855358658,-2.2525720995023892,0.23995000000002165,null,"2019-02-01",2.3301684892809935,0.19183876895338675,-2.8971497706688534,-1.1949977902672144,-1.4238704216849207,0.91558333333335895,null,null,"2019-02-01",{"$f":"IF(MONTH(Serie_Encadeada[[#This Row],[Período]])=1,Serie_Encadeada[[#This Row],[Fat.real]],Serie_Encadeada[[#This Row],[Fat.real]]+AR196)","v":166.9332},{"$f":"IF(MONTH(Serie_Encadeada[[#This Row],[Período]])=1,Serie_Encadeada[[#This Row],[Emprego]],Serie_Encadeada[[#This Row],[Emprego]]+AS196)","v":204.63560000000001},{"$f":"IF(MONTH(Serie_Encadeada[[#This Row],[Período]])=1,Serie_Encadeada[[#This Row],[Horas]],Serie_Encadeada[[#This Row],[Horas]]+AT196)","v":187.30330000000001},{"$f":"IF(MONTH(Serie_Encadeada[[#This Row],[Período]])=1,Serie_Encadeada[[#This Row],[Massa Real]],Serie_Encadeada[[#This Row],[Massa Real]]+AU196)","v":247.19560000000001},{"$f":"IF(MONTH(Serie_Encadeada[[#This Row],[Período]])=1,Serie_Encadeada[[#This Row],[RMR Real]],Serie_Encadeada[[#This Row],[RMR Real]]+AV196)","v":241.59440000000001},{"$f":"IF(MONTH(Serie_Encadeada[[#This Row],[Período]])=1,Serie_Encadeada[[#This Row],[UCI]],Serie_Encadeada[[#This Row],[UCI]]+AW196)","v":158.33440000000002},{"$f":"AW197/MONTH(AQ197)","v":79.167200000000008},"2018-05-01",{"$f":"SUM(C186:C197)","v":1170.4583},{"$f":"SUM(D186:D197)","v":1241.9606000000001},{"$f":"SUM(E186:E197)","v":1179.0063},{"$f":"SUM(F186:F197)","v":1491.6441},{"$f":"SUM(G186:G197)","v":1441.5094000000001},{"$f":"SUM(H186:H197)/12","v":79.754491666666681}]
["2019-03-01",{"$f":"MONTH(Serie_Encadeada[[#This Row],[Período]])&YEAR(Serie_Encadeada[[#This Row],[Período]])","v":"32019"},92.598699999999994,102.82380000000001,92.516599999999997,120.2479,116.9462,78.902299999999997,null,"2019-03-01",10.605231724796937,0.55950170021623702,-0.26605320632922841,-1.9123550174032082,-2.4578582569457734,0.98489999999999611,null,"2019-03-01",-7.5570663432116891,-2.6154416061337161E-2,-8.3527656649027353,-2.0942826133507424,-2.0683960802638159,-0.88460000000000605,null,"2019-03-01",-4.6539676708302649,-4.2361626543404085E-2,-5.0530382563575733,-2.2338282525687192,-2.1925750610852002,-0.13489999999998759,null,"2019-03-01",1.3845947422644538,0.25708192240059313,-3.2040285737132117,-1.2419043328967236,-1.5348645303259449,0.73022499999999013,null,null,"2019-03-01",{"$f":"IF(MONTH(Serie_Encadeada[[#This Row],[Período]])=1,Serie_Encadeada[[#This Row],[Fat.real]],Serie_Encadeada[[#This Row],[Fat.real]]+AR197)","v":259.53190000000001},{"$f":"IF(MONTH(Serie_Encadeada[[#This Row],[Período]])=1,Serie_Encadeada[[#This Row],[Emprego]],Serie_Encadeada[[#This Row],[Emprego]]+AS197)","v":307.45940000000002},{"$f":"IF(MONTH(Serie_Encadeada[[#This Row],[Período]])=1,Serie_Encadeada[[#This Row],[Horas]],Serie_Encadeada[[#This Row],[Horas]]+AT197)","v":279.81990000000002},{"$f":"IF(MONTH(Serie_Encadeada[[#This Row],[Período]])=1,Serie_Encadeada[[#This Row],[Massa Real]],Serie_Encadeada[[#This Row],[Massa Real]]+AU197)","v":367.44350000000003},{"$f":"IF(MONTH(Serie_Encadeada[[#This Row],[Período]])=1,Serie_Encadeada[[#This Row],[RMR Real]],Serie_Encadeada[[#This Row],[RMR Real]]+AV197)","v":358.54060000000004},{"$f":"IF(MONTH(Serie_Encadeada[[#This Row],[Período]])=1,Serie_Encadeada[[#This Row],[UCI]],Serie_Encadeada[[#This Row],[UCI]]+AW197)","v":237.23670000000001},{"$f":"AW198/MONTH(AQ198)","v":79.078900000000004},"2018-05-01",{"$f":"SUM(C187:C198)","v":1162.8885},{"$f":"SUM(D187:D198)","v":1241.9337},{"$f":"SUM(E187:E198)","v":1170.5743},{"$f":"SUM(F187:F198)","v":1489.0719000000001},{"$f":"SUM(G187:G198)","v":1439.0394000000001},{"$f":"SUM(H187:H198)/12","v":79.680774999999997}]
["2019-04-01",{"$f":"MONTH(Serie_Encadeada[[#This Row],[Período]])&YEAR(Serie_Encadeada[[#This Row],[Período]])","v":"42019"},89.054000000000002,103.9299,95.145200000000003,115.07769999999999,110.7265,79.434100000000001,null,"2019-04-01",-3.8280235035696957,1.0757237137705451,2.8412198459519762,-4.2996177064214915,-5.3184284739478516,0.53180000000000405,null,"2019-04-01",-6.6204735770354359,-0.29882561055395956,-5.5339166730375355,-3.1049473204715548,-2.8149704608908515,-0.98749999999999716,null,"2019-04-01",-5.164190116762116,-0.1072769880662106,-5.175521273386221,-2.4430029332533296,-2.3401506477052108,-0.34805000000000064,null,"2019-04-01",1.7243536765267183E-2,0.1673675137606957,-3.6764330169567687,-1.3082672906533961,-1.5177436587264881,0.15952500000000214,null,null,"2019-04-01",{"$f":"IF(MONTH(Serie_Encadeada[[#This Row],[Período]])=1,Serie_Encadeada[[#This Row],[Fat.real]],Serie_Encadeada[[#This Row],[Fat.real]]+AR198)","v":348.58590000000004},{"$f":"IF(MONTH(Serie_Encadeada[[#This Row],[Período]])=1,Serie_Encadeada[[#This Row],[Emprego]],Serie_Encadeada[[#This Row],[Emprego]]+AS198)","v":411.38930000000005},{"$f":"IF(MONTH(Serie_Encadeada[[#This Row],[Período]])=1,Serie_Encadeada[[#This Row],[Horas]],Serie_Encadeada[[#This Row],[Horas]]+AT198)","v":374.96510000000001},{"$f":"IF(MONTH(Serie_Encadeada[[#This Row],[Período]])=1,Serie_Encadeada[[#This Row],[Massa Real]],Serie_Encadeada[[#This Row],[Massa Real]]+AU198)","v":482.52120000000002},{"$f":"IF(MONTH(Serie_Encadeada[[#This Row],[Período]])=1,Serie_Encadeada[[#This Row],[RMR Real]],Serie_Encadeada[[#This Row],[RMR Real]]+AV198)","v":469.26710000000003},{"$f":"IF(MONTH(Serie_Encadeada[[#This Row],[Período]])=1,Serie_Encadeada[[#This Row],[UCI]],Serie_Encadeada[[#This Row],[UCI]]+AW198)","v":316.67079999999999},{"$f":"AW199/MONTH(AQ199)","v":79.167699999999996},"2018-05-01",{"$f":"SUM(C188:C199)","v":1156.5747000000001},{"$f":"SUM(D188:D199)","v":1241.6222000000002},{"$f":"SUM(E188:E199)","v":1165.0005999999998},{"$f":"SUM(F188:F199)","v":1485.3843000000002},{"$f":"SUM(G188:G199)","v":1435.8322000000001},{"$f":"SUM(H188:H199)/12","v":79.598483333333334}]
["2019-05-01",{"$f":"MONTH(Serie_Encadeada[[#This Row],[Período]])&YEAR(Serie_Encadeada[[#This Row],[Período]])","v":"52019"},94.946700000000007,105.3777,102.932,122.2413,116.0035,81.107799999999997,null,"2019-05-01",6.6169964291328913,1.3930543568309031,8.184122793372655,6.2250114487863444,4.7657968056427329,1.6736999999999966,null,"2019-05-01",11.983407716331872,7.9396661351399667E-2,1.9363873051902156,0.50647357087711165,0.42697491046253161,2.3513999999999982,null,"2019-05-01",-1.9501532206399173,-6.9267558417168043E-2,-3.7288525513519799,-1.8608645445034613,-1.803876064327139,0.19183999999999912,null,"2019-05-01",2.0818311777975631,6.2856296484463461E-2,-3.1364796324924029,-1.4538276459625274,-1.5656021483991278,0.34210000000001628,null,null,"2019-05-01",{"$f":"IF(MONTH(Serie_Encadeada[[#This Row],[Período]])=1,Serie_Encadeada[[#This Row],[Fat.real]],Serie_Encadeada[[#This Row],[Fat.real]]+AR199)","v":443.53260000000006},{"$f":"IF(MONTH(Serie_Encadeada[[#This Row],[Período]])=1,Serie_Encadeada[[#This Row],[Emprego]],Serie_Encadeada[[#This Row],[Emprego]]+AS199)","v":516.76700000000005},{"$f":"IF(MONTH(Serie_Encadeada[[#This Row],[Período]])=1,Serie_Encadeada[[#This Row],[Horas]],Serie_Encadeada[[#This Row],[Horas]]+AT199)","v":477.89710000000002},{"$f":"IF(MONTH(Serie_Encadeada[[#This Row],[Período]])=1,Serie_Encadeada[[#This Row],[Massa Real]],Serie_Encadeada[[#This Row],[Massa Real]]+AU199)","v":604.76250000000005},{"$f":"IF(MONTH(Serie_Encadeada[[#This Row],[Período]])=1,Serie_Encadeada[[#This Row],[RMR Real]],Serie_Encadeada[[#This Row],[RMR Real]]+AV199)","v":585.27060000000006},{"$f":"IF(MONTH(Serie_Encadeada[[#This Row],[Período]])=1,Serie_Encadeada[[#This Row],[UCI]],Serie_Encadeada[[#This Row],[UCI]]+AW199)","v":397.77859999999998},{"$f":"AW200/MONTH(AQ200)","v":79.555719999999994},"2018-05-01",{"$f":"SUM(C189:C200)","v":1166.7350000000001},{"$f":"SUM(D189:D200)","v":1241.7058000000002},{"$f":"SUM(E189:E200)","v":1166.9558999999999},{"$f":"SUM(F189:F200)","v":1486.0002999999999},{"$f":"SUM(G189:G200)","v":1436.3254000000002},{"$f":"SUM(H189:H200)/12","v":79.794433333333345}]
["2019-06-01",{"$f":"MONTH(Serie_Encadeada[[#This Row],[Período]])&YEAR(Serie_Encadeada[[#This Row],[Período]])","v":"62019"},97.667900000000003,105.6443,96.632900000000006,117.7565,111.46429999999999,78.218000000000004,null,"2019-06-01",2.8660290457698854,0.25299470381304284,-6.1196712392647532,-3.6688091504262412,-3.9129853840616948,-2.8897999999999939,null,"2019-06-01",-10.696530832623937,1.3020873287408528,-3.5350454858091958,3.6600770959526905,2.3267278559218818,-1.0437000000000012,null,"2019-06-01",-3.6530623326013525,0.16087565793753916,-3.6963097246562344,-1.0015230977583354,-1.1656114410075331,-1.4083333333331893E-2,null,"2019-06-01",3.5985831196038084E-2,0.12751709531345545,-3.327401540858979,-0.97285508695654477,-1.1483774732659,0.10282499999999573,null,null,"2019-06-01",{"$f":"IF(MONTH(Serie_Encadeada[[#This Row],[Período]])=1,Serie_Encadeada[[#This Row],[Fat.real]],Serie_Encadeada[[#This Row],[Fat.real]]+AR200)","v":541.20050000000003},{"$f":"IF(MONTH(Serie_Encadeada[[#This Row],[Período]])=1,Serie_Encadeada[[#This Row],[Emprego]],Serie_Encadeada[[#This Row],[Emprego]]+AS200)","v":622.4113000000001},{"$f":"IF(MONTH(Serie_Encadeada[[#This Row],[Período]])=1,Serie_Encadeada[[#This Row],[Horas]],Serie_Encadeada[[#This Row],[Horas]]+AT200)","v":574.53},{"$f":"IF(MONTH(Serie_Encadeada[[#This Row],[Período]])=1,Serie_Encadeada[[#This Row],[Massa Real]],Serie_Encadeada[[#This Row],[Massa Real]]+AU200)","v":722.51900000000001},{"$f":"IF(MONTH(Serie_Encadeada[[#This Row],[Período]])=1,Serie_Encadeada[[#This Row],[RMR Real]],Serie_Encadeada[[#This Row],[RMR Real]]+AV200)","v":696.73490000000004},{"$f":"IF(MONTH(Serie_Encadeada[[#This Row],[Período]])=1,Serie_Encadeada[[#This Row],[UCI]],Serie_Encadeada[[#This Row],[UCI]]+AW200)","v":475.9966},{"$f":"AW201/MONTH(AQ201)","v":79.332766666666672},"2018-05-01",{"$f":"SUM(C190:C201)","v":1155.0365999999999},{"$f":"SUM(D190:D201)","v":1243.0637000000002},{"$f":"SUM(E190:E201)","v":1163.4147},{"$f":"SUM(F190:F201)","v":1490.1580999999999},{"$f":"SUM(G190:G201)","v":1438.8599000000002},{"$f":"SUM(H190:H201)/12","v":79.707458333333335}]
["2019-07-01",{"$f":"MONTH(Serie_Encadeada[[#This Row],[Período]])&YEAR(Serie_Encadeada[[#This Row],[Período]])","v":"72019"},95.026399999999995,106.03449999999999,101.6618,119.5303,112.7278,81.094800000000006,null,"2019-07-01",-2.7045733552170237,0.36935262953135473,5.2041282006438729,1.5063287376917573,1.1335467948033655,2.8768000000000029,null,"2019-07-01",-9.54708051500055,1.802860497692413,-0.48552337658014871,1.087664342098801,-0.7022241796961054,1.7462000000000018,null,"2019-07-01",-4.5817137881392682,0.39658568324996679,-3.2268830449353594,-0.71023400590940711,-1.1013383517604418,0.23738571428572186,null,"2019-07-01",-1.6219057588132419,0.23755403722296764,-3.3923614318668029,-0.87920082053693949,-1.1570784735963804,0.23440833333333444,null,null,"2019-07-01",{"$f":"IF(MONTH(Serie_Encadeada[[#This Row],[Período]])=1,Serie_Encadeada[[#This Row],[Fat.real]],Serie_Encadeada[[#This Row],[Fat.real]]+AR201)","v":636.2269},{"$f":"IF(MONTH(Serie_Encadeada[[#This Row],[Período]])=1,Serie_Encadeada[[#This Row],[Emprego]],Serie_Encadeada[[#This Row],[Emprego]]+AS201)","v":728.44580000000008},{"$f":"IF(MONTH(Serie_Encadeada[[#This Row],[Período]])=1,Serie_Encadeada[[#This Row],[Horas]],Serie_Encadeada[[#This Row],[Horas]]+AT201)","v":676.19179999999994},{"$f":"IF(MONTH(Serie_Encadeada[[#This Row],[Período]])=1,Serie_Encadeada[[#This Row],[Massa Real]],Serie_Encadeada[[#This Row],[Massa Real]]+AU201)","v":842.04930000000002},{"$f":"IF(MONTH(Serie_Encadeada[[#This Row],[Período]])=1,Serie_Encadeada[[#This Row],[RMR Real]],Serie_Encadeada[[#This Row],[RMR Real]]+AV201)","v":809.46270000000004},{"$f":"IF(MONTH(Serie_Encadeada[[#This Row],[Período]])=1,Serie_Encadeada[[#This Row],[UCI]],Serie_Encadeada[[#This Row],[UCI]]+AW201)","v":557.09140000000002},{"$f":"AW202/MONTH(AQ202)","v":79.584485714285719},"2018-05-01",{"$f":"SUM(C191:C202)","v":1145.0067999999999},{"$f":"SUM(D191:D202)","v":1244.9414999999999},{"$f":"SUM(E191:E202)","v":1162.9187000000002},{"$f":"SUM(F191:F202)","v":1491.4441999999997},{"$f":"SUM(G191:G202)","v":1438.0627000000004},{"$f":"SUM(H191:H202)/12","v":79.852975000000001}]
["2019-08-01",{"$f":"MONTH(Serie_Encadeada[[#This Row],[Período]])&YEAR(Serie_Encadeada[[#This Row],[Período]])","v":"82019"},100.5947,107.1661,102.7764,117.2914,109.4482,81.294399999999996,null,"2019-08-01",5.859740030139001,1.0671998264715785,1.0963803513217314,-1.8730815533801899,-2.9093089725870653,0.19959999999998956,null,"2019-08-01",-8.9669557977801606,3.7321508773560055,0.29421838908844028,2.0155861325169098,-1.6550438897979205,0.7132000000000005,null,"2019-08-01",-5.2051499575056779,0.81232633918572639,-2.7765359126186349,-0.3848100393065253,-1.1676151121732616,0.29686250000000314,null,"2019-08-01",-3.2310288023533449,0.58320346945173296,-3.0830502680458305,-0.51068012468920565,-1.1028640641988892,0.3394916666666461,null,null,"2019-08-01",{"$f":"IF(MONTH(Serie_Encadeada[[#This Row],[Período]])=1,Serie_Encadeada[[#This Row],[Fat.real]],Serie_Encadeada[[#This Row],[Fat.real]]+AR202)","v":736.82159999999999},{"$f":"IF(MONTH(Serie_Encadeada[[#This Row],[Período]])=1,Serie_Encadeada[[#This Row],[Emprego]],Serie_Encadeada[[#This Row],[Emprego]]+AS202)","v":835.61190000000011},{"$f":"IF(MONTH(Serie_Encadeada[[#This Row],[Período]])=1,Serie_Encadeada[[#This Row],[Horas]],Serie_Encadeada[[#This Row],[Horas]]+AT202)","v":778.96819999999991},{"$f":"IF(MONTH(Serie_Encadeada[[#This Row],[Período]])=1,Serie_Encadeada[[#This Row],[Massa Real]],Serie_Encadeada[[#This Row],[Massa Real]]+AU202)","v":959.34069999999997},{"$f":"IF(MONTH(Serie_Encadeada[[#This Row],[Período]])=1,Serie_Encadeada[[#This Row],[RMR Real]],Serie_Encadeada[[#This Row],[RMR Real]]+AV202)","v":918.91090000000008},{"$f":"IF(MONTH(Serie_Encadeada[[#This Row],[Período]])=1,Serie_Encadeada[[#This Row],[UCI]],Serie_Encadeada[[#This Row],[UCI]]+AW202)","v":638.38580000000002},{"$f":"AW203/MONTH(AQ203)","v":79.798225000000002},"2018-05-01",{"$f":"SUM(C192:C203)","v":1135.0980000000002},{"$f":"SUM(D192:D203)","v":1248.7972},{"$f":"SUM(E192:E203)","v":1163.2202000000002},{"$f":"SUM(F192:F203)","v":1493.7615999999998},{"$f":"SUM(G192:G203)","v":1436.2208000000003},{"$f":"SUM(H192:H203)/12","v":79.912408333333318}]
["2019-09-01",{"$f":"MONTH(Serie_Encadeada[[#This Row],[Período]])&YEAR(Serie_Encadeada[[#This Row],[Período]])","v":"92019"},99.549000000000007,107.01730000000001,98.046199999999999,116.5673,108.9237,80.811599999999999,null,"2019-09-01",-1.0395179865340782,-0.1388498788329465,-4.6024184540419748,-0.61735131475964378,-0.47922213430646032,-0.48279999999999745,null,"2019-09-01",-3.2853204003474104,3.6908960545694205,2.0124438155485311,5.5503741479351234,1.7925230081416257,0.3089999999999975,null,"2019-09-01",-4.9806478175455347,1.1310643097900923,-2.2635915456385942,0.22578813921991595,-0.86209840036280616,0.2982111111111152,null,"2019-09-01",-3.714038667480128,0.9460235725390711,-2.4644429553291767,0.23906075341661168,-0.68266133710489174,0.3878166666666516,null,null,"2019-09-01",{"$f":"IF(MONTH(Serie_Encadeada[[#This Row],[Período]])=1,Serie_Encadeada[[#This Row],[Fat.real]],Serie_Encadeada[[#This Row],[Fat.real]]+AR203)","v":836.37059999999997},{"$f":"IF(MONTH(Serie_Encadeada[[#This Row],[Período]])=1,Serie_Encadeada[[#This Row],[Emprego]],Serie_Encadeada[[#This Row],[Emprego]]+AS203)","v":942.62920000000008},{"$f":"IF(MONTH(Serie_Encadeada[[#This Row],[Período]])=1,Serie_Encadeada[[#This Row],[Horas]],Serie_Encadeada[[#This Row],[Horas]]+AT203)","v":877.01439999999991},{"$f":"IF(MONTH(Serie_Encadeada[[#This Row],[Período]])=1,Serie_Encadeada[[#This Row],[Massa Real]],Serie_Encadeada[[#This Row],[Massa Real]]+AU203)","v":1075.9079999999999},{"$f":"IF(MONTH(Serie_Encadeada[[#This Row],[Período]])=1,Serie_Encadeada[[#This Row],[RMR Real]],Serie_Encadeada[[#This Row],[RMR Real]]+AV203)","v":1027.8346000000001},{"$f":"IF(MONTH(Serie_Encadeada[[#This Row],[Período]])=1,Serie_Encadeada[[#This Row],[UCI]],Serie_Encadeada[[#This Row],[UCI]]+AW203)","v":719.19740000000002},{"$f":"AW204/MONTH(AQ204)","v":79.910822222222222},"2018-05-01",{"$f":"SUM(C193:C204)","v":1131.7164},{"$f":"SUM(D193:D204)","v":1252.6064999999999},{"$f":"SUM(E193:E204)","v":1165.1544000000001},{"$f":"SUM(F193:F204)","v":1499.8912999999998},{"$f":"SUM(G193:G204)","v":1438.1389000000004},{"$f":"SUM(H193:H204)/12","v":79.93815833333332}]
["2019-10-01",{"$f":"MONTH(Serie_Encadeada[[#This Row],[Período]])&YEAR(Serie_Encadeada[[#This Row],[Período]])","v":"102019"},101.2045,107.3223,101.9632,119.0082,110.88849999999999,81.532799999999995,null,"2019-10-01",1.6630001305889452,0.28500064942770242,3.9950553922538576,2.0939834756402518,1.803831489382014,0.72119999999999607,null,"2019-10-01",-3.8577728294387366,4.3350822598191145,1.9550435965122841,3.2653911232591413,-1.025019435560971,0.67659999999999343,null,"2019-10-01",-4.8607059206503456,1.4495099182588622,-1.8405665823953568,0.52047177776062614,-0.87798716845568492,0.33605000000000018,null,"2019-10-01",-4.2323140414029643,1.3696444022607996,-2.0804236037681716,0.55587945020208906,-0.75595181610902384,0.42672499999997626,null,null,"2019-10-01",{"$f":"IF(MONTH(Serie_Encadeada[[#This Row],[Período]])=1,Serie_Encadeada[[#This Row],[Fat.real]],Serie_Encadeada[[#This Row],[Fat.real]]+AR204)","v":937.57510000000002},{"$f":"IF(MONTH(Serie_Encadeada[[#This Row],[Período]])=1,Serie_Encadeada[[#This Row],[Emprego]],Serie_Encadeada[[#This Row],[Emprego]]+AS204)","v":1049.9515000000001},{"$f":"IF(MONTH(Serie_Encadeada[[#This Row],[Período]])=1,Serie_Encadeada[[#This Row],[Horas]],Serie_Encadeada[[#This Row],[Horas]]+AT204)","v":978.97759999999994},{"$f":"IF(MONTH(Serie_Encadeada[[#This Row],[Período]])=1,Serie_Encadeada[[#This Row],[Massa Real]],Serie_Encadeada[[#This Row],[Massa Real]]+AU204)","v":1194.9161999999999},{"$f":"IF(MONTH(Serie_Encadeada[[#This Row],[Período]])=1,Serie_Encadeada[[#This Row],[RMR Real]],Serie_Encadeada[[#This Row],[RMR Real]]+AV204)","v":1138.7231000000002},{"$f":"IF(MONTH(Serie_Encadeada[[#This Row],[Período]])=1,Serie_Encadeada[[#This Row],[UCI]],Serie_Encadeada[[#This Row],[UCI]]+AW204)","v":800.73019999999997},{"$f":"AW205/MONTH(AQ205)","v":80.07302},"2018-05-01",{"$f":"SUM(C194:C205)","v":1127.6555000000001},{"$f":"SUM(D194:D205)","v":1257.0656999999999},{"$f":"SUM(E194:E205)","v":1167.1096},{"$f":"SUM(F194:F205)","v":1503.6544999999999},{"$f":"SUM(G194:G205)","v":1436.9905000000001},{"$f":"SUM(H194:H205)/12","v":79.994541666666649}]
["2019-11-01",{"$f":"MONTH(Serie_Encadeada[[#This Row],[Período]])&YEAR(Serie_Encadeada[[#This Row],[Período]])","v":"112019"},92.596699999999998,108.35169999999999,99.528800000000004,140.2011,129.39449999999999,81.952799999999996,null,"2019-11-01",-8.5053530228398913,0.9591669205747505,-2.3875280493354429,17.807932562630132,16.688836083092475,0.42000000000000171,null,"2019-11-01",-4.3739627664792966,4.3050801119757853,0.42752592954349561,5.8889504010078282,1.5186071745480259,1.712299999999999,null,"2019-11-01",-4.8171579207144637,1.7099839536984391,-1.6355579374070246,1.0585004644876161,-0.63864309419555609,0.46116363636363644,null,"2019-11-01",-4.6627920318054494,1.6677770674185903,-1.9552957451995263,1.3564630607424495,-0.28236301495646943,0.50906666666665501,null,null,43770,{"$f":"IF(MONTH(Serie_Encadeada[[#This Row],[Período]])=1,Serie_Encadeada[[#This Row],[Fat.real]],Serie_Encadeada[[#This Row],[Fat.real]]+AR205)","v":1030.1718000000001},{"$f":"IF(MONTH(Serie_Encadeada[[#This Row],[Período]])=1,Serie_Encadeada[[#This Row],[Emprego]],Serie_Encadeada[[#This Row],[Emprego]]+AS205)","v":1158.3032000000001},{"$f":"IF(MONTH(Serie_Encadeada[[#This Row],[Período]])=1,Serie_Encadeada[[#This Row],[Horas]],Serie_Encadeada[[#This Row],[Horas]]+AT205)","v":1078.5064},{"$f":"IF(MONTH(Serie_Encadeada[[#This Row],[Período]])=1,Serie_Encadeada[[#This Row],[Massa Real]],Serie_Encadeada[[#This Row],[Massa Real]]+AU205)","v":1335.1172999999999},{"$f":"IF(MONTH(Serie_Encadeada[[#This Row],[Período]])=1,Serie_Encadeada[[#This Row],[RMR Real]],Serie_Encadeada[[#This Row],[RMR Real]]+AV205)","v":1268.1176},{"$f":"IF(MONTH(Serie_Encadeada[[#This Row],[Período]])=1,Serie_Encadeada[[#This Row],[UCI]],Serie_Encadeada[[#This Row],[UCI]]+AW205)","v":882.68299999999999},{"$f":"AW206/MONTH(AQ206)","v":80.243909090909085},43221,{"$f":"SUM(C195:C206)","v":1123.4201},{"$f":"SUM(D195:D206)","v":1261.5378000000001},{"$f":"SUM(E195:E206)","v":1167.5333000000001},{"$f":"SUM(F195:F206)","v":1511.4516999999998},{"$f":"SUM(G195:G206)","v":1438.9261000000001},{"$f":"SUM(H195:H206)/12","v":80.137233333333327}]
["2019-12-01",{"$f":"MONTH(Serie_Encadeada[[#This Row],[Período]])&YEAR(Serie_Encadeada[[#This Row],[Período]])","v":"122019"},88.611099999999993,107.0064,91.187100000000001,180.02809999999999,168.2406,81.113299999999995,null,"2019-12-01",-4.3042570631566841,-1.2416048848333665,-8.3811921775405747,28.407052441100674,30.021446042915276,-0.83950000000000102,null,"2019-12-01",-4.9729592925554753,3.6536200072456317,2.4264576212358322,2.0947132266874795,-1.5033795156564274,2.1494999999999891,null,"2019-12-01",-4.8295165030760714,1.8715299694701881,-1.3305060911901145,1.1805197775577552,-0.74071391782980744,0.60185833333332539,null,"2019-12-01",-4.8295165030760714,1.8715299694701881,-1.3305060911901145,1.1805197775577552,-0.74071391782980744,0.60185833333332539,null,null,43800,{"$f":"IF(MONTH(Serie_Encadeada[[#This Row],[Período]])=1,Serie_Encadeada[[#This Row],[Fat.real]],Serie_Encadeada[[#This Row],[Fat.real]]+AR206)","v":1118.7829000000002},{"$f":"IF(MONTH(Serie_Encadeada[[#This Row],[Período]])=1,Serie_Encadeada[[#This Row],[Emprego]],Serie_Encadeada[[#This Row],[Emprego]]+AS206)","v":1265.3096},{"$f":"IF(MONTH(Serie_Encadeada[[#This Row],[Período]])=1,Serie_Encadeada[[#This Row],[Horas]],Serie_Encadeada[[#This Row],[Horas]]+AT206)","v":1169.6935000000001},{"$f":"IF(MONTH(Serie_Encadeada[[#This Row],[Período]])=1,Serie_Encadeada[[#This Row],[Massa Real]],Serie_Encadeada[[#This Row],[Massa Real]]+AU206)","v":1515.1453999999999},{"$f":"IF(MONTH(Serie_Encadeada[[#This Row],[Período]])=1,Serie_Encadeada[[#This Row],[RMR Real]],Serie_Encadeada[[#This Row],[RMR Real]]+AV206)","v":1436.3582000000001},{"$f":"IF(MONTH(Serie_Encadeada[[#This Row],[Período]])=1,Serie_Encadeada[[#This Row],[UCI]],Serie_Encadeada[[#This Row],[UCI]]+AW206)","v":963.79629999999997},{"$f":"AW207/MONTH(AQ207)","v":80.316358333333326},43221,{"$f":"SUM(C196:C207)","v":1118.7829000000002},{"$f":"SUM(D196:D207)","v":1265.3096},{"$f":"SUM(E196:E207)","v":1169.6935000000001},{"$f":"SUM(F196:F207)","v":1515.1453999999999},{"$f":"SUM(G196:G207)","v":1436.3582000000001},{"$f":"SUM(H196:H207)/12","v":80.316358333333326}]
["2020-01-01",{"$f":"MONTH(Serie_Encadeada[[#This Row],[Período]])&YEAR(Serie_Encadeada[[#This Row],[Período]])","v":"12020"},82.886499999999998,106.9509,95.118799999999993,128.50399999999999,120.1523,80.7166,null,"2020-01-01",-6.4603644464406784,-5.1866056609693435E-2,4.3116844378206922,-28.620032094989618,-28.583053079934334,-0.39669999999999561,null,"2020-01-01",-0.39260598078189812,4.4606622720955222,0.61233405154859499,3.1304949387375665,-1.2728694986253319,0.29959999999999809,null,"2020-01-01",-0.39260598078189812,4.4606622720955222,0.61233405154859499,3.1304949387375665,-1.2728694986253319,0.29959999999999809,null,"2020-01-01",-4.4532427028805683,2.2321047248300498,-0.98385600278059593,1.4905902905114989,-0.79156050469863659,0.5511416666666662,null,null,"2020-01-01",{"$f":"IF(MONTH(Serie_Encadeada[[#This Row],[Período]])=1,Serie_Encadeada[[#This Row],[Fat.real]],Serie_Encadeada[[#This Row],[Fat.real]]+AR207)","v":82.886499999999998},{"$f":"IF(MONTH(Serie_Encadeada[[#This Row],[Período]])=1,Serie_Encadeada[[#This Row],[Emprego]],Serie_Encadeada[[#This Row],[Emprego]]+AS207)","v":106.9509},{"$f":"IF(MONTH(Serie_Encadeada[[#This Row],[Período]])=1,Serie_Encadeada[[#This Row],[Horas]],Serie_Encadeada[[#This Row],[Horas]]+AT207)","v":95.118799999999993},{"$f":"IF(MONTH(Serie_Encadeada[[#This Row],[Período]])=1,Serie_Encadeada[[#This Row],[Massa Real]],Serie_Encadeada[[#This Row],[Massa Real]]+AU207)","v":128.50399999999999},{"$f":"IF(MONTH(Serie_Encadeada[[#This Row],[Período]])=1,Serie_Encadeada[[#This Row],[RMR Real]],Serie_Encadeada[[#This Row],[RMR Real]]+AV207)","v":120.1523},{"$f":"IF(MONTH(Serie_Encadeada[[#This Row],[Período]])=1,Serie_Encadeada[[#This Row],[UCI]],Serie_Encadeada[[#This Row],[UCI]]+AW207)","v":80.7166},{"$f":"AW208/MONTH(AQ208)","v":80.7166},"2018-05-01",{"$f":"SUM(C197:C208)","v":1118.4562000000001},{"$f":"SUM(D197:D208)","v":1269.8766000000001},{"$f":"SUM(E197:E208)","v":1170.2724000000001},{"$f":"SUM(F197:F208)","v":1519.0460999999998},{"$f":"SUM(G197:G208)","v":1434.8091000000002},{"$f":"SUM(H197:H208)/12","v":80.341324999999998}]
["2020-02-01",{"$f":"MONTH(Serie_Encadeada[[#This Row],[Período]])&YEAR(Serie_Encadeada[[#This Row],[Período]])","v":"22020"},84.688699999999997,107.45650000000001,94.892499999999998,125.2557,116.5641,80.568899999999999,null,"2020-02-01",2.1742985890344015,0.47274029484557972,-0.23791300983611532,-2.5277812363817365,-2.9863764572130544,-0.14770000000000039,null,"2020-02-01",1.1570711896798833,5.0901843196739085,2.2951940097064076,2.1725671188157905,-2.7765590985295256,2.6514999999999986,null,"2020-02-01",0.38458497171323375,4.7752199519536109,1.4457833898281549,2.6554275237908751,-2.0190865351183693,1.4755499999999984,null,"2020-02-01",-4.3601211593783615,2.6668156783717545,-0.56020056890281822,2.0155880347061159,-0.69574294832901851,0.80779166666664537,null,null,"2020-02-01",{"$f":"IF(MONTH(Serie_Encadeada[[#This Row],[Período]])=1,Serie_Encadeada[[#This Row],[Fat.real]],Serie_Encadeada[[#This Row],[Fat.real]]+AR208)","v":167.5752},{"$f":"IF(MONTH(Serie_Encadeada[[#This Row],[Período]])=1,Serie_Encadeada[[#This Row],[Emprego]],Serie_Encadeada[[#This Row],[Emprego]]+AS208)","v":214.4074},{"$f":"IF(MONTH(Serie_Encadeada[[#This Row],[Período]])=1,Serie_Encadeada[[#This Row],[Horas]],Serie_Encadeada[[#This Row],[Horas]]+AT208)","v":190.01130000000001},{"$f":"IF(MONTH(Serie_Encadeada[[#This Row],[Período]])=1,Serie_Encadeada[[#This Row],[Massa Real]],Serie_Encadeada[[#This Row],[Massa Real]]+AU208)","v":253.75970000000001},{"$f":"IF(MONTH(Serie_Encadeada[[#This Row],[Período]])=1,Serie_Encadeada[[#This Row],[RMR Real]],Serie_Encadeada[[#This Row],[RMR Real]]+AV208)","v":236.71639999999999},{"$f":"IF(MONTH(Serie_Encadeada[[#This Row],[Período]])=1,Serie_Encadeada[[#This Row],[UCI]],Serie_Encadeada[[#This Row],[UCI]]+AW208)","v":161.28550000000001},{"$f":"AW209/MONTH(AQ209)","v":80.642750000000007},"2018-05-01",{"$f":"SUM(C198:C209)","v":1119.4248999999998},{"$f":"SUM(D198:D209)","v":1275.0814},{"$f":"SUM(E198:E209)","v":1172.4014999999999},{"$f":"SUM(F198:F209)","v":1521.7094999999997},{"$f":"SUM(G198:G209)","v":1431.4802000000002},{"$f":"SUM(H198:H209)/12","v":80.562283333333326}]
["2020-03-01",{"$f":"MONTH(Serie_Encadeada[[#This Row],[Período]])&YEAR(Serie_Encadeada[[#This Row],[Período]])","v":"32020"},90.576899999999995,107.65860000000001,96.092299999999994,126.1182,117.1464,78.042299999999997,null,"2020-03-01",6.9527575697820341,0.18807610521466964,1.2643781120741853,0.68859141739657126,0.49955346457443039,-2.526600000000002,null,"2020-03-01",-2.1833999829371247,4.7020242395243139,3.8649280237276313,4.8818316161862292,0.17118982916930628,-0.85999999999999943,null,"2020-03-01",-0.53164948123910349,4.7507410734555569,2.2456229882149232,3.3840304699906194,-1.3046779081643884,0.69703333333333717,null,"2020-03-01",-3.9114154108498154,3.0583355617131631,0.46155976600545945,2.5860336226880536,-0.51138280161056904,0.80984166666667079,null,null,"2020-03-01",{"$f":"IF(MONTH(Serie_Encadeada[[#This Row],[Período]])=1,Serie_Encadeada[[#This Row],[Fat.real]],Serie_Encadeada[[#This Row],[Fat.real]]+AR209)","v":258.15210000000002},{"$f":"IF(MONTH(Serie_Encadeada[[#This Row],[Período]])=1,Serie_Encadeada[[#This Row],[Emprego]],Serie_Encadeada[[#This Row],[Emprego]]+AS209)","v":322.06600000000003},{"$f":"IF(MONTH(Serie_Encadeada[[#This Row],[Período]])=1,Serie_Encadeada[[#This Row],[Horas]],Serie_Encadeada[[#This Row],[Horas]]+AT209)","v":286.10360000000003},{"$f":"IF(MONTH(Serie_Encadeada[[#This Row],[Período]])=1,Serie_Encadeada[[#This Row],[Massa Real]],Serie_Encadeada[[#This Row],[Massa Real]]+AU209)","v":379.87790000000001},{"$f":"IF(MONTH(Serie_Encadeada[[#This Row],[Período]])=1,Serie_Encadeada[[#This Row],[RMR Real]],Serie_Encadeada[[#This Row],[RMR Real]]+AV209)","v":353.86279999999999},{"$f":"IF(MONTH(Serie_Encadeada[[#This Row],[Período]])=1,Serie_Encadeada[[#This Row],[UCI]],Serie_Encadeada[[#This Row],[UCI]]+AW209)","v":239.32780000000002},{"$f":"AW210/MONTH(AQ210)","v":79.775933333333342},"2018-05-01",{"$f":"SUM(C199:C210)","v":1117.4030999999998},{"$f":"SUM(D199:D210)","v":1279.9162000000001},{"$f":"SUM(E199:E210)","v":1175.9772},{"$f":"SUM(F199:F210)","v":1527.5798},{"$f":"SUM(G199:G210)","v":1431.6804000000002},{"$f":"SUM(H199:H210)/12","v":80.490616666666668}]
["2020-04-01",{"$f":"MONTH(Serie_Encadeada[[#This Row],[Período]])&YEAR(Serie_Encadeada[[#This Row],[Período]])","v":"42020"},70.937200000000004,103.53919999999999,77.015500000000003,120.2839,116.1724,70.385999999999996,null,"2020-04-01",-21.682901490335826,-3.8263547919070215,-19.85257923891924,-4.6260571432196134,-0.83143826869626702,-7.6563000000000017,null,"2020-04-01",-20.343611741190735,-0.37592646581975886,-19.054771023656475,4.5240737345289403,4.9183348159654594,-9.0481000000000051,null,"2020-04-01",-5.5930546817871862,3.4555833124488107,-3.1592273520922358,3.6559222682858299,0.16368076943811896,-1.7392499999999984,null,"2020-04-01",-4.9532814439050181,3.0527240895015981,-0.61399968377696701,3.1912078241300539,9.0128916178371765E-2,0.13812499999998806,null,null,"2020-04-01",{"$f":"IF(MONTH(Serie_Encadeada[[#This Row],[Período]])=1,Serie_Encadeada[[#This Row],[Fat.real]],Serie_Encadeada[[#This Row],[Fat.real]]+AR210)","v":329.08930000000004},{"$f":"IF(MONTH(Serie_Encadeada[[#This Row],[Período]])=1,Serie_Encadeada[[#This Row],[Emprego]],Serie_Encadeada[[#This Row],[Emprego]]+AS210)","v":425.60520000000002},{"$f":"IF(MONTH(Serie_Encadeada[[#This Row],[Período]])=1,Serie_Encadeada[[#This Row],[Horas]],Serie_Encadeada[[#This Row],[Horas]]+AT210)","v":363.1191},{"$f":"IF(MONTH(Serie_Encadeada[[#This Row],[Período]])=1,Serie_Encadeada[[#This Row],[Massa Real]],Serie_Encadeada[[#This Row],[Massa Real]]+AU210)","v":500.16180000000003},{"$f":"IF(MONTH(Serie_Encadeada[[#This Row],[Período]])=1,Serie_Encadeada[[#This Row],[RMR Real]],Serie_Encadeada[[#This Row],[RMR Real]]+AV210)","v":470.03519999999997},{"$f":"IF(MONTH(Serie_Encadeada[[#This Row],[Período]])=1,Serie_Encadeada[[#This Row],[UCI]],Serie_Encadeada[[#This Row],[UCI]]+AW210)","v":309.71379999999999},{"$f":"AW211/MONTH(AQ211)","v":77.428449999999998},"2018-05-01",{"$f":"SUM(C200:C211)","v":1099.2863},{"$f":"SUM(D200:D211)","v":1279.5255},{"$f":"SUM(E200:E211)","v":1157.8475000000001},{"$f":"SUM(F200:F211)","v":1532.7859999999996},{"$f":"SUM(G200:G211)","v":1437.1263000000001},{"$f":"SUM(H200:H211)/12","v":79.736608333333322}]
["2020-05-01",{"$f":"MONTH(Serie_Encadeada[[#This Row],[Período]])&YEAR(Serie_Encadeada[[#This Row],[Período]])","v":"52020"},83.241200000000006,102.6799,82.026499999999999,104.9593,102.2199,73.751499999999993,null,"2020-05-01",17.344919167940095,-0.8299272159722989,6.5064824613227152,-12.740358435335073,-12.010167647393013,3.3654999999999973,null,"2020-05-01",-12.328495882426667,-2.5601242008508449,-20.310010492363894,-14.137611429197822,-11.882055282814749,-7.3563000000000045,null,"2020-05-01",-7.034905664205974,2.2288768439161175,-6.8532535560479486,5.9296004629920671E-2,-2.2238431248725097,-2.8626600000000053,null,"2020-05-01",-6.7842483511680172,2.8285202501268709,-2.5719823688281558,1.9854437445268336,-0.90388292235173506,-0.67085000000002992,null,null,"2020-05-01",{"$f":"IF(MONTH(Serie_Encadeada[[#This Row],[Período]])=1,Serie_Encadeada[[#This Row],[Fat.real]],Serie_Encadeada[[#This Row],[Fat.real]]+AR211)","v":412.33050000000003},{"$f":"IF(MONTH(Serie_Encadeada[[#This Row],[Período]])=1,Serie_Encadeada[[#This Row],[Emprego]],Serie_Encadeada[[#This Row],[Emprego]]+AS211)","v":528.28510000000006},{"$f":"IF(MONTH(Serie_Encadeada[[#This Row],[Período]])=1,Serie_Encadeada[[#This Row],[Horas]],Serie_Encadeada[[#This Row],[Horas]]+AT211)","v":445.1456},{"$f":"IF(MONTH(Serie_Encadeada[[#This Row],[Período]])=1,Serie_Encadeada[[#This Row],[Massa Real]],Serie_Encadeada[[#This Row],[Massa Real]]+AU211)","v":605.12110000000007},{"$f":"IF(MONTH(Serie_Encadeada[[#This Row],[Período]])=1,Serie_Encadeada[[#This Row],[RMR Real]],Serie_Encadeada[[#This Row],[RMR Real]]+AV211)","v":572.25509999999997},{"$f":"IF(MONTH(Serie_Encadeada[[#This Row],[Período]])=1,Serie_Encadeada[[#This Row],[UCI]],Serie_Encadeada[[#This Row],[UCI]]+AW211)","v":383.46529999999996},{"$f":"AW212/MONTH(AQ212)","v":76.693059999999988},"2018-05-01",{"$f":"SUM(C201:C212)","v":1087.5808},{"$f":"SUM(D201:D212)","v":1276.8277},{"$f":"SUM(E201:E212)","v":1136.942},{"$f":"SUM(F201:F212)","v":1515.5039999999999},{"$f":"SUM(G201:G212)","v":1423.3426999999999},{"$f":"SUM(H201:H212)/12","v":79.123583333333315}]
["2020-06-01",{"$f":"MONTH(Serie_Encadeada[[#This Row],[Período]])&YEAR(Serie_Encadeada[[#This Row],[Período]])","v":"62020"},91.901200000000003,102.3939,89.197900000000004,109.411,106.85299999999999,73.879900000000006,null,"2020-06-01",10.40350211193495,-0.27853552642727675,8.7427843440839315,4.2413583169857292,4.532483400981608,0.12840000000001339,null,"2020-06-01",-5.9043964291235911,-3.0767395874647274,-7.6940669275164071,-7.0870822417446178,-4.1370196556206791,-4.3380999999999972,null,"2020-06-01",-6.8308879980709527,1.3283338525505546,-6.9946739073677655,-1.1054242172178002,-2.5299148930246087,-3.1085666666666754,null,"2020-06-01",-6.3394095044260812,2.4547092799829962,-2.914498157879557,1.1408453908347127,-1.3989200755403657,-0.94538333333333924,null,null,"2020-06-01",{"$f":"IF(MONTH(Serie_Encadeada[[#This Row],[Período]])=1,Serie_Encadeada[[#This Row],[Fat.real]],Serie_Encadeada[[#This Row],[Fat.real]]+AR212)","v":504.23170000000005},{"$f":"IF(MONTH(Serie_Encadeada[[#This Row],[Período]])=1,Serie_Encadeada[[#This Row],[Emprego]],Serie_Encadeada[[#This Row],[Emprego]]+AS212)","v":630.67900000000009},{"$f":"IF(MONTH(Serie_Encadeada[[#This Row],[Período]])=1,Serie_Encadeada[[#This Row],[Horas]],Serie_Encadeada[[#This Row],[Horas]]+AT212)","v":534.34349999999995},{"$f":"IF(MONTH(Serie_Encadeada[[#This Row],[Período]])=1,Serie_Encadeada[[#This Row],[Massa Real]],Serie_Encadeada[[#This Row],[Massa Real]]+AU212)","v":714.53210000000013},{"$f":"IF(MONTH(Serie_Encadeada[[#This Row],[Período]])=1,Serie_Encadeada[[#This Row],[RMR Real]],Serie_Encadeada[[#This Row],[RMR Real]]+AV212)","v":679.10809999999992},{"$f":"IF(MONTH(Serie_Encadeada[[#This Row],[Período]])=1,Serie_Encadeada[[#This Row],[UCI]],Serie_Encadeada[[#This Row],[UCI]]+AW212)","v":457.34519999999998},{"$f":"AW213/MONTH(AQ213)","v":76.224199999999996},"2018-05-01",{"$f":"SUM(C202:C213)","v":1081.8141000000001},{"$f":"SUM(D202:D213)","v":1273.5773000000002},{"$f":"SUM(E202:E213)","v":1129.5070000000001},{"$f":"SUM(F202:F213)","v":1507.1585},{"$f":"SUM(G202:G213)","v":1418.7314000000001},{"$f":"SUM(H202:H213)/12","v":78.762074999999996}]
["2020-07-01",{"$f":"MONTH(Serie_Encadeada[[#This Row],[Período]])&YEAR(Serie_Encadeada[[#This Row],[Período]])","v":"72020"},98.459299999999999,101.28319999999999,99.226500000000001,112.5204,111.0949,77.304599999999994,null,"2020-07-01",7.1360330441822262,-1.0847325866091715,11.243089803683715,2.8419445942364057,3.9698464245271552,3.4246999999999872,null,"2020-07-01",3.6125750317806462,-4.4809000844064908,-2.3954917186199713,-5.8645381129303633,-1.4485335471818011,-3.7902000000000129,null,"2020-07-01",-5.2710597429942005,0.48272637442620653,-6.3032116035716506,-1.7809883578075409,-2.3793190223589136,-3.2059428571428725,null,"2020-07-01",-5.2191655106327595,1.9185238824475161,-3.082502671940865,0.58362223675550895,-1.457808480812439,-1.4067500000000166,null,null,"2020-07-01",{"$f":"IF(MONTH(Serie_Encadeada[[#This Row],[Período]])=1,Serie_Encadeada[[#This Row],[Fat.real]],Serie_Encadeada[[#This Row],[Fat.real]]+AR213)","v":602.69100000000003},{"$f":"IF(MONTH(Serie_Encadeada[[#This Row],[Período]])=1,Serie_Encadeada[[#This Row],[Emprego]],Serie_Encadeada[[#This Row],[Emprego]]+AS213)","v":731.96220000000005},{"$f":"IF(MONTH(Serie_Encadeada[[#This Row],[Período]])=1,Serie_Encadeada[[#This Row],[Horas]],Serie_Encadeada[[#This Row],[Horas]]+AT213)","v":633.56999999999994},{"$f":"IF(MONTH(Serie_Encadeada[[#This Row],[Período]])=1,Serie_Encadeada[[#This Row],[Massa Real]],Serie_Encadeada[[#This Row],[Massa Real]]+AU213)","v":827.05250000000012},{"$f":"IF(MONTH(Serie_Encadeada[[#This Row],[Período]])=1,Serie_Encadeada[[#This Row],[RMR Real]],Serie_Encadeada[[#This Row],[RMR Real]]+AV213)","v":790.20299999999997},{"$f":"IF(MONTH(Serie_Encadeada[[#This Row],[Período]])=1,Serie_Encadeada[[#This Row],[UCI]],Serie_Encadeada[[#This Row],[UCI]]+AW213)","v":534.64979999999991},{"$f":"AW214/MONTH(AQ214)","v":76.378542857142847},"2018-05-01",{"$f":"SUM(C203:C214)","v":1085.2470000000001},{"$f":"SUM(D203:D214)","v":1268.8260000000002},{"$f":"SUM(E203:E214)","v":1127.0717000000002},{"$f":"SUM(F203:F214)","v":1500.1486},{"$f":"SUM(G203:G214)","v":1417.0985000000001},{"$f":"SUM(H203:H214)/12","v":78.446224999999984}]
["2020-08-01",{"$f":"MONTH(Serie_Encadeada[[#This Row],[Período]])&YEAR(Serie_Encadeada[[#This Row],[Período]])","v":"82020"},107.23520000000001,102.46980000000001,98.622,115.0038,112.232,81.433300000000003,null,"2020-08-01",8.9132260741240366,1.1715664591956148,-0.60921225680639912,2.2070664519500491,1.0235393343888908,4.1287000000000091,null,"2020-08-01",6.6012424113795287,-4.3822626744838091,-4.0421731058881178,-1.9503561215911804,2.5434863250377799,0.13890000000000668,null,"2020-08-01",-3.6501915796171009,-0.14120191442942454,-6.0048921124122936,-1.8016956853805839,-1.7929812346333183,-2.7878375000000091,null,"2020-08-01",-3.8067638212735933,1.2277814203939585,-3.464769611119193,0.27443468890886336,-1.1376036330904198,-1.4546083333333257,null,null,"2020-08-01",{"$f":"IF(MONTH(Serie_Encadeada[[#This Row],[Período]])=1,Serie_Encadeada[[#This Row],[Fat.real]],Serie_Encadeada[[#This Row],[Fat.real]]+AR214)","v":709.92619999999999},{"$f":"IF(MONTH(Serie_Encadeada[[#This Row],[Período]])=1,Serie_Encadeada[[#This Row],[Emprego]],Serie_Encadeada[[#This Row],[Emprego]]+AS214)","v":834.43200000000002},{"$f":"IF(MONTH(Serie_Encadeada[[#This Row],[Período]])=1,Serie_Encadeada[[#This Row],[Horas]],Serie_Encadeada[[#This Row],[Horas]]+AT214)","v":732.19199999999989},{"$f":"IF(MONTH(Serie_Encadeada[[#This Row],[Período]])=1,Serie_Encadeada[[#This Row],[Massa Real]],Serie_Encadeada[[#This Row],[Massa Real]]+AU214)","v":942.05630000000008},{"$f":"IF(MONTH(Serie_Encadeada[[#This Row],[Período]])=1,Serie_Encadeada[[#This Row],[RMR Real]],Serie_Encadeada[[#This Row],[RMR Real]]+AV214)","v":902.43499999999995},{"$f":"IF(MONTH(Serie_Encadeada[[#This Row],[Período]])=1,Serie_Encadeada[[#This Row],[UCI]],Serie_Encadeada[[#This Row],[UCI]]+AW214)","v":616.08309999999994},{"$f":"AW215/MONTH(AQ215)","v":77.010387499999993},"2018-05-01",{"$f":"SUM(C204:C215)","v":1091.8875},{"$f":"SUM(D204:D215)","v":1264.1297},{"$f":"SUM(E204:E215)","v":1122.9173000000003},{"$f":"SUM(F204:F215)","v":1497.8609999999999},{"$f":"SUM(G204:G215)","v":1419.8823},{"$f":"SUM(H204:H215)/12","v":78.457799999999992}]
["2020-09-01",{"$f":"MONTH(Serie_Encadeada[[#This Row],[Período]])&YEAR(Serie_Encadeada[[#This Row],[Período]])","v":"92020"},106.4486,103.6861,99.863699999999994,115.4675,111.3625,83.242800000000003,null,"2020-09-01",-0.73352779684283431,1.1869838723213959,1.2590497049339848,0.40320406803949338,-0.77473447858008604,1.8094999999999999,null,"2020-09-01",6.9308581703482623,-3.1127677487658625,1.8537179411338691,-0.94348929759889943,2.2389984916046743,2.431200000000004,null,"2020-09-01",-2.3907822680519759,-0.47856569688272499,-5.126335439874194,-1.7087148715317424,-1.3656963873370516,-2.2079444444444505,null,"2020-09-01",-2.9096777249141228,0.65399628694246825,-3.4690338035886401,-0.20868845629010782,-1.0998798516610779,-1.277758333333324,null,null,"2020-09-01",{"$f":"IF(MONTH(Serie_Encadeada[[#This Row],[Período]])=1,Serie_Encadeada[[#This Row],[Fat.real]],Serie_Encadeada[[#This Row],[Fat.real]]+AR215)","v":816.37480000000005},{"$f":"IF(MONTH(Serie_Encadeada[[#This Row],[Período]])=1,Serie_Encadeada[[#This Row],[Emprego]],Serie_Encadeada[[#This Row],[Emprego]]+AS215)","v":938.11810000000003},{"$f":"IF(MONTH(Serie_Encadeada[[#This Row],[Período]])=1,Serie_Encadeada[[#This Row],[Horas]],Serie_Encadeada[[#This Row],[Horas]]+AT215)","v":832.05569999999989},{"$f":"IF(MONTH(Serie_Encadeada[[#This Row],[Período]])=1,Serie_Encadeada[[#This Row],[Massa Real]],Serie_Encadeada[[#This Row],[Massa Real]]+AU215)","v":1057.5238000000002},{"$f":"IF(MONTH(Serie_Encadeada[[#This Row],[Período]])=1,Serie_Encadeada[[#This Row],[RMR Real]],Serie_Encadeada[[#This Row],[RMR Real]]+AV215)","v":1013.7974999999999},{"$f":"IF(MONTH(Serie_Encadeada[[#This Row],[Período]])=1,Serie_Encadeada[[#This Row],[UCI]],Serie_Encadeada[[#This Row],[UCI]]+AW215)","v":699.32589999999993},{"$f":"AW216/MONTH(AQ216)","v":77.702877777777772},"2018-05-01",{"$f":"SUM(C205:C216)","v":1098.7871},{"$f":"SUM(D205:D216)","v":1260.7984999999999},{"$f":"SUM(E205:E216)","v":1124.7347999999997},{"$f":"SUM(F205:F216)","v":1496.7612000000001},{"$f":"SUM(G205:G216)","v":1422.3211000000001},{"$f":"SUM(H205:H216)/12","v":78.660399999999996}]
["2020-10-01",{"$f":"MONTH(Serie_Encadeada[[#This Row],[Período]])&YEAR(Serie_Encadeada[[#This Row],[Período]])","v":"102020"},103.4747,103.89109999999999,100.12949999999999,113.0937,108.8579,84.302599999999998,null,"2020-10-01",-2.7937427077481529,0.19771213306315727,0.26616277986896009,-2.0558165717626196,-2.2490515209338837,1.0597999999999956,null,"2020-10-01",2.2431808862254177,-3.1970988322091531,-1.7983939303591956,-4.9698256086555412,-1.8312088268846569,2.7698000000000036,null,"2020-10-01",-1.8905792186673884,-0.75644446433955836,-4.7797212111901279,-2.0335066174514855,-1.4110278433800354,-1.7101700000000051,null,"2020-10-01",-2.3587168244202359,2.3992381623331831E-2,-3.7878619111692839,-0.85177811791206315,-1.1621510371850245,-1.1033249999999839,null,null,"2020-10-01",{"$f":"IF(MONTH(Serie_Encadeada[[#This Row],[Período]])=1,Serie_Encadeada[[#This Row],[Fat.real]],Serie_Encadeada[[#This Row],[Fat.real]]+AR216)","v":919.84950000000003},{"$f":"IF(MONTH(Serie_Encadeada[[#This Row],[Período]])=1,Serie_Encadeada[[#This Row],[Emprego]],Serie_Encadeada[[#This Row],[Emprego]]+AS216)","v":1042.0092},{"$f":"IF(MONTH(Serie_Encadeada[[#This Row],[Período]])=1,Serie_Encadeada[[#This Row],[Horas]],Serie_Encadeada[[#This Row],[Horas]]+AT216)","v":932.1851999999999},{"$f":"IF(MONTH(Serie_Encadeada[[#This Row],[Período]])=1,Serie_Encadeada[[#This Row],[Massa Real]],Serie_Encadeada[[#This Row],[Massa Real]]+AU216)","v":1170.6175000000001},{"$f":"IF(MONTH(Serie_Encadeada[[#This Row],[Período]])=1,Serie_Encadeada[[#This Row],[RMR Real]],Serie_Encadeada[[#This Row],[RMR Real]]+AV216)","v":1122.6553999999999},{"$f":"IF(MONTH(Serie_Encadeada[[#This Row],[Período]])=1,Serie_Encadeada[[#This Row],[UCI]],Serie_Encadeada[[#This Row],[UCI]]+AW216)","v":783.62849999999992},{"$f":"AW217/MONTH(AQ217)","v":78.362849999999995},"2018-05-01",{"$f":"SUM(C206:C217)","v":1101.0572999999999},{"$f":"SUM(D206:D217)","v":1257.3672999999999},{"$f":"SUM(E206:E217)","v":1122.9010999999998},{"$f":"SUM(F206:F217)","v":1490.8466999999998},{"$f":"SUM(G206:G217)","v":1420.2904999999998},{"$f":"SUM(H206:H217)/12","v":78.891216666666665}]
["2020-11-01",{"$f":"MONTH(Serie_Encadeada[[#This Row],[Período]])&YEAR(Serie_Encadeada[[#This Row],[Período]])","v":"112020"},100.2435,103.67319999999999,97.400099999999995,133.45580000000001,128.72739999999999,82.691000000000003,null,"2020-11-01",-3.1226956927635463,-0.20973885154743785,-2.7258699983521324,18.004628020835831,18.252694567872418,-1.6115999999999957,null,"2020-11-01",8.2581776672386802,-4.3178833373172729,-2.13877792156643,-4.8111605401098751,-0.51555514337935926,0.73820000000000618,null,"2020-11-01",-0.97836108501514019,-1.0895938127426519,-4.5360046078539753,-2.3251889553075129,-1.3196567889287378,-1.4875909090909119,null,"2020-11-01",-1.3099284942471763,-0.70144548978240362,-4.0051020386313789,-1.8095384721853873,-1.3414656944509111,-1.1844999999999999,null,null,"2020-11-01",{"$f":"IF(MONTH(Serie_Encadeada[[#This Row],[Período]])=1,Serie_Encadeada[[#This Row],[Fat.real]],Serie_Encadeada[[#This Row],[Fat.real]]+AR217)","v":1020.0930000000001},{"$f":"IF(MONTH(Serie_Encadeada[[#This Row],[Período]])=1,Serie_Encadeada[[#This Row],[Emprego]],Serie_Encadeada[[#This Row],[Emprego]]+AS217)","v":1145.6823999999999},{"$f":"IF(MONTH(Serie_Encadeada[[#This Row],[Período]])=1,Serie_Encadeada[[#This Row],[Horas]],Serie_Encadeada[[#This Row],[Horas]]+AT217)","v":1029.5853},{"$f":"IF(MONTH(Serie_Encadeada[[#This Row],[Período]])=1,Serie_Encadeada[[#This Row],[Massa Real]],Serie_Encadeada[[#This Row],[Massa Real]]+AU217)","v":1304.0733},{"$f":"IF(MONTH(Serie_Encadeada[[#This Row],[Período]])=1,Serie_Encadeada[[#This Row],[RMR Real]],Serie_Encadeada[[#This Row],[RMR Real]]+AV217)","v":1251.3827999999999},{"$f":"IF(MONTH(Serie_Encadeada[[#This Row],[Período]])=1,Serie_Encadeada[[#This Row],[UCI]],Serie_Encadeada[[#This Row],[UCI]]+AW217)","v":866.31949999999995},{"$f":"AW218/MONTH(AQ218)","v":78.756318181818173},"2018-05-01",{"$f":"SUM(C207:C218)","v":1108.7040999999999},{"$f":"SUM(D207:D218)","v":1252.6887999999999},{"$f":"SUM(E207:E218)","v":1120.7723999999998},{"$f":"SUM(F207:F218)","v":1484.1013999999998},{"$f":"SUM(G207:G218)","v":1419.6233999999997},{"$f":"SUM(H207:H218)/12","v":78.952733333333327}]
["2020-12-01",{"$f":"MONTH(Serie_Encadeada[[#This Row],[Período]])&YEAR(Serie_Encadeada[[#This Row],[Período]])","v":"122020"},101.8139,103.7782,96.665199999999999,168.7722,162.62790000000001,82.620800000000003,null,"2020-12-01",1.5665853646371151,0.10127979072701912,-0.75451667914098253,26.462993740249569,26.335108143254679,-7.0199999999999818E-2,null,"2020-12-01",14.899713467048723,-3.0168288999536488,6.0075383469810948,-6.2523017240086389,-3.3361150637836463,1.5075000000000074,null,"2020-12-01",0.27923201185860308,-1.2525788154930746,-3.7140498771686947,-2.7918046677236377,-1.5558444961709625,-1.2379999999999995,null,"2020-12-01",0.27923201185860308,-1.2525788154930746,-3.7140498771686947,-2.7918046677236377,-1.5558444961709625,-1.2379999999999995,null,null,"2020-12-01",{"$f":"IF(MONTH(Serie_Encadeada[[#This Row],[Período]])=1,Serie_Encadeada[[#This Row],[Fat.real]],Serie_Encadeada[[#This Row],[Fat.real]]+AR218)","v":1121.9069000000002},{"$f":"IF(MONTH(Serie_Encadeada[[#This Row],[Período]])=1,Serie_Encadeada[[#This Row],[Emprego]],Serie_Encadeada[[#This Row],[Emprego]]+AS218)","v":1249.4605999999999},{"$f":"IF(MONTH(Serie_Encadeada[[#This Row],[Período]])=1,Serie_Encadeada[[#This Row],[Horas]],Serie_Encadeada[[#This Row],[Horas]]+AT218)","v":1126.2504999999999},{"$f":"IF(MONTH(Serie_Encadeada[[#This Row],[Período]])=1,Serie_Encadeada[[#This Row],[Massa Real]],Serie_Encadeada[[#This Row],[Massa Real]]+AU218)","v":1472.8454999999999},{"$f":"IF(MONTH(Serie_Encadeada[[#This Row],[Período]])=1,Serie_Encadeada[[#This Row],[RMR Real]],Serie_Encadeada[[#This Row],[RMR Real]]+AV218)","v":1414.0106999999998},{"$f":"IF(MONTH(Serie_Encadeada[[#This Row],[Período]])=1,Serie_Encadeada[[#This Row],[UCI]],Serie_Encadeada[[#This Row],[UCI]]+AW218)","v":948.94029999999998},{"$f":"AW219/MONTH(AQ219)","v":79.078358333333327},"2018-05-01",{"$f":"SUM(C208:C219)","v":1121.9069000000002},{"$f":"SUM(D208:D219)","v":1249.4605999999999},{"$f":"SUM(E208:E219)","v":1126.2504999999999},{"$f":"SUM(F208:F219)","v":1472.8454999999999},{"$f":"SUM(G208:G219)","v":1414.0106999999998},{"$f":"SUM(H208:H219)/12","v":79.078358333333327}]
["2021-01-01",{"$f":"MONTH(Serie_Encadeada[[#This Row],[Período]])&YEAR(Serie_Encadeada[[#This Row],[Período]])","v":"12021"},93.173500000000004,105.13420000000001,97.302000000000007,120.7782,114.88,81.763000000000005,null,"2021-01-01",-8.4864640289783608,1.3066327995667768,0.65876861579969626,-28.437147824108472,-29.360214329767533,-0.85779999999999745,null,"2021-01-01",12.410947500497675,-1.6986299320529301,2.2952350113752629,-6.0121085724957926,-4.388014211962652,1.0464000000000055,null,"2021-01-01",12.410947500497675,-1.6986299320529301,2.2952350113752629,-6.0121085724957926,-4.388014211962652,1.0464000000000055,null,"2021-01-01",1.2282734004246327,-1.7507764140232405,-3.5751249025440779,-3.5500173431207807,-1.8170152391701753,-1.1757666666666609,null,null,"2021-01-01",{"$f":"IF(MONTH(Serie_Encadeada[[#This Row],[Período]])=1,Serie_Encadeada[[#This Row],[Fat.real]],Serie_Encadeada[[#This Row],[Fat.real]]+AR219)","v":93.173500000000004},{"$f":"IF(MONTH(Serie_Encadeada[[#This Row],[Período]])=1,Serie_Encadeada[[#This Row],[Emprego]],Serie_Encadeada[[#This Row],[Emprego]]+AS219)","v":105.13420000000001},{"$f":"IF(MONTH(Serie_Encadeada[[#This Row],[Período]])=1,Serie_Encadeada[[#This Row],[Horas]],Serie_Encadeada[[#This Row],[Horas]]+AT219)","v":97.302000000000007},{"$f":"IF(MONTH(Serie_Encadeada[[#This Row],[Período]])=1,Serie_Encadeada[[#This Row],[Massa Real]],Serie_Encadeada[[#This Row],[Massa Real]]+AU219)","v":120.7782},{"$f":"IF(MONTH(Serie_Encadeada[[#This Row],[Período]])=1,Serie_Encadeada[[#This Row],[RMR Real]],Serie_Encadeada[[#This Row],[RMR Real]]+AV219)","v":114.88},{"$f":"IF(MONTH(Serie_Encadeada[[#This Row],[Período]])=1,Serie_Encadeada[[#This Row],[UCI]],Serie_Encadeada[[#This Row],[UCI]]+AW219)","v":81.763000000000005},{"$f":"AW220/MONTH(AQ220)","v":81.763000000000005},"2018-05-01",{"$f":"SUM(C209:C220)","v":1132.1939000000002},{"$f":"SUM(D209:D220)","v":1247.6438999999998},{"$f":"SUM(E209:E220)","v":1128.4336999999998},{"$f":"SUM(F209:F220)","v":1465.1197},{"$f":"SUM(G209:G220)","v":1408.7383999999997},{"$f":"SUM(H209:H220)/12","v":79.165558333333337}]
["2021-02-01",{"$f":"MONTH(Serie_Encadeada[[#This Row],[Período]])&YEAR(Serie_Encadeada[[#This Row],[Período]])","v":"22021"},91.756500000000003,107.04689999999999,97.0214,123.1331,115.0273,82.565799999999996,null,"2021-02-01",-1.5208186877170027,1.8192938168550163,-0.28838050605332555,1.9497723927000077,0.12822075208913764,0.80279999999999063,null,"2021-02-01",8.3456234420885025,-0.38117749973246079,2.2434860500039537,-1.6946134986272126,-1.3184162190588693,1.9968999999999966,null,"2021-02-01",10.356425055736178,-1.0383503554448124,2.2693913467251612,-3.8809944999146935,-2.87648004109559,1.521649999999994,null,"2021-02-01",1.7720527745988384,-2.1839468444916679,-3.5686494771628978,-3.8583185555455821,-1.6960486075881838,-1.2303166666666527,null,null,"2021-02-01",{"$f":"IF(MONTH(Serie_Encadeada[[#This Row],[Período]])=1,Serie_Encadeada[[#This Row],[Fat.real]],Serie_Encadeada[[#This Row],[Fat.real]]+AR220)","v":184.93},{"$f":"IF(MONTH(Serie_Encadeada[[#This Row],[Período]])=1,Serie_Encadeada[[#This Row],[Emprego]],Serie_Encadeada[[#This Row],[Emprego]]+AS220)","v":212.18110000000001},{"$f":"IF(MONTH(Serie_Encadeada[[#This Row],[Período]])=1,Serie_Encadeada[[#This Row],[Horas]],Serie_Encadeada[[#This Row],[Horas]]+AT220)","v":194.32339999999999},{"$f":"IF(MONTH(Serie_Encadeada[[#This Row],[Período]])=1,Serie_Encadeada[[#This Row],[Massa Real]],Serie_Encadeada[[#This Row],[Massa Real]]+AU220)","v":243.91129999999998},{"$f":"IF(MONTH(Serie_Encadeada[[#This Row],[Período]])=1,Serie_Encadeada[[#This Row],[RMR Real]],Serie_Encadeada[[#This Row],[RMR Real]]+AV220)","v":229.90729999999999},{"$f":"IF(MONTH(Serie_Encadeada[[#This Row],[Período]])=1,Serie_Encadeada[[#This Row],[UCI]],Serie_Encadeada[[#This Row],[UCI]]+AW220)","v":164.3288},{"$f":"AW221/MONTH(AQ221)","v":82.164400000000001},"2018-05-01",{"$f":"SUM(C210:C221)","v":1139.2617},{"$f":"SUM(D210:D221)","v":1247.2342999999998},{"$f":"SUM(E210:E221)","v":1130.5626},{"$f":"SUM(F210:F221)","v":1462.9970999999998},{"$f":"SUM(G210:G221)","v":1407.2015999999996},{"$f":"SUM(H210:H221)/12","v":79.331966666666673}]
["2021-03-01",{"$f":"MONTH(Serie_Encadeada[[#This Row],[Período]])&YEAR(Serie_Encadeada[[#This Row],[Período]])","v":"32021"},105.2718,108.152,101.8271,119.0147,110.04389999999999,82.524100000000004,null,"2021-03-01",14.729528698239358,1.0323512404376094,4.9532371208826111,-3.3446733656506611,-4.3323628390825508,-4.1699999999991633E-2,null,"2021-03-01",16.223672923228776,0.45830059094210218,5.9680120051242476,-5.6324146713162708,-6.0629263895433461,4.4818000000000069,null,"2021-03-01",12.415045238833994,-0.53805741680277619,3.5116300528899096,-4.4624601747035095,-3.9313541858596106,2.5083666666666602,null,"2021-03-01",3.2712903696079079,-2.5148912092838733,-3.374198071187104,-4.6927957544345702,-2.2058903649166588,-0.78516666666666879,null,null,"2021-03-01",{"$f":"IF(MONTH(Serie_Encadeada[[#This Row],[Período]])=1,Serie_Encadeada[[#This Row],[Fat.real]],Serie_Encadeada[[#This Row],[Fat.real]]+AR221)","v":290.20179999999999},{"$f":"IF(MONTH(Serie_Encadeada[[#This Row],[Período]])=1,Serie_Encadeada[[#This Row],[Emprego]],Serie_Encadeada[[#This Row],[Emprego]]+AS221)","v":320.3331},{"$f":"IF(MONTH(Serie_Encadeada[[#This Row],[Período]])=1,Serie_Encadeada[[#This Row],[Horas]],Serie_Encadeada[[#This Row],[Horas]]+AT221)","v":296.15049999999997},{"$f":"IF(MONTH(Serie_Encadeada[[#This Row],[Período]])=1,Serie_Encadeada[[#This Row],[Massa Real]],Serie_Encadeada[[#This Row],[Massa Real]]+AU221)","v":362.92599999999999},{"$f":"IF(MONTH(Serie_Encadeada[[#This Row],[Período]])=1,Serie_Encadeada[[#This Row],[RMR Real]],Serie_Encadeada[[#This Row],[RMR Real]]+AV221)","v":339.95119999999997},{"$f":"IF(MONTH(Serie_Encadeada[[#This Row],[Período]])=1,Serie_Encadeada[[#This Row],[UCI]],Serie_Encadeada[[#This Row],[UCI]]+AW221)","v":246.85290000000001},{"$f":"AW222/MONTH(AQ222)","v":82.284300000000002},"2018-05-01",{"$f":"SUM(C211:C222)","v":1153.9566},{"$f":"SUM(D211:D222)","v":1247.7276999999999},{"$f":"SUM(E211:E222)","v":1136.2973999999999},{"$f":"SUM(F211:F222)","v":1455.8935999999999},{"$f":"SUM(G211:G222)","v":1400.0990999999999},{"$f":"SUM(H211:H222)/12","v":79.705449999999999}]
["2021-04-01",{"$f":"MONTH(Serie_Encadeada[[#This Row],[Período]])&YEAR(Serie_Encadeada[[#This Row],[Período]])","v":"42021"},96.351399999999998,109.29349999999999,100.1536,122.0436,111.66589999999999,83.471000000000004,null,"2021-04-01",-8.4736843105181077,1.0554589836526311,-1.6434721208794163,2.5449797377970897,1.4739572116219073,0.94689999999999941,null,"2021-04-01",35.826336534286654,5.5576052355050081,30.043432815472201,1.462955557643205,-3.8791485757374411,13.085000000000008,null,"2021-04-01",17.461491455358761,0.94486627513009036,9.1388748209609307,-3.0374570788892741,-3.9184512138665442,5.1525249999999971,null,"2021-04-01",7.2851358194858031,-2.0354029677407754,0.13715104968486483,-4.9017083924304945,-2.8900521826091539,1.0592583333333465,null,null,"2021-04-01",{"$f":"IF(MONTH(Serie_Encadeada[[#This Row],[Período]])=1,Serie_Encadeada[[#This Row],[Fat.real]],Serie_Encadeada[[#This Row],[Fat.real]]+AR222)","v":386.5532},{"$f":"IF(MONTH(Serie_Encadeada[[#This Row],[Período]])=1,Serie_Encadeada[[#This Row],[Emprego]],Serie_Encadeada[[#This Row],[Emprego]]+AS222)","v":429.6266},{"$f":"IF(MONTH(Serie_Encadeada[[#This Row],[Período]])=1,Serie_Encadeada[[#This Row],[Horas]],Serie_Encadeada[[#This Row],[Horas]]+AT222)","v":396.30409999999995},{"$f":"IF(MONTH(Serie_Encadeada[[#This Row],[Período]])=1,Serie_Encadeada[[#This Row],[Massa Real]],Serie_Encadeada[[#This Row],[Massa Real]]+AU222)","v":484.96960000000001},{"$f":"IF(MONTH(Serie_Encadeada[[#This Row],[Período]])=1,Serie_Encadeada[[#This Row],[RMR Real]],Serie_Encadeada[[#This Row],[RMR Real]]+AV222)","v":451.61709999999994},{"$f":"IF(MONTH(Serie_Encadeada[[#This Row],[Período]])=1,Serie_Encadeada[[#This Row],[UCI]],Serie_Encadeada[[#This Row],[UCI]]+AW222)","v":330.32389999999998},{"$f":"AW223/MONTH(AQ223)","v":82.580974999999995},"2018-05-01",{"$f":"SUM(C212:C223)","v":1179.3708000000001},{"$f":"SUM(D212:D223)","v":1253.482},{"$f":"SUM(E212:E223)","v":1159.4355},{"$f":"SUM(F212:F223)","v":1457.6532999999999},{"$f":"SUM(G212:G223)","v":1395.5925999999999},{"$f":"SUM(H212:H223)/12","v":80.795866666666669}]
["2021-05-01",{"$f":"MONTH(Serie_Encadeada[[#This Row],[Período]])&YEAR(Serie_Encadeada[[#This Row],[Período]])","v":"52021"},106.7238,109.6478,102.6272,114.69589999999999,104.6039,84.014600000000002,null,"2021-05-01",10.765178295281645,0.3241729837547605,2.4698063774043115,-6.0205533104562656,-6.3242225245128534,0.54359999999999786,null,"2021-05-01",28.210309317981949,6.7860408901839602,25.114688545774847,9.2765481477105851,2.3322268951544665,10.263100000000009,null,"2021-05-01",19.631460685057242,2.080183597833813,12.082720799666438,-0.90157160277504844,-2.8019147404715277,6.1746399999999966,null,"2021-05-01",10.598991817435543,-1.2826946031951065,3.7903604581412247,-3.1747920163853238,-1.7821498645407015,2.5275416666666786,null,null,"2021-05-01",{"$f":"IF(MONTH(Serie_Encadeada[[#This Row],[Período]])=1,Serie_Encadeada[[#This Row],[Fat.real]],Serie_Encadeada[[#This Row],[Fat.real]]+AR223)","v":493.27699999999999},{"$f":"IF(MONTH(Serie_Encadeada[[#This Row],[Período]])=1,Serie_Encadeada[[#This Row],[Emprego]],Serie_Encadeada[[#This Row],[Emprego]]+AS223)","v":539.27440000000001},{"$f":"IF(MONTH(Serie_Encadeada[[#This Row],[Período]])=1,Serie_Encadeada[[#This Row],[Horas]],Serie_Encadeada[[#This Row],[Horas]]+AT223)","v":498.93129999999996},{"$f":"IF(MONTH(Serie_Encadeada[[#This Row],[Período]])=1,Serie_Encadeada[[#This Row],[Massa Real]],Serie_Encadeada[[#This Row],[Massa Real]]+AU223)","v":599.66550000000007},{"$f":"IF(MONTH(Serie_Encadeada[[#This Row],[Período]])=1,Serie_Encadeada[[#This Row],[RMR Real]],Serie_Encadeada[[#This Row],[RMR Real]]+AV223)","v":556.22099999999989},{"$f":"IF(MONTH(Serie_Encadeada[[#This Row],[Período]])=1,Serie_Encadeada[[#This Row],[UCI]],Serie_Encadeada[[#This Row],[UCI]]+AW223)","v":414.33849999999995},{"$f":"AW224/MONTH(AQ224)","v":82.867699999999985},"2018-05-01",{"$f":"SUM(C213:C224)","v":1202.8534},{"$f":"SUM(D213:D224)","v":1260.4498999999998},{"$f":"SUM(E213:E224)","v":1180.0362},{"$f":"SUM(F213:F224)","v":1467.3898999999997},{"$f":"SUM(G213:G224)","v":1397.9766},{"$f":"SUM(H213:H224)/12","v":81.651124999999993}]
["2021-06-01",{"$f":"MONTH(Serie_Encadeada[[#This Row],[Período]])&YEAR(Serie_Encadeada[[#This Row],[Período]])","v":"62021"},111.5682,110.0185,102.6951,114.34180000000001,103.92959999999999,83.882199999999997,null,"2021-06-01",4.539193694377456,0.33808247862702157,6.6161797262318883E-2,-0.30872943147923188,-0.64462223683820807,-0.13240000000000407,null,"2021-06-01",21.40015581951052,7.4463420184210198,15.131746375194922,4.506676659568055,-2.7359082103450545,10.002299999999991,null,"2021-06-01",19.953822815979226,2.9514063414193181,12.59169429402623,-7.3446665307272743E-2,-2.7915290658438594,6.8125833333333361,null,"2021-06-01",13.006513780879711,-0.4320742839873507,5.6685261800059434,-2.3114888049266229,-1.6689698980370975,3.7225750000000062,null,null,"2021-06-01",{"$f":"IF(MONTH(Serie_Encadeada[[#This Row],[Período]])=1,Serie_Encadeada[[#This Row],[Fat.real]],Serie_Encadeada[[#This Row],[Fat.real]]+AR224)","v":604.84519999999998},{"$f":"IF(MONTH(Serie_Encadeada[[#This Row],[Período]])=1,Serie_Encadeada[[#This Row],[Emprego]],Serie_Encadeada[[#This Row],[Emprego]]+AS224)","v":649.29290000000003},{"$f":"IF(MONTH(Serie_Encadeada[[#This Row],[Período]])=1,Serie_Encadeada[[#This Row],[Horas]],Serie_Encadeada[[#This Row],[Horas]]+AT224)","v":601.62639999999999},{"$f":"IF(MONTH(Serie_Encadeada[[#This Row],[Período]])=1,Serie_Encadeada[[#This Row],[Massa Real]],Serie_Encadeada[[#This Row],[Massa Real]]+AU224)","v":714.0073000000001},{"$f":"IF(MONTH(Serie_Encadeada[[#This Row],[Período]])=1,Serie_Encadeada[[#This Row],[RMR Real]],Serie_Encadeada[[#This Row],[RMR Real]]+AV224)","v":660.15059999999994},{"$f":"IF(MONTH(Serie_Encadeada[[#This Row],[Período]])=1,Serie_Encadeada[[#This Row],[UCI]],Serie_Encadeada[[#This Row],[UCI]]+AW224)","v":498.22069999999997},{"$f":"AW225/MONTH(AQ225)","v":83.036783333333332},"2018-05-01",{"$f":"SUM(C214:C225)","v":1222.5203999999999},{"$f":"SUM(D214:D225)","v":1268.0744999999997},{"$f":"SUM(E214:E225)","v":1193.5333999999998},{"$f":"SUM(F214:F225)","v":1472.3207},{"$f":"SUM(G214:G225)","v":1395.0531999999998},{"$f":"SUM(H214:H225)/12","v":82.484650000000002}]
["2021-07-01",{"$f":"MONTH(Serie_Encadeada[[#This Row],[Período]])&YEAR(Serie_Encadeada[[#This Row],[Período]])","v":"72021"},110.13679999999999,109.6611,103.4333,112.61020000000001,102.68940000000001,84.322199999999995,null,"2021-07-01",-1.2829820683671607,-0.32485445629598508,0.71882689631735708,-1.5144068048605148,-1.1933077775724985,0.43999999999999773,null,"2021-07-01",11.860230572429415,8.2717568165302939,4.2395932538182857,7.9807750416823073E-2,-7.5660538872621421,7.0176000000000016,null,"2021-07-01",18.63160392307168,3.6875947965619003,11.283630853733619,-5.2596419211604954E-2,-3.4627810828356838,6.8418714285714231,null,"2021-07-01",13.725069039582676,0.60105956214639733,6.2700979893293169,-1.8490234900729188,-2.1488132264623858,4.6232250000000192,null,null,"2021-07-01",{"$f":"IF(MONTH(Serie_Encadeada[[#This Row],[Período]])=1,Serie_Encadeada[[#This Row],[Fat.real]],Serie_Encadeada[[#This Row],[Fat.real]]+AR225)","v":714.98199999999997},{"$f":"IF(MONTH(Serie_Encadeada[[#This Row],[Período]])=1,Serie_Encadeada[[#This Row],[Emprego]],Serie_Encadeada[[#This Row],[Emprego]]+AS225)","v":758.95400000000006},{"$f":"IF(MONTH(Serie_Encadeada[[#This Row],[Período]])=1,Serie_Encadeada[[#This Row],[Horas]],Serie_Encadeada[[#This Row],[Horas]]+AT225)","v":705.05970000000002},{"$f":"IF(MONTH(Serie_Encadeada[[#This Row],[Período]])=1,Serie_Encadeada[[#This Row],[Massa Real]],Serie_Encadeada[[#This Row],[Massa Real]]+AU225)","v":826.61750000000006},{"$f":"IF(MONTH(Serie_Encadeada[[#This Row],[Período]])=1,Serie_Encadeada[[#This Row],[RMR Real]],Serie_Encadeada[[#This Row],[RMR Real]]+AV225)","v":762.83999999999992},{"$f":"IF(MONTH(Serie_Encadeada[[#This Row],[Período]])=1,Serie_Encadeada[[#This Row],[UCI]],Serie_Encadeada[[#This Row],[UCI]]+AW225)","v":582.54289999999992},{"$f":"AW226/MONTH(AQ226)","v":83.22041428571427},"2018-05-01",{"$f":"SUM(C215:C226)","v":1234.1978999999999},{"$f":"SUM(D215:D226)","v":1276.4523999999999},{"$f":"SUM(E215:E226)","v":1197.7402},{"$f":"SUM(F215:F226)","v":1472.4105},{"$f":"SUM(G215:G226)","v":1386.6477},{"$f":"SUM(H215:H226)/12","v":83.069450000000003}]
["2021-08-01",{"$f":"MONTH(Serie_Encadeada[[#This Row],[Período]])&YEAR(Serie_Encadeada[[#This Row],[Período]])","v":"82021"},109.0231,110.2529,103.3117,110.0553,99.820700000000002,84.634299999999996,null,"2021-08-01",-1.0111969841142965,0.53966265156923654,-0.11756368596960633,-2.2687998067670629,-2.7935697355325906,0.31210000000000093,null,"2021-08-01",1.6672697024857446,7.5955061881646984,4.7552270284520715,-4.3029012954354515,-11.058610734906264,3.2009999999999934,null,"2021-08-01",16.069120987505457,4.1674935764687842,10.404292863074181,-0.57146266098958476,-4.407442087241745,6.386762499999989,null,"2021-08-01",13.197174617348388,1.5904855332486705,7.080895449736107,-2.0294940585274679,-3.2147664633892692,4.8784000000000134,null,null,"2021-08-01",{"$f":"IF(MONTH(Serie_Encadeada[[#This Row],[Período]])=1,Serie_Encadeada[[#This Row],[Fat.real]],Serie_Encadeada[[#This Row],[Fat.real]]+AR226)","v":824.00509999999997},{"$f":"IF(MONTH(Serie_Encadeada[[#This Row],[Período]])=1,Serie_Encadeada[[#This Row],[Emprego]],Serie_Encadeada[[#This Row],[Emprego]]+AS226)","v":869.20690000000002},{"$f":"IF(MONTH(Serie_Encadeada[[#This Row],[Período]])=1,Serie_Encadeada[[#This Row],[Horas]],Serie_Encadeada[[#This Row],[Horas]]+AT226)","v":808.37139999999999},{"$f":"IF(MONTH(Serie_Encadeada[[#This Row],[Período]])=1,Serie_Encadeada[[#This Row],[Massa Real]],Serie_Encadeada[[#This Row],[Massa Real]]+AU226)","v":936.67280000000005},{"$f":"IF(MONTH(Serie_Encadeada[[#This Row],[Período]])=1,Serie_Encadeada[[#This Row],[RMR Real]],Serie_Encadeada[[#This Row],[RMR Real]]+AV226)","v":862.66069999999991},{"$f":"IF(MONTH(Serie_Encadeada[[#This Row],[Período]])=1,Serie_Encadeada[[#This Row],[UCI]],Serie_Encadeada[[#This Row],[UCI]]+AW226)","v":667.17719999999986},{"$f":"AW227/MONTH(AQ227)","v":83.397149999999982},"2018-05-01",{"$f":"SUM(C216:C227)","v":1235.9857999999999},{"$f":"SUM(D216:D227)","v":1284.2354999999998},{"$f":"SUM(E216:E227)","v":1202.4298999999999},{"$f":"SUM(F216:F227)","v":1467.4619999999998},{"$f":"SUM(G216:G227)","v":1374.2363999999998},{"$f":"SUM(H216:H227)/12","v":83.336200000000005}]
["2021-09-01",{"$f":"MONTH(Serie_Encadeada[[#This Row],[Período]])&YEAR(Serie_Encadeada[[#This Row],[Período]])","v":"92021"},110.6686,110.5656,103.1499,109.9975,99.486199999999997,83.105000000000004,null,"2021-09-01",1.509313163907464,0.28362065759722116,-0.15661343294128302,-5.2519051785784324E-2,-0.33510083579859246,-1.5292999999999921,null,"2021-09-01",3.9643546274915771,6.6349298507707468,3.290685203932969,-4.7372637322190219,-10.66454147491301,-0.13779999999999859,null,"2021-09-01",14.490758411455117,4.44020854090759,9.5505144667598714,-1.0263125993003812,-5.0947649801858796,5.6618111111111062,null,"2021-09-01",12.870436866250083,2.4045475942428474,7.2000350660440482,-2.3229624070960804,-4.2157147215210573,4.6643166666666787,null,null,"2021-09-01",{"$f":"IF(MONTH(Serie_Encadeada[[#This Row],[Período]])=1,Serie_Encadeada[[#This Row],[Fat.real]],Serie_Encadeada[[#This Row],[Fat.real]]+AR227)","v":934.67369999999994},{"$f":"IF(MONTH(Serie_Encadeada[[#This Row],[Período]])=1,Serie_Encadeada[[#This Row],[Emprego]],Serie_Encadeada[[#This Row],[Emprego]]+AS227)","v":979.77250000000004},{"$f":"IF(MONTH(Serie_Encadeada[[#This Row],[Período]])=1,Serie_Encadeada[[#This Row],[Horas]],Serie_Encadeada[[#This Row],[Horas]]+AT227)","v":911.5213},{"$f":"IF(MONTH(Serie_Encadeada[[#This Row],[Período]])=1,Serie_Encadeada[[#This Row],[Massa Real]],Serie_Encadeada[[#This Row],[Massa Real]]+AU227)","v":1046.6703},{"$f":"IF(MONTH(Serie_Encadeada[[#This Row],[Período]])=1,Serie_Encadeada[[#This Row],[RMR Real]],Serie_Encadeada[[#This Row],[RMR Real]]+AV227)","v":962.14689999999996},{"$f":"IF(MONTH(Serie_Encadeada[[#This Row],[Período]])=1,Serie_Encadeada[[#This Row],[UCI]],Serie_Encadeada[[#This Row],[UCI]]+AW227)","v":750.28219999999988},{"$f":"AW228/MONTH(AQ228)","v":83.364688888888878},"2018-05-01",{"$f":"SUM(C217:C228)","v":1240.2058000000002},{"$f":"SUM(D217:D228)","v":1291.1149999999998},{"$f":"SUM(E217:E228)","v":1205.7161000000001},{"$f":"SUM(F217:F228)","v":1461.992},{"$f":"SUM(G217:G228)","v":1362.3600999999999},{"$f":"SUM(H217:H228)/12","v":83.324716666666674}]
["2021-10-01",{"$f":"MONTH(Serie_Encadeada[[#This Row],[Período]])&YEAR(Serie_Encadeada[[#This Row],[Período]])","v":"102021"},98.498699999999999,110.0776,101.262,115.41840000000001,104.8519,82.330799999999996,null,"2021-10-01",-10.996705479241626,-0.44136693510458908,-1.8302489871536491,4.9282029137025871,5.3934113475034771,-0.77420000000000755,null,"2021-10-01",-4.8089049787049385,5.9547930477201705,1.1310353092744969,2.0555521660357803,-3.6800268974507135,-1.9718000000000018,null,"2021-10-01",12.319721867544624,4.5912166610429299,8.6461467099027285,-0.72857274045536191,-4.9575853819435629,4.8984499999999827,null,"2021-10-01",12.185787242861942,3.176017063589943,7.4759477927308318,-1.7795256883219432,-4.360826183094221,4.2691833333333307,null,null,"2021-10-01",{"$f":"IF(MONTH(Serie_Encadeada[[#This Row],[Período]])=1,Serie_Encadeada[[#This Row],[Fat.real]],Serie_Encadeada[[#This Row],[Fat.real]]+AR228)","v":1033.1723999999999},{"$f":"IF(MONTH(Serie_Encadeada[[#This Row],[Período]])=1,Serie_Encadeada[[#This Row],[Emprego]],Serie_Encadeada[[#This Row],[Emprego]]+AS228)","v":1089.8501000000001},{"$f":"IF(MONTH(Serie_Encadeada[[#This Row],[Período]])=1,Serie_Encadeada[[#This Row],[Horas]],Serie_Encadeada[[#This Row],[Horas]]+AT228)","v":1012.7833000000001},{"$f":"IF(MONTH(Serie_Encadeada[[#This Row],[Período]])=1,Serie_Encadeada[[#This Row],[Massa Real]],Serie_Encadeada[[#This Row],[Massa Real]]+AU228)","v":1162.0887},{"$f":"IF(MONTH(Serie_Encadeada[[#This Row],[Período]])=1,Serie_Encadeada[[#This Row],[RMR Real]],Serie_Encadeada[[#This Row],[RMR Real]]+AV228)","v":1066.9987999999998},{"$f":"IF(MONTH(Serie_Encadeada[[#This Row],[Período]])=1,Serie_Encadeada[[#This Row],[UCI]],Serie_Encadeada[[#This Row],[UCI]]+AW228)","v":832.61299999999983},{"$f":"AW229/MONTH(AQ229)","v":83.261299999999977},"2018-05-01",{"$f":"SUM(C218:C229)","v":1235.2298000000001},{"$f":"SUM(D218:D229)","v":1297.3015},{"$f":"SUM(E218:E229)","v":1206.8486},{"$f":"SUM(F218:F229)","v":1464.3166999999999},{"$f":"SUM(G218:G229)","v":1358.3541},{"$f":"SUM(H218:H229)/12","v":83.160399999999996}]
["2021-11-01",{"$f":"MONTH(Serie_Encadeada[[#This Row],[Período]])&YEAR(Serie_Encadeada[[#This Row],[Período]])","v":"112021"},102.4776,109.5861,101.7671,128.56559999999999,117.3193,82.085300000000004,null,"2021-11-01",4.0395456995879089,-0.44650319411033856,0.4988050798917647,11.390904743091209,11.890485532451008,-0.24549999999999272,null,"2021-11-01",2.2286731808047384,5.7034026151406607,4.483568292024346,-3.6642843548201136,-8.862215814193398,-0.60569999999999879,null,"2021-11-01",11.328084792268919,4.6918587559693847,8.2523614119199369,-1.0290065750138506,-5.3592473861715142,4.3980727272727194,null,"2021-11-01",11.613540528983368,4.0333720553740218,8.0697204891912193,-1.6626155059216292,-5.1194845055385692,4.1571916666666624,null,null,"2021-11-01",{"$f":"IF(MONTH(Serie_Encadeada[[#This Row],[Período]])=1,Serie_Encadeada[[#This Row],[Fat.real]],Serie_Encadeada[[#This Row],[Fat.real]]+AR229)","v":1135.6499999999999},{"$f":"IF(MONTH(Serie_Encadeada[[#This Row],[Período]])=1,Serie_Encadeada[[#This Row],[Emprego]],Serie_Encadeada[[#This Row],[Emprego]]+AS229)","v":1199.4362000000001},{"$f":"IF(MONTH(Serie_Encadeada[[#This Row],[Período]])=1,Serie_Encadeada[[#This Row],[Horas]],Serie_Encadeada[[#This Row],[Horas]]+AT229)","v":1114.5504000000001},{"$f":"IF(MONTH(Serie_Encadeada[[#This Row],[Período]])=1,Serie_Encadeada[[#This Row],[Massa Real]],Serie_Encadeada[[#This Row],[Massa Real]]+AU229)","v":1290.6542999999999},{"$f":"IF(MONTH(Serie_Encadeada[[#This Row],[Período]])=1,Serie_Encadeada[[#This Row],[RMR Real]],Serie_Encadeada[[#This Row],[RMR Real]]+AV229)","v":1184.3181},{"$f":"IF(MONTH(Serie_Encadeada[[#This Row],[Período]])=1,Serie_Encadeada[[#This Row],[UCI]],Serie_Encadeada[[#This Row],[UCI]]+AW229)","v":914.69829999999979},{"$f":"AW230/MONTH(AQ230)","v":83.154390909090893},"2018-05-01",{"$f":"SUM(C219:C230)","v":1237.4639000000002},{"$f":"SUM(D219:D230)","v":1303.2144000000001},{"$f":"SUM(E219:E230)","v":1211.2156},{"$f":"SUM(F219:F230)","v":1459.4264999999998},{"$f":"SUM(G219:G230)","v":1346.9459999999999},{"$f":"SUM(H219:H230)/12","v":83.10992499999999}]
["2021-12-01",{"$f":"MONTH(Serie_Encadeada[[#This Row],[Período]])&YEAR(Serie_Encadeada[[#This Row],[Período]])","v":"122021"},107.5406,108.8426,98.051900000000003,165.10499999999999,151.69149999999999,76.993799999999993,null,"2021-12-01",4.9405918952044177,-0.67846195822280142,-3.6506886803298864,28.42082174391906,29.297992742882027,-5.0915000000000106,null,"2021-12-01",5.6246740376313982,4.8800229720692849,1.4345390067987287,-2.1728697024747015,-6.724799373293278,-5.6270000000000095,null,"2021-12-01",10.8104959511346,4.7074873749520529,7.6671930445314027,-1.1600809453537362,-5.51630196292008,3.5626499999999908,null,"2021-12-01",10.8104959511346,4.7074873749520529,7.6671930445314027,-1.1600809453537362,-5.51630196292008,3.5626499999999908,null,null,"2021-12-01",{"$f":"IF(MONTH(Serie_Encadeada[[#This Row],[Período]])=1,Serie_Encadeada[[#This Row],[Fat.real]],Serie_Encadeada[[#This Row],[Fat.real]]+AR230)","v":1243.1905999999999},{"$f":"IF(MONTH(Serie_Encadeada[[#This Row],[Período]])=1,Serie_Encadeada[[#This Row],[Emprego]],Serie_Encadeada[[#This Row],[Emprego]]+AS230)","v":1308.2788},{"$f":"IF(MONTH(Serie_Encadeada[[#This Row],[Período]])=1,Serie_Encadeada[[#This Row],[Horas]],Serie_Encadeada[[#This Row],[Horas]]+AT230)","v":1212.6023},{"$f":"IF(MONTH(Serie_Encadeada[[#This Row],[Período]])=1,Serie_Encadeada[[#This Row],[Massa Real]],Serie_Encadeada[[#This Row],[Massa Real]]+AU230)","v":1455.7592999999999},{"$f":"IF(MONTH(Serie_Encadeada[[#This Row],[Período]])=1,Serie_Encadeada[[#This Row],[RMR Real]],Serie_Encadeada[[#This Row],[RMR Real]]+AV230)","v":1336.0095999999999},{"$f":"IF(MONTH(Serie_Encadeada[[#This Row],[Período]])=1,Serie_Encadeada[[#This Row],[UCI]],Serie_Encadeada[[#This Row],[UCI]]+AW230)","v":991.69209999999975},{"$f":"AW231/MONTH(AQ231)","v":82.641008333333318},"2018-05-01",{"$f":"SUM(C220:C231)","v":1243.1905999999999},{"$f":"SUM(D220:D231)","v":1308.2788},{"$f":"SUM(E220:E231)","v":1212.6023},{"$f":"SUM(F220:F231)","v":1455.7592999999999},{"$f":"SUM(G220:G231)","v":1336.0095999999999},{"$f":"SUM(H220:H231)/12","v":82.641008333333318}]
["2022-01-01",{"$f":"MONTH(Serie_Encadeada[[#This Row],[Período]])&YEAR(Serie_Encadeada[[#This Row],[Período]])","v":"12022"},89.616100000000003,109.66540000000001,96.608199999999997,118.3335,107.9041,81.819900000000004,null,"2022-01-01",-16.667658540123448,0.75595401065391754,-1.472383503022386,-28.328336513128004,-28.866086761618149,4.8261000000000109,null,"2022-01-01",-3.8180383907441504,4.3099200830937967,-0.71303775873056063,-2.0241235587216879,-6.0723363509749273,5.689999999999884E-2,null,"2022-01-01",-3.8180383907441504,4.3099200830937967,-0.71303775873056063,-2.0241235587216879,-6.0723363509749273,5.689999999999884E-2,null,"2022-01-01",9.4894787898079791,5.2231329788892609,7.3974040300285226,-0.80574303928887436,-5.6578779992083712,3.4801916666666557,null,null,"2022-01-01",{"$f":"IF(MONTH(Serie_Encadeada[[#This Row],[Período]])=1,Serie_Encadeada[[#This Row],[Fat.real]],Serie_Encadeada[[#This Row],[Fat.real]]+AR231)","v":89.616100000000003},{"$f":"IF(MONTH(Serie_Encadeada[[#This Row],[Período]])=1,Serie_Encadeada[[#This Row],[Emprego]],Serie_Encadeada[[#This Row],[Emprego]]+AS231)","v":109.66540000000001},{"$f":"IF(MONTH(Serie_Encadeada[[#This Row],[Período]])=1,Serie_Encadeada[[#This Row],[Horas]],Serie_Encadeada[[#This Row],[Horas]]+AT231)","v":96.608199999999997},{"$f":"IF(MONTH(Serie_Encadeada[[#This Row],[Período]])=1,Serie_Encadeada[[#This Row],[Massa Real]],Serie_Encadeada[[#This Row],[Massa Real]]+AU231)","v":118.3335},{"$f":"IF(MONTH(Serie_Encadeada[[#This Row],[Período]])=1,Serie_Encadeada[[#This Row],[RMR Real]],Serie_Encadeada[[#This Row],[RMR Real]]+AV231)","v":107.9041},{"$f":"IF(MONTH(Serie_Encadeada[[#This Row],[Período]])=1,Serie_Encadeada[[#This Row],[UCI]],Serie_Encadeada[[#This Row],[UCI]]+AW231)","v":81.819900000000004},{"$f":"AW232/MONTH(AQ232)","v":81.819900000000004},"2018-05-01",{"$f":"SUM(C221:C232)","v":1239.6332},{"$f":"SUM(D221:D232)","v":1312.81},{"$f":"SUM(E221:E232)","v":1211.9084999999998},{"$f":"SUM(F221:F232)","v":1453.3145999999999},{"$f":"SUM(G221:G232)","v":1329.0336999999997},{"$f":"SUM(H221:H232)/12","v":82.645749999999992}]
["2022-02-01",{"$f":"MONTH(Serie_Encadeada[[#This Row],[Período]])&YEAR(Serie_Encadeada[[#This Row],[Período]])","v":"22022"},83.949299999999994,109.1477,99.3001,127.3092,116.63939999999999,82.537599999999998,null,"2022-02-01",-6.3234173323766703,-0.4720723218079767,2.7864094352239293,7.5850879083268925,8.095429182023663,0.71769999999999357,null,"2022-02-01",-8.5086070196661918,1.962504285504771,2.3486571003922854,3.3915332270526815,1.4014933846139117,-2.8199999999998226E-2,null,"2022-02-01",-6.1453522954631454,3.1256318305447586,0.81559915069415456,0.70984821121448982,-2.3330272679466888,1.4350000000007412E-2,null,"2022-02-01",8.1249374046366842,5.4261256285206612,7.3967244272895725,-0.37637805297084909,-5.4402865943301855,3.3114333333333121,null,null,"2022-02-01",{"$f":"IF(MONTH(Serie_Encadeada[[#This Row],[Período]])=1,Serie_Encadeada[[#This Row],[Fat.real]],Serie_Encadeada[[#This Row],[Fat.real]]+AR232)","v":173.56540000000001},{"$f":"IF(MONTH(Serie_Encadeada[[#This Row],[Período]])=1,Serie_Encadeada[[#This Row],[Emprego]],Serie_Encadeada[[#This Row],[Emprego]]+AS232)","v":218.81310000000002},{"$f":"IF(MONTH(Serie_Encadeada[[#This Row],[Período]])=1,Serie_Encadeada[[#This Row],[Horas]],Serie_Encadeada[[#This Row],[Horas]]+AT232)","v":195.9083},{"$f":"IF(MONTH(Serie_Encadeada[[#This Row],[Período]])=1,Serie_Encadeada[[#This Row],[Massa Real]],Serie_Encadeada[[#This Row],[Massa Real]]+AU232)","v":245.64269999999999},{"$f":"IF(MONTH(Serie_Encadeada[[#This Row],[Período]])=1,Serie_Encadeada[[#This Row],[RMR Real]],Serie_Encadeada[[#This Row],[RMR Real]]+AV232)","v":224.54349999999999},{"$f":"IF(MONTH(Serie_Encadeada[[#This Row],[Período]])=1,Serie_Encadeada[[#This Row],[UCI]],Serie_Encadeada[[#This Row],[UCI]]+AW232)","v":164.35750000000002},{"$f":"AW233/MONTH(AQ233)","v":82.178750000000008},"2018-05-01",{"$f":"SUM(C222:C233)","v":1231.8259999999998},{"$f":"SUM(D222:D233)","v":1314.9108000000001},{"$f":"SUM(E222:E233)","v":1214.1872000000001},{"$f":"SUM(F222:F233)","v":1457.4906999999998},{"$f":"SUM(G222:G233)","v":1330.6457999999998},{"$f":"SUM(H222:H233)/12","v":82.643399999999986}]
["2022-03-01",{"$f":"MONTH(Serie_Encadeada[[#This Row],[Período]])&YEAR(Serie_Encadeada[[#This Row],[Período]])","v":"32022"},110.4605,109.2676,107.7469,126.3048,115.59220000000001,84.589699999999993,null,"2022-03-01",31.580013174618497,0.10985114665723715,8.506335844576185,-0.78894533937846123,-0.89780983098334655,2.0520999999999958,null,"2022-03-01",4.9288603405660369,1.0315112064501817,5.8135800783877718,6.1253777894663388,5.041896915685478,2.0655999999999892,null,"2022-03-01",-2.1281397978923677,2.4186073808794766,2.5340831773034367,2.4857684486644671,5.4272495581722938E-2,0.69809999999999661,null,"2022-03-01",7.1976797047653243,5.4738465772620151,7.3756747133277152,0.61042922367404606,-4.5643197685077972,3.1100833333333213,null,null,"2022-03-01",{"$f":"IF(MONTH(Serie_Encadeada[[#This Row],[Período]])=1,Serie_Encadeada[[#This Row],[Fat.real]],Serie_Encadeada[[#This Row],[Fat.real]]+AR233)","v":284.02589999999998},{"$f":"IF(MONTH(Serie_Encadeada[[#This Row],[Período]])=1,Serie_Encadeada[[#This Row],[Emprego]],Serie_Encadeada[[#This Row],[Emprego]]+AS233)","v":328.08070000000004},{"$f":"IF(MONTH(Serie_Encadeada[[#This Row],[Período]])=1,Serie_Encadeada[[#This Row],[Horas]],Serie_Encadeada[[#This Row],[Horas]]+AT233)","v":303.65519999999998},{"$f":"IF(MONTH(Serie_Encadeada[[#This Row],[Período]])=1,Serie_Encadeada[[#This Row],[Massa Real]],Serie_Encadeada[[#This Row],[Massa Real]]+AU233)","v":371.94749999999999},{"$f":"IF(MONTH(Serie_Encadeada[[#This Row],[Período]])=1,Serie_Encadeada[[#This Row],[RMR Real]],Serie_Encadeada[[#This Row],[RMR Real]]+AV233)","v":340.13569999999999},{"$f":"IF(MONTH(Serie_Encadeada[[#This Row],[Período]])=1,Serie_Encadeada[[#This Row],[UCI]],Serie_Encadeada[[#This Row],[UCI]]+AW233)","v":248.94720000000001},{"$f":"AW234/MONTH(AQ234)","v":82.982399999999998},"2018-05-01",{"$f":"SUM(C223:C234)","v":1237.0146999999999},{"$f":"SUM(D223:D234)","v":1316.0264},{"$f":"SUM(E223:E234)","v":1220.1070000000002},{"$f":"SUM(F223:F234)","v":1464.7808},{"$f":"SUM(G223:G234)","v":1336.1941000000002},{"$f":"SUM(H223:H234)/12","v":82.81553333333332}]
["2022-04-01",{"$f":"MONTH(Serie_Encadeada[[#This Row],[Período]])&YEAR(Serie_Encadeada[[#This Row],[Período]])","v":"42022"},99.640699999999995,108.43640000000001,100.91119999999999,113.4871,104.65770000000001,83.442700000000002,null,"2022-04-01",-9.7951756510245751,-0.76070125087399698,-6.3442196480826851,-10.148228729232779,-9.4595483086228995,-1.1469999999999914,null,"2022-04-01",3.4138580238584986,-0.78421864063278102,0.75643811106140624,-7.0110190128773651,-6.2760430892510506,-2.8300000000001546E-2,null,"2022-04-01",-0.74675361631983483,1.6038345856611373,2.0848383854721764,9.5882298601804111E-2,-1.5109481018322641,0.51650000000000773,null,"2022-04-01",5.166585436912607,4.9212752955367574,5.2981903693650967,-9.8034285656257214E-2,-4.7583155714640508,2.0173083333333324,null,null,"2022-04-01",{"$f":"IF(MONTH(Serie_Encadeada[[#This Row],[Período]])=1,Serie_Encadeada[[#This Row],[Fat.real]],Serie_Encadeada[[#This Row],[Fat.real]]+AR234)","v":383.66659999999996},{"$f":"IF(MONTH(Serie_Encadeada[[#This Row],[Período]])=1,Serie_Encadeada[[#This Row],[Emprego]],Serie_Encadeada[[#This Row],[Emprego]]+AS234)","v":436.51710000000003},{"$f":"IF(MONTH(Serie_Encadeada[[#This Row],[Período]])=1,Serie_Encadeada[[#This Row],[Horas]],Serie_Encadeada[[#This Row],[Horas]]+AT234)","v":404.56639999999999},{"$f":"IF(MONTH(Serie_Encadeada[[#This Row],[Período]])=1,Serie_Encadeada[[#This Row],[Massa Real]],Serie_Encadeada[[#This Row],[Massa Real]]+AU234)","v":485.43459999999999},{"$f":"IF(MONTH(Serie_Encadeada[[#This Row],[Período]])=1,Serie_Encadeada[[#This Row],[RMR Real]],Serie_Encadeada[[#This Row],[RMR Real]]+AV234)","v":444.79340000000002},{"$f":"IF(MONTH(Serie_Encadeada[[#This Row],[Período]])=1,Serie_Encadeada[[#This Row],[UCI]],Serie_Encadeada[[#This Row],[UCI]]+AW234)","v":332.38990000000001},{"$f":"AW235/MONTH(AQ235)","v":83.097475000000003},"2018-05-01",{"$f":"SUM(C224:C235)","v":1240.3039999999999},{"$f":"SUM(D224:D235)","v":1315.1693},{"$f":"SUM(E224:E235)","v":1220.8646000000001},{"$f":"SUM(F224:F235)","v":1456.2243000000001},{"$f":"SUM(G224:G235)","v":1329.1858999999999},{"$f":"SUM(H224:H235)/12","v":82.813175000000001}]
["2022-05-01",{"$f":"MONTH(Serie_Encadeada[[#This Row],[Período]])&YEAR(Serie_Encadeada[[#This Row],[Período]])","v":"52022"},112.1824,108.89400000000001,102.7585,113.1923,103.9472,84.257599999999996,null,"2022-05-01",12.586924820881434,0.42199851710311237,1.8306193960630774,-0.25976520679442427,-0.67887981486313032,0.81489999999999441,null,"2022-05-01",5.1146979399159367,-0.68747389368505185,0.12793879205512376,-1.3109448550471217,-0.62779686034650783,0.242999999999995,null,"2022-05-01",0.52141089083819958,1.1379550002744463,1.682315781751915,-0.17319655708058701,-1.3448611253440483,0.46180000000002508,null,"2022-05-01",3.5672842592455432,4.2814553755766278,3.4710545320558905,-0.86338334480834455,-4.9677083293096622,1.1823000000000121,null,null,"2022-05-01",{"$f":"IF(MONTH(Serie_Encadeada[[#This Row],[Período]])=1,Serie_Encadeada[[#This Row],[Fat.real]],Serie_Encadeada[[#This Row],[Fat.real]]+AR235)","v":495.84899999999993},{"$f":"IF(MONTH(Serie_Encadeada[[#This Row],[Período]])=1,Serie_Encadeada[[#This Row],[Emprego]],Serie_Encadeada[[#This Row],[Emprego]]+AS235)","v":545.41110000000003},{"$f":"IF(MONTH(Serie_Encadeada[[#This Row],[Período]])=1,Serie_Encadeada[[#This Row],[Horas]],Serie_Encadeada[[#This Row],[Horas]]+AT235)","v":507.32489999999996},{"$f":"IF(MONTH(Serie_Encadeada[[#This Row],[Período]])=1,Serie_Encadeada[[#This Row],[Massa Real]],Serie_Encadeada[[#This Row],[Massa Real]]+AU235)","v":598.62689999999998},{"$f":"IF(MONTH(Serie_Encadeada[[#This Row],[Período]])=1,Serie_Encadeada[[#This Row],[RMR Real]],Serie_Encadeada[[#This Row],[RMR Real]]+AV235)","v":548.74059999999997},{"$f":"IF(MONTH(Serie_Encadeada[[#This Row],[Período]])=1,Serie_Encadeada[[#This Row],[UCI]],Serie_Encadeada[[#This Row],[UCI]]+AW235)","v":416.64750000000004},{"$f":"AW236/MONTH(AQ236)","v":83.32950000000001},"2018-05-01",{"$f":"SUM(C225:C236)","v":1245.7625999999998},{"$f":"SUM(D225:D236)","v":1314.4155000000001},{"$f":"SUM(E225:E236)","v":1220.9959000000001},{"$f":"SUM(F225:F236)","v":1454.7206999999999},{"$f":"SUM(G225:G236)","v":1328.5291999999999},{"$f":"SUM(H225:H236)/12","v":82.833425000000005}]
["2022-06-01",{"$f":"MONTH(Serie_Encadeada[[#This Row],[Período]])&YEAR(Serie_Encadeada[[#This Row],[Período]])","v":"62022"},113.7266,110.09869999999999,100.02800000000001,113.81829999999999,103.3784,83.476100000000002,null,"2022-06-01",1.3765082579798646,1.1063052142450349,-2.6572011074509576,0.5530411520924926,-0.54720088660396438,-0.78149999999999409,null,"2022-06-01",1.9346014366100737,7.2896830987507308E-2,-2.597105412040098,-0.4578378160917641,-0.53035901225444382,-0.40609999999999502,null,"2022-06-01",0.78208440771290211,0.95748775321584589,0.95183655504478981,-0.21877927578612993,-1.21663147772645,0.31714999999999804,null,"2022-06-01",2.0777240199836293,3.6607628337294429,2.0774785188248779,-1.2309478498807984,-4.8080747028141682,0.31493333333332885,null,null,"2022-06-01",{"$f":"IF(MONTH(Serie_Encadeada[[#This Row],[Período]])=1,Serie_Encadeada[[#This Row],[Fat.real]],Serie_Encadeada[[#This Row],[Fat.real]]+AR236)","v":609.57559999999989},{"$f":"IF(MONTH(Serie_Encadeada[[#This Row],[Período]])=1,Serie_Encadeada[[#This Row],[Emprego]],Serie_Encadeada[[#This Row],[Emprego]]+AS236)","v":655.50980000000004},{"$f":"IF(MONTH(Serie_Encadeada[[#This Row],[Período]])=1,Serie_Encadeada[[#This Row],[Horas]],Serie_Encadeada[[#This Row],[Horas]]+AT236)","v":607.35289999999998},{"$f":"IF(MONTH(Serie_Encadeada[[#This Row],[Período]])=1,Serie_Encadeada[[#This Row],[Massa Real]],Serie_Encadeada[[#This Row],[Massa Real]]+AU236)","v":712.4452},{"$f":"IF(MONTH(Serie_Encadeada[[#This Row],[Período]])=1,Serie_Encadeada[[#This Row],[RMR Real]],Serie_Encadeada[[#This Row],[RMR Real]]+AV236)","v":652.11899999999991},{"$f":"IF(MONTH(Serie_Encadeada[[#This Row],[Período]])=1,Serie_Encadeada[[#This Row],[UCI]],Serie_Encadeada[[#This Row],[UCI]]+AW236)","v":500.12360000000001},{"$f":"AW237/MONTH(AQ237)","v":83.35393333333333},"2018-05-01",{"$f":"SUM(C226:C237)","v":1247.9209999999998},{"$f":"SUM(D226:D237)","v":1314.4957000000002},{"$f":"SUM(E226:E237)","v":1218.3288},{"$f":"SUM(F226:F237)","v":1454.1972000000001},{"$f":"SUM(G226:G237)","v":1327.9780000000003},{"$f":"SUM(H226:H237)/12","v":82.799583333333331}]
["2022-07-01",{"$f":"MONTH(Serie_Encadeada[[#This Row],[Período]])&YEAR(Serie_Encadeada[[#This Row],[Período]])","v":"72022"},111.9883,110.03360000000001,102.8721,120.4098,109.43,83.519099999999995,null,"2022-07-01",-1.5284902564571607,-5.9128763554871074E-2,2.843303874915021,5.7912479803335764,5.8538340697863456,4.2999999999992156E-2,null,"2022-07-01",1.6810911520944876,0.33968289575793265,-0.54257187965577769,6.9261931867628315,6.5640660087603981,-0.80310000000000059,null,"2022-07-01",0.92056862969975539,0.86822126242169551,0.73260462908318291,0.75458116964617294,-0.16923601279428716,0.15711428571430019,null,"2022-07-01",1.2619207989253707,3.0095756018791002,1.6720988408003816,-0.70725521177689854,-3.7449382420639239,-0.33679166666665594,null,null,"2022-07-01",{"$f":"IF(MONTH(Serie_Encadeada[[#This Row],[Período]])=1,Serie_Encadeada[[#This Row],[Fat.real]],Serie_Encadeada[[#This Row],[Fat.real]]+AR237)","v":721.56389999999988},{"$f":"IF(MONTH(Serie_Encadeada[[#This Row],[Período]])=1,Serie_Encadeada[[#This Row],[Emprego]],Serie_Encadeada[[#This Row],[Emprego]]+AS237)","v":765.54340000000002},{"$f":"IF(MONTH(Serie_Encadeada[[#This Row],[Período]])=1,Serie_Encadeada[[#This Row],[Horas]],Serie_Encadeada[[#This Row],[Horas]]+AT237)","v":710.22500000000002},{"$f":"IF(MONTH(Serie_Encadeada[[#This Row],[Período]])=1,Serie_Encadeada[[#This Row],[Massa Real]],Serie_Encadeada[[#This Row],[Massa Real]]+AU237)","v":832.85500000000002},{"$f":"IF(MONTH(Serie_Encadeada[[#This Row],[Período]])=1,Serie_Encadeada[[#This Row],[RMR Real]],Serie_Encadeada[[#This Row],[RMR Real]]+AV237)","v":761.54899999999998},{"$f":"IF(MONTH(Serie_Encadeada[[#This Row],[Período]])=1,Serie_Encadeada[[#This Row],[UCI]],Serie_Encadeada[[#This Row],[UCI]]+AW237)","v":583.64269999999999},{"$f":"AW238/MONTH(AQ238)","v":83.37752857142857},"2018-05-01",{"$f":"SUM(C227:C238)","v":1249.7725},{"$f":"SUM(D227:D238)","v":1314.8682000000001},{"$f":"SUM(E227:E238)","v":1217.7676000000001},{"$f":"SUM(F227:F238)","v":1461.9967999999997},{"$f":"SUM(G227:G238)","v":1334.7186000000002},{"$f":"SUM(H227:H238)/12","v":82.732658333333347}]
["2022-08-01",{"$f":"MONTH(Serie_Encadeada[[#This Row],[Período]])&YEAR(Serie_Encadeada[[#This Row],[Período]])","v":"82022"},122.5189,110.0498,110.3783,116.6901,106.0339,83.666399999999996,null,"2022-08-01",9.4033037379797779,1.472277558854547E-2,7.2966333923386344,-3.0892003806999124,-3.1034451247372785,0.14730000000000132,null,"2022-08-01",12.37884448341682,-0.18421284156697201,6.840077164541861,6.0286056191750861,6.2243602779784153,-0.9679000000000002,null,"2022-08-01",2.4365989967780464,0.73472725538649142,1.5131534836586247,1.3742579052151398,0.57058354460798888,1.6487500000010868E-2,null,"2022-08-01",2.207347365964905,2.3694719543261473,1.8632520698296133,7.9702234197542826E-2,-2.4234986062077777,-0.68420000000000414,null,null,"2022-08-01",{"$f":"IF(MONTH(Serie_Encadeada[[#This Row],[Período]])=1,Serie_Encadeada[[#This Row],[Fat.real]],Serie_Encadeada[[#This Row],[Fat.real]]+AR238)","v":844.08279999999991},{"$f":"IF(MONTH(Serie_Encadeada[[#This Row],[Período]])=1,Serie_Encadeada[[#This Row],[Emprego]],Serie_Encadeada[[#This Row],[Emprego]]+AS238)","v":875.59320000000002},{"$f":"IF(MONTH(Serie_Encadeada[[#This Row],[Período]])=1,Serie_Encadeada[[#This Row],[Horas]],Serie_Encadeada[[#This Row],[Horas]]+AT238)","v":820.60329999999999},{"$f":"IF(MONTH(Serie_Encadeada[[#This Row],[Período]])=1,Serie_Encadeada[[#This Row],[Massa Real]],Serie_Encadeada[[#This Row],[Massa Real]]+AU238)","v":949.54510000000005},{"$f":"IF(MONTH(Serie_Encadeada[[#This Row],[Período]])=1,Serie_Encadeada[[#This Row],[RMR Real]],Serie_Encadeada[[#This Row],[RMR Real]]+AV238)","v":867.5829},{"$f":"IF(MONTH(Serie_Encadeada[[#This Row],[Período]])=1,Serie_Encadeada[[#This Row],[UCI]],Serie_Encadeada[[#This Row],[UCI]]+AW238)","v":667.30909999999994},{"$f":"AW239/MONTH(AQ239)","v":83.413637499999993},"2018-05-01",{"$f":"SUM(C228:C239)","v":1263.2683000000002},{"$f":"SUM(D228:D239)","v":1314.6650999999999},{"$f":"SUM(E228:E239)","v":1224.8342},{"$f":"SUM(F228:F239)","v":1468.6315999999997},{"$f":"SUM(G228:G239)","v":1340.9317999999998},{"$f":"SUM(H228:H239)/12","v":82.652000000000001}]
["2022-09-01",{"$f":"MONTH(Serie_Encadeada[[#This Row],[Período]])&YEAR(Serie_Encadeada[[#This Row],[Período]])","v":"92022"},115.3086,110.0532,103.5324,118.6176,107.7821,82.6708,null,"2022-09-01",-5.8850512043448022,3.0895103852975449E-3,-6.2022154717005069,1.6518110790889671,1.6487180043363463,-0.99559999999999604,null,"2022-09-01",4.1926978384112576,-0.46343528185981853,0.37081955484202422,7.8366326507420565,8.3387444690821475,-0.43420000000000414,null,"2022-09-01",2.6445271756335846,0.59951672454575411,1.3838842822433273,2.0534068846703768,1.3738130840519311,-3.3588888888886004E-2,null,"2022-09-01",2.2337018581915897,1.7843259508254738,1.6173459075482259,1.0437608413725976,-0.9639448483554357,-0.70890000000001407,null,null,"2022-09-01",{"$f":"IF(MONTH(Serie_Encadeada[[#This Row],[Período]])=1,Serie_Encadeada[[#This Row],[Fat.real]],Serie_Encadeada[[#This Row],[Fat.real]]+AR239)","v":959.39139999999986},{"$f":"IF(MONTH(Serie_Encadeada[[#This Row],[Período]])=1,Serie_Encadeada[[#This Row],[Emprego]],Serie_Encadeada[[#This Row],[Emprego]]+AS239)","v":985.64640000000009},{"$f":"IF(MONTH(Serie_Encadeada[[#This Row],[Período]])=1,Serie_Encadeada[[#This Row],[Horas]],Serie_Encadeada[[#This Row],[Horas]]+AT239)","v":924.13570000000004},{"$f":"IF(MONTH(Serie_Encadeada[[#This Row],[Período]])=1,Serie_Encadeada[[#This Row],[Massa Real]],Serie_Encadeada[[#This Row],[Massa Real]]+AU239)","v":1068.1627000000001},{"$f":"IF(MONTH(Serie_Encadeada[[#This Row],[Período]])=1,Serie_Encadeada[[#This Row],[RMR Real]],Serie_Encadeada[[#This Row],[RMR Real]]+AV239)","v":975.36500000000001},{"$f":"IF(MONTH(Serie_Encadeada[[#This Row],[Período]])=1,Serie_Encadeada[[#This Row],[UCI]],Serie_Encadeada[[#This Row],[UCI]]+AW239)","v":749.97989999999993},{"$f":"AW240/MONTH(AQ240)","v":83.331099999999992},"2018-05-01",{"$f":"SUM(C229:C240)","v":1267.9083000000001},{"$f":"SUM(D229:D240)","v":1314.1527000000001},{"$f":"SUM(E229:E240)","v":1225.2167000000002},{"$f":"SUM(F229:F240)","v":1477.2517},{"$f":"SUM(G229:G240)","v":1349.2276999999999},{"$f":"SUM(H229:H240)/12","v":82.61581666666666}]
["2022-10-01",{"$f":"MONTH(Serie_Encadeada[[#This Row],[Período]])&YEAR(Serie_Encadeada[[#This Row],[Período]])","v":"102022"},114.0226,109.7235,101.9833,119.0728,108.52070000000001,82.576999999999998,null,"2022-10-01",-1.1152680719391281,-0.29958238379256807,-1.4962465856099112,0.3837541815042666,0.68527148756612211,-9.380000000000166E-2,null,"2022-10-01",15.76051257529287,-0.32168215876799866,0.7123106397266491,3.1662195975684946,3.4990305373579349,0.24620000000000175,null,"2022-10-01",3.8949549949262909,0.50647332142282975,1.316737746366877,2.1639312042187471,1.5826540760870771,-5.6099999999901229E-3,null,"2022-10-01",3.9023022274883505,1.27164733872583,1.5817559882822143,1.1329106606514883,-0.40178036051131172,-0.52406666666666979,null,null,"2022-10-01",{"$f":"IF(MONTH(Serie_Encadeada[[#This Row],[Período]])=1,Serie_Encadeada[[#This Row],[Fat.real]],Serie_Encadeada[[#This Row],[Fat.real]]+AR240)","v":1073.4139999999998},{"$f":"IF(MONTH(Serie_Encadeada[[#This Row],[Período]])=1,Serie_Encadeada[[#This Row],[Emprego]],Serie_Encadeada[[#This Row],[Emprego]]+AS240)","v":1095.3699000000001},{"$f":"IF(MONTH(Serie_Encadeada[[#This Row],[Período]])=1,Serie_Encadeada[[#This Row],[Horas]],Serie_Encadeada[[#This Row],[Horas]]+AT240)","v":1026.1190000000001},{"$f":"IF(MONTH(Serie_Encadeada[[#This Row],[Período]])=1,Serie_Encadeada[[#This Row],[Massa Real]],Serie_Encadeada[[#This Row],[Massa Real]]+AU240)","v":1187.2355},{"$f":"IF(MONTH(Serie_Encadeada[[#This Row],[Período]])=1,Serie_Encadeada[[#This Row],[RMR Real]],Serie_Encadeada[[#This Row],[RMR Real]]+AV240)","v":1083.8857},{"$f":"IF(MONTH(Serie_Encadeada[[#This Row],[Período]])=1,Serie_Encadeada[[#This Row],[UCI]],Serie_Encadeada[[#This Row],[UCI]]+AW240)","v":832.55689999999993},{"$f":"AW241/MONTH(AQ241)","v":83.255689999999987},"2018-05-01",{"$f":"SUM(C230:C241)","v":1283.4322},{"$f":"SUM(D230:D241)","v":1313.7986000000003},{"$f":"SUM(E230:E241)","v":1225.9380000000001},{"$f":"SUM(F230:F241)","v":1480.9060999999999},{"$f":"SUM(G230:G241)","v":1352.8964999999998},{"$f":"SUM(H230:H241)/12","v":82.636333333333326}]
["2022-11-01",{"$f":"MONTH(Serie_Encadeada[[#This Row],[Período]])&YEAR(Serie_Encadeada[[#This Row],[Período]])","v":"112022"},110.47020000000001,109.994,101.0367,137.98070000000001,125.4438,83.188299999999998,null,"2022-11-01",-3.1155227121640725,0.24652877460161077,-0.92819118424291391,15.879277215283434,15.594352045277988,0.61129999999999995,null,"2022-11-01",7.7993629827396527,0.37221873942041733,-0.71771721902265373,7.3231875400573907,6.9251180325828727,1.1029999999999944,null,"2022-11-01",4.2472768898868383,0.49420719501378718,1.1309762214432089,2.6778588193600839,2.111881934422863,9.5172727272739621E-2,null,"2022-11-01",4.3606039739825784,0.84346060018980273,1.155203086882318,2.1169068808878206,1.0449565164453716,-0.38167500000000132,null,null,"2022-11-01",{"$f":"IF(MONTH(Serie_Encadeada[[#This Row],[Período]])=1,Serie_Encadeada[[#This Row],[Fat.real]],Serie_Encadeada[[#This Row],[Fat.real]]+AR241)","v":1183.8841999999997},{"$f":"IF(MONTH(Serie_Encadeada[[#This Row],[Período]])=1,Serie_Encadeada[[#This Row],[Emprego]],Serie_Encadeada[[#This Row],[Emprego]]+AS241)","v":1205.3639000000001},{"$f":"IF(MONTH(Serie_Encadeada[[#This Row],[Período]])=1,Serie_Encadeada[[#This Row],[Horas]],Serie_Encadeada[[#This Row],[Horas]]+AT241)","v":1127.1557000000003},{"$f":"IF(MONTH(Serie_Encadeada[[#This Row],[Período]])=1,Serie_Encadeada[[#This Row],[Massa Real]],Serie_Encadeada[[#This Row],[Massa Real]]+AU241)","v":1325.2162000000001},{"$f":"IF(MONTH(Serie_Encadeada[[#This Row],[Período]])=1,Serie_Encadeada[[#This Row],[RMR Real]],Serie_Encadeada[[#This Row],[RMR Real]]+AV241)","v":1209.3295000000001},{"$f":"IF(MONTH(Serie_Encadeada[[#This Row],[Período]])=1,Serie_Encadeada[[#This Row],[UCI]],Serie_Encadeada[[#This Row],[UCI]]+AW241)","v":915.74519999999995},{"$f":"AW242/MONTH(AQ242)","v":83.249563636363632},"2018-05-01",{"$f":"SUM(C231:C242)","v":1291.4248},{"$f":"SUM(D231:D242)","v":1314.2065},{"$f":"SUM(E231:E242)","v":1225.2076000000002},{"$f":"SUM(F231:F242)","v":1490.3212000000001},{"$f":"SUM(G231:G242)","v":1361.0210000000002},{"$f":"SUM(H231:H242)/12","v":82.728249999999989}]
["2022-12-01",{"$f":"MONTH(Serie_Encadeada[[#This Row],[Período]])&YEAR(Serie_Encadeada[[#This Row],[Período]])","v":"122022"},106.80419999999999,109.63120000000001,96.42,180.26929999999999,164.4324,79.948499999999996,null,"2022-12-01",-3.3185420140454265,-0.32983617288215078,-4.5693297583947166,30.648199349619166,31.080531680322188,-3.2398000000000025,null,"2022-12-01",-0.68476463772752183,0.72453249003607267,-1.6643226699329656,9.1846400775264208,8.3992181499952281,2.9547000000000025,null,"2022-12-01",3.8206369964508959,0.5133691687123606,0.90494632906438577,3.415825679423794,2.8257506532887269,0.33346666666668057,null,"2022-12-01",3.8206369964508959,0.5133691687123606,0.90494632906438577,3.415825679423794,2.8257506532887269,0.33346666666668057,null,null,"2022-12-01",{"$f":"IF(MONTH(Serie_Encadeada[[#This Row],[Período]])=1,Serie_Encadeada[[#This Row],[Fat.real]],Serie_Encadeada[[#This Row],[Fat.real]]+AR242)","v":1290.6883999999998},{"$f":"IF(MONTH(Serie_Encadeada[[#This Row],[Período]])=1,Serie_Encadeada[[#This Row],[Emprego]],Serie_Encadeada[[#This Row],[Emprego]]+AS242)","v":1314.9951000000001},{"$f":"IF(MONTH(Serie_Encadeada[[#This Row],[Período]])=1,Serie_Encadeada[[#This Row],[Horas]],Serie_Encadeada[[#This Row],[Horas]]+AT242)","v":1223.5757000000003},{"$f":"IF(MONTH(Serie_Encadeada[[#This Row],[Período]])=1,Serie_Encadeada[[#This Row],[Massa Real]],Serie_Encadeada[[#This Row],[Massa Real]]+AU242)","v":1505.4855},{"$f":"IF(MONTH(Serie_Encadeada[[#This Row],[Período]])=1,Serie_Encadeada[[#This Row],[RMR Real]],Serie_Encadeada[[#This Row],[RMR Real]]+AV242)","v":1373.7619},{"$f":"IF(MONTH(Serie_Encadeada[[#This Row],[Período]])=1,Serie_Encadeada[[#This Row],[UCI]],Serie_Encadeada[[#This Row],[UCI]]+AW242)","v":995.69369999999992},{"$f":"AW243/MONTH(AQ243)","v":82.974474999999998},"2018-05-01",{"$f":"SUM(C232:C243)","v":1290.6883999999998},{"$f":"SUM(D232:D243)","v":1314.9951000000001},{"$f":"SUM(E232:E243)","v":1223.5757000000003},{"$f":"SUM(F232:F243)","v":1505.4855},{"$f":"SUM(G232:G243)","v":1373.7619},{"$f":"SUM(H232:H243)/12","v":82.974474999999998}]
["2023-01-01",{"$f":"MONTH(Serie_Encadeada[[#This Row],[Período]])&YEAR(Serie_Encadeada[[#This Row],[Período]])","v":"12023"},97.357600000000005,109.56,99.121099999999998,130.7268,119.3198,80.0154,null,"2023-01-01",-8.8447832575872383,-6.4945015652482674E-2,2.8013897531632406,-27.482494246108459,-27.435347291652985,6.6900000000003956E-2,null,"2023-01-01",8.638514731169959,-9.6110532583661798E-2,2.6011249562666543,10.473196516624622,10.579486785024852,-1.8045000000000044,null,"2023-01-01",8.638514731169959,-9.6110532583661798E-2,2.6011249562666543,10.473196516624622,10.579486785024852,-1.8045000000000044,null,"2023-01-01",4.743072386251038,0.15841591700246058,1.1700635815327864,4.4425480897253786,4.2244150769089055,0.17834999999999468,null,null,"2023-01-01",{"$f":"IF(MONTH(Serie_Encadeada[[#This Row],[Período]])=1,Serie_Encadeada[[#This Row],[Fat.real]],Serie_Encadeada[[#This Row],[Fat.real]]+AR243)","v":97.357600000000005},{"$f":"IF(MONTH(Serie_Encadeada[[#This Row],[Período]])=1,Serie_Encadeada[[#This Row],[Emprego]],Serie_Encadeada[[#This Row],[Emprego]]+AS243)","v":109.56},{"$f":"IF(MONTH(Serie_Encadeada[[#This Row],[Período]])=1,Serie_Encadeada[[#This Row],[Horas]],Serie_Encadeada[[#This Row],[Horas]]+AT243)","v":99.121099999999998},{"$f":"IF(MONTH(Serie_Encadeada[[#This Row],[Período]])=1,Serie_Encadeada[[#This Row],[Massa Real]],Serie_Encadeada[[#This Row],[Massa Real]]+AU243)","v":130.7268},{"$f":"IF(MONTH(Serie_Encadeada[[#This Row],[Período]])=1,Serie_Encadeada[[#This Row],[RMR Real]],Serie_Encadeada[[#This Row],[RMR Real]]+AV243)","v":119.3198},{"$f":"IF(MONTH(Serie_Encadeada[[#This Row],[Período]])=1,Serie_Encadeada[[#This Row],[UCI]],Serie_Encadeada[[#This Row],[UCI]]+AW243)","v":80.0154},{"$f":"AW244/MONTH(AQ244)","v":80.0154},"2018-05-01",{"$f":"SUM(C233:C244)","v":1298.4299000000001},{"$f":"SUM(D233:D244)","v":1314.8896999999999},{"$f":"SUM(E233:E244)","v":1226.0886},{"$f":"SUM(F233:F244)","v":1517.8788},{"$f":"SUM(G233:G244)","v":1385.1776},{"$f":"SUM(H233:H244)/12","v":82.824099999999987}]
["2023-02-01",{"$f":"MONTH(Serie_Encadeada[[#This Row],[Período]])&YEAR(Serie_Encadeada[[#This Row],[Período]])","v":"22023"},96.380200000000002,110.1884,96.663200000000003,126.6618,114.9502,79.138199999999998,null,"2023-02-01",-1.0039277878665895,0.57356699525374144,-2.4796940308370217,-3.1095383655073006,-3.6620912874476872,-0.87720000000000198,null,"2023-02-01",14.807627937338381,0.95347863491397533,-2.6554857447273439,-0.50852569963522243,-1.4482241849666577,-3.3994,null,"2023-02-01",11.622362521562467,0.42744241546780504,-6.3294919102455188E-2,4.7817012270260859,4.3316773809974407,-2.6019500000000164,null,"2023-02-01",6.4160685031814859,7.7541381514233107E-2,0.76302072695215351,4.0988734953849306,3.9711995483696851,-0.10258333333332814,null,null,"2023-02-01",{"$f":"IF(MONTH(Serie_Encadeada[[#This Row],[Período]])=1,Serie_Encadeada[[#This Row],[Fat.real]],Serie_Encadeada[[#This Row],[Fat.real]]+AR244)","v":193.73779999999999},{"$f":"IF(MONTH(Serie_Encadeada[[#This Row],[Período]])=1,Serie_Encadeada[[#This Row],[Emprego]],Serie_Encadeada[[#This Row],[Emprego]]+AS244)","v":219.7484},{"$f":"IF(MONTH(Serie_Encadeada[[#This Row],[Período]])=1,Serie_Encadeada[[#This Row],[Horas]],Serie_Encadeada[[#This Row],[Horas]]+AT244)","v":195.7843},{"$f":"IF(MONTH(Serie_Encadeada[[#This Row],[Período]])=1,Serie_Encadeada[[#This Row],[Massa Real]],Serie_Encadeada[[#This Row],[Massa Real]]+AU244)","v":257.3886},{"$f":"IF(MONTH(Serie_Encadeada[[#This Row],[Período]])=1,Serie_Encadeada[[#This Row],[RMR Real]],Serie_Encadeada[[#This Row],[RMR Real]]+AV244)","v":234.26999999999998},{"$f":"IF(MONTH(Serie_Encadeada[[#This Row],[Período]])=1,Serie_Encadeada[[#This Row],[UCI]],Serie_Encadeada[[#This Row],[UCI]]+AW244)","v":159.15359999999998},{"$f":"AW245/MONTH(AQ245)","v":79.576799999999992},"2018-05-01",{"$f":"SUM(C234:C245)","v":1310.8608000000002},{"$f":"SUM(D234:D245)","v":1315.9304},{"$f":"SUM(E234:E245)","v":1223.4517000000001},{"$f":"SUM(F234:F245)","v":1517.2314000000001},{"$f":"SUM(G234:G245)","v":1383.4884},{"$f":"SUM(H234:H245)/12","v":82.540816666666657}]

{"sheet":"Faturamento_MG_setores","index":4,"n_rows":245,"n_cols":15,"rows_kept":245,"cut":false,"hidden":false,"merged":[]}
[null,null,"Base 2006=100"]
[null,null,"Faturamento"]
["Período","Mês","Indústria Geral","Indústria Extrativa","Indústria de Transformação","10-Alimentos","11-Bebidas","13-Produtos têxteis","17-Celulose e papel","19-Coque e derivados de petróleo","23-Prod. minerais não metálicos","24-Metalurgia","25-Produtos de metal","27- Materiais elétricos","29-Veículos automotores"]
["2003-01-01",{"$f":"MONTH(Indice_faturamento[[#This Row],[Período]])&YEAR(Indice_faturamento[[#This Row],[Período]])","v":"12003"},83.442400000000006,76.778899999999993,84.180599999999998,95.596800000000002,58.252600000000001,90.016999999999996,56.853299999999997,98.277799999999999,86.306799999999996,94.6785,115.4331,75.244399999999999,75.028300000000002]
["2003-02-01",{"$f":"MONTH(Indice_faturamento[[#This Row],[Período]])&YEAR(Indice_faturamento[[#This Row],[Período]])","v":"22003"},87.403800000000004,89.003299999999996,87.226600000000005,89.705600000000004,77.416499999999999,87.79,112.5804,84.870400000000004,90.709400000000002,91.464100000000002,89.409899999999993,91.114900000000006,96.941699999999997]
["2003-03-01",{"$f":"MONTH(Indice_faturamento[[#This Row],[Período]])&YEAR(Indice_faturamento[[#This Row],[Período]])","v":"32003"},85.1541,70.665000000000006,86.759200000000007,88.103999999999999,63.626399999999997,89.884299999999996,140.38910000000001,83.075500000000005,87.147300000000001,100.6991,58.033200000000001,95.860799999999998,72.364999999999995]
["2003-04-01",{"$f":"MONTH(Indice_faturamento[[#This Row],[Período]])&YEAR(Indice_faturamento[[#This Row],[Período]])","v":"42003"},78.085300000000004,73.900899999999993,78.5488,84.163300000000007,61.073999999999998,94.378500000000003,51.541899999999998,94.552000000000007,85.197900000000004,86.878100000000003,79.116500000000002,92.398700000000005,50.978299999999997]
["2003-05-01",{"$f":"MONTH(Indice_faturamento[[#This Row],[Período]])&YEAR(Indice_faturamento[[#This Row],[Período]])","v":"52003"},87.612799999999993,74.918400000000005,89.019099999999995,94.837000000000003,66.019099999999995,101.23609999999999,146.24100000000001,102.0128,86.532399999999996,99.177099999999996,65.159700000000001,86.326599999999999,69.602599999999995]
["2003-06-01",{"$f":"MONTH(Indice_faturamento[[#This Row],[Período]])&YEAR(Indice_faturamento[[#This Row],[Período]])","v":"62003"},82.232399999999998,71.8626,83.381200000000007,84.079899999999995,60.8,103.3777,83.948599999999999,99.654799999999994,82.28,93.691599999999994,62.462699999999998,90.137799999999999,59.632899999999999]
["2003-07-01",{"$f":"MONTH(Indice_faturamento[[#This Row],[Período]])&YEAR(Indice_faturamento[[#This Row],[Período]])","v":"72003"},85.618700000000004,76.284300000000002,86.652699999999996,92.789299999999997,63.696199999999997,114.3202,92.271900000000002,103.9,92.412300000000002,86.572999999999993,62.714100000000002,99.927999999999997,66.399299999999997]
["2003-08-01",{"$f":"MONTH(Indice_faturamento[[#This Row],[Período]])&YEAR(Indice_faturamento[[#This Row],[Período]])","v":"82003"},89.653999999999996,83.877099999999999,90.293999999999997,88.986900000000006,64.625399999999999,111.6009,122.7628,100.5868,88.658799999999999,93.170299999999997,71.126099999999994,100.0372,74.564400000000006]
["2003-09-01",{"$f":"MONTH(Indice_faturamento[[#This Row],[Período]])&YEAR(Indice_faturamento[[#This Row],[Período]])","v":"92003"},92.134200000000007,83.076400000000007,93.137600000000006,92.338399999999993,65.064700000000002,120.0252,100.4747,101.84950000000001,83.523899999999998,97.844999999999999,88.227999999999994,108.48180000000001,70.299599999999998]
["2003-10-01",{"$f":"MONTH(Indice_faturamento[[#This Row],[Período]])&YEAR(Indice_faturamento[[#This Row],[Período]])","v":"102003"},96.265299999999996,85.569800000000001,97.450100000000006,94.546099999999996,68.701899999999995,130.4332,74.959400000000002,110.6541,93.406499999999994,99.189400000000006,100.6812,94.788899999999998,83.513300000000001]
["2003-11-01",{"$f":"MONTH(Indice_faturamento[[#This Row],[Período]])&YEAR(Indice_faturamento[[#This Row],[Período]])","v":"112003"},92.556399999999996,68.281199999999998,95.245599999999996,81.512799999999999,66.129099999999994,104.17959999999999,96.316699999999997,95.6858,84.808499999999995,100.1297,188.95580000000001,97.382000000000005,77.036000000000001]
["2003-12-01",{"$f":"MONTH(Indice_faturamento[[#This Row],[Período]])&YEAR(Indice_faturamento[[#This Row],[Período]])","v":"122003"},93.462500000000006,68.903599999999997,96.183199999999999,87.278400000000005,94.394599999999997,84.156000000000006,132.04339999999999,103.0573,84.140100000000004,104.7433,165.97569999999999,92.308899999999994,83.7624]
["2004-01-01",{"$f":"MONTH(Indice_faturamento[[#This Row],[Período]])&YEAR(Indice_faturamento[[#This Row],[Período]])","v":"12004"},79.651799999999994,60.8354,81.7363,83.2089,58.403700000000001,94.959900000000005,69.348799999999997,97.616500000000002,84.386099999999999,88.619100000000003,62.959299999999999,78.732100000000003,65.225899999999996]
["2004-02-01",{"$f":"MONTH(Indice_faturamento[[#This Row],[Período]])&YEAR(Indice_faturamento[[#This Row],[Período]])","v":"22004"},81.400199999999998,67.977800000000002,82.887200000000007,78.889300000000006,58.636800000000001,88.201499999999996,113.6811,86.034999999999997,75.383399999999995,92.23,73.500399999999999,75.332800000000006,77.232600000000005]
["2004-03-01",{"$f":"MONTH(Indice_faturamento[[#This Row],[Período]])&YEAR(Indice_faturamento[[#This Row],[Período]])","v":"32004"},96.003399999999999,77.409000000000006,98.063299999999998,99.691299999999998,60.782699999999998,113.3351,113.8279,101.443,87.752499999999998,107.0908,69.078299999999999,117.0599,92.358999999999995]
["2004-04-01",{"$f":"MONTH(Indice_faturamento[[#This Row],[Período]])&YEAR(Indice_faturamento[[#This Row],[Período]])","v":"42004"},88.217399999999998,67.122699999999995,90.554299999999998,84.902199999999993,64.113600000000005,106.065,101.91840000000001,102.32640000000001,83.791899999999998,98.367400000000004,78.512,90.741200000000006,85.682900000000004]
["2004-05-01",{"$f":"MONTH(Indice_faturamento[[#This Row],[Período]])&YEAR(Indice_faturamento[[#This Row],[Período]])","v":"52004"},97.567800000000005,70.124799999999993,100.608,95.275199999999998,59.1496,117.97069999999999,117.3319,109.8903,90.017600000000002,109.5817,97.815799999999996,99.066000000000003,89.335300000000004]
["2004-06-01",{"$f":"MONTH(Indice_faturamento[[#This Row],[Período]])&YEAR(Indice_faturamento[[#This Row],[Período]])","v":"62004"},99.751400000000004,79.3185,102.015,95.477099999999993,60.676499999999997,124.65940000000001,112.41200000000001,105.5642,87.902900000000002,106.78319999999999,128.3253,103.1014,93.799099999999996]
["2004-07-01",{"$f":"MONTH(Indice_faturamento[[#This Row],[Período]])&YEAR(Indice_faturamento[[#This Row],[Período]])","v":"72004"},97.974400000000003,77.623599999999996,100.22880000000001,91.167000000000002,61.764499999999998,128.95959999999999,112.87430000000001,101.57769999999999,92.680300000000003,104.9171,117.6153,107.3937,89.891099999999994]
["2004-08-01",{"$f":"MONTH(Indice_faturamento[[#This Row],[Período]])&YEAR(Indice_faturamento[[#This Row],[Período]])","v":"82004"},100.0955,73.545699999999997,103.0367,93.188000000000002,67.5398,124.0269,103.2043,99.825400000000002,99.798900000000003,101.52330000000001,145.38499999999999,102.806,99.392600000000002]
["2004-09-01",{"$f":"MONTH(Indice_faturamento[[#This Row],[Período]])&YEAR(Indice_faturamento[[#This Row],[Período]])","v":"92004"},100.8154,75.4983,103.62009999999999,99.101900000000001,78.305999999999997,122.52800000000001,109.643,95.905600000000007,96.963300000000004,104.84650000000001,88.462999999999994,107.9213,97.191699999999997]
["2004-10-01",{"$f":"MONTH(Indice_faturamento[[#This Row],[Período]])&YEAR(Indice_faturamento[[#This Row],[Período]])","v":"102004"},100.1382,77.860399999999998,102.6062,99.886399999999995,76.999499999999998,117.69629999999999,88.327399999999997,104.58839999999999,97.293800000000005,94.072999999999993,123.0063,90.862099999999998,98.293899999999994]
["2004-11-01",{"$f":"MONTH(Indice_faturamento[[#This Row],[Período]])&YEAR(Indice_faturamento[[#This Row],[Período]])","v":"112004"},96.011200000000002,82.287099999999995,97.531499999999994,97.545400000000001,75.619,103.4246,97.531800000000004,97.915400000000005,90.224100000000007,94.6738,87.721199999999996,107.714,95.432500000000005]
["2004-12-01",{"$f":"MONTH(Indice_faturamento[[#This Row],[Período]])&YEAR(Indice_faturamento[[#This Row],[Período]])","v":"122004"},92.653000000000006,68.213399999999993,95.360500000000002,102.8139,85.260999999999996,92.404200000000003,106.2116,97.591200000000001,103.00539999999999,97.748500000000007,96.781599999999997,92.172899999999998,90.4923]
["2005-01-01",{"$f":"MONTH(Indice_faturamento[[#This Row],[Período]])&YEAR(Indice_faturamento[[#This Row],[Período]])","v":"12005"},81.707599999999999,68.747299999999996,83.1434,89.359300000000005,61.598700000000001,89.853399999999993,79.132499999999993,88.376199999999997,94.076099999999997,81.980999999999995,88.518799999999999,82.724599999999995,81.462100000000007]
["2005-02-01",{"$f":"MONTH(Indice_faturamento[[#This Row],[Período]])&YEAR(Indice_faturamento[[#This Row],[Período]])","v":"22005"},83.928899999999999,62.704000000000001,86.280199999999994,84.686199999999999,63.087699999999998,86.332999999999998,90.664900000000003,87.1511,93.941599999999994,89.565399999999997,60.150399999999998,96.766599999999997,99.461799999999997]
["2005-03-01",{"$f":"MONTH(Indice_faturamento[[#This Row],[Período]])&YEAR(Indice_faturamento[[#This Row],[Período]])","v":"32005"},96.3506,72.1614,99.030299999999997,96.8553,78.5107,111.73180000000001,128.41,99.205299999999994,98.045900000000003,101.2353,86.538200000000003,111.5022,100.7154]
["2005-04-01",{"$f":"MONTH(Indice_faturamento[[#This Row],[Período]])&YEAR(Indice_faturamento[[#This Row],[Período]])","v":"42005"},92.560400000000001,99.650300000000001,91.774900000000002,94.338399999999993,75.702799999999996,106.7458,95.756600000000006,100.8813,98.364099999999993,92.098100000000002,66.350800000000007,99.352999999999994,93.075199999999995]
["2005-05-01",{"$f":"MONTH(Indice_faturamento[[#This Row],[Período]])&YEAR(Indice_faturamento[[#This Row],[Período]])","v":"52005"},98.379000000000005,114.35420000000001,96.609200000000001,99.834299999999999,68.501599999999996,104.5934,96.643500000000003,90.203800000000001,103.67230000000001,94.449700000000007,88.049099999999996,103.2184,103.27979999999999]
["2005-06-01",{"$f":"MONTH(Indice_faturamento[[#This Row],[Período]])&YEAR(Indice_faturamento[[#This Row],[Período]])","v":"62005"},96.332599999999999,99.767399999999995,95.952100000000002,108.6601,67.986699999999999,111.3458,96.242699999999999,89.141999999999996,107.40300000000001,94.749799999999993,89.460999999999999,105.3291,95.433400000000006]
["2005-07-01",{"$f":"MONTH(Indice_faturamento[[#This Row],[Período]])&YEAR(Indice_faturamento[[#This Row],[Período]])","v":"72005"},94.965199999999996,94.217600000000004,95.047799999999995,97.585899999999995,74.232299999999995,101.1092,96.825999999999993,107.0998,103.7124,92.221400000000003,78.905100000000004,97.008099999999999,92.6036]
["2005-08-01",{"$f":"MONTH(Indice_faturamento[[#This Row],[Período]])&YEAR(Indice_faturamento[[#This Row],[Período]])","v":"82005"},101.2597,99.257000000000005,101.4808,113.86199999999999,78.9054,110.8447,128.55410000000001,113.1493,105.0638,92.453999999999994,75.531499999999994,105.10639999999999,92.393699999999995]
["2005-09-01",{"$f":"MONTH(Indice_faturamento[[#This Row],[Período]])&YEAR(Indice_faturamento[[#This Row],[Período]])","v":"92005"},100.63160000000001,91.657600000000002,101.62220000000001,113.4405,85.590400000000002,117.8319,78.211500000000001,112.3053,100.15649999999999,89.703400000000002,95.2059,102.7491,91.6417]
["2005-10-01",{"$f":"MONTH(Indice_faturamento[[#This Row],[Período]])&YEAR(Indice_faturamento[[#This Row],[Período]])","v":"102005"},98.665899999999993,92.367699999999999,99.361199999999997,109.85339999999999,94.6999,102.4973,108.88639999999999,107.8199,99.728899999999996,89.044300000000007,64.195700000000002,96.417100000000005,85.998599999999996]
["2005-11-01",{"$f":"MONTH(Indice_faturamento[[#This Row],[Período]])&YEAR(Indice_faturamento[[#This Row],[Período]])","v":"112005"},96.159099999999995,89.528999999999996,96.891000000000005,106.7694,90.638599999999997,98.263400000000004,98.3125,100.0635,109.13809999999999,93.446600000000004,70.628699999999995,97.332300000000004,88.194299999999998]
["2005-12-01",{"$f":"MONTH(Indice_faturamento[[#This Row],[Período]])&YEAR(Indice_faturamento[[#This Row],[Período]])","v":"122005"},95.680400000000006,88.127499999999998,96.514099999999999,106.0205,118.15689999999999,78.359099999999998,106.4847,102.2624,99.772599999999997,93.325599999999994,124.05970000000001,111.0712,86.354200000000006]
["2006-01-01",{"$f":"MONTH(Indice_faturamento[[#This Row],[Período]])&YEAR(Indice_faturamento[[#This Row],[Período]])","v":"12006"},88.099599999999995,80.901200000000003,88.894199999999998,92.136399999999995,91.350200000000001,87.138400000000004,77.138199999999998,99.112300000000005,99.8643,95.911100000000005,61.960299999999997,101.7064,79.334999999999994]
["2006-02-01",{"$f":"MONTH(Indice_faturamento[[#This Row],[Período]])&YEAR(Indice_faturamento[[#This Row],[Período]])","v":"22006"},87.458500000000001,87.6066,87.442099999999996,94.368700000000004,105.7345,92.35,117.8703,84.051400000000001,94.086100000000002,84.054000000000002,104.62260000000001,99.688999999999993,80.894000000000005]
["2006-03-01",{"$f":"MONTH(Indice_faturamento[[#This Row],[Período]])&YEAR(Indice_faturamento[[#This Row],[Período]])","v":"32006"},100.913,93.887699999999995,101.6885,100.387,93.278499999999994,106.9203,85.033199999999994,97.424999999999997,105.23779999999999,103.7984,69.683400000000006,120.3323,98.677000000000007]
["2006-04-01",{"$f":"MONTH(Indice_faturamento[[#This Row],[Período]])&YEAR(Indice_faturamento[[#This Row],[Período]])","v":"42006"},91.707899999999995,89.073499999999996,91.998699999999999,86.7376,92.252099999999999,94.490600000000001,94.198800000000006,88.993899999999996,96.004400000000004,97.080600000000004,117.8656,116.9713,84.0154]
["2006-05-01",{"$f":"MONTH(Indice_faturamento[[#This Row],[Período]])&YEAR(Indice_faturamento[[#This Row],[Período]])","v":"52006"},102.1395,100.67610000000001,102.301,101.0059,88.403700000000001,103.4922,92.549099999999996,94.422399999999996,105.5337,98.425700000000006,159.0359,105.47499999999999,103.7647]
["2006-06-01",{"$f":"MONTH(Indice_faturamento[[#This Row],[Período]])&YEAR(Indice_faturamento[[#This Row],[Período]])","v":"62006"},100.8451,106.7405,100.1943,101.82380000000001,92.064700000000002,99.411699999999996,108.4953,98.919600000000003,95.130099999999999,102.6832,65.356700000000004,99.828999999999994,102.5663]
["2006-07-01",{"$f":"MONTH(Indice_faturamento[[#This Row],[Período]])&YEAR(Indice_faturamento[[#This Row],[Período]])","v":"72006"},100.5656,108.09950000000001,99.733900000000006,100.9327,84.426599999999993,100.1589,74.783000000000001,105.7437,97.176199999999994,98.852800000000002,72.156599999999997,109.377,102.4332]
["2006-08-01",{"$f":"MONTH(Indice_faturamento[[#This Row],[Período]])&YEAR(Indice_faturamento[[#This Row],[Período]])","v":"82006"},107.37269999999999,110.63039999999999,107.01309999999999,108.6314,103.4529,104.8432,118.1041,109.4734,108.1408,105.03100000000001,77.790199999999999,90.630300000000005,113.73569999999999]
["2006-09-01",{"$f":"MONTH(Indice_faturamento[[#This Row],[Período]])&YEAR(Indice_faturamento[[#This Row],[Período]])","v":"92006"},103.5603,111.95610000000001,102.6336,106.387,103.2645,107.34820000000001,108.0946,108.8327,101.2633,102.2188,65.969399999999993,95.710400000000007,106.8883]
["2006-10-01",{"$f":"MONTH(Indice_faturamento[[#This Row],[Período]])&YEAR(Indice_faturamento[[#This Row],[Período]])","v":"102006"},108.33369999999999,108.67489999999999,108.29600000000001,105.7409,104.79989999999999,110.4139,84.177199999999999,103.465,99.503699999999995,99.791499999999999,220.27180000000001,88.566599999999994,108.1711]
["2006-11-01",{"$f":"MONTH(Indice_faturamento[[#This Row],[Período]])&YEAR(Indice_faturamento[[#This Row],[Período]])","v":"112006"},108.3523,99.226200000000006,109.3597,102.5775,106.8573,103.8984,107.7214,105.60420000000001,104.85939999999999,106.9764,120.2486,89.964600000000004,118.8476]
["2006-12-01",{"$f":"MONTH(Indice_faturamento[[#This Row],[Período]])&YEAR(Indice_faturamento[[#This Row],[Período]])","v":"122006"},99.758700000000005,98.484300000000005,99.8994,98.703699999999998,133.4973,89.405500000000004,131.87780000000001,104.24120000000001,93.131500000000003,104.17319999999999,62.543900000000001,87.718500000000006,100.32989999999999]
["2007-01-01",{"$f":"MONTH(Indice_faturamento[[#This Row],[Período]])&YEAR(Indice_faturamento[[#This Row],[Período]])","v":"12007"},95.017799999999994,79.724699999999999,96.706000000000003,99.310299999999998,105.5885,88.721999999999994,103.788,102.0177,102.3445,100.9914,72.476699999999994,82.974599999999995,100.6015]
["2007-02-01",{"$f":"MONTH(Indice_faturamento[[#This Row],[Período]])&YEAR(Indice_faturamento[[#This Row],[Período]])","v":"22007"},92.772400000000005,91.101500000000001,92.956900000000005,90.699600000000004,100.4447,94.969800000000006,64.350499999999997,84.901300000000006,94.237399999999994,94.877399999999994,107.9355,83.558800000000005,98.093900000000005]
["2007-03-01",{"$f":"MONTH(Indice_faturamento[[#This Row],[Período]])&YEAR(Indice_faturamento[[#This Row],[Período]])","v":"32007"},109.08580000000001,99.608500000000006,110.13200000000001,106.4453,107.363,115.5017,145.03210000000001,106.70269999999999,103.01949999999999,107.71559999999999,97.023499999999999,111.4088,122.2975]
["2007-04-01",{"$f":"MONTH(Indice_faturamento[[#This Row],[Período]])&YEAR(Indice_faturamento[[#This Row],[Período]])","v":"42007"},103.6996,102.2452,103.86020000000001,93.907600000000002,105.1015,103.1195,97.566699999999997,109.2499,96.872699999999995,98.480699999999999,73.736000000000004,103.4607,124.5827]
["2007-05-01",{"$f":"MONTH(Indice_faturamento[[#This Row],[Período]])&YEAR(Indice_faturamento[[#This Row],[Período]])","v":"52007"},114.4828,96.547899999999998,116.46259999999999,109.08880000000001,101.456,119.6397,120.11539999999999,105.4427,112.49209999999999,107.999,131.09649999999999,100.0895,137.85659999999999]
["2007-06-01",{"$f":"MONTH(Indice_faturamento[[#This Row],[Período]])&YEAR(Indice_faturamento[[#This Row],[Período]])","v":"62007"},110.4438,112.8805,110.1748,102.5228,97.960300000000004,110.31270000000001,112.9182,105.76560000000001,95.623699999999999,110.0254,87.820899999999995,87.215900000000005,131.21080000000001]
["2007-07-01",{"$f":"MONTH(Indice_faturamento[[#This Row],[Período]])&YEAR(Indice_faturamento[[#This Row],[Período]])","v":"72007"},115.4569,114.88209999999999,115.5204,103.57089999999999,144.11840000000001,114.651,106.82259999999999,106.56440000000001,104.43380000000001,112.3122,101.089,87.913300000000007,142.14359999999999]
["2007-08-01",{"$f":"MONTH(Indice_faturamento[[#This Row],[Período]])&YEAR(Indice_faturamento[[#This Row],[Período]])","v":"82007"},127.45650000000001,129.28919999999999,127.2542,112.3248,141.3399,121.1271,128.30350000000001,112.17829999999999,107.4789,114.8352,189.9443,94.768299999999996,155.3107]
["2007-09-01",{"$f":"MONTH(Indice_faturamento[[#This Row],[Período]])&YEAR(Indice_faturamento[[#This Row],[Período]])","v":"92007"},113.13890000000001,105.66719999999999,113.9637,103.11839999999999,114.1611,116.2366,128.23089999999999,92.096199999999996,115.5078,109.0838,66.882999999999996,96.223100000000002,139.10220000000001]
["2007-10-01",{"$f":"MONTH(Indice_faturamento[[#This Row],[Período]])&YEAR(Indice_faturamento[[#This Row],[Período]])","v":"102007"},124.5371,112.6793,125.846,110.3745,127.8691,122.57510000000001,121.5926,105.0446,116.9062,106.1504,144.76679999999999,95.332999999999998,158.3126]
["2007-11-01",{"$f":"MONTH(Indice_faturamento[[#This Row],[Período]])&YEAR(Indice_faturamento[[#This Row],[Período]])","v":"112007"},124.4153,108.8751,126.13079999999999,108.2488,125.76130000000001,110.1348,92.353399999999993,111.3678,108.69029999999999,114.4962,150.58629999999999,84.182400000000001,161.2927]
["2007-12-01",{"$f":"MONTH(Indice_faturamento[[#This Row],[Período]])&YEAR(Indice_faturamento[[#This Row],[Período]])","v":"122007"},113.1956,122.1686,112.2051,99.017200000000003,167.36089999999999,86.029600000000002,126.36799999999999,106.1895,96.853800000000007,110.14709999999999,159.9991,89.252200000000002,127.5826]
["2008-01-01",{"$f":"MONTH(Indice_faturamento[[#This Row],[Período]])&YEAR(Indice_faturamento[[#This Row],[Período]])","v":"12008"},116.0009,93.752399999999994,118.4569,102.95189999999999,182.91759999999999,100.0784,105.3428,109.1121,120.4851,109.1797,82.411900000000003,97.564300000000003,164.14500000000001]
["2008-02-01",{"$f":"MONTH(Indice_faturamento[[#This Row],[Período]])&YEAR(Indice_faturamento[[#This Row],[Período]])","v":"22008"},117.9355,99.891599999999997,119.9273,95.314599999999999,146.64830000000001,102.3172,129.28129999999999,101.4466,104.7022,109.3921,114.182,93.998599999999996,177.23859999999999]
["2008-03-01",{"$f":"MONTH(Indice_faturamento[[#This Row],[Período]])&YEAR(Indice_faturamento[[#This Row],[Período]])","v":"32008"},125.97410000000001,105.961,128.1833,102.7812,130.86099999999999,110.2222,111.9081,103.4498,108.57599999999999,117.57859999999999,93.154200000000003,100.8633,195.3595]
["2008-04-01",{"$f":"MONTH(Indice_faturamento[[#This Row],[Período]])&YEAR(Indice_faturamento[[#This Row],[Período]])","v":"42008"},130.97909999999999,107.4804,133.57310000000001,102.2931,146.90020000000001,120.509,86.406999999999996,99.460599999999999,122.54600000000001,117.44750000000001,82.831400000000002,105.95869999999999,204.4699]
["2008-05-01",{"$f":"MONTH(Indice_faturamento[[#This Row],[Período]])&YEAR(Indice_faturamento[[#This Row],[Período]])","v":"52008"},134.4188,104.54179999999999,137.71690000000001,107.1073,142.71039999999999,130.70060000000001,128.5198,105.8698,110.65470000000001,121.9044,126.4045,102.11,206.33019999999999]
["2008-06-01",{"$f":"MONTH(Indice_faturamento[[#This Row],[Período]])&YEAR(Indice_faturamento[[#This Row],[Período]])","v":"62008"},136.702,122.3104,138.29069999999999,100.6751,131.738,130.35810000000001,98.128200000000007,107.89709999999999,118.47669999999999,122.8064,122.8265,92.526300000000006,211.43729999999999]
["2008-07-01",{"$f":"MONTH(Indice_faturamento[[#This Row],[Período]])&YEAR(Indice_faturamento[[#This Row],[Período]])","v":"72008"},143.12739999999999,134.95670000000001,144.02940000000001,110.8261,134.84639999999999,141.7706,103.90130000000001,109.7076,113.85850000000001,126.16889999999999,87.712000000000003,100.2213,216.08869999999999]
["2008-08-01",{"$f":"MONTH(Indice_faturamento[[#This Row],[Período]])&YEAR(Indice_faturamento[[#This Row],[Período]])","v":"82008"},137.7773,132.21369999999999,138.3914,108.0937,142.46379999999999,143.0438,117.6558,115.0485,111.9875,113.3494,161.52090000000001,89.820999999999998,215.48699999999999]
["2008-09-01",{"$f":"MONTH(Indice_faturamento[[#This Row],[Período]])&YEAR(Indice_faturamento[[#This Row],[Período]])","v":"92008"},139.1841,131.70150000000001,140.01,103.5432,152.86609999999999,138.898,101.9979,107.1176,119.7008,128.86439999999999,75.857100000000003,101.99420000000001,212.60749999999999]
["2008-10-01",{"$f":"MONTH(Indice_faturamento[[#This Row],[Período]])&YEAR(Indice_faturamento[[#This Row],[Período]])","v":"102008"},136.10640000000001,133.4032,136.40469999999999,110.0672,170.54689999999999,141.29560000000001,100.4314,93.755099999999999,146.2115,123.6127,158.5274,94.812100000000001,183.8887]
["2008-11-01",{"$f":"MONTH(Indice_faturamento[[#This Row],[Período]])&YEAR(Indice_faturamento[[#This Row],[Período]])","v":"112008"},100.87430000000001,55.892899999999997,105.8398,95.697699999999998,161.4417,115.42610000000001,103.6661,99.063900000000004,127.2829,84.837900000000005,126.179,89.916899999999998,122.3518]
["2008-12-01",{"$f":"MONTH(Indice_faturamento[[#This Row],[Período]])&YEAR(Indice_faturamento[[#This Row],[Período]])","v":"122008"},100.08759999999999,77.631399999999999,102.5665,94.867599999999996,171.85390000000001,85.724599999999995,109.20959999999999,101.3107,108.5656,58.598300000000002,72.860600000000005,98.421400000000006,178.89]
["2009-01-01",{"$f":"MONTH(Indice_faturamento[[#This Row],[Período]])&YEAR(Indice_faturamento[[#This Row],[Período]])","v":"12009"},91.298500000000004,72.808400000000006,93.339600000000004,94.480800000000002,134.5196,92.775599999999997,78.405600000000007,98.876999999999995,108.6751,61.164299999999997,85.019900000000007,77.569299999999998,143.5197]
["2009-02-01",{"$f":"MONTH(Indice_faturamento[[#This Row],[Período]])&YEAR(Indice_faturamento[[#This Row],[Período]])","v":"22009"},94.698300000000003,71.802899999999994,97.225700000000003,87.982900000000001,134.2585,85.0334,78.030500000000004,91.497100000000003,106.771,72.768699999999995,73.249200000000002,74.384900000000002,153.47110000000001]
["2009-03-01",{"$f":"MONTH(Indice_faturamento[[#This Row],[Período]])&YEAR(Indice_faturamento[[#This Row],[Período]])","v":"32009"},122.2385,90.425399999999996,125.7503,92.118899999999996,135.18129999999999,108.19459999999999,96.328900000000004,95.960999999999999,128.25989999999999,90.628399999999999,252.4366,103.2433,206.4222]
["2009-04-01",{"$f":"MONTH(Indice_faturamento[[#This Row],[Período]])&YEAR(Indice_faturamento[[#This Row],[Período]])","v":"42009"},108.8339,98.290199999999999,109.9978,86.587299999999999,139.16890000000001,105.5001,69.864000000000004,100.3432,122.80459999999999,90.424300000000002,68.495900000000006,86.323800000000006,178.4853]
["2009-05-01",{"$f":"MONTH(Indice_faturamento[[#This Row],[Período]])&YEAR(Indice_faturamento[[#This Row],[Período]])","v":"52009"},113.03879999999999,66.451499999999996,118.1815,96.776200000000003,133.48560000000001,111.8633,90.273200000000003,101.2516,129.309,90.796499999999995,102.7419,82.204700000000003,195.3723]
["2009-06-01",{"$f":"MONTH(Indice_faturamento[[#This Row],[Período]])&YEAR(Indice_faturamento[[#This Row],[Período]])","v":"62009"},116.8621,80.855500000000006,120.8368,93.832300000000004,130.0394,113.2467,81.379800000000003,100.2539,128.56780000000001,85.598200000000006,88.365499999999997,84.411500000000004,215.39080000000001]
["2009-07-01",{"$f":"MONTH(Indice_faturamento[[#This Row],[Período]])&YEAR(Indice_faturamento[[#This Row],[Período]])","v":"72009"},123.94629999999999,81.5702,128.6241,100.419,139.4205,117.0911,99.664699999999996,111.8973,148.03460000000001,97.024100000000004,63.124099999999999,89.064300000000003,217.76140000000001]
["2009-08-01",{"$f":"MONTH(Indice_faturamento[[#This Row],[Período]])&YEAR(Indice_faturamento[[#This Row],[Período]])","v":"82009"},121.45359999999999,81.037099999999995,125.9151,101.7714,123.9443,128.21369999999999,82.517700000000005,102.88890000000001,131.48580000000001,98.185000000000002,68.906899999999993,88.355900000000005,208.02690000000001]
["2009-09-01",{"$f":"MONTH(Indice_faturamento[[#This Row],[Período]])&YEAR(Indice_faturamento[[#This Row],[Período]])","v":"92009"},130.00049999999999,87.277100000000004,134.7166,99.811199999999999,140.89510000000001,123.35550000000001,80.085800000000006,99.859200000000001,147.4709,114.10769999999999,103.9603,88.174599999999998,224.4973]
["2009-10-01",{"$f":"MONTH(Indice_faturamento[[#This Row],[Período]])&YEAR(Indice_faturamento[[#This Row],[Período]])","v":"102009"},133.91210000000001,76.259399999999999,140.27629999999999,101.655,147.69820000000001,130.6309,100.29819999999999,115.8481,146.75399999999999,112.1405,139.8809,76.722399999999993,225.26769999999999]
["2009-11-01",{"$f":"MONTH(Indice_faturamento[[#This Row],[Período]])&YEAR(Indice_faturamento[[#This Row],[Período]])","v":"112009"},117.0711,73.760599999999997,121.85209999999999,91.129800000000003,144.04320000000001,115.6671,88.174599999999998,100.4312,131.95939999999999,86.203500000000005,79.303100000000001,86.405600000000007,197.1129]
["2009-12-01",{"$f":"MONTH(Indice_faturamento[[#This Row],[Período]])&YEAR(Indice_faturamento[[#This Row],[Período]])","v":"122009"},123.8211,92.132900000000006,127.31910000000001,108.77670000000001,160.31139999999999,98.239500000000007,114.3561,93.973500000000001,123.69459999999999,78.593400000000003,226.7603,80.308700000000002,189.5403]
["2010-01-01",{"$f":"MONTH(Indice_faturamento[[#This Row],[Período]])&YEAR(Indice_faturamento[[#This Row],[Período]])","v":"12010"},106.9254,77.893199999999993,110.1302,95.437799999999996,147.79849999999999,106.2248,109.194,94.261300000000006,122.8768,82.096100000000007,127.6784,78.092299999999994,160.4034]
["2010-02-01",{"$f":"MONTH(Indice_faturamento[[#This Row],[Período]])&YEAR(Indice_faturamento[[#This Row],[Período]])","v":"22010"},105.7157,68.488500000000002,109.82510000000001,81.954800000000006,141.19069999999999,108.2662,98.634399999999999,81.883600000000001,131.57769999999999,81.804400000000001,81.2149,77.452799999999996,177.76949999999999]
["2010-03-01",{"$f":"MONTH(Indice_faturamento[[#This Row],[Período]])&YEAR(Indice_faturamento[[#This Row],[Período]])","v":"32010"},133.6003,88.4542,138.5839,98.901499999999999,138.20089999999999,131.82980000000001,139.24180000000001,91.189899999999994,146.30099999999999,98.347700000000003,124.9546,105.5539,237.46449999999999]
["2010-04-01",{"$f":"MONTH(Indice_faturamento[[#This Row],[Período]])&YEAR(Indice_faturamento[[#This Row],[Período]])","v":"42010"},127.66589999999999,146.43209999999999,125.5943,87.444000000000003,132.75790000000001,119.9674,104.1553,101.38,142.65299999999999,88.442999999999998,75.2453,83.654700000000005,214.19]
["2010-05-01",{"$f":"MONTH(Indice_faturamento[[#This Row],[Período]])&YEAR(Indice_faturamento[[#This Row],[Período]])","v":"52010"},132.6301,108.8485,135.25530000000001,101.74209999999999,121.69880000000001,124.27970000000001,133.6738,102.60980000000001,145.67449999999999,102.2381,133.53020000000001,88.873199999999997,215.39779999999999]
["2010-06-01",{"$f":"MONTH(Indice_faturamento[[#This Row],[Período]])&YEAR(Indice_faturamento[[#This Row],[Período]])","v":"62010"},135.0504,100.804,138.83080000000001,109.05540000000001,129.1688,121.82810000000001,132.93340000000001,113.8026,144.58349999999999,101.51779999999999,189.52279999999999,93.878900000000002,214.02500000000001]
["2010-07-01",{"$f":"MONTH(Indice_faturamento[[#This Row],[Período]])&YEAR(Indice_faturamento[[#This Row],[Período]])","v":"72010"},135.92320000000001,109.5625,138.8331,118.08159999999999,131.17349999999999,130.32140000000001,117.63249999999999,121.63639999999999,152.7064,95.634500000000003,83.286299999999997,82.056299999999993,221.15960000000001]
["2010-08-01",{"$f":"MONTH(Indice_faturamento[[#This Row],[Período]])&YEAR(Indice_faturamento[[#This Row],[Período]])","v":"82010"},140.91489999999999,120.9233,143.1217,114.0428,134.52029999999999,141.3494,115.7042,113.5548,153.9,93.739400000000003,83.665599999999998,97.293499999999995,238.87309999999999]
["2010-09-01",{"$f":"MONTH(Indice_faturamento[[#This Row],[Período]])&YEAR(Indice_faturamento[[#This Row],[Período]])","v":"92010"},141.25399999999999,115.7548,144.06880000000001,105.0076,153.84569999999999,141.22800000000001,107.7114,122.8083,158.63980000000001,97.453900000000004,97.547899999999998,91.028400000000005,223.3664]
["2010-10-01",{"$f":"MONTH(Indice_faturamento[[#This Row],[Período]])&YEAR(Indice_faturamento[[#This Row],[Período]])","v":"102010"},132.61660000000001,103.4038,135.84129999999999,98.411100000000005,168.125,132.83840000000001,104.0962,118.7559,160.92269999999999,90.669700000000006,73.311599999999999,91.549000000000007,217.084]
["2010-11-01",{"$f":"MONTH(Indice_faturamento[[#This Row],[Período]])&YEAR(Indice_faturamento[[#This Row],[Período]])","v":"112010"},135.4768,101.1812,139.26259999999999,84.5334,161.9828,127.4461,126.30410000000001,98.889300000000006,152.09540000000001,106.208,85.412800000000004,100.1658,235.3903]
["2010-12-01",{"$f":"MONTH(Indice_faturamento[[#This Row],[Período]])&YEAR(Indice_faturamento[[#This Row],[Período]])","v":"122010"},133.4666,120.1178,134.9401,85.299599999999998,202.17939999999999,112.9697,117.9755,108.4974,152.65289999999999,73.582700000000003,277.43560000000002,82.5197,224.345]
["2011-01-01",{"$f":"MONTH(Indice_faturamento[[#This Row],[Período]])&YEAR(Indice_faturamento[[#This Row],[Período]])","v":"12011"},110.7529,84.900400000000005,113.6067,77.942099999999996,148.8741,114.572,102.2961,101.96769999999999,143.46940000000001,93.881600000000006,101.1691,78.634200000000007,163.5247]
["2011-02-01",{"$f":"MONTH(Indice_faturamento[[#This Row],[Período]])&YEAR(Indice_faturamento[[#This Row],[Período]])","v":"22011"},127.1263,97.412300000000002,130.40639999999999,80.294600000000003,171.2664,123.4089,93.003500000000003,102.1309,138.7347,96.148399999999995,125.43340000000001,75.848200000000006,215.6746]
["2011-03-01",{"$f":"MONTH(Indice_faturamento[[#This Row],[Período]])&YEAR(Indice_faturamento[[#This Row],[Período]])","v":"32011"},134.42609999999999,93.048599999999993,138.99369999999999,82.888000000000005,145.33699999999999,122.0355,108.6807,98.534599999999998,165.04409999999999,108.8434,84.705100000000002,96.839799999999997,233.5566]
["2011-04-01",{"$f":"MONTH(Indice_faturamento[[#This Row],[Período]])&YEAR(Indice_faturamento[[#This Row],[Período]])","v":"42011"},130.9367,102.6412,134.06020000000001,76.806100000000001,140.0067,113.0907,88.093000000000004,102.0461,158.8938,101.5498,136.6352,73.730599999999995,217.0592]
["2011-05-01",{"$f":"MONTH(Indice_faturamento[[#This Row],[Período]])&YEAR(Indice_faturamento[[#This Row],[Período]])","v":"52011"},141.4288,109.2792,144.9777,85.768699999999995,139.6885,127.77979999999999,109.44710000000001,114.914,171.55799999999999,102.7739,166.6327,78.158600000000007,243.25]
["2011-06-01",{"$f":"MONTH(Indice_faturamento[[#This Row],[Período]])&YEAR(Indice_faturamento[[#This Row],[Período]])","v":"62011"},138.0692,106.137,141.5942,92.118700000000004,135.94499999999999,121.18259999999999,97.875900000000001,116.2727,167.25040000000001,100.2317,125.40730000000001,77.190399999999997,242.9068]
["2011-07-01",{"$f":"MONTH(Indice_faturamento[[#This Row],[Período]])&YEAR(Indice_faturamento[[#This Row],[Período]])","v":"72011"},136.1849,107.2895,139.37459999999999,95.670699999999997,138.3263,124.8355,75.590100000000007,115.5505,165.0949,93.914199999999994,119.1824,73.384299999999996,233.31370000000001]
["2011-08-01",{"$f":"MONTH(Indice_faturamento[[#This Row],[Período]])&YEAR(Indice_faturamento[[#This Row],[Período]])","v":"82011"},141.5292,118.7679,144.04179999999999,105.70180000000001,153.58199999999999,132.24369999999999,113.0078,106.5462,172.53659999999999,99.387500000000003,120.4736,81.456999999999994,234.70609999999999]
["2011-09-01",{"$f":"MONTH(Indice_faturamento[[#This Row],[Período]])&YEAR(Indice_faturamento[[#This Row],[Período]])","v":"92011"},142.34880000000001,116.0338,145.25360000000001,101.0359,145.2122,122.6448,98.397099999999995,104.1272,178.0993,105.9746,134.27979999999999,94.715900000000005,229.73310000000001]
["2011-10-01",{"$f":"MONTH(Indice_faturamento[[#This Row],[Período]])&YEAR(Indice_faturamento[[#This Row],[Período]])","v":"102011"},135.648,118.8466,137.5026,102.2321,150.39959999999999,117.102,109.9965,108.17610000000001,146.4931,104.9075,96.621600000000001,76.190399999999997,205.66419999999999]
["2011-11-01",{"$f":"MONTH(Indice_faturamento[[#This Row],[Período]])&YEAR(Indice_faturamento[[#This Row],[Período]])","v":"112011"},133.33009999999999,89.338099999999997,138.18629999999999,91.697100000000006,162.6892,105.83839999999999,69.6798,95.475200000000001,144.48849999999999,100.8901,121.3681,89.994799999999998,211.96969999999999]
["2011-12-01",{"$f":"MONTH(Indice_faturamento[[#This Row],[Período]])&YEAR(Indice_faturamento[[#This Row],[Período]])","v":"122011"},129.9691,92.140699999999995,134.14490000000001,88.000799999999998,169.97749999999999,92.034800000000004,118.965,93.754800000000003,126.05880000000001,95.265000000000001,133.1198,90.809600000000003,229.196]
["2012-01-01",{"$f":"MONTH(Indice_faturamento[[#This Row],[Período]])&YEAR(Indice_faturamento[[#This Row],[Período]])","v":"12012"},116.7773,69.795400000000001,121.9635,84.397400000000005,130.34039999999999,107.8921,79.422499999999999,84.194900000000004,144.4169,107.40860000000001,133.4161,83.527699999999996,179.38339999999999]
["2012-02-01",{"$f":"MONTH(Indice_faturamento[[#This Row],[Período]])&YEAR(Indice_faturamento[[#This Row],[Período]])","v":"22012"},115.6884,77.023099999999999,119.95659999999999,85.293099999999995,158.00569999999999,105.8634,82.278300000000002,88.203500000000005,141.97399999999999,96.206500000000005,96.077600000000004,79.134600000000006,190.4528]
["2012-03-01",{"$f":"MONTH(Indice_faturamento[[#This Row],[Período]])&YEAR(Indice_faturamento[[#This Row],[Período]])","v":"32012"},132.3134,90.679000000000002,136.9093,99.2316,137.56379999999999,127.0609,106.941,86.148899999999998,159.57740000000001,108.29219999999999,100.5855,92.928700000000006,225.0264]
["2012-04-01",{"$f":"MONTH(Indice_faturamento[[#This Row],[Período]])&YEAR(Indice_faturamento[[#This Row],[Período]])","v":"42012"},119.3413,90.140199999999993,122.5647,81.923100000000005,125.7041,112.59690000000001,70.232799999999997,94.715800000000002,147.7466,101.7522,58.457900000000002,65.448300000000003,182.91460000000001]
["2012-05-01",{"$f":"MONTH(Indice_faturamento[[#This Row],[Período]])&YEAR(Indice_faturamento[[#This Row],[Período]])","v":"52012"},137.1677,104.4663,140.7775,97.296400000000006,125.0145,123.3516,118.35639999999999,100.5574,186.113,117.16849999999999,54.199599999999997,77.024000000000001,211.8168]
["2012-06-01",{"$f":"MONTH(Indice_faturamento[[#This Row],[Período]])&YEAR(Indice_faturamento[[#This Row],[Período]])","v":"62012"},135.97800000000001,98.507199999999997,140.11439999999999,96.151499999999999,122.08110000000001,116.1293,95.585400000000007,98.8874,161.21459999999999,107.8771,63.8767,92.077299999999994,230.6533]
["2012-07-01",{"$f":"MONTH(Indice_faturamento[[#This Row],[Período]])&YEAR(Indice_faturamento[[#This Row],[Período]])","v":"72012"},143.2662,101.27970000000001,147.90100000000001,100.4571,111.89449999999999,121.7183,115.47,98.215100000000007,163.74959999999999,97.876400000000004,191.4478,86.973799999999997,260.28100000000001]
["2012-08-01",{"$f":"MONTH(Indice_faturamento[[#This Row],[Período]])&YEAR(Indice_faturamento[[#This Row],[Período]])","v":"82012"},151.84829999999999,102.9943,157.24119999999999,103.00320000000001,138.09100000000001,129.74850000000001,129.44720000000001,101.5218,170.7253,108.3421,112.92870000000001,89.906499999999994,287.08300000000003]
["2012-09-01",{"$f":"MONTH(Indice_faturamento[[#This Row],[Período]])&YEAR(Indice_faturamento[[#This Row],[Período]])","v":"92012"},134.80629999999999,86.2898,140.16200000000001,94.946799999999996,136.13210000000001,117.9855,89.213099999999997,92.224800000000002,155.434,104.63249999999999,54.971699999999998,95.400099999999995,248.8372]
["2012-10-01",{"$f":"MONTH(Indice_faturamento[[#This Row],[Período]])&YEAR(Indice_faturamento[[#This Row],[Período]])","v":"102012"},143.0625,99.886600000000001,147.82859999999999,107.0544,127.49769999999999,127.3552,94.952200000000005,99.023200000000003,169.17930000000001,94.331100000000006,76.776600000000002,92.616299999999995,271.03449999999998]
["2012-11-01",{"$f":"MONTH(Indice_faturamento[[#This Row],[Período]])&YEAR(Indice_faturamento[[#This Row],[Período]])","v":"112012"},142.1738,94.886300000000006,147.3938,101.3785,155.21850000000001,116.9572,103.6512,94.517200000000003,157.4091,102.477,54.530500000000004,81.721699999999998,273.10820000000001]
["2012-12-01",{"$f":"MONTH(Indice_faturamento[[#This Row],[Período]])&YEAR(Indice_faturamento[[#This Row],[Período]])","v":"122012"},131.00020000000001,123.8617,131.78819999999999,97.444599999999994,171.41480000000001,88.782600000000002,135.85570000000001,98.712999999999994,126.1412,87.0107,71.334500000000006,85.628600000000006,242.0608]
["2013-01-01",{"$f":"MONTH(Indice_faturamento[[#This Row],[Período]])&YEAR(Indice_faturamento[[#This Row],[Período]])","v":"12013"},126.9169,85.612700000000004,131.47640000000001,96.186499999999995,143.86199999999999,113.2594,75.209699999999998,102.2325,151.39349999999999,92.049099999999996,53.066299999999998,70.184100000000001,251.58500000000001]
["2013-02-01",{"$f":"MONTH(Indice_faturamento[[#This Row],[Período]])&YEAR(Indice_faturamento[[#This Row],[Período]])","v":"22013"},110.7637,83.995099999999994,113.7186,83.558099999999996,136.2114,110.7456,115.28100000000001,77.679100000000005,134.95660000000001,85.632999999999996,61.773099999999999,82.0959,172.43639999999999]
["2013-03-01",{"$f":"MONTH(Indice_faturamento[[#This Row],[Período]])&YEAR(Indice_faturamento[[#This Row],[Período]])","v":"32013"},135.86359999999999,103.7711,139.40620000000001,96.275199999999998,129.6825,120.7115,115.4051,94.908000000000001,150.42009999999999,94.750200000000007,59.370899999999999,95.09,260.51209999999998]
["2013-04-01",{"$f":"MONTH(Indice_faturamento[[#This Row],[Período]])&YEAR(Indice_faturamento[[#This Row],[Período]])","v":"42013"},139.40989999999999,86.001000000000005,145.3056,101.932,134.0478,129.1397,88.609899999999996,100.7298,171.40199999999999,91.336699999999993,78.676100000000005,79.856899999999996,274.02409999999998]
["2013-05-01",{"$f":"MONTH(Indice_faturamento[[#This Row],[Período]])&YEAR(Indice_faturamento[[#This Row],[Período]])","v":"52013"},140.13220000000001,103.7205,144.1516,107.9254,136.16929999999999,128.94210000000001,122.2139,92.797399999999996,173.9393,102.0459,41.306600000000003,84.043599999999998,250.6251]
["2013-06-01",{"$f":"MONTH(Indice_faturamento[[#This Row],[Período]])&YEAR(Indice_faturamento[[#This Row],[Período]])","v":"62013"},136.18549999999999,93.264399999999995,140.92349999999999,102.66630000000001,144.1258,126.95650000000001,96.9148,92.593299999999999,172.9496,102.67910000000001,51.300199999999997,85.627499999999998,250.2056]
["2013-07-01",{"$f":"MONTH(Indice_faturamento[[#This Row],[Período]])&YEAR(Indice_faturamento[[#This Row],[Período]])","v":"72013"},141.76079999999999,103.6645,145.96619999999999,112.97029999999999,142.34819999999999,140.33680000000001,118.4898,105.4632,177.982,103.6326,97.0428,75.716899999999995,234.02269999999999]
["2013-08-01",{"$f":"MONTH(Indice_faturamento[[#This Row],[Período]])&YEAR(Indice_faturamento[[#This Row],[Período]])","v":"82013"},141.1781,98.694699999999997,145.86779999999999,121.3032,155.75149999999999,145.82589999999999,126.062,95.908000000000001,171.83619999999999,99.661900000000003,58.516500000000001,76.392099999999999,251.7732]
["2013-09-01",{"$f":"MONTH(Indice_faturamento[[#This Row],[Período]])&YEAR(Indice_faturamento[[#This Row],[Período]])","v":"92013"},137.92150000000001,115.77030000000001,140.36680000000001,108.3813,142.88839999999999,133.53890000000001,109.3181,85.771299999999997,175.4743,99.737099999999998,146.01,81.720799999999997,231.7809]
["2013-10-01",{"$f":"MONTH(Indice_faturamento[[#This Row],[Período]])&YEAR(Indice_faturamento[[#This Row],[Período]])","v":"102013"},135.2988,103.97969999999999,138.756,113.4425,159.1943,131.9615,81.720100000000002,95.657200000000003,173.27879999999999,102.6831,71.327299999999994,82.811000000000007,214.80430000000001]
["2013-11-01",{"$f":"MONTH(Indice_faturamento[[#This Row],[Período]])&YEAR(Indice_faturamento[[#This Row],[Período]])","v":"112013"},131.2895,97.478200000000001,135.02189999999999,101.9141,169.31870000000001,119.59269999999999,113.17829999999999,87.996700000000004,159.26580000000001,94.969700000000003,44.751100000000001,79.310699999999997,229.2807]
["2013-12-01",{"$f":"MONTH(Indice_faturamento[[#This Row],[Período]])&YEAR(Indice_faturamento[[#This Row],[Período]])","v":"122013"},128.73609999999999,75.884,134.5703,102.3856,187.9563,89.978800000000007,131.8175,89.472300000000004,137.8058,92.777500000000003,75.8977,77.997799999999998,250.1165]
["2014-01-01",{"$f":"MONTH(Indice_faturamento[[#This Row],[Período]])&YEAR(Indice_faturamento[[#This Row],[Período]])","v":"12014"},120.041,89.221900000000005,123.4431,103.00320000000001,164.20590000000001,116.65770000000001,102.52,90.319000000000003,143.13720000000001,95.718999999999994,67.374399999999994,80.137200000000007,180.72229999999999]
["2014-02-01",{"$f":"MONTH(Indice_faturamento[[#This Row],[Período]])&YEAR(Indice_faturamento[[#This Row],[Período]])","v":"22014"},122.973,73.238299999999995,128.4631,95.116799999999998,170.46559999999999,118.2876,122.4474,82.546099999999996,139.42830000000001,92.277600000000007,37.2074,80.698300000000003,207.1173]
["2014-03-01",{"$f":"MONTH(Indice_faturamento[[#This Row],[Período]])&YEAR(Indice_faturamento[[#This Row],[Período]])","v":"32014"},126.2368,87.033799999999999,130.56440000000001,98.998000000000005,150.7226,121.5857,95.384299999999996,98.668300000000002,154.32859999999999,95.085499999999996,53.774099999999997,85.061800000000005,203.75309999999999]
["2014-04-01",{"$f":"MONTH(Indice_faturamento[[#This Row],[Período]])&YEAR(Indice_faturamento[[#This Row],[Período]])","v":"42014"},119.40560000000001,65.110500000000002,125.3991,95.250600000000006,140.9863,117.2577,102.3977,102.7332,146.1515,90.059600000000003,39.100499999999997,76.236400000000003,192.0411]
["2014-05-01",{"$f":"MONTH(Indice_faturamento[[#This Row],[Período]])&YEAR(Indice_faturamento[[#This Row],[Período]])","v":"52014"},128.5489,91.165700000000001,132.6755,105.34350000000001,158.31229999999999,124.6956,100.1872,100.4014,158.89230000000001,92.117800000000003,85.071899999999999,76.9726,192.93870000000001]
["2014-06-01",{"$f":"MONTH(Indice_faturamento[[#This Row],[Período]])&YEAR(Indice_faturamento[[#This Row],[Período]])","v":"62014"},119.67,85.932100000000005,123.3943,100.90600000000001,149.25139999999999,111.6814,101.7077,103.9945,139.27879999999999,89.466800000000006,38.999200000000002,77.143000000000001,171.7501]
["2014-07-01",{"$f":"MONTH(Indice_faturamento[[#This Row],[Período]])&YEAR(Indice_faturamento[[#This Row],[Período]])","v":"72014"},124.0887,77.7316,129.20599999999999,113.3485,149.4769,120.0879,86.624600000000001,98.654399999999995,150.2139,84.15,54.7532,93.048199999999994,185.59620000000001]
["2014-08-01",{"$f":"MONTH(Indice_faturamento[[#This Row],[Período]])&YEAR(Indice_faturamento[[#This Row],[Período]])","v":"82014"},124.13509999999999,90.113799999999998,127.8907,106.98609999999999,171.72399999999999,120.22020000000001,105.61750000000001,104.7676,150.215,85.798100000000005,77.065600000000003,86.482100000000003,185.17359999999999]
["2014-09-01",{"$f":"MONTH(Indice_faturamento[[#This Row],[Período]])&YEAR(Indice_faturamento[[#This Row],[Período]])","v":"92014"},132.12180000000001,98.322000000000003,135.85290000000001,110.4195,153.33449999999999,123.6062,87.071799999999996,114.7808,158.02430000000001,90.205500000000001,60.455599999999997,95.060199999999995,201.04810000000001]
["2014-10-01",{"$f":"MONTH(Indice_faturamento[[#This Row],[Período]])&YEAR(Indice_faturamento[[#This Row],[Período]])","v":"102014"},138.6481,94.130499999999998,143.5624,116.1397,182.88800000000001,121.2908,91.9024,110.1037,156.59970000000001,91.204099999999997,243.82730000000001,93.638099999999994,206.55260000000001]
["2014-11-01",{"$f":"MONTH(Indice_faturamento[[#This Row],[Período]])&YEAR(Indice_faturamento[[#This Row],[Período]])","v":"112014"},128.66820000000001,85.089600000000004,133.47880000000001,102.1859,191.5651,98.954400000000007,107.27070000000001,109.1614,138.679,95.811199999999999,36.925899999999999,81.059899999999999,217.69159999999999]
["2014-12-01",{"$f":"MONTH(Indice_faturamento[[#This Row],[Período]])&YEAR(Indice_faturamento[[#This Row],[Período]])","v":"122014"},120.1275,84.686999999999998,124.0397,97.125900000000001,215.6942,77.469099999999997,124.251,104.0968,132.4539,89.392799999999994,86.305099999999996,85.671599999999998,195.60120000000001]
["2015-01-01",{"$f":"MONTH(Indice_faturamento[[#This Row],[Período]])&YEAR(Indice_faturamento[[#This Row],[Período]])","v":"12015"},107.1846,74.701300000000003,110.7704,94.387100000000004,200.15450000000001,89.364900000000006,68.841700000000003,104.91,140.30719999999999,85.802400000000006,43.037399999999998,66.069500000000005,156.09880000000001]
["2015-02-01",{"$f":"MONTH(Indice_faturamento[[#This Row],[Período]])&YEAR(Indice_faturamento[[#This Row],[Período]])","v":"22015"},98.492400000000004,87.570599999999999,99.697999999999993,82.801199999999994,167.43360000000001,92.345500000000001,132.351,98.204800000000006,126.0693,82.345600000000005,30.864100000000001,70.742900000000006,122.5899]
["2015-03-01",{"$f":"MONTH(Indice_faturamento[[#This Row],[Período]])&YEAR(Indice_faturamento[[#This Row],[Período]])","v":"32015"},114.1093,89.925200000000004,116.779,98.346999999999994,152.8837,108.2846,131.34469999999999,107.86839999999999,150.143,98.552099999999996,47.030299999999997,75.714399999999998,145.25040000000001]
["2015-04-01",{"$f":"MONTH(Indice_faturamento[[#This Row],[Período]])&YEAR(Indice_faturamento[[#This Row],[Período]])","v":"42015"},98.325299999999999,75.135599999999997,100.88509999999999,87.834299999999999,145.0574,99.167400000000001,79.123400000000004,106.6272,143.77930000000001,79.930400000000006,34.516500000000001,67.812600000000003,114.8249]
["2015-05-01",{"$f":"MONTH(Indice_faturamento[[#This Row],[Período]])&YEAR(Indice_faturamento[[#This Row],[Período]])","v":"52015"},105.79040000000001,60.260300000000001,110.8163,100.2428,147.4083,86.374499999999998,102.869,108.3438,139.81,81.031899999999993,68.096999999999994,76.628900000000002,133.12540000000001]
["2015-06-01",{"$f":"MONTH(Indice_faturamento[[#This Row],[Período]])&YEAR(Indice_faturamento[[#This Row],[Período]])","v":"62015"},103.4978,74.074600000000004,106.7457,100.8456,138.56200000000001,83.912000000000006,107.1833,111.0431,143.2997,80.033799999999999,23.177800000000001,80.846400000000003,124.14149999999999]
["2015-07-01",{"$f":"MONTH(Indice_faturamento[[#This Row],[Período]])&YEAR(Indice_faturamento[[#This Row],[Período]])","v":"72015"},109.06440000000001,93.162099999999995,110.8198,113.08629999999999,134.8751,87.634799999999998,113.1798,111.06010000000001,147.8458,76.990399999999994,32.5777,72.599100000000007,119.21510000000001]
["2015-08-01",{"$f":"MONTH(Indice_faturamento[[#This Row],[Período]])&YEAR(Indice_faturamento[[#This Row],[Período]])","v":"82015"},110.6056,78.650000000000006,114.1331,106.9268,157.09350000000001,86.306299999999993,104.2012,114.01090000000001,157.98480000000001,79.8506,26.997199999999999,86.555000000000007,132.05690000000001]
["2015-09-01",{"$f":"MONTH(Indice_faturamento[[#This Row],[Período]])&YEAR(Indice_faturamento[[#This Row],[Período]])","v":"92015"},109.1313,103.9765,109.7003,108.87609999999999,173.95529999999999,85.472099999999998,119.9669,101.6904,153.0155,77.826499999999996,45.8553,102.163,100.2191]
["2015-10-01",{"$f":"MONTH(Indice_faturamento[[#This Row],[Período]])&YEAR(Indice_faturamento[[#This Row],[Período]])","v":"102015"},111.7979,101.1185,112.9768,114.39960000000001,190.60769999999999,79.618399999999994,122.3112,110.6125,164.94319999999999,79.314400000000006,36.885300000000001,86.066900000000004,126.1812]
["2015-11-01",{"$f":"MONTH(Indice_faturamento[[#This Row],[Período]])&YEAR(Indice_faturamento[[#This Row],[Período]])","v":"112015"},97.926400000000001,80.647300000000001,99.833799999999997,98.601500000000001,194.46260000000001,68.5762,91.189300000000003,105.4239,121.4833,68.264899999999997,75.605400000000003,101.946,107.62560000000001]
["2015-12-01",{"$f":"MONTH(Indice_faturamento[[#This Row],[Período]])&YEAR(Indice_faturamento[[#This Row],[Período]])","v":"122015"},98.936000000000007,96.944699999999997,99.156800000000004,97.336799999999997,228.86099999999999,61.781500000000001,143.70959999999999,115.58240000000001,132.53380000000001,70.441000000000003,45.586399999999998,80.034300000000002,112.5429]
["2016-01-01",{"$f":"MONTH(Indice_faturamento[[#This Row],[Período]])&YEAR(Indice_faturamento[[#This Row],[Período]])","v":"12016"},86.242999999999995,64.584199999999996,88.645099999999999,84.766999999999996,166.2422,67.127499999999998,101.2525,104.94499999999999,131.02719999999999,75.476399999999998,67.709299999999999,69.010999999999996,82.951599999999999]
["2016-02-01",{"$f":"MONTH(Indice_faturamento[[#This Row],[Período]])&YEAR(Indice_faturamento[[#This Row],[Período]])","v":"22016"},84.611699999999999,70.330500000000001,86.199100000000001,84.287899999999993,158.00069999999999,84.249200000000002,97.726600000000005,108.4781,136.45660000000001,72.231800000000007,34.912500000000001,66.139499999999998,64.532899999999998]
["2016-03-01",{"$f":"MONTH(Indice_faturamento[[#This Row],[Período]])&YEAR(Indice_faturamento[[#This Row],[Período]])","v":"32016"},96.803799999999995,71.883499999999998,99.573599999999999,92.742800000000003,146.4401,93.047700000000006,123.2358,112.4158,158.84119999999999,81.843599999999995,47.232599999999998,107.1922,85.011700000000005]
["2016-04-01",{"$f":"MONTH(Indice_faturamento[[#This Row],[Período]])&YEAR(Indice_faturamento[[#This Row],[Período]])","v":"42016"},93.165400000000005,81.016300000000001,94.515799999999999,90.6995,158.8887,87.804100000000005,93.010800000000003,117.748,133.88470000000001,79.196100000000001,36.249499999999998,83.673000000000002,76.159000000000006]
["2016-05-01",{"$f":"MONTH(Indice_faturamento[[#This Row],[Período]])&YEAR(Indice_faturamento[[#This Row],[Período]])","v":"52016"},94.129099999999994,103.048,93.137799999999999,88.312100000000001,154.96889999999999,91.075400000000002,90.921700000000001,115.11920000000001,144.25620000000001,81.296999999999997,42.480600000000003,95.511399999999995,65.400199999999998]
["2016-06-01",{"$f":"MONTH(Indice_faturamento[[#This Row],[Período]])&YEAR(Indice_faturamento[[#This Row],[Período]])","v":"62016"},101.5654,101.61750000000001,101.5596,93.479699999999994,135.5264,92.079400000000007,81.817899999999995,112.93049999999999,152.654,85.553600000000003,67.398399999999995,113.6955,89.9148]
["2016-07-01",{"$f":"MONTH(Indice_faturamento[[#This Row],[Período]])&YEAR(Indice_faturamento[[#This Row],[Período]])","v":"72016"},93.9178,98.091399999999993,93.453900000000004,86.135099999999994,140.44390000000001,98.965199999999996,104.2854,119.7619,134.6225,77.297300000000007,26.610900000000001,82.232600000000005,69.506500000000003]
["2016-08-01",{"$f":"MONTH(Indice_faturamento[[#This Row],[Período]])&YEAR(Indice_faturamento[[#This Row],[Período]])","v":"82016"},97.257400000000004,91.8262,97.861099999999993,86.869399999999999,145.77879999999999,101.9879,70.676599999999993,110.97580000000001,145.51130000000001,85.6571,40.4574,91.648200000000003,69.335599999999999]
["2016-09-01",{"$f":"MONTH(Indice_faturamento[[#This Row],[Período]])&YEAR(Indice_faturamento[[#This Row],[Período]])","v":"92016"},96.691000000000003,94.582899999999995,96.925299999999993,89.495999999999995,168.68770000000001,96.581199999999995,81.369100000000003,126.8875,143.28729999999999,82.513000000000005,28.993500000000001,96.876599999999996,65.120800000000003]
["2016-10-01",{"$f":"MONTH(Indice_faturamento[[#This Row],[Período]])&YEAR(Indice_faturamento[[#This Row],[Período]])","v":"102016"},91.278000000000006,82.0578,92.302800000000005,88.316400000000002,163.98009999999999,92.277100000000004,109.4736,107.1855,139.7133,72.9345,28.898399999999999,83.356200000000001,69.935599999999994]
["2016-11-01",{"$f":"MONTH(Indice_faturamento[[#This Row],[Período]])&YEAR(Indice_faturamento[[#This Row],[Período]])","v":"112016"},92.842500000000001,87.993300000000005,93.381500000000003,89.127300000000005,164.17949999999999,89.043199999999999,80.087100000000007,125.56010000000001,132.98099999999999,76.832999999999998,41.459400000000002,77.9696,73.980800000000002]
["2016-12-01",{"$f":"MONTH(Indice_faturamento[[#This Row],[Período]])&YEAR(Indice_faturamento[[#This Row],[Período]])","v":"122016"},89.645399999999995,91.693200000000004,89.417699999999996,88.540300000000002,197.70769999999999,70.299099999999996,109.00230000000001,126.93770000000001,142.35079999999999,67.290199999999999,30.753699999999998,83.717500000000001,73.902100000000004]
["2017-01-01",{"$f":"MONTH(Indice_faturamento[[#This Row],[Período]])&YEAR(Indice_faturamento[[#This Row],[Período]])","v":"12017"},82.585800000000006,81.491500000000002,82.707400000000007,84.621899999999997,170.071,77.643699999999995,85.022300000000001,116.4207,134.32910000000001,72.250299999999996,28.342500000000001,74.340999999999994,54.6053]
["2017-02-01",{"$f":"MONTH(Indice_faturamento[[#This Row],[Período]])&YEAR(Indice_faturamento[[#This Row],[Período]])","v":"22017"},81.454099999999997,72.956000000000003,82.398600000000002,81.864199999999997,158.87690000000001,82.408799999999999,87.531800000000004,111.38079999999999,123.8342,70.665700000000001,37.488399999999999,64.850399999999993,56.977200000000003]
["2017-03-01",{"$f":"MONTH(Indice_faturamento[[#This Row],[Período]])&YEAR(Indice_faturamento[[#This Row],[Período]])","v":"32017"},96.967100000000002,97.067099999999996,96.956000000000003,100.48139999999999,158.38300000000001,103.0608,96.150199999999998,130.35040000000001,146.4796,78.690299999999993,26.607299999999999,88.436300000000003,73.702799999999996]
["2017-04-01",{"$f":"MONTH(Indice_faturamento[[#This Row],[Período]])&YEAR(Indice_faturamento[[#This Row],[Período]])","v":"42017"},85.999600000000001,98.363500000000002,84.625299999999996,80.656000000000006,140.58959999999999,90.7761,107.9631,124.9158,135.5402,67.498800000000003,23.110099999999999,68.287099999999995,61.6922]
["2017-05-01",{"$f":"MONTH(Indice_faturamento[[#This Row],[Período]])&YEAR(Indice_faturamento[[#This Row],[Período]])","v":"52017"},98.220799999999997,92.195999999999998,98.890500000000003,100.7645,151.34630000000001,106.2246,88.866900000000001,129.51730000000001,131.73349999999999,78.843199999999996,24.042400000000001,86.654499999999999,82.864699999999999]
["2017-06-01",{"$f":"MONTH(Indice_faturamento[[#This Row],[Período]])&YEAR(Indice_faturamento[[#This Row],[Período]])","v":"62017"},97.686099999999996,91.355500000000006,98.389700000000005,95.831199999999995,148.6414,96.939599999999999,136.54920000000001,134.00030000000001,132.1412,69.720799999999997,50.552900000000001,91.133200000000002,92.151399999999995]
["2017-07-01",{"$f":"MONTH(Indice_faturamento[[#This Row],[Período]])&YEAR(Indice_faturamento[[#This Row],[Período]])","v":"72017"},95.793400000000005,75.116900000000001,98.091499999999996,97.082800000000006,146.17160000000001,95.857699999999994,91.023600000000002,141.29230000000001,128.12469999999999,75.555599999999998,23.234999999999999,87.689800000000005,80.2577]
["2017-08-01",{"$f":"MONTH(Indice_faturamento[[#This Row],[Período]])&YEAR(Indice_faturamento[[#This Row],[Período]])","v":"82017"},101.3895,71.757300000000001,104.6831,97.6678,165.98349999999999,103.8571,96.240899999999996,145.70140000000001,137.70419999999999,77.972300000000004,34.670900000000003,88.546199999999999,91.583699999999993]
["2017-09-01",{"$f":"MONTH(Indice_faturamento[[#This Row],[Período]])&YEAR(Indice_faturamento[[#This Row],[Período]])","v":"92017"},100.55840000000001,88.476299999999995,101.90130000000001,100.00109999999999,152.12430000000001,97.760300000000001,130.45910000000001,123.7431,137.78970000000001,81.790199999999999,47.236899999999999,81.126599999999996,79.373199999999997]
["2017-10-01",{"$f":"MONTH(Indice_faturamento[[#This Row],[Período]])&YEAR(Indice_faturamento[[#This Row],[Período]])","v":"102017"},103.14490000000001,109.3711,102.4504,97.103300000000004,174.0198,97.170100000000005,138.61510000000001,123.41679999999999,148.84119999999999,80.704599999999999,36.302500000000002,81.077200000000005,85.992500000000007]
["2017-11-01",{"$f":"MONTH(Indice_faturamento[[#This Row],[Período]])&YEAR(Indice_faturamento[[#This Row],[Período]])","v":"112017"},95.957899999999995,75.196600000000004,98.273799999999994,100.3142,193.24359999999999,90.140900000000002,78.070999999999998,119.49250000000001,138.98349999999999,75.923400000000001,75.293999999999997,77.661199999999994,77.790800000000004]
["2017-12-01",{"$f":"MONTH(Indice_faturamento[[#This Row],[Período]])&YEAR(Indice_faturamento[[#This Row],[Período]])","v":"122017"},96.0565,86.5137,97.120999999999995,98.125799999999998,206.47370000000001,67.225700000000003,163.1576,119.3736,139.221,74.741900000000001,44.445,63.886499999999998,92.256399999999999]
["2018-01-01",{"$f":"MONTH(Indice_faturamento[[#This Row],[Período]])&YEAR(Indice_faturamento[[#This Row],[Período]])","v":"12018"},88.184600000000003,84.192400000000006,88.63,77.92,160.28039999999999,83.206299999999999,71.4499,115.07989999999999,154.31989999999999,78.868799999999993,32.756999999999998,78.548699999999997,73.421400000000006]
["2018-02-01",{"$f":"MONTH(Indice_faturamento[[#This Row],[Período]])&YEAR(Indice_faturamento[[#This Row],[Período]])","v":"22018"},83.846900000000005,74.700599999999994,84.867199999999997,79.655100000000004,142.87450000000001,89.788200000000003,127.8741,104.14409999999999,134.50239999999999,76.193899999999999,29.557200000000002,64.049199999999999,62.214700000000001]
["2018-03-01",{"$f":"MONTH(Indice_faturamento[[#This Row],[Período]])&YEAR(Indice_faturamento[[#This Row],[Período]])","v":"32018"},100.16849999999999,86.210400000000007,101.7255,92.431100000000001,141.80430000000001,97.619900000000001,131.9237,118.1662,150.8322,92.007999999999996,75.608999999999995,79.344999999999999,78.239800000000002]
["2018-04-01",{"$f":"MONTH(Indice_faturamento[[#This Row],[Período]])&YEAR(Indice_faturamento[[#This Row],[Período]])","v":"42018"},95.367800000000003,98.135800000000003,95.058999999999997,84.7684,137.39519999999999,91.403499999999994,116.8039,121.9079,138.7578,81.6233,60.258800000000001,82.486400000000003,65.722099999999998]
["2018-05-01",{"$f":"MONTH(Indice_faturamento[[#This Row],[Período]])&YEAR(Indice_faturamento[[#This Row],[Período]])","v":"52018"},84.7864,83.883499999999998,84.887100000000004,75.683599999999998,106.4409,73.539900000000003,87.158000000000001,95.614599999999996,111.95780000000001,79.3857,28.178899999999999,62.237299999999998,69.163200000000003]
["2018-06-01",{"$f":"MONTH(Indice_faturamento[[#This Row],[Período]])&YEAR(Indice_faturamento[[#This Row],[Período]])","v":"62018"},109.3663,102.074,110.1798,109.3126,169.15170000000001,102.03660000000001,163.34710000000001,107.63509999999999,141.52699999999999,92.314700000000002,34.9206,96.665300000000002,91.889899999999997]
["2018-07-01",{"$f":"MONTH(Indice_faturamento[[#This Row],[Período]])&YEAR(Indice_faturamento[[#This Row],[Período]])","v":"72018"},105.0562,132.58320000000001,101.98569999999999,88.561300000000003,147.4188,89.576400000000007,96.458799999999997,114.0775,151.0789,90.715500000000006,32.317300000000003,91.814800000000005,75.029899999999998]
["2018-08-01",{"$f":"MONTH(Indice_faturamento[[#This Row],[Período]])&YEAR(Indice_faturamento[[#This Row],[Período]])","v":"82018"},110.5035,103.13930000000001,111.325,94.854399999999998,141.30250000000001,97.683599999999998,171.0702,117.3488,150.46639999999999,90.846000000000004,41.264899999999997,110.02809999999999,86.503299999999996]
["2018-09-01",{"$f":"MONTH(Indice_faturamento[[#This Row],[Período]])&YEAR(Indice_faturamento[[#This Row],[Período]])","v":"92018"},102.9306,93.145399999999995,104.02209999999999,93.986599999999996,153.26050000000001,92.0809,118.38849999999999,101.6906,146.0394,92.382900000000006,20.164999999999999,96.874799999999993,70.744399999999999]
["2018-10-01",{"$f":"MONTH(Indice_faturamento[[#This Row],[Período]])&YEAR(Indice_faturamento[[#This Row],[Período]])","v":"102018"},105.2654,105.51600000000001,105.2375,93.645600000000002,173.1857,96.223799999999997,106.2841,96.123800000000003,151.9871,88.818299999999994,31.9953,98.471699999999998,88.597700000000003]
["2018-11-01",{"$f":"MONTH(Indice_faturamento[[#This Row],[Período]])&YEAR(Indice_faturamento[[#This Row],[Período]])","v":"112018"},96.832099999999997,95.321600000000004,97.000600000000006,91.052899999999994,178.25989999999999,86.414199999999994,108.7439,92.857200000000006,141.71080000000001,82.970799999999997,37.565399999999997,91.520600000000002,76.193299999999994]
["2018-12-01",{"$f":"MONTH(Indice_faturamento[[#This Row],[Período]])&YEAR(Indice_faturamento[[#This Row],[Período]])","v":"122018"},93.2483,111.4641,91.216399999999993,86.005499999999998,203.5615,62.636200000000002,158.59610000000001,92.989900000000006,143.7183,80.395600000000002,30.753799999999998,83.431700000000006,68.223500000000001]
["2019-01-01",{"$f":"MONTH(Indice_faturamento[[#This Row],[Período]])&YEAR(Indice_faturamento[[#This Row],[Período]])","v":"12019"},83.213200000000001,42.677300000000002,87.734800000000007,84.791700000000006,179.60910000000001,77.607100000000003,102.6313,94.909400000000005,152.76240000000001,80.695099999999996,50.600999999999999,68.1066,62.420400000000001]
["2019-02-01",{"$f":"MONTH(Indice_faturamento[[#This Row],[Período]])&YEAR(Indice_faturamento[[#This Row],[Período]])","v":"22019"},83.72,26.862300000000001,90.062200000000004,82.762799999999999,160.63749999999999,81.039500000000004,126.4224,84.436800000000005,151.48599999999999,77.485900000000001,25.7942,80.487200000000001,81.780299999999997]
["2019-03-01",{"$f":"MONTH(Indice_faturamento[[#This Row],[Período]])&YEAR(Indice_faturamento[[#This Row],[Período]])","v":"32019"},92.598699999999994,54.961399999999998,96.796999999999997,90.607699999999994,130.30850000000001,87.523499999999999,131.63239999999999,90.028700000000001,138.19970000000001,92.398200000000003,57.0533,90.062799999999996,78.091999999999999]
["2019-04-01",{"$f":"MONTH(Indice_faturamento[[#This Row],[Período]])&YEAR(Indice_faturamento[[#This Row],[Período]])","v":"42019"},89.054000000000002,45.603299999999997,93.900700000000001,80.635400000000004,136.2338,90.188800000000001,113.82989999999999,94.983800000000002,151.23230000000001,87.846299999999999,51.540599999999998,90.202799999999996,74.473799999999997]
["2019-05-01",{"$f":"MONTH(Indice_faturamento[[#This Row],[Período]])&YEAR(Indice_faturamento[[#This Row],[Período]])","v":"52019"},94.946700000000007,55.074800000000003,99.394199999999998,85.726900000000001,151.45949999999999,91.585300000000004,66.763000000000005,99.393500000000003,163.3091,89.351799999999997,98.903000000000006,82.558300000000003,86.941500000000005]
["2019-06-01",{"$f":"MONTH(Indice_faturamento[[#This Row],[Período]])&YEAR(Indice_faturamento[[#This Row],[Período]])","v":"62019"},97.667900000000003,55.745600000000003,102.3442,88.946399999999997,152.22370000000001,82.351399999999998,146.12970000000001,92.420299999999997,127.6639,92.816400000000002,53.8947,66.457499999999996,90.350999999999999]
["2019-07-01",{"$f":"MONTH(Indice_faturamento[[#This Row],[Período]])&YEAR(Indice_faturamento[[#This Row],[Período]])","v":"72019"},95.026399999999995,53.842100000000002,99.620400000000004,107.5485,127.8999,88.194699999999997,71.674400000000006,106.40689999999999,132.77850000000001,81.893000000000001,32.048000000000002,102.9558,81.006500000000003]
["2019-08-01",{"$f":"MONTH(Indice_faturamento[[#This Row],[Período]])&YEAR(Indice_faturamento[[#This Row],[Período]])","v":"82019"},100.5947,84.085400000000007,102.4362,95.2898,138.47319999999999,91.020099999999999,125.1408,102.9786,128.02809999999999,86.422399999999996,37.983400000000003,100.402,82.903400000000005]
["2019-09-01",{"$f":"MONTH(Indice_faturamento[[#This Row],[Período]])&YEAR(Indice_faturamento[[#This Row],[Período]])","v":"92019"},99.549000000000007,58.643700000000003,104.11190000000001,95.810299999999998,149.7929,90.686899999999994,123.4637,90.066999999999993,128.3749,86.116,47.541899999999998,101.00490000000001,83.087900000000005]
["2019-10-01",{"$f":"MONTH(Indice_faturamento[[#This Row],[Período]])&YEAR(Indice_faturamento[[#This Row],[Período]])","v":"102019"},101.2045,73.564800000000005,104.2876,102.05159999999999,175.53749999999999,94.339299999999994,74.313199999999995,85.4679,128.93,83.224699999999999,102.53789999999999,111.7191,82.534499999999994]
["2019-11-01",{"$f":"MONTH(Indice_faturamento[[#This Row],[Período]])&YEAR(Indice_faturamento[[#This Row],[Período]])","v":"112019"},92.596699999999998,61.265799999999999,96.0916,92.780600000000007,170.58260000000001,83.699399999999997,86.919399999999996,79.950100000000006,123.79689999999999,79.655299999999997,44.2044,102.3616,93.570999999999998]
["2019-12-01",{"$f":"MONTH(Indice_faturamento[[#This Row],[Período]])&YEAR(Indice_faturamento[[#This Row],[Período]])","v":"122019"},88.611099999999993,63.850700000000003,91.373000000000005,85.750900000000001,192.9837,62.697000000000003,53.0533,87.945700000000002,126.4984,74.338099999999997,48.706600000000002,83.793899999999994,84.7881]
["2020-01-01",{"$f":"MONTH(Indice_faturamento[[#This Row],[Período]])&YEAR(Indice_faturamento[[#This Row],[Período]])","v":"12020"},82.886499999999998,46.591900000000003,86.935100000000006,86.747500000000002,166.65520000000001,77.715199999999996,81.274299999999997,81.293700000000001,120.7038,68.494900000000001,32.2483,101.2694,66.757099999999994]
["2020-02-01",{"$f":"MONTH(Indice_faturamento[[#This Row],[Período]])&YEAR(Indice_faturamento[[#This Row],[Período]])","v":"22020"},84.688699999999997,61.625799999999998,87.261300000000006,86.829599999999999,155.1114,80.832099999999997,62.190399999999997,79.5381,113.49979999999999,75.246899999999997,30.4023,77.191500000000005,68.833399999999997]
["2020-03-01",{"$f":"MONTH(Indice_faturamento[[#This Row],[Período]])&YEAR(Indice_faturamento[[#This Row],[Período]])","v":"32020"},90.576899999999995,64.107900000000001,93.529399999999995,98.484300000000005,99.793400000000005,70.638000000000005,135.7405,71.116200000000006,139.7654,79.874799999999993,37.543700000000001,88.715100000000007,64.989800000000002]
["2020-04-01",{"$f":"MONTH(Indice_faturamento[[#This Row],[Período]])&YEAR(Indice_faturamento[[#This Row],[Período]])","v":"42020"},70.937200000000004,72.148099999999999,70.802099999999996,90.724599999999995,96.319800000000001,35.170200000000001,69.268299999999996,63.037100000000002,109.0442,62.746000000000002,32.587899999999998,58.501399999999997,5.8807]
["2020-05-01",{"$f":"MONTH(Indice_faturamento[[#This Row],[Período]])&YEAR(Indice_faturamento[[#This Row],[Período]])","v":"52020"},83.241200000000006,66.643299999999996,85.092699999999994,111.282,142.57480000000001,45.263500000000001,130.87809999999999,80.605199999999996,113.7615,64.080500000000001,30.084199999999999,74.739599999999996,29.6553]
["2020-06-01",{"$f":"MONTH(Indice_faturamento[[#This Row],[Período]])&YEAR(Indice_faturamento[[#This Row],[Período]])","v":"62020"},91.901200000000003,75.496799999999993,93.731099999999998,108.70189999999999,165.3775,62.355699999999999,85.249600000000001,86.375399999999999,117.0278,63.108199999999997,37.253,91.892799999999994,60.390500000000003]
["2020-07-01",{"$f":"MONTH(Indice_faturamento[[#This Row],[Período]])&YEAR(Indice_faturamento[[#This Row],[Período]])","v":"72020"},98.459299999999999,72.853200000000001,101.3156,110.82510000000001,155.5068,79.510000000000005,83.994600000000005,96.251499999999993,139.69139999999999,66.451099999999997,38.385599999999997,116.8869,73.784999999999997]
["2020-08-01",{"$f":"MONTH(Indice_faturamento[[#This Row],[Período]])&YEAR(Indice_faturamento[[#This Row],[Período]])","v":"82020"},107.23520000000001,89.162800000000004,109.25109999999999,108.611,159.3176,93.624300000000005,86.604399999999998,89.358900000000006,130.9272,75.760900000000007,31.554600000000001,132.5102,105.3074]
["2020-09-01",{"$f":"MONTH(Indice_faturamento[[#This Row],[Período]])&YEAR(Indice_faturamento[[#This Row],[Período]])","v":"92020"},106.4486,80.481200000000001,109.3451,105.20740000000001,159.89250000000001,94.475300000000004,120.4453,93.549000000000007,136.48580000000001,72.264099999999999,39.881700000000002,121.55240000000001,112.05629999999999]
["2020-10-01",{"$f":"MONTH(Indice_faturamento[[#This Row],[Período]])&YEAR(Indice_faturamento[[#This Row],[Período]])","v":"102020"},103.4747,80.999399999999994,105.98180000000001,109.0591,189.32839999999999,98.522999999999996,75.451300000000003,95.471599999999995,146.88820000000001,70.732500000000002,34.048499999999997,113.20350000000001,105.05970000000001]
["2020-11-01",{"$f":"MONTH(Indice_faturamento[[#This Row],[Período]])&YEAR(Indice_faturamento[[#This Row],[Período]])","v":"112020"},100.2435,82.586600000000004,102.2131,88.461699999999993,192.32849999999999,86.810900000000004,119.78749999999999,90.075999999999993,142.73240000000001,72.278599999999997,28.073899999999998,136.06720000000001,104.5706]
["2020-12-01",{"$f":"MONTH(Indice_faturamento[[#This Row],[Período]])&YEAR(Indice_faturamento[[#This Row],[Período]])","v":"122020"},101.8139,75.188000000000002,104.7839,89.453400000000002,206.54159999999999,74.175600000000003,109.9623,90.363299999999995,129.3141,76.601500000000001,52.1601,128.9913,108.3965]
["2021-01-01",{"$f":"MONTH(Indice_faturamento[[#This Row],[Período]])&YEAR(Indice_faturamento[[#This Row],[Período]])","v":"12021"},93.173500000000004,61.49,96.707700000000003,81.632099999999994,168.73,82.872399999999999,65.780100000000004,85.528199999999998,129.66730000000001,80.604600000000005,32.059699999999999,113.61060000000001,104.5596]
["2021-02-01",{"$f":"MONTH(Indice_faturamento[[#This Row],[Período]])&YEAR(Indice_faturamento[[#This Row],[Período]])","v":"22021"},91.756500000000003,65.952399999999997,94.634799999999998,79.961600000000004,162.99690000000001,78.881600000000006,111.59220000000001,68.848799999999997,121.5378,70.641599999999997,30.972799999999999,121.0599,102.7508]
["2021-03-01",{"$f":"MONTH(Indice_faturamento[[#This Row],[Período]])&YEAR(Indice_faturamento[[#This Row],[Período]])","v":"32021"},105.2718,75.146199999999993,108.6322,91.713399999999993,106.7696,78.839299999999994,102.9462,67.277299999999997,147.63149999999999,86.408299999999997,31.1571,119.7876,110.8711]
["2021-04-01",{"$f":"MONTH(Indice_faturamento[[#This Row],[Período]])&YEAR(Indice_faturamento[[#This Row],[Período]])","v":"42021"},96.351399999999998,71.380600000000001,99.136799999999994,88.844399999999993,141.15790000000001,61.966500000000003,129.4151,67.700599999999994,143.70419999999999,75.0488,44.698399999999999,85.997900000000001,106.5964]
["2021-05-01",{"$f":"MONTH(Indice_faturamento[[#This Row],[Período]])&YEAR(Indice_faturamento[[#This Row],[Período]])","v":"52021"},106.7238,90.414000000000001,108.5431,100.0224,184.27510000000001,72.279399999999995,63.8018,83.391999999999996,157.333,83.917500000000004,47.223100000000002,88.605999999999995,116.6234]
["2021-06-01",{"$f":"MONTH(Indice_faturamento[[#This Row],[Período]])&YEAR(Indice_faturamento[[#This Row],[Período]])","v":"62021"},111.5682,89.1785,114.1031,96.0321,129.56700000000001,71.769400000000005,141.7627,88.551900000000003,154.0778,90.1096,29.4221,132.2647,131.56780000000001]
["2021-07-01",{"$f":"MONTH(Indice_faturamento[[#This Row],[Período]])&YEAR(Indice_faturamento[[#This Row],[Período]])","v":"72021"},110.13679999999999,105.37260000000001,110.67619999999999,97.6631,139.21770000000001,76.116100000000003,98.494100000000003,94.170199999999994,168.40260000000001,80.377200000000002,26.0137,143.47499999999999,102.52849999999999]
["2021-08-01",{"$f":"MONTH(Indice_faturamento[[#This Row],[Período]])&YEAR(Indice_faturamento[[#This Row],[Período]])","v":"82021"},109.0231,136.38210000000001,105.9255,100.1932,155.4727,78.327500000000001,92.127899999999997,93.835499999999996,167.52959999999999,80.241799999999998,21.500399999999999,138.64410000000001,99.420599999999993]
["2021-09-01",{"$f":"MONTH(Indice_faturamento[[#This Row],[Período]])&YEAR(Indice_faturamento[[#This Row],[Período]])","v":"92021"},110.6686,118.98090000000001,109.72750000000001,94.715800000000002,189.51009999999999,76.055099999999996,114.7486,94.980699999999999,161.6661,85.929100000000005,23.710999999999999,81.799499999999995,90.255700000000004]
["2021-10-01",{"$f":"MONTH(Indice_faturamento[[#This Row],[Período]])&YEAR(Indice_faturamento[[#This Row],[Período]])","v":"102021"},98.498699999999999,94.154200000000003,98.990600000000001,85.259100000000004,182.47790000000001,68.362200000000001,74.002099999999999,93.753100000000003,154.38130000000001,74.051699999999997,24.179600000000001,123.7814,76.470399999999998]
["2021-11-01",{"$f":"MONTH(Indice_faturamento[[#This Row],[Período]])&YEAR(Indice_faturamento[[#This Row],[Período]])","v":"112021"},102.4776,119.8047,100.5158,95.588700000000003,183.07259999999999,62.306899999999999,159.95169999999999,83.984700000000004,153.73320000000001,70.551400000000001,23.6966,110.5985,93.596400000000003]
["2021-12-01",{"$f":"MONTH(Indice_faturamento[[#This Row],[Período]])&YEAR(Indice_faturamento[[#This Row],[Período]])","v":"122021"},107.5406,81.696899999999999,110.4667,86.997600000000006,197.06639999999999,51.522500000000001,82.762,90.583100000000002,134.13229999999999,77.995199999999997,24.7363,91.722099999999998,124.9316]
["2022-01-01",{"$f":"MONTH(Indice_faturamento[[#This Row],[Período]])&YEAR(Indice_faturamento[[#This Row],[Período]])","v":"12022"},89.616100000000003,50.903700000000001,93.999200000000002,82.392700000000005,122.0087,58.902799999999999,80.716999999999999,81.005399999999995,131.47839999999999,75.033000000000001,69.218299999999999,86.111199999999997,94.033799999999999]
["2022-02-01",{"$f":"MONTH(Indice_faturamento[[#This Row],[Período]])&YEAR(Indice_faturamento[[#This Row],[Período]])","v":"22022"},83.949299999999994,58.8568,86.790300000000002,80.624799999999993,142.83840000000001,63.568899999999999,88.140600000000006,77.605800000000002,133.7045,68.483400000000003,19.874199999999998,88.020300000000006,82.097499999999997]
["2022-03-01",{"$f":"MONTH(Indice_faturamento[[#This Row],[Período]])&YEAR(Indice_faturamento[[#This Row],[Período]])","v":"32022"},110.4605,72.724400000000003,114.733,85.432900000000004,177.29349999999999,71.804199999999994,80.251599999999996,84.395200000000003,157.6584,86.884600000000006,23.4254,117.06140000000001,135.20500000000001]
["2022-04-01",{"$f":"MONTH(Indice_faturamento[[#This Row],[Período]])&YEAR(Indice_faturamento[[#This Row],[Período]])","v":"42022"},99.640699999999995,72.842200000000005,102.6748,80.715900000000005,186.13890000000001,62.700400000000002,101.88420000000001,85.221400000000003,148.4615,74.436499999999995,41.099600000000002,97.233099999999993,111.91589999999999]
["2022-05-01",{"$f":"MONTH(Indice_faturamento[[#This Row],[Período]])&YEAR(Indice_faturamento[[#This Row],[Período]])","v":"52022"},112.1824,106.2259,112.85680000000001,101.18259999999999,176.72800000000001,71.918599999999998,101.9996,94.583699999999993,155.9316,81.441500000000005,26.254899999999999,109.5159,122.6755]
["2022-06-01",{"$f":"MONTH(Indice_faturamento[[#This Row],[Período]])&YEAR(Indice_faturamento[[#This Row],[Período]])","v":"62022"},113.7266,101.46299999999999,115.1151,105.0247,153.2439,69.147300000000001,63.208799999999997,91.640299999999996,159.95189999999999,84.516300000000001,26.290400000000002,150.6456,119.08329999999999]
["2022-07-01",{"$f":"MONTH(Indice_faturamento[[#This Row],[Período]])&YEAR(Indice_faturamento[[#This Row],[Período]])","v":"72022"},111.9883,106.2612,112.6367,103.1819,171.71510000000001,74.367000000000004,109.6759,87.809399999999997,153.34010000000001,76.701999999999998,27.2241,106.07250000000001,125.9633]
["2022-08-01",{"$f":"MONTH(Indice_faturamento[[#This Row],[Período]])&YEAR(Indice_faturamento[[#This Row],[Período]])","v":"82022"},122.5189,96.976100000000002,125.4109,102.63760000000001,159.5318,76.130099999999999,84.234999999999999,85.831699999999998,154.40119999999999,83.303200000000004,62.447600000000001,118.79179999999999,156.2826]
["2022-09-01",{"$f":"MONTH(Indice_faturamento[[#This Row],[Período]])&YEAR(Indice_faturamento[[#This Row],[Período]])","v":"92022"},115.3086,92.612300000000005,117.87820000000001,94.955600000000004,176.3484,68.051100000000005,88.520399999999995,82.235399999999998,150.75919999999999,82.863600000000005,34.238300000000002,122.0094,147.47790000000001]
["2022-10-01",{"$f":"MONTH(Indice_faturamento[[#This Row],[Período]])&YEAR(Indice_faturamento[[#This Row],[Período]])","v":"102022"},114.0226,96.8309,115.9691,100.5264,181.2868,63.019100000000002,104.84950000000001,83.892700000000005,145.58590000000001,85.059200000000004,50.133899999999997,126.0945,143.16749999999999]
["2022-11-01",{"$f":"MONTH(Indice_faturamento[[#This Row],[Período]])&YEAR(Indice_faturamento[[#This Row],[Período]])","v":"112022"},110.47020000000001,77.456800000000001,114.2079,104.5997,204.18530000000001,58.601900000000001,109.9055,82.004999999999995,133.93430000000001,83.394999999999996,39.135300000000001,117.5094,132.85740000000001]
["2022-12-01",{"$f":"MONTH(Indice_faturamento[[#This Row],[Período]])&YEAR(Indice_faturamento[[#This Row],[Período]])","v":"122022"},106.80419999999999,67.470500000000001,111.2576,99.448400000000007,199.54650000000001,41.323399999999999,100.8023,80.987799999999993,114.2201,81.618399999999994,33.403599999999997,90.729200000000006,137.4213]
["2023-01-01",{"$f":"MONTH(Indice_faturamento[[#This Row],[Período]])&YEAR(Indice_faturamento[[#This Row],[Período]])","v":"12023"},97.357600000000005,48.2258,102.9204,89.640199999999993,141.70920000000001,54.198099999999997,96.573700000000002,78.389399999999995,126.4101,73.0672,159.00839999999999,100.04389999999999,115.1998]
["2023-02-01",{"$f":"MONTH(Indice_faturamento[[#This Row],[Período]])&YEAR(Indice_faturamento[[#This Row],[Período]])","v":"22023"},96.380200000000002,64.086299999999994,100.03660000000001,77.5321,174.46510000000001,53.036299999999997,78.661600000000007,78.933400000000006,120.77719999999999,74.125,27.868300000000001,148.57599999999999,123.1091]

{"sheet":"Emprego_MG_setores","index":5,"n_rows":245,"n_cols":15,"rows_kept":245,"cut":false,"hidden":false,"merged":[]}
[null,null,"Base 2006=100"]
[null,null,"EMPREGO"]
["Período","Mês","Indústria Geral","Indústria Extrativa","Indústria de Transformação","10-Alimentos","11-Bebidas","13-Produtos têxteis","17-Celulose e papel","19-Coque e derivados de petróleo","23-Prod. minerais não metálicos","24-Metalurgia","25-Produtos de metal","27- Materiais elétricos","29-Veículos automotores"]
["2003-01-01",{"$f":"MONTH(Indice_Emprego[[#This Row],[Período]])&YEAR(Indice_Emprego[[#This Row],[Período]])","v":"12003"},84.800799999999995,64.875699999999995,85.971299999999999,67.337999999999994,92.190799999999996,98.264200000000002,86.115300000000005,37.813899999999997,88.928299999999993,86.848600000000005,79.384,92.088399999999993,93.9]
["2003-02-01",{"$f":"MONTH(Indice_Emprego[[#This Row],[Período]])&YEAR(Indice_Emprego[[#This Row],[Período]])","v":"22003"},85.553100000000001,64.875699999999995,86.767700000000005,68.215299999999999,91.578199999999995,98.135900000000007,85.878600000000006,38.799599999999998,90.337999999999994,87.686300000000003,81.120199999999997,91.957300000000004,94.323999999999998]
["2003-03-01",{"$f":"MONTH(Indice_Emprego[[#This Row],[Período]])&YEAR(Indice_Emprego[[#This Row],[Período]])","v":"32003"},85.944699999999997,64.999099999999999,87.174999999999997,69.9328,90.940100000000001,98.440600000000003,85.912400000000005,39.222000000000001,90.579300000000003,87.986599999999996,79.006399999999999,91.0398,94.472800000000007]
["2003-04-01",{"$f":"MONTH(Indice_Emprego[[#This Row],[Período]])&YEAR(Indice_Emprego[[#This Row],[Período]])","v":"42003"},86.848500000000001,65.127700000000004,88.101500000000001,71.122600000000006,90.522099999999995,97.566599999999994,86.044899999999998,50.021799999999999,89.893500000000003,88.758200000000002,78.308499999999995,90.103499999999997,94.152900000000002]
["2003-05-01",{"$f":"MONTH(Indice_Emprego[[#This Row],[Período]])&YEAR(Indice_Emprego[[#This Row],[Período]])","v":"52003"},88.192899999999995,65.482699999999994,89.503,78.550600000000003,90.313100000000006,97.148200000000003,86.802700000000002,63.943100000000001,89.614099999999993,89.045699999999997,77.869799999999998,89.836100000000002,93.883200000000002]
["2003-06-01",{"$f":"MONTH(Indice_Emprego[[#This Row],[Período]])&YEAR(Indice_Emprego[[#This Row],[Período]])","v":"62003"},87.962199999999996,65.878799999999998,89.236099999999993,80.107799999999997,89.058099999999996,97.669200000000004,87.055300000000003,64.838700000000003,89.626900000000006,89.048500000000004,77.909000000000006,89.129099999999994,92.080500000000001]
["2003-07-01",{"$f":"MONTH(Indice_Emprego[[#This Row],[Período]])&YEAR(Indice_Emprego[[#This Row],[Período]])","v":"72003"},87.114900000000006,66.367999999999995,88.311700000000002,79.136600000000001,89.384399999999999,97.973799999999997,86.447800000000001,62.929000000000002,87.587299999999999,89.541399999999996,78.555099999999996,87.237700000000004,90.531899999999993]
["2003-08-01",{"$f":"MONTH(Indice_Emprego[[#This Row],[Período]])&YEAR(Indice_Emprego[[#This Row],[Período]])","v":"82003"},87.193399999999997,66.683899999999994,88.376499999999993,79.435199999999995,89.621399999999994,98.061899999999994,86.903400000000005,60.703200000000002,86.656700000000001,89.675600000000003,79.827799999999996,84.944900000000004,90.704700000000003]
["2003-09-01",{"$f":"MONTH(Indice_Emprego[[#This Row],[Período]])&YEAR(Indice_Emprego[[#This Row],[Período]])","v":"92003"},87.501099999999994,67.316199999999995,88.665499999999994,80.210800000000006,91.452600000000004,97.613100000000003,87.510900000000007,50.1404,86.516499999999994,89.445599999999999,80.787199999999999,85.479900000000001,90.605999999999995]
["2003-10-01",{"$f":"MONTH(Indice_Emprego[[#This Row],[Período]])&YEAR(Indice_Emprego[[#This Row],[Período]])","v":"102003"},87.170900000000003,67.230500000000006,88.321200000000005,80.410799999999995,91.560299999999998,98.021900000000002,87.845100000000002,35.376199999999997,87.111500000000007,89.691999999999993,80.689300000000003,86.530699999999996,91.336399999999998]
["2003-11-01",{"$f":"MONTH(Indice_Emprego[[#This Row],[Período]])&YEAR(Indice_Emprego[[#This Row],[Período]])","v":"112003"},87.0184,67.289400000000001,88.156499999999994,78.475200000000001,92.140799999999999,97.847899999999996,88.088099999999997,36.021500000000003,87.732299999999995,89.897199999999998,81.002600000000001,87.218599999999995,91.3035]
["2003-12-01",{"$f":"MONTH(Indice_Emprego[[#This Row],[Período]])&YEAR(Indice_Emprego[[#This Row],[Período]])","v":"122003"},86.088899999999995,67.294799999999995,87.173000000000002,73.877300000000005,91.736999999999995,97.847899999999996,88.209599999999995,33.585000000000001,87.758200000000002,90.570800000000006,83.038899999999998,86.664500000000004,92.422200000000004]
["2004-01-01",{"$f":"MONTH(Indice_Emprego[[#This Row],[Período]])&YEAR(Indice_Emprego[[#This Row],[Período]])","v":"12004"},86.120900000000006,67.628399999999999,87.187600000000003,75.389600000000002,91.436000000000007,97.563299999999998,90.821799999999996,37.619999999999997,88.288499999999999,90.954899999999995,83.918099999999995,87.619799999999998,93.474999999999994]
["2004-02-01",{"$f":"MONTH(Indice_Emprego[[#This Row],[Período]])&YEAR(Indice_Emprego[[#This Row],[Período]])","v":"22004"},86.487499999999997,67.833600000000004,87.563599999999994,76.517200000000003,91.543499999999995,97.563299999999998,91.459699999999998,38.1813,88.715299999999999,91.596800000000002,84.757300000000001,87.390500000000003,93.777699999999996]
["2004-03-01",{"$f":"MONTH(Indice_Emprego[[#This Row],[Período]])&YEAR(Indice_Emprego[[#This Row],[Período]])","v":"32004"},86.894999999999996,68.136399999999995,87.977000000000004,78.095299999999995,91.242500000000007,97.057199999999995,91.581199999999995,38.7577,89.168000000000006,91.959900000000005,85.236800000000002,90.504800000000003,93.918400000000005]
["2004-04-01",{"$f":"MONTH(Indice_Emprego[[#This Row],[Período]])&YEAR(Indice_Emprego[[#This Row],[Período]])","v":"42004"},87.536600000000007,68.362200000000001,88.642600000000002,79.819999999999993,88.748599999999996,98.4726,94.375699999999995,41.109000000000002,89.775899999999993,92.175700000000006,85.956100000000006,91.211699999999993,94.488100000000003]
["2004-05-01",{"$f":"MONTH(Indice_Emprego[[#This Row],[Período]])&YEAR(Indice_Emprego[[#This Row],[Período]])","v":"52004"},89.896299999999997,68.454599999999999,91.133200000000002,86.45,89.1571,99.413499999999999,93.859300000000005,72.448899999999995,91.095200000000006,92.651899999999998,86.395700000000005,91.804000000000002,94.750500000000002]
["2004-06-01",{"$f":"MONTH(Indice_Emprego[[#This Row],[Período]])&YEAR(Indice_Emprego[[#This Row],[Período]])","v":"62004"},91.502700000000004,69.193600000000004,92.789599999999993,87.727400000000003,87.652100000000004,99.978099999999998,94.941599999999994,74.056799999999996,91.676500000000004,92.967500000000001,88.253799999999998,92.205200000000005,95.387100000000004]
["2004-07-01",{"$f":"MONTH(Indice_Emprego[[#This Row],[Período]])&YEAR(Indice_Emprego[[#This Row],[Período]])","v":"72004"},91.925299999999993,69.609300000000005,93.212599999999995,88.721900000000005,83.266300000000001,100.1688,95.693200000000004,75.118700000000004,92.557599999999994,93.220600000000005,89.991299999999995,91.8613,96.134600000000006]
["2004-08-01",{"$f":"MONTH(Indice_Emprego[[#This Row],[Período]])&YEAR(Indice_Emprego[[#This Row],[Período]])","v":"82004"},92.210999999999999,70.456000000000003,93.465900000000005,87.7363,81.825900000000004,100.7334,96.504999999999995,75.558599999999998,93.956999999999994,93.833699999999993,93.018500000000003,93.160499999999999,94.824799999999996]
["2004-09-01",{"$f":"MONTH(Indice_Emprego[[#This Row],[Período]])&YEAR(Indice_Emprego[[#This Row],[Período]])","v":"92004"},93.362099999999998,71.194999999999993,94.640799999999999,89.9041,80.578900000000004,101.4811,98.068299999999994,74.830500000000001,94.190299999999993,94.300600000000003,95.705399999999997,92.988500000000002,95.446399999999997]
["2004-10-01",{"$f":"MONTH(Indice_Emprego[[#This Row],[Período]])&YEAR(Indice_Emprego[[#This Row],[Período]])","v":"102004"},94.011600000000001,72.144499999999994,95.272999999999996,89.809200000000004,82.255799999999994,102.0228,97.707499999999996,70.188599999999994,94.617900000000006,94.764899999999997,97.513400000000004,92.835700000000003,97.304699999999997]
["2004-11-01",{"$f":"MONTH(Indice_Emprego[[#This Row],[Período]])&YEAR(Indice_Emprego[[#This Row],[Período]])","v":"112004"},93.805400000000006,73.091300000000004,95.000200000000007,88.661000000000001,82.040899999999993,102.6866,97.166399999999996,48.329599999999999,95.138099999999994,95.270700000000005,98.566699999999997,92.898499999999999,96.847999999999999]
["2004-12-01",{"$f":"MONTH(Indice_Emprego[[#This Row],[Período]])&YEAR(Indice_Emprego[[#This Row],[Período]])","v":"122004"},92.956599999999995,73.670100000000005,94.069199999999995,85.513499999999993,81.847399999999993,102.22880000000001,97.587299999999999,37.8324,94.831299999999999,95.564400000000006,101.14709999999999,93.108000000000004,96.600700000000003]
["2005-01-01",{"$f":"MONTH(Indice_Emprego[[#This Row],[Período]])&YEAR(Indice_Emprego[[#This Row],[Período]])","v":"12005"},92.869399999999999,76.141999999999996,93.834299999999999,84.796999999999997,81.782899999999998,102.30589999999999,97.684399999999997,44.522100000000002,95.885000000000005,95.775000000000006,102.4988,92.519800000000004,94.659899999999993]
["2005-02-01",{"$f":"MONTH(Indice_Emprego[[#This Row],[Período]])&YEAR(Indice_Emprego[[#This Row],[Período]])","v":"22005"},92.960599999999999,76.6113,93.903700000000001,82.782899999999998,80.557400000000001,103.33920000000001,97.943399999999997,45.058,97.378799999999998,96.097800000000007,102.3759,92.367999999999995,95.287800000000004]
["2005-03-01",{"$f":"MONTH(Indice_Emprego[[#This Row],[Período]])&YEAR(Indice_Emprego[[#This Row],[Período]])","v":"32005"},93.570899999999995,77.2684,94.511300000000006,83.491900000000001,80.621899999999997,103.6491,99.53,44.753799999999998,97.592200000000005,96.404600000000002,102.3759,94.872600000000006,95.427300000000002]
["2005-04-01",{"$f":"MONTH(Indice_Emprego[[#This Row],[Período]])&YEAR(Indice_Emprego[[#This Row],[Período]])","v":"42005"},94.8142,79.802800000000005,95.680199999999999,85.206500000000005,81.911900000000003,102.771,100.048,65.465100000000007,97.605500000000006,96.469499999999996,101.04179999999999,97.396199999999993,96.467500000000001]
["2005-05-01",{"$f":"MONTH(Indice_Emprego[[#This Row],[Período]])&YEAR(Indice_Emprego[[#This Row],[Período]])","v":"52005"},96.210300000000004,80.830100000000002,97.097499999999997,90.4084,82.126800000000003,103.2101,99.821399999999997,82.164500000000004,98.245699999999999,96.390900000000002,100.56789999999999,97.263400000000004,97.628100000000003]
["2005-06-01",{"$f":"MONTH(Indice_Emprego[[#This Row],[Período]])&YEAR(Indice_Emprego[[#This Row],[Período]])","v":"62005"},96.806700000000006,82.326800000000006,97.641999999999996,92.091499999999996,87.9191,103.7955,100.1451,83.279799999999994,99.392799999999994,96.481099999999998,100.2694,97.775700000000001,97.621799999999993]
["2005-07-01",{"$f":"MONTH(Indice_Emprego[[#This Row],[Período]])&YEAR(Indice_Emprego[[#This Row],[Período]])","v":"72005"},97.370400000000004,84.350099999999998,98.121399999999994,94.733800000000002,88.3596,103.5975,101.0193,80.397499999999994,99.672899999999998,96.783900000000003,101.0067,96.864999999999995,98.363900000000001]
["2005-08-01",{"$f":"MONTH(Indice_Emprego[[#This Row],[Período]])&YEAR(Indice_Emprego[[#This Row],[Período]])","v":"82005"},98.023200000000003,86.295299999999997,98.699799999999996,96.571200000000005,91.244699999999995,102.71080000000001,100.88979999999999,79.789199999999994,99.192700000000002,97.369100000000003,99.830600000000004,96.087000000000003,98.091099999999997]
["2005-09-01",{"$f":"MONTH(Indice_Emprego[[#This Row],[Período]])&YEAR(Indice_Emprego[[#This Row],[Período]])","v":"92005"},98.590500000000006,86.509100000000004,99.287400000000005,96.825400000000002,92.433999999999997,101.4109,100.6956,80.803100000000001,99.232699999999994,97.581699999999998,100.84869999999999,96.618300000000005,97.628100000000003]
["2005-10-01",{"$f":"MONTH(Indice_Emprego[[#This Row],[Período]])&YEAR(Indice_Emprego[[#This Row],[Período]])","v":"102005"},98.907799999999995,86.712400000000002,99.6113,97.0822,93.4251,101.6863,101.1165,80.498900000000006,100.033,97.805899999999994,100.17019999999999,97.699799999999996,99.074200000000005]
["2005-11-01",{"$f":"MONTH(Indice_Emprego[[#This Row],[Período]])&YEAR(Indice_Emprego[[#This Row],[Período]])","v":"112005"},97.868200000000002,87.1661,98.485500000000002,94.298400000000001,94.372100000000003,101.6549,101.0193,57.890300000000003,99.966300000000004,98.219300000000004,98.259699999999995,98.250100000000003,98.958200000000005]
["2005-12-01",{"$f":"MONTH(Indice_Emprego[[#This Row],[Período]])&YEAR(Indice_Emprego[[#This Row],[Período]])","v":"122005"},97.3172,88.840100000000007,97.806200000000004,93.819299999999998,96.023899999999998,101.1121,100.82510000000001,50.634099999999997,100.1664,98.109300000000005,100.6345,98.515699999999995,98.582899999999995]
["2006-01-01",{"$f":"MONTH(Indice_Emprego[[#This Row],[Período]])&YEAR(Indice_Emprego[[#This Row],[Período]])","v":"12006"},97.308599999999998,90.522599999999997,97.700100000000006,93.326800000000006,96.552400000000006,100.7503,101.60209999999999,61.221499999999999,100.1397,98.056399999999996,96.986099999999993,98.420900000000003,100.61279999999999]
["2006-02-01",{"$f":"MONTH(Indice_Emprego[[#This Row],[Período]])&YEAR(Indice_Emprego[[#This Row],[Período]])","v":"22006"},97.272499999999994,94.462500000000006,97.434600000000003,93.405199999999994,96.222099999999998,100.87609999999999,102.2497,62.524999999999999,100.767,98.012500000000003,95.629499999999993,99.426500000000004,99.934100000000001]
["2006-03-01",{"$f":"MONTH(Indice_Emprego[[#This Row],[Período]])&YEAR(Indice_Emprego[[#This Row],[Período]])","v":"32006"},97.484800000000007,97.127300000000005,97.505399999999995,94.549499999999995,95.691699999999997,100.4444,101.0193,70.8095,100.8584,98.272900000000007,93.869500000000002,100.86539999999999,98.690799999999996]
["2006-04-01",{"$f":"MONTH(Indice_Emprego[[#This Row],[Período]])&YEAR(Indice_Emprego[[#This Row],[Período]])","v":"42006"},98.936599999999999,98.017700000000005,98.989599999999996,96.793199999999999,96.550399999999996,99.910600000000002,100.98699999999999,111.52249999999999,99.656199999999998,98.945899999999995,95.043199999999999,101.54049999999999,98.614699999999999]
["2006-05-01",{"$f":"MONTH(Indice_Emprego[[#This Row],[Período]])&YEAR(Indice_Emprego[[#This Row],[Período]])","v":"52006"},100.51090000000001,99.07,100.5941,104.2953,97.560599999999994,99.423900000000003,100.4689,130.46680000000001,99.539900000000003,99.288300000000007,94.182500000000005,101.46939999999999,98.659099999999995]
["2006-06-01",{"$f":"MONTH(Indice_Emprego[[#This Row],[Período]])&YEAR(Indice_Emprego[[#This Row],[Período]])","v":"62006"},100.36190000000001,100.2792,100.36660000000001,104.1865,99.000100000000003,99.400400000000005,99.594700000000003,126.9473,99.552800000000005,99.886799999999994,93.173299999999998,101.68259999999999,98.984999999999999]
["2006-07-01",{"$f":"MONTH(Indice_Emprego[[#This Row],[Período]])&YEAR(Indice_Emprego[[#This Row],[Período]])","v":"72006"},100.3912,101.119,100.3492,104.92019999999999,99.656800000000004,98.811700000000002,99.404300000000006,110.4362,99.578699999999998,100.3591,97.142399999999995,99.337699999999998,98.395799999999994]
["2006-08-01",{"$f":"MONTH(Indice_Emprego[[#This Row],[Período]])&YEAR(Indice_Emprego[[#This Row],[Período]])","v":"82006"},101.1044,102.02970000000001,101.051,104.46939999999999,102.2833,99.525999999999996,99.372600000000006,106.4388,100.00490000000001,100.5415,98.553299999999993,98.218599999999995,98.963200000000001]
["2006-09-01",{"$f":"MONTH(Indice_Emprego[[#This Row],[Período]])&YEAR(Indice_Emprego[[#This Row],[Período]])","v":"92006"},101.80500000000001,103.0466,101.7333,104.3841,103.16719999999999,99.763900000000007,99.340900000000005,105.25109999999999,100.47,101.0077,105.2465,98.556100000000001,102.0505]
["2006-10-01",{"$f":"MONTH(Indice_Emprego[[#This Row],[Período]])&YEAR(Indice_Emprego[[#This Row],[Período]])","v":"102006"},102.04179999999999,103.8409,101.938,101.9575,104.30370000000001,100.39319999999999,99.150499999999994,108.56529999999999,100.0078,101.19880000000001,107.5453,98.5916,102.0565]
["2006-11-01",{"$f":"MONTH(Indice_Emprego[[#This Row],[Período]])&YEAR(Indice_Emprego[[#This Row],[Período]])","v":"112006"},101.953,104.7161,101.7936,100.5172,104.45529999999999,100.4872,98.801500000000004,110.31140000000001,100.24550000000001,102.32210000000001,109.65649999999999,100.9543,101.7436]
["2006-12-01",{"$f":"MONTH(Indice_Emprego[[#This Row],[Período]])&YEAR(Indice_Emprego[[#This Row],[Período]])","v":"122006"},100.7664,105.7685,100.47790000000001,97.194900000000004,104.55629999999999,100.2124,98.008300000000006,95.5047,99.179199999999994,102.108,112.97190000000001,100.9365,101.29389999999999]
["2007-01-01",{"$f":"MONTH(Indice_Emprego[[#This Row],[Período]])&YEAR(Indice_Emprego[[#This Row],[Período]])","v":"12007"},101.25839999999999,106.6943,100.9449,95.683000000000007,105.69280000000001,100.03879999999999,96.223399999999998,72.483800000000002,99.983199999999997,102.9907,118.6837,102.53530000000001,106.9089]
["2007-02-01",{"$f":"MONTH(Indice_Emprego[[#This Row],[Período]])&YEAR(Indice_Emprego[[#This Row],[Período]])","v":"22007"},102.42449999999999,107.59480000000001,102.1263,96.770799999999994,106.6272,99.843500000000006,95.347099999999998,74.604100000000003,100.59269999999999,103.5523,123.9674,104.7025,108.21080000000001]
["2007-03-01",{"$f":"MONTH(Indice_Emprego[[#This Row],[Período]])&YEAR(Indice_Emprego[[#This Row],[Período]])","v":"32007"},103.55800000000001,109.0317,103.2423,98.372,106.1726,100.60299999999999,94.4709,73.7667,101.6481,103.9757,123.0531,106.0171,109.8573]
["2007-04-01",{"$f":"MONTH(Indice_Emprego[[#This Row],[Período]])&YEAR(Indice_Emprego[[#This Row],[Período]])","v":"42007"},105.8167,110.9795,105.5189,101.74079999999999,107.0313,102.29559999999999,93.984099999999998,114.1371,101.6099,104.22799999999999,125.8533,106.755,113.15089999999999]
["2007-05-01",{"$f":"MONTH(Indice_Emprego[[#This Row],[Período]])&YEAR(Indice_Emprego[[#This Row],[Período]])","v":"52007"},107.48009999999999,112.1836,107.2088,107.4243,109.70829999999999,103.35890000000001,94.049000000000007,116.80719999999999,101.9659,104.5309,128.36779999999999,106.9307,115.4315]
["2007-06-01",{"$f":"MONTH(Indice_Emprego[[#This Row],[Período]])&YEAR(Indice_Emprego[[#This Row],[Período]])","v":"62007"},109.30670000000001,108.804,109.3357,113.6459,111.4509,101.9918,94.957700000000003,114.9075,102.3601,104.39709999999999,128.2527,106.23990000000001,123.7136]
["2007-07-01",{"$f":"MONTH(Indice_Emprego[[#This Row],[Período]])&YEAR(Indice_Emprego[[#This Row],[Período]])","v":"72007"},109.4062,110.85809999999999,109.3224,112.6349,111.32470000000001,101.51439999999999,95.477000000000004,113.7253,102.25320000000001,104.1293,128.1951,106.4472,126.0433]
["2007-08-01",{"$f":"MONTH(Indice_Emprego[[#This Row],[Período]])&YEAR(Indice_Emprego[[#This Row],[Período]])","v":"82007"},110.053,109.4465,110.08799999999999,113.5243,111.07210000000001,102.01349999999999,94.892799999999994,110.6832,103.38249999999999,105.3506,123.92149999999999,108.6404,128.38390000000001]
["2007-09-01",{"$f":"MONTH(Indice_Emprego[[#This Row],[Período]])&YEAR(Indice_Emprego[[#This Row],[Período]])","v":"92007"},110.4366,111.8142,110.3571,110.6211,110.0872,102.43300000000001,95.412099999999995,120.3275,103.3002,104.51479999999999,122.947,109.38290000000001,129.40969999999999]
["2007-10-01",{"$f":"MONTH(Indice_Emprego[[#This Row],[Período]])&YEAR(Indice_Emprego[[#This Row],[Período]])","v":"102007"},110.49509999999999,112.4618,110.3817,106.48860000000001,111.0468,103.67,95.477000000000004,125.08320000000001,105.51179999999999,104.7473,117.685,110.79900000000001,130.8828]
["2007-11-01",{"$f":"MONTH(Indice_Emprego[[#This Row],[Período]])&YEAR(Indice_Emprego[[#This Row],[Período]])","v":"112007"},110.66070000000001,113.0183,110.5247,103.9021,110.71850000000001,103.7278,95.379599999999996,118.45440000000001,105.65170000000001,105.4859,116.05629999999999,111.4207,133.2124]
["2007-12-01",{"$f":"MONTH(Indice_Emprego[[#This Row],[Período]])&YEAR(Indice_Emprego[[#This Row],[Período]])","v":"122007"},109.13549999999999,112.2089,108.95820000000001,105.4512,110.56699999999999,103.2938,95.282200000000003,69.409499999999994,99.816599999999994,105.40649999999999,115.235,111.92149999999999,133.64349999999999]
["2008-01-01",{"$f":"MONTH(Indice_Emprego[[#This Row],[Período]])&YEAR(Indice_Emprego[[#This Row],[Período]])","v":"12008"},109.12649999999999,113.467,108.87609999999999,104.35039999999999,111.14790000000001,104.34269999999999,94.438500000000005,70.233099999999993,99.535499999999999,105.2829,114.8035,113.1649,136.23500000000001]
["2008-02-01",{"$f":"MONTH(Indice_Emprego[[#This Row],[Período]])&YEAR(Indice_Emprego[[#This Row],[Período]])","v":"22008"},109.9247,114.2482,109.67529999999999,105.63039999999999,118.19410000000001,104.2702,94.945300000000003,74.510599999999997,100.518,106.0137,117.5334,113.9247,137.83340000000001]
["2008-03-01",{"$f":"MONTH(Indice_Emprego[[#This Row],[Período]])&YEAR(Indice_Emprego[[#This Row],[Período]])","v":"32008"},110.8181,116.1708,110.5093,105.6504,121.3762,103.9515,89.539100000000005,77.021299999999997,99.032899999999998,106.4331,118.0724,116.32510000000001,141.8425]
["2008-04-01",{"$f":"MONTH(Indice_Emprego[[#This Row],[Período]])&YEAR(Indice_Emprego[[#This Row],[Período]])","v":"42008"},112.27070000000001,118.0377,111.938,108.60080000000001,121.553,104.5458,89.121899999999997,82.467799999999997,99.09,107.38930000000001,118.7329,118.66889999999999,143.1275]
["2008-05-01",{"$f":"MONTH(Indice_Emprego[[#This Row],[Período]])&YEAR(Indice_Emprego[[#This Row],[Período]])","v":"52008"},113.5767,120.1683,113.1964,110.03879999999999,122.20959999999999,105.00239999999999,88.736800000000002,124.1931,99.238500000000002,108.5772,119.89230000000001,119.7559,143.3877]
["2008-06-01",{"$f":"MONTH(Indice_Emprego[[#This Row],[Período]])&YEAR(Indice_Emprego[[#This Row],[Período]])","v":"62008"},114.75449999999999,122.1772,114.32640000000001,114.068,121.9823,104.9085,89.667500000000004,127.72669999999999,100.74639999999999,109.2811,119.9961,120.2824,144.50810000000001]
["2008-07-01",{"$f":"MONTH(Indice_Emprego[[#This Row],[Período]])&YEAR(Indice_Emprego[[#This Row],[Período]])","v":"72008"},114.8199,123.4708,114.32089999999999,116.4177,122.74,106.0637,89.153999999999996,123.9939,101.9422,109.8398,119.8034,120.45229999999999,144.386]
["2008-08-01",{"$f":"MONTH(Indice_Emprego[[#This Row],[Período]])&YEAR(Indice_Emprego[[#This Row],[Período]])","v":"82008"},115.60680000000001,124.9319,115.0689,116.80410000000001,125.1645,106.33920000000001,88.544300000000007,121.0581,103.3796,110.0453,120.65940000000001,122.3545,145.87809999999999]
["2008-09-01",{"$f":"MONTH(Indice_Emprego[[#This Row],[Período]])&YEAR(Indice_Emprego[[#This Row],[Período]])","v":"92008"},117.8674,125.3484,117.4359,116.5089,125.2908,106.50879999999999,87.453100000000006,124.047,133.9451,112.4117,121.81010000000001,122.6433,145.94710000000001]
["2008-10-01",{"$f":"MONTH(Indice_Emprego[[#This Row],[Período]])&YEAR(Indice_Emprego[[#This Row],[Período]])","v":"102008"},117.81619999999999,125.8318,117.35380000000001,114.977,125.6696,106.77719999999999,86.842299999999994,124.6581,134.9941,115.7667,123.3001,123.95099999999999,144.21610000000001]
["2008-11-01",{"$f":"MONTH(Indice_Emprego[[#This Row],[Período]])&YEAR(Indice_Emprego[[#This Row],[Período]])","v":"112008"},116.34690000000001,127.4106,115.70869999999999,113.13420000000001,126.6545,106.2615,85.620599999999996,121.3503,134.9941,115.1992,125.9555,124.7663,136.48990000000001]
["2008-12-01",{"$f":"MONTH(Indice_Emprego[[#This Row],[Período]])&YEAR(Indice_Emprego[[#This Row],[Período]])","v":"122008"},112.4053,125.0964,111.67319999999999,106.72490000000001,127.2354,104.7497,85.179400000000001,98.833799999999997,132.99709999999999,112.96469999999999,126.53700000000001,127.4498,128.74789999999999]
["2009-01-01",{"$f":"MONTH(Indice_Emprego[[#This Row],[Período]])&YEAR(Indice_Emprego[[#This Row],[Período]])","v":"12009"},109.28489999999999,124.1296,108.4286,105.44889999999999,125.7453,104.0574,84.806100000000001,85.616100000000003,130.5162,110.1797,124.9333,128.89349999999999,121.8858]
["2009-02-01",{"$f":"MONTH(Indice_Emprego[[#This Row],[Período]])&YEAR(Indice_Emprego[[#This Row],[Período]])","v":"22009"},107.8199,122.50449999999999,106.97280000000001,104.8951,124.60890000000001,101.96639999999999,83.596599999999995,81.072900000000004,133.3279,107.31310000000001,123.985,125.05500000000001,118.7409]
["2009-03-01",{"$f":"MONTH(Indice_Emprego[[#This Row],[Período]])&YEAR(Indice_Emprego[[#This Row],[Período]])","v":"32009"},108.00239999999999,122.7616,107.151,108.7294,123.62390000000001,99.825900000000004,82.636099999999999,85.430099999999996,133.2371,103.6347,122.78570000000001,124.2058,118.44670000000001]
["2009-04-01",{"$f":"MONTH(Indice_Emprego[[#This Row],[Período]])&YEAR(Indice_Emprego[[#This Row],[Período]])","v":"42009"},108.8459,122.19589999999999,108.0758,112.9485,123.29559999999999,98.589699999999993,81.889099999999999,72.0929,132.5104,102.384,125.2401,122.28660000000001,121.5061]
["2009-05-01",{"$f":"MONTH(Indice_Emprego[[#This Row],[Período]])&YEAR(Indice_Emprego[[#This Row],[Período]])","v":"52009"},109.7016,120.97199999999999,109.0515,116.182,122.36109999999999,98.971100000000007,81.995800000000003,67.270700000000005,131.30680000000001,101.9066,129.89769999999999,121.81100000000001,122.672]
["2009-06-01",{"$f":"MONTH(Indice_Emprego[[#This Row],[Período]])&YEAR(Indice_Emprego[[#This Row],[Período]])","v":"62009"},109.9134,120.4011,109.30840000000001,115.1022,121.62869999999999,98.971100000000007,81.817999999999998,73.952600000000004,128.8768,100.645,136.38210000000001,120.9109,123.6361]
["2009-07-01",{"$f":"MONTH(Indice_Emprego[[#This Row],[Período]])&YEAR(Indice_Emprego[[#This Row],[Período]])","v":"72009"},110.2839,119.4909,109.75279999999999,115.7814,120.5175,99.430300000000003,81.853499999999997,71.534899999999993,127.51430000000001,99.639499999999998,138.9434,121.0128,127.6798]
["2009-08-01",{"$f":"MONTH(Indice_Emprego[[#This Row],[Período]])&YEAR(Indice_Emprego[[#This Row],[Período]])","v":"82009"},111.3245,119.02290000000001,110.88039999999999,115.8578,121.654,99.778300000000002,82.458299999999994,69.754900000000006,127.2677,99.664100000000005,144.58439999999999,120.4803,129.40979999999999]
["2009-09-01",{"$f":"MONTH(Indice_Emprego[[#This Row],[Período]])&YEAR(Indice_Emprego[[#This Row],[Período]])","v":"92009"},113.2623,119.9074,112.879,116.0042,122.3359,99.302499999999995,85.410799999999995,68.931200000000004,128.59030000000001,100.0217,156.2252,119.5355,130.77889999999999]
["2009-10-01",{"$f":"MONTH(Indice_Emprego[[#This Row],[Período]])&YEAR(Indice_Emprego[[#This Row],[Período]])","v":"102009"},114.679,120.61709999999999,114.3365,114.6366,123.37139999999999,99.522599999999997,87.545199999999994,67.974800000000002,130.65280000000001,101.9061,166.10050000000001,120.94410000000001,130.35050000000001]
["2009-11-01",{"$f":"MONTH(Indice_Emprego[[#This Row],[Período]])&YEAR(Indice_Emprego[[#This Row],[Período]])","v":"112009"},115.0395,121.2137,114.6833,108.1717,123.14409999999999,100.0056,88.363399999999999,69.754900000000006,129.30770000000001,103.4051,179.19110000000001,121.09869999999999,132.68010000000001]
["2009-12-01",{"$f":"MONTH(Indice_Emprego[[#This Row],[Período]])&YEAR(Indice_Emprego[[#This Row],[Período]])","v":"122009"},115.3614,121.4091,115.01260000000001,105.6238,124.15430000000001,99.316699999999997,88.576800000000006,64.334900000000005,129.44220000000001,103.09610000000001,195.42509999999999,120.7377,132.9907]
["2010-01-01",{"$f":"MONTH(Indice_Emprego[[#This Row],[Período]])&YEAR(Indice_Emprego[[#This Row],[Período]])","v":"12010"},116.602,122.77460000000001,116.246,105.15130000000001,122.91679999999999,100.3678,88.256699999999995,58.702500000000001,134.9571,103.39319999999999,204.3296,121.09869999999999,133.40299999999999]
["2010-02-01",{"$f":"MONTH(Indice_Emprego[[#This Row],[Período]])&YEAR(Indice_Emprego[[#This Row],[Período]])","v":"22010"},118.2931,124.43389999999999,117.9388,104.7744,127.69,100.8862,88.505700000000004,57.892200000000003,135.76410000000001,103.3557,215.13300000000001,122.17959999999999,134.7901]
["2010-03-01",{"$f":"MONTH(Indice_Emprego[[#This Row],[Período]])&YEAR(Indice_Emprego[[#This Row],[Período]])","v":"32010"},121.8912,130.3186,121.4051,112.30240000000001,128.72540000000001,102.0865,89.252700000000004,58.795499999999997,136.10419999999999,104.2955,225.3527,123.4965,139.0583]
["2010-04-01",{"$f":"MONTH(Indice_Emprego[[#This Row],[Período]])&YEAR(Indice_Emprego[[#This Row],[Período]])","v":"42010"},122.8364,131.81290000000001,122.3186,114.6574,125.316,102.3777,88.897000000000006,58.489899999999999,133.6943,105.04859999999999,223.6036,123.1357,141.09880000000001]
["2010-05-01",{"$f":"MONTH(Indice_Emprego[[#This Row],[Período]])&YEAR(Indice_Emprego[[#This Row],[Período]])","v":"52010"},123.6112,133.47219999999999,123.0423,117.977,124.43210000000001,102.5979,85.766599999999997,62.408700000000003,130.55850000000001,106.0359,214.48249999999999,123.4423,144.48339999999999]
["2010-06-01",{"$f":"MONTH(Indice_Emprego[[#This Row],[Período]])&YEAR(Indice_Emprego[[#This Row],[Período]])","v":"62010"},123.17019999999999,134.62129999999999,122.5097,118.9349,125.4423,103.0311,85.766599999999997,60.934199999999997,131.0163,106.59690000000001,207.87219999999999,124.25409999999999,145.59729999999999]
["2010-07-01",{"$f":"MONTH(Indice_Emprego[[#This Row],[Período]])&YEAR(Indice_Emprego[[#This Row],[Período]])","v":"72010"},124.0489,136.71340000000001,123.31829999999999,118.17619999999999,125.8716,102.4345,85.244399999999999,60.550800000000002,131.03919999999999,106.9532,209.79599999999999,124.0737,146.5077]
["2010-08-01",{"$f":"MONTH(Indice_Emprego[[#This Row],[Período]])&YEAR(Indice_Emprego[[#This Row],[Período]])","v":"82010"},124.9813,137.1566,124.279,117.34229999999999,130.84690000000001,102.8038,85.5381,60.969099999999997,132.00299999999999,108.0864,212.44120000000001,128.11449999999999,147.73599999999999]
["2010-09-01",{"$f":"MONTH(Indice_Emprego[[#This Row],[Período]])&YEAR(Indice_Emprego[[#This Row],[Período]])","v":"92010"},124.9665,137.81610000000001,124.2252,117.22790000000001,131.62979999999999,102.78959999999999,87.202500000000001,58.877499999999998,132.83940000000001,108.9003,210.4898,130.69409999999999,147.0823]
["2010-10-01",{"$f":"MONTH(Indice_Emprego[[#This Row],[Período]])&YEAR(Indice_Emprego[[#This Row],[Período]])","v":"102010"},123.8707,138.51179999999999,123.0261,112.0014,133.3219,102.7967,87.398300000000006,61.701099999999997,132.9589,110.6133,203.78280000000001,129.62979999999999,147.23519999999999]
["2010-11-01",{"$f":"MONTH(Indice_Emprego[[#This Row],[Período]])&YEAR(Indice_Emprego[[#This Row],[Período]])","v":"112010"},123.6932,139.80000000000001,122.7641,110.6716,132.30000000000001,102.9601,87.659400000000005,59.989699999999999,134.20150000000001,110.7302,199.14109999999999,131.21719999999999,147.79400000000001]
["2010-12-01",{"$f":"MONTH(Indice_Emprego[[#This Row],[Período]])&YEAR(Indice_Emprego[[#This Row],[Período]])","v":"122010"},122.3215,142.155,121.17740000000001,107.4708,132.9898,102.0971,87.137299999999996,53.891199999999998,134.6378,110.6322,197.20009999999999,131.9769,147.78870000000001]
["2011-01-01",{"$f":"MONTH(Indice_Emprego[[#This Row],[Período]])&YEAR(Indice_Emprego[[#This Row],[Período]])","v":"12011"},121.8626,142.1498,120.69240000000001,107.53879999999999,131.22710000000001,102.14709999999999,88.507900000000006,52.081499999999998,135.143,111.00839999999999,186.81970000000001,133.85599999999999,147.05600000000001]
["2011-02-01",{"$f":"MONTH(Indice_Emprego[[#This Row],[Período]])&YEAR(Indice_Emprego[[#This Row],[Período]])","v":"22011"},121.4911,142.88669999999999,120.2569,109.70359999999999,130.53739999999999,103.3309,88.866900000000001,53.004399999999997,140.24100000000001,111.12860000000001,169.3501,133.6764,148.22630000000001]
["2011-03-01",{"$f":"MONTH(Indice_Emprego[[#This Row],[Período]])&YEAR(Indice_Emprego[[#This Row],[Período]])","v":"32011"},121.95,144.8912,120.6266,109.64490000000001,131.02279999999999,103.1384,90.433499999999995,53.221600000000002,141.94030000000001,111.6849,178.18340000000001,135.77719999999999,149.01169999999999]
["2011-04-01",{"$f":"MONTH(Indice_Emprego[[#This Row],[Período]])&YEAR(Indice_Emprego[[#This Row],[Período]])","v":"42011"},123.0536,145.48099999999999,121.7599,114.4941,133.11750000000001,102.6605,89.878600000000006,57.492400000000004,143.02160000000001,112.4384,174.0933,134.7235,150.9991]
["2011-05-01",{"$f":"MONTH(Indice_Emprego[[#This Row],[Período]])&YEAR(Indice_Emprego[[#This Row],[Período]])","v":"52011"},124.8694,145.49109999999999,123.6799,118.9072,133.98599999999999,103.01,89.650199999999998,62.016500000000001,145.06899999999999,112.991,185.5454,134.06280000000001,152.05369999999999]
["2011-06-01",{"$f":"MONTH(Indice_Emprego[[#This Row],[Período]])&YEAR(Indice_Emprego[[#This Row],[Período]])","v":"62011"},125.1276,146.3229,123.905,117.50490000000001,130.92060000000001,103.33799999999999,88.834299999999999,65.798599999999993,147.57849999999999,114.0213,187.71080000000001,133.3142,152.47649999999999]
["2011-07-01",{"$f":"MONTH(Indice_Emprego[[#This Row],[Período]])&YEAR(Indice_Emprego[[#This Row],[Período]])","v":"72011"},125.0462,146.43889999999999,123.8122,117.9425,129.18350000000001,103.84439999999999,88.866900000000001,64.684600000000003,151.1011,114.3398,177.58160000000001,133.23699999999999,152.0223]
["2011-08-01",{"$f":"MONTH(Indice_Emprego[[#This Row],[Período]])&YEAR(Indice_Emprego[[#This Row],[Período]])","v":"82011"},125.518,146.80690000000001,124.29,118.5035,130.1542,102.94580000000001,88.475300000000004,66.17,154.8999,114.0432,178.69280000000001,134.19759999999999,152.98670000000001]
["2011-09-01",{"$f":"MONTH(Indice_Emprego[[#This Row],[Período]])&YEAR(Indice_Emprego[[#This Row],[Período]])","v":"92011"},125.2182,146.84719999999999,123.9705,116.38,129.32149999999999,102.6178,89.389099999999999,68.054299999999998,155.59059999999999,113.9495,177.01179999999999,134.76519999999999,152.0171]
["2011-10-01",{"$f":"MONTH(Indice_Emprego[[#This Row],[Período]])&YEAR(Indice_Emprego[[#This Row],[Período]])","v":"102011"},124.55759999999999,147.20009999999999,123.25149999999999,116.94459999999999,129.2458,101.6978,89.584900000000005,69.745999999999995,154.6026,113.8434,173.77780000000001,137.73419999999999,151.63239999999999]
["2011-11-01",{"$f":"MONTH(Indice_Emprego[[#This Row],[Período]])&YEAR(Indice_Emprego[[#This Row],[Período]])","v":"112011"},123.2803,148.4554,121.828,113.94289999999999,128.21119999999999,100.0789,89.421700000000001,67.353499999999997,154.12129999999999,116.3518,154.50210000000001,138.46109999999999,151.83789999999999]
["2011-12-01",{"$f":"MONTH(Indice_Emprego[[#This Row],[Período]])&YEAR(Indice_Emprego[[#This Row],[Período]])","v":"122011"},121.747,148.24870000000001,120.2182,111.90819999999999,128.4888,98.888400000000004,89.552300000000002,59.506100000000004,151.58340000000001,115.4725,152.13409999999999,139.2208,151.55330000000001]
["2012-01-01",{"$f":"MONTH(Indice_Emprego[[#This Row],[Período]])&YEAR(Indice_Emprego[[#This Row],[Período]])","v":"12012"},121.9662,148.48060000000001,120.4367,111.5842,140.04570000000001,98.888400000000004,88.736400000000003,59.7239,151.65520000000001,115.27330000000001,150.19409999999999,140.69900000000001,149.75110000000001]
["2012-02-01",{"$f":"MONTH(Indice_Emprego[[#This Row],[Período]])&YEAR(Indice_Emprego[[#This Row],[Período]])","v":"22012"},121.9806,150.75919999999999,120.3205,112.1661,139.84389999999999,99.195099999999996,88.834299999999999,58.787300000000002,150.7826,114.8516,148.43950000000001,141.49510000000001,149.8091]
["2012-03-01",{"$f":"MONTH(Indice_Emprego[[#This Row],[Período]])&YEAR(Indice_Emprego[[#This Row],[Período]])","v":"32012"},122.5234,151.88849999999999,120.82940000000001,113.0819,140.09620000000001,99.487499999999997,88.507900000000006,57.937899999999999,149.3965,114.1974,148.69659999999999,140.5104,150.8314]
["2012-04-01",{"$f":"MONTH(Indice_Emprego[[#This Row],[Período]])&YEAR(Indice_Emprego[[#This Row],[Período]])","v":"42012"},121.3655,152.83959999999999,119.54989999999999,114.2105,138.2037,99.8369,87.985799999999998,62.664400000000001,148.65719999999999,118.2146,123.95869999999999,140.49180000000001,151.15809999999999]
["2012-05-01",{"$f":"MONTH(Indice_Emprego[[#This Row],[Período]])&YEAR(Indice_Emprego[[#This Row],[Período]])","v":"52012"},121.4919,154.30510000000001,119.59910000000001,116.452,139.08690000000001,100.22199999999999,88.703800000000001,63.361400000000003,148.38,117.31319999999999,119.88249999999999,139.4075,149.5087]
["2012-06-01",{"$f":"MONTH(Indice_Emprego[[#This Row],[Período]])&YEAR(Indice_Emprego[[#This Row],[Período]])","v":"62012"},123.8912,156.8843,121.9879,117.6587,144.4111,99.7727,88.834299999999999,63.448500000000003,147.7551,116.9649,124.0016,135.4597,160.67500000000001]
["2012-07-01",{"$f":"MONTH(Indice_Emprego[[#This Row],[Período]])&YEAR(Indice_Emprego[[#This Row],[Período]])","v":"72012"},125.33629999999999,161.45410000000001,123.25279999999999,118.35290000000001,141.55969999999999,98.874099999999999,87.953100000000006,62.468400000000003,148.3528,117.6088,122.8304,136.0866,164.61670000000001]
["2012-08-01",{"$f":"MONTH(Indice_Emprego[[#This Row],[Período]])&YEAR(Indice_Emprego[[#This Row],[Período]])","v":"82012"},125.7016,158.4076,123.815,117.5286,145.8494,99.159400000000005,86.843500000000006,63.448500000000003,149.3717,116.66630000000001,129.7432,138.40780000000001,165.1858]
["2012-09-01",{"$f":"MONTH(Indice_Emprego[[#This Row],[Período]])&YEAR(Indice_Emprego[[#This Row],[Período]])","v":"92012"},125.8061,159.76349999999999,123.8473,114.9002,136.7149,98.881299999999996,86.419300000000007,63.622799999999998,151.78020000000001,115.4969,130.84289999999999,141.5428,166.6507]
["2012-10-01",{"$f":"MONTH(Indice_Emprego[[#This Row],[Período]])&YEAR(Indice_Emprego[[#This Row],[Período]])","v":"102012"},126.29649999999999,158.41480000000001,124.44370000000001,116.327,141.15600000000001,99.637200000000007,87.430999999999997,61.139699999999998,150.7381,115.1127,135.92750000000001,141.14410000000001,166.47149999999999]
["2012-11-01",{"$f":"MONTH(Indice_Emprego[[#This Row],[Período]])&YEAR(Indice_Emprego[[#This Row],[Período]])","v":"112012"},126.9217,158.55250000000001,125.0971,116.8103,141.93819999999999,99.758499999999998,87.365700000000004,55.128100000000003,151.7107,114.82859999999999,137.22730000000001,140.17679999999999,168.4529]
["2012-12-01",{"$f":"MONTH(Indice_Emprego[[#This Row],[Período]])&YEAR(Indice_Emprego[[#This Row],[Período]])","v":"122012"},126.1005,159.7362,124.1602,113.4135,144.63820000000001,99.4375,86.941400000000002,53.9084,150.59909999999999,114.117,130.12880000000001,139.9597,168.84289999999999]
["2013-01-01",{"$f":"MONTH(Indice_Emprego[[#This Row],[Período]])&YEAR(Indice_Emprego[[#This Row],[Período]])","v":"12013"},126.8062,159.16849999999999,124.93940000000001,113.854,145.4205,100.0295,88.214200000000005,49.508600000000001,152.7338,111.3039,130.6001,140.2698,169.8862]
["2013-02-01",{"$f":"MONTH(Indice_Emprego[[#This Row],[Período]])&YEAR(Indice_Emprego[[#This Row],[Período]])","v":"22013"},125.92570000000001,159.0693,124.0138,114.0979,140.70179999999999,100.2933,88.344800000000006,46.720599999999997,154.5086,111.0552,112.2606,138.81039999999999,169.49709999999999]
["2013-03-01",{"$f":"MONTH(Indice_Emprego[[#This Row],[Período]])&YEAR(Indice_Emprego[[#This Row],[Período]])","v":"32013"},127.28879999999999,158.68870000000001,125.47750000000001,115.11279999999999,140.14670000000001,99.623000000000005,88.377399999999994,55.476599999999998,155.43289999999999,110.745,114.29989999999999,138.9016,169.71950000000001]
["2013-04-01",{"$f":"MONTH(Indice_Emprego[[#This Row],[Período]])&YEAR(Indice_Emprego[[#This Row],[Período]])","v":"42013"},128.45519999999999,158.709,126.71,115.9414,140.57570000000001,100.7141,88.671099999999996,58.787300000000002,156.126,111.3254,113.0962,139.0658,172.7645]
["2013-05-01",{"$f":"MONTH(Indice_Emprego[[#This Row],[Período]])&YEAR(Indice_Emprego[[#This Row],[Período]])","v":"52013"},128.85849999999999,157.13050000000001,127.2277,117.6617,139.9701,100.61369999999999,88.997500000000002,61.793100000000003,157.51240000000001,111.8043,110.3182,138.15360000000001,173.8939]
["2013-06-01",{"$f":"MONTH(Indice_Emprego[[#This Row],[Período]])&YEAR(Indice_Emprego[[#This Row],[Período]])","v":"62013"},128.79400000000001,156.56710000000001,127.1919,116.9263,138.85980000000001,100.255,87.561499999999995,59.3536,157.41999999999999,111.4357,117.0197,137.18680000000001,172.5309]
["2013-07-01",{"$f":"MONTH(Indice_Emprego[[#This Row],[Período]])&YEAR(Indice_Emprego[[#This Row],[Período]])","v":"72013"},128.5454,156.8006,126.91549999999999,117.1626,140.29810000000001,100.7069,88.41,58.177500000000002,158.529,113.3711,115.1439,138.26310000000001,171.57509999999999]
["2013-08-01",{"$f":"MONTH(Indice_Emprego[[#This Row],[Período]])&YEAR(Indice_Emprego[[#This Row],[Período]])","v":"82013"},128.6876,156.9427,127.0577,116.9962,142.14009999999999,101.8977,88.279499999999999,58.460599999999999,159.2508,113.4264,113.37730000000001,141.34610000000001,171.44499999999999]
["2013-09-01",{"$f":"MONTH(Indice_Emprego[[#This Row],[Período]])&YEAR(Indice_Emprego[[#This Row],[Período]])","v":"92013"},128.161,157.21789999999999,126.48480000000001,115.8282,142.77099999999999,102.127,89.095399999999998,58.2864,158.9726,112.6,111.7556,142.97929999999999,172.79669999999999]
["2013-10-01",{"$f":"MONTH(Indice_Emprego[[#This Row],[Período]])&YEAR(Indice_Emprego[[#This Row],[Período]])","v":"102013"},127.8741,157.11879999999999,126.1872,112.4272,143.3766,102.6669,89.389099999999999,57.5458,160.34399999999999,112.48260000000001,106.8614,142.7654,179.5043]
["2013-11-01",{"$f":"MONTH(Indice_Emprego[[#This Row],[Período]])&YEAR(Indice_Emprego[[#This Row],[Período]])","v":"112013"},126.4592,157.01429999999999,124.69670000000001,111.72150000000001,138.12799999999999,102.54859999999999,89.389099999999999,56.195399999999999,160.61240000000001,111.3113,103.7482,142.99870000000001,177.58709999999999]
["2013-12-01",{"$f":"MONTH(Indice_Emprego[[#This Row],[Período]])&YEAR(Indice_Emprego[[#This Row],[Período]])","v":"122013"},124.922,155.89709999999999,123.1352,110.944,137.86789999999999,101.3578,89.225899999999996,52.610599999999998,158.1883,110.6022,101.9817,142.42449999999999,176.37110000000001]
["2014-01-01",{"$f":"MONTH(Indice_Emprego[[#This Row],[Período]])&YEAR(Indice_Emprego[[#This Row],[Período]])","v":"12014"},124.86660000000001,155.54480000000001,123.09690000000001,110.75060000000001,135.9169,102.2675,89.715500000000006,44.002000000000002,160.20580000000001,110.68640000000001,93.423000000000002,142.11959999999999,177.70580000000001]
["2014-02-01",{"$f":"MONTH(Indice_Emprego[[#This Row],[Período]])&YEAR(Indice_Emprego[[#This Row],[Período]])","v":"22014"},126.1965,155.62739999999999,124.4987,111.20180000000001,135.00649999999999,103.0367,89.780699999999996,43.976799999999997,162.7586,109.9657,108.1938,141.33029999999999,177.62100000000001]
["2014-03-01",{"$f":"MONTH(Indice_Emprego[[#This Row],[Período]])&YEAR(Indice_Emprego[[#This Row],[Período]])","v":"32014"},127.3473,155.15960000000001,125.74299999999999,111.7007,115.4969,103.4246,89.943899999999999,44.002000000000002,163.45160000000001,109.51519999999999,114.3759,142.0658,177.41739999999999]
["2014-04-01",{"$f":"MONTH(Indice_Emprego[[#This Row],[Período]])&YEAR(Indice_Emprego[[#This Row],[Período]])","v":"42014"},127.8177,154.71199999999999,126.2663,108.65130000000001,113.0257,106.50149999999999,89.780699999999996,54.226300000000002,163.68790000000001,109.5791,117.255,145.34829999999999,174.5839]
["2014-05-01",{"$f":"MONTH(Indice_Emprego[[#This Row],[Período]])&YEAR(Indice_Emprego[[#This Row],[Período]])","v":"52014"},128.40940000000001,154.0599,126.9298,111.4879,112.9606,106.53100000000001,89.323800000000006,56.599299999999999,163.44800000000001,108.35550000000001,123.1156,146.3218,172.37819999999999]
["2014-06-01",{"$f":"MONTH(Indice_Emprego[[#This Row],[Período]])&YEAR(Indice_Emprego[[#This Row],[Período]])","v":"62014"},128.38919999999999,153.57910000000001,126.9361,111.6948,112.8306,106.71550000000001,89.225899999999996,56.0944,162.42189999999999,108.48399999999999,127.4387,145.63679999999999,170.07069999999999]
["2014-07-01",{"$f":"MONTH(Indice_Emprego[[#This Row],[Período]])&YEAR(Indice_Emprego[[#This Row],[Período]])","v":"72014"},128.06899999999999,152.6121,126.6532,112.13079999999999,110.8146,106.6417,89.780699999999996,56.195399999999999,160.19329999999999,107.836,126.36879999999999,146.62819999999999,167.9385]
["2014-08-01",{"$f":"MONTH(Indice_Emprego[[#This Row],[Período]])&YEAR(Indice_Emprego[[#This Row],[Período]])","v":"82014"},127.7988,152.12029999999999,126.39579999999999,110.81010000000001,112.1802,106.9663,89.813400000000001,56.018700000000003,160.83000000000001,106.00579999999999,123.0433,147.09690000000001,166.73949999999999]
["2014-09-01",{"$f":"MONTH(Indice_Emprego[[#This Row],[Período]])&YEAR(Indice_Emprego[[#This Row],[Período]])","v":"92014"},125.1848,151.3135,123.67749999999999,108.76690000000001,106.1323,106.8409,90.4529,55.362299999999998,161.48259999999999,105.4575,115.27509999999999,146.50210000000001,164.36420000000001]
["2014-10-01",{"$f":"MONTH(Indice_Emprego[[#This Row],[Período]])&YEAR(Indice_Emprego[[#This Row],[Período]])","v":"102014"},124.1895,150.7996,122.6545,108.19459999999999,102.3604,106.2285,89.8489,56.447800000000001,159.61590000000001,104.38330000000001,112.73520000000001,147.22309999999999,163.93430000000001]
["2014-11-01",{"$f":"MONTH(Indice_Emprego[[#This Row],[Período]])&YEAR(Indice_Emprego[[#This Row],[Período]])","v":"112014"},123.85299999999999,150.08670000000001,122.33969999999999,108.129,100.5395,105.03319999999999,89.458100000000002,56.599299999999999,161.32919999999999,103.3091,110.92310000000001,146.55609999999999,164.37549999999999]
["2014-12-01",{"$f":"MONTH(Indice_Emprego[[#This Row],[Período]])&YEAR(Indice_Emprego[[#This Row],[Período]])","v":"122014"},122.8002,148.8433,121.2979,107.366,100.0843,102.7015,89.165700000000001,52.888300000000001,158.92789999999999,102.4563,114.1692,146.6463,163.47620000000001]
["2015-01-01",{"$f":"MONTH(Indice_Emprego[[#This Row],[Período]])&YEAR(Indice_Emprego[[#This Row],[Período]])","v":"12015"},122.5184,147.94810000000001,121.0515,107.42230000000001,99.889200000000002,102.47280000000001,89.555499999999995,43.067999999999998,159.0651,102.7124,119.17400000000001,147.6377,160.82939999999999]
["2015-02-01",{"$f":"MONTH(Indice_Emprego[[#This Row],[Período]])&YEAR(Indice_Emprego[[#This Row],[Período]])","v":"22015"},122.964,156.81739999999999,121.0112,107.7735,99.043800000000005,103.22539999999999,90.66,44.052500000000002,160.39609999999999,101.8083,117.3364,148.96,159.06899999999999]
["2015-03-01",{"$f":"MONTH(Indice_Emprego[[#This Row],[Período]])&YEAR(Indice_Emprego[[#This Row],[Período]])","v":"32015"},122.80710000000001,155.1541,120.94119999999999,108.551,99.108800000000002,103.15900000000001,90.919799999999995,43.370899999999999,160.36869999999999,101.07170000000001,125.2881,148.2988,156.63229999999999]
["2015-04-01",{"$f":"MONTH(Indice_Emprego[[#This Row],[Período]])&YEAR(Indice_Emprego[[#This Row],[Período]])","v":"42015"},120.6484,153.90520000000001,118.73,108.76090000000001,99.303899999999999,101.6095,91.049800000000005,48.950099999999999,158.53460000000001,100.7514,112.78449999999999,144.01599999999999,152.57849999999999]
["2015-05-01",{"$f":"MONTH(Indice_Emprego[[#This Row],[Período]])&YEAR(Indice_Emprego[[#This Row],[Período]])","v":"52015"},120.3039,151.13659999999999,118.5254,111.1859,99.694100000000006,99.890299999999996,90.8005,49.757899999999999,158.5874,101.0759,112.44410000000001,142.52799999999999,149.32759999999999]
["2015-06-01",{"$f":"MONTH(Indice_Emprego[[#This Row],[Período]])&YEAR(Indice_Emprego[[#This Row],[Período]])","v":"62015"},118.1961,150.56450000000001,116.3289,111.3751,100.47450000000001,97.802199999999999,90.266400000000004,52.080399999999997,157.14920000000001,97.966099999999997,107.9162,131.6292,146.89080000000001]
["2015-07-01",{"$f":"MONTH(Indice_Emprego[[#This Row],[Período]])&YEAR(Indice_Emprego[[#This Row],[Período]])","v":"72015"},117.0147,150.00880000000001,115.1114,110.97499999999999,98.003299999999996,94.784400000000005,90.337599999999995,51.373600000000003,155.84289999999999,96.02,104.0689,131.53569999999999,143.8887]
["2015-08-01",{"$f":"MONTH(Indice_Emprego[[#This Row],[Período]])&YEAR(Indice_Emprego[[#This Row],[Período]])","v":"82015"},115.50190000000001,149.3212,113.55110000000001,111.6138,97.613100000000003,90.504900000000006,90.868300000000005,52.736800000000002,152.47819999999999,94.023200000000003,101.2278,130.7313,142.9162]
["2015-09-01",{"$f":"MONTH(Indice_Emprego[[#This Row],[Período]])&YEAR(Indice_Emprego[[#This Row],[Período]])","v":"92015"},114.2256,148.98560000000001,112.2205,111.589,97.808199999999999,88.454999999999998,91.816100000000006,51.449300000000001,151.7261,94.796899999999994,96.418700000000001,130.18870000000001,140.24760000000001]
["2015-10-01",{"$f":"MONTH(Indice_Emprego[[#This Row],[Período]])&YEAR(Indice_Emprego[[#This Row],[Período]])","v":"102015"},112.324,148.70500000000001,110.22539999999999,110.2308,98.198400000000007,87.066800000000001,92.101399999999998,50.515300000000003,151.77950000000001,94.895399999999995,81.709699999999998,129.04750000000001,136.82140000000001]
["2015-11-01",{"$f":"MONTH(Indice_Emprego[[#This Row],[Período]])&YEAR(Indice_Emprego[[#This Row],[Período]])","v":"112015"},111.18300000000001,148.4024,109.036,110.6666,97.873199999999997,85.211100000000002,92.137100000000004,50.161799999999999,151.4727,94.871499999999997,76.454099999999997,127.01139999999999,134.27160000000001]
["2015-12-01",{"$f":"MONTH(Indice_Emprego[[#This Row],[Período]])&YEAR(Indice_Emprego[[#This Row],[Período]])","v":"122015"},109.5535,147.99529999999999,107.306,109.8232,98.198400000000007,83.031700000000001,91.316699999999997,46.177799999999998,147.37819999999999,94.415199999999999,73.300600000000003,125.6091,132.3323]
["2016-01-01",{"$f":"MONTH(Indice_Emprego[[#This Row],[Período]])&YEAR(Indice_Emprego[[#This Row],[Período]])","v":"12016"},110.2098,147.8193,108.011,109.0868,97.678100000000001,81.4422,90.032499999999999,46.565100000000001,147.1781,92.679500000000004,70.360699999999994,126.1048,146.3245]
["2016-02-01",{"$f":"MONTH(Indice_Emprego[[#This Row],[Período]])&YEAR(Indice_Emprego[[#This Row],[Período]])","v":"22016"},110.31399999999999,147.79730000000001,108.12260000000001,109.65009999999999,93.971299999999999,81.974400000000003,89.8185,46.521999999999998,146.24449999999999,93.905900000000003,70.722099999999998,126.69499999999999,144.66220000000001]
["2016-03-01",{"$f":"MONTH(Indice_Emprego[[#This Row],[Período]])&YEAR(Indice_Emprego[[#This Row],[Período]])","v":"32016"},110.101,147.5607,107.911,108.51220000000001,93.450999999999993,82.869600000000005,90.96,46.478999999999999,148.5652,93.650099999999995,70.722099999999998,126.4226,142.3339]
["2016-04-01",{"$f":"MONTH(Indice_Emprego[[#This Row],[Período]])&YEAR(Indice_Emprego[[#This Row],[Período]])","v":"42016"},109.67910000000001,146.785,107.5097,108.6073,92.995800000000003,82.965000000000003,90.531899999999993,46.453600000000002,148.33840000000001,92.990200000000002,67.336100000000002,126.1503,139.58840000000001]
["2016-05-01",{"$f":"MONTH(Indice_Emprego[[#This Row],[Período]])&YEAR(Indice_Emprego[[#This Row],[Período]])","v":"52016"},110.28100000000001,146.1138,108.18600000000001,110.4113,92.800700000000006,83.060299999999998,90.496200000000002,47.680900000000001,150.01900000000001,92.836100000000002,66.106300000000005,128.25,137.95009999999999]
["2016-06-01",{"$f":"MONTH(Indice_Emprego[[#This Row],[Período]])&YEAR(Indice_Emprego[[#This Row],[Período]])","v":"62016"},110.4037,145.09049999999999,108.37569999999999,108.5672,91.435000000000002,82.4512,89.170199999999994,47.580300000000001,160.24870000000001,92.958200000000005,66.5535,125.6015,134.7413]
["2016-07-01",{"$f":"MONTH(Indice_Emprego[[#This Row],[Período]])&YEAR(Indice_Emprego[[#This Row],[Período]])","v":"72016"},109.36790000000001,142.20769999999999,107.4479,108.6283,94.036299999999997,82.377799999999993,88.264600000000002,47.3992,155.26060000000001,93.403000000000006,66.808999999999997,125.4427,132.28380000000001]
["2016-08-01",{"$f":"MONTH(Indice_Emprego[[#This Row],[Período]])&YEAR(Indice_Emprego[[#This Row],[Período]])","v":"82016"},109.49720000000001,142.11969999999999,107.5899,107.72499999999999,93.776200000000003,82.319100000000006,88.393900000000002,46.353000000000002,153.96680000000001,94.019300000000001,68.432100000000005,125.6468,131.02969999999999]
["2016-09-01",{"$f":"MONTH(Indice_Emprego[[#This Row],[Período]])&YEAR(Indice_Emprego[[#This Row],[Período]])","v":"92016"},109.011,142.02070000000001,107.08110000000001,106.1656,93.776200000000003,82.2363,87.132599999999996,45.789700000000003,154.94049999999999,93.978499999999997,66.628200000000007,124.3085,129.63999999999999]
["2016-10-01",{"$f":"MONTH(Indice_Emprego[[#This Row],[Período]])&YEAR(Indice_Emprego[[#This Row],[Período]])","v":"102016"},107.4358,141.78960000000001,105.4273,105.3386,90.9148,82.191199999999995,87.132599999999996,40.116300000000003,154.4933,93.663700000000006,56.433700000000002,122.16070000000001,127.7418]
["2016-11-01",{"$f":"MONTH(Indice_Emprego[[#This Row],[Período]])&YEAR(Indice_Emprego[[#This Row],[Período]])","v":"112016"},106.32899999999999,144.93809999999999,104.07170000000001,105.7811,91.174899999999994,81.924199999999999,88.005799999999994,39.932200000000002,153.00299999999999,93.462900000000005,54.911200000000001,120.42870000000001,126.97920000000001]
["2016-12-01",{"$f":"MONTH(Indice_Emprego[[#This Row],[Período]])&YEAR(Indice_Emprego[[#This Row],[Período]])","v":"122016"},104.6652,146.66139999999999,102.2099,103.9431,91.435000000000002,80.286100000000005,86.769199999999998,38.388800000000003,149.85980000000001,92.011600000000001,51.590299999999999,117.41970000000001,126.07299999999999]
["2017-01-01",{"$f":"MONTH(Indice_Emprego[[#This Row],[Período]])&YEAR(Indice_Emprego[[#This Row],[Período]])","v":"12017"},103.8408,146.86580000000001,101.3254,105.0839,92.280500000000004,81.325199999999995,87.078400000000002,37.238199999999999,129.30670000000001,92.874899999999997,52.2545,116.7919,125.6294]
["2017-02-01",{"$f":"MONTH(Indice_Emprego[[#This Row],[Período]])&YEAR(Indice_Emprego[[#This Row],[Período]])","v":"22017"},104.15730000000001,147.4402,101.6268,104.9958,92.735699999999994,81.751000000000005,87.284499999999994,37.597499999999997,129.27959999999999,93.264799999999994,54.802,114.3827,123.47069999999999]
["2017-03-01",{"$f":"MONTH(Indice_Emprego[[#This Row],[Período]])&YEAR(Indice_Emprego[[#This Row],[Período]])","v":"32017"},103.6842,147.35740000000001,101.1309,104.7595,92.995800000000003,82.573599999999999,89.105000000000004,37.8369,128.7919,93.087599999999995,57.359299999999998,114.8248,120.5645]
["2017-04-01",{"$f":"MONTH(Indice_Emprego[[#This Row],[Período]])&YEAR(Indice_Emprego[[#This Row],[Período]])","v":"42017"},103.44289999999999,147.3629,100.87520000000001,104.7564,93.190899999999999,83.316900000000004,88.967600000000004,38.176200000000001,128.66990000000001,92.741200000000006,58.087499999999999,114.37860000000001,118.5466]
["2017-05-01",{"$f":"MONTH(Indice_Emprego[[#This Row],[Período]])&YEAR(Indice_Emprego[[#This Row],[Período]])","v":"52017"},103.91589999999999,146.87889999999999,101.4041,107.0209,92.930800000000005,82.739599999999996,88.555400000000006,37.657299999999999,127.8977,92.381100000000004,61.438699999999997,114.76390000000001,117.63500000000001]
["2017-06-01",{"$f":"MONTH(Indice_Emprego[[#This Row],[Período]])&YEAR(Indice_Emprego[[#This Row],[Período]])","v":"62017"},103.7316,146.52680000000001,101.2296,106.58410000000001,93.190899999999999,80.084100000000007,88.727199999999996,36.9788,127.8977,92.314300000000003,60.067700000000002,113.9122,117.2333]
["2017-07-01",{"$f":"MONTH(Indice_Emprego[[#This Row],[Período]])&YEAR(Indice_Emprego[[#This Row],[Período]])","v":"72017"},103.64619999999999,140.3828,101.4984,106.41759999999999,97.418000000000006,79.932500000000005,88.555400000000006,36.240400000000001,127.7351,92.7761,62.115699999999997,112.5737,116.95099999999999]
["2017-08-01",{"$f":"MONTH(Indice_Emprego[[#This Row],[Período]])&YEAR(Indice_Emprego[[#This Row],[Período]])","v":"82017"},103.74509999999999,139.87129999999999,101.633,106.8292,96.962800000000001,79.947199999999995,88.177599999999998,36.400100000000002,128.62469999999999,93.725700000000003,63.4358,111.11360000000001,116.86960000000001]
["2017-09-01",{"$f":"MONTH(Indice_Emprego[[#This Row],[Período]])&YEAR(Indice_Emprego[[#This Row],[Período]])","v":"92017"},103.8968,138.9967,101.8398,105.32380000000001,94.816699999999997,80.020300000000006,89.517200000000003,36.639600000000002,127.47239999999999,94.724599999999995,68.747600000000006,109.77509999999999,116.7556]
["2017-10-01",{"$f":"MONTH(Indice_Emprego[[#This Row],[Período]])&YEAR(Indice_Emprego[[#This Row],[Período]])","v":"102017"},103.6497,138.56219999999999,101.6037,106.1332,94.686599999999999,79.961799999999997,91.956100000000006,36.699399999999997,126.5395,94.759699999999995,69.613100000000003,109.51139999999999,116.1529]
["2017-11-01",{"$f":"MONTH(Indice_Emprego[[#This Row],[Período]])&YEAR(Indice_Emprego[[#This Row],[Período]])","v":"112017"},103.1173,137.81960000000001,101.08369999999999,105.1726,93.450999999999993,79.991100000000003,92.196600000000004,36.559699999999999,125.67659999999999,95.280299999999997,69.224900000000005,109.2884,117.5874]
["2017-12-01",{"$f":"MONTH(Indice_Emprego[[#This Row],[Período]])&YEAR(Indice_Emprego[[#This Row],[Período]])","v":"122017"},102.01390000000001,136.34549999999999,100.00190000000001,105.0749,93.385999999999996,79.325299999999999,91.475200000000001,35.761499999999998,122.9766,95.407200000000003,69.069900000000004,108.9436,117.06019999999999]
["2018-01-01",{"$f":"MONTH(Indice_Emprego[[#This Row],[Período]])&YEAR(Indice_Emprego[[#This Row],[Período]])","v":"12018"},102.2974,135.01990000000001,100.3797,105.08750000000001,93.776200000000003,79.091200000000001,91.6126,35.6218,123.90900000000001,96.231099999999998,70.464399999999998,108.7002,117.86320000000001]
["2018-02-01",{"$f":"MONTH(Indice_Emprego[[#This Row],[Período]])&YEAR(Indice_Emprego[[#This Row],[Período]])","v":"22018"},102.44159999999999,136.49950000000001,100.4457,104.6575,93.385999999999996,80.042299999999997,91.6126,36.200499999999998,124.32040000000001,96.587400000000002,73.042599999999993,107.21980000000001,117.8578]
["2018-03-01",{"$f":"MONTH(Indice_Emprego[[#This Row],[Período]])&YEAR(Indice_Emprego[[#This Row],[Período]])","v":"32018"},102.8507,138.40809999999999,100.767,105.24209999999999,94.036299999999997,79.976399999999998,91.8874,36.619599999999998,124.36109999999999,97.129000000000005,74.549099999999996,107.86879999999999,117.2662]
["2018-04-01",{"$f":"MONTH(Indice_Emprego[[#This Row],[Período]])&YEAR(Indice_Emprego[[#This Row],[Período]])","v":"42018"},104.2414,138.32579999999999,102.2439,104.7124,94.491500000000002,80.225200000000001,92.436999999999998,36.639600000000002,125.446,97.695800000000006,88.899799999999999,108.4974,117.212]
["2018-05-01",{"$f":"MONTH(Indice_Emprego[[#This Row],[Período]])&YEAR(Indice_Emprego[[#This Row],[Período]])","v":"52018"},105.2941,138.43010000000001,103.3523,107.12479999999999,93.776200000000003,80.034999999999997,91.1661,36.579700000000003,129.29759999999999,97.631900000000002,92.906800000000004,107.8079,116.52809999999999]
["2018-06-01",{"$f":"MONTH(Indice_Emprego[[#This Row],[Período]])&YEAR(Indice_Emprego[[#This Row],[Período]])","v":"62018"},104.2864,138.4521,102.2842,105.75230000000001,93.320999999999998,81.615200000000002,91.543899999999994,36.699399999999997,124.4289,97.457499999999996,87.564099999999996,107.4226,116.1645]
["2018-07-01",{"$f":"MONTH(Indice_Emprego[[#This Row],[Período]])&YEAR(Indice_Emprego[[#This Row],[Período]])","v":"72018"},104.1567,138.2105,102.161,106.227,92.800700000000006,81.893199999999993,91.063000000000002,36.819200000000002,124.19840000000001,97.858599999999996,80.109200000000001,109.7548,117.03830000000001]
["2018-08-01",{"$f":"MONTH(Indice_Emprego[[#This Row],[Período]])&YEAR(Indice_Emprego[[#This Row],[Período]])","v":"82018"},103.3104,138.38069999999999,101.2552,105.7132,91.955299999999994,81.751199999999997,90.96,36.819200000000002,123.9678,98.140600000000006,72.840699999999998,110.20099999999999,116.6964]
["2018-09-01",{"$f":"MONTH(Indice_Emprego[[#This Row],[Período]])&YEAR(Indice_Emprego[[#This Row],[Período]])","v":"92018"},103.208,138.21600000000001,101.15649999999999,105.5193,91.500100000000003,81.444800000000001,91.234800000000007,36.779299999999999,123.56100000000001,99.143500000000003,70.959599999999995,108.84220000000001,116.1482]
["2018-10-01",{"$f":"MONTH(Indice_Emprego[[#This Row],[Período]])&YEAR(Indice_Emprego[[#This Row],[Período]])","v":"102018"},102.8631,139.45670000000001,100.7187,104.7242,91.435000000000002,81.153400000000005,91.818700000000007,36.779299999999999,123.1677,98.663799999999995,73.127099999999999,109.187,114.3844]
["2018-11-01",{"$f":"MONTH(Indice_Emprego[[#This Row],[Período]])&YEAR(Indice_Emprego[[#This Row],[Período]])","v":"112018"},103.8796,139.53909999999999,101.7899,104.82250000000001,91.565100000000001,80.436099999999996,91.543899999999994,36.320300000000003,123.127,99.102800000000002,85.089500000000001,109.187,113.46169999999999]
["2018-12-01",{"$f":"MONTH(Indice_Emprego[[#This Row],[Período]])&YEAR(Indice_Emprego[[#This Row],[Período]])","v":"122018"},103.2346,139.2371,101.1247,104.5277,91.955299999999994,80.779799999999994,91.8874,36.040900000000001,122.24550000000001,98.248099999999994,76.989699999999999,109.16670000000001,114.17270000000001]
["2019-01-01",{"$f":"MONTH(Indice_Emprego[[#This Row],[Período]])&YEAR(Indice_Emprego[[#This Row],[Período]])","v":"12019"},102.3839,139.25460000000001,100.2231,100.9661,91.500100000000003,79.569500000000005,90.410399999999996,36.240400000000001,122.1506,99.233599999999996,74.021699999999996,110.0996,111.3831]
["2019-02-01",{"$f":"MONTH(Indice_Emprego[[#This Row],[Período]])&YEAR(Indice_Emprego[[#This Row],[Período]])","v":"22019"},102.2517,139.0677,100.0942,100.50839999999999,91.435000000000002,80.093699999999998,91.681299999999993,37.1584,119.7501,99.454499999999996,74.053799999999995,107.8891,109.5921]
["2019-03-01",{"$f":"MONTH(Indice_Emprego[[#This Row],[Período]])&YEAR(Indice_Emprego[[#This Row],[Período]])","v":"32019"},102.82380000000001,139.10589999999999,100.69750000000001,101.3561,90.9148,80.424099999999996,90.685199999999995,37.976599999999998,120.4147,99.928299999999993,76.043099999999995,106.51,107.49720000000001]
["2019-04-01",{"$f":"MONTH(Indice_Emprego[[#This Row],[Período]])&YEAR(Indice_Emprego[[#This Row],[Período]])","v":"42019"},103.9299,139.01859999999999,101.8736,101.7161,90.654700000000005,79.853399999999993,90.994299999999996,38.056399999999996,120.9164,99.826599999999999,79.684899999999999,108.25409999999999,107.63290000000001]
["2019-05-01",{"$f":"MONTH(Indice_Emprego[[#This Row],[Período]])&YEAR(Indice_Emprego[[#This Row],[Período]])","v":"52019"},105.3777,139.0677,103.4034,103.813,90.199399999999997,80.161299999999997,90.822599999999994,37.8369,122.4896,100.23350000000001,83.535200000000003,107.7877,106.93819999999999]
["2019-06-01",{"$f":"MONTH(Indice_Emprego[[#This Row],[Período]])&YEAR(Indice_Emprego[[#This Row],[Período]])","v":"62019"},105.6443,139.5915,103.6549,103.50709999999999,91.435100000000006,78.2166,89.963800000000006,37.218299999999999,120.7266,100.03,91.347999999999999,107.86879999999999,106.33580000000001]
["2019-07-01",{"$f":"MONTH(Indice_Emprego[[#This Row],[Período]])&YEAR(Indice_Emprego[[#This Row],[Período]])","v":"72019"},106.03449999999999,140.077,104.0395,103.9346,91.37,78.013800000000003,89.208100000000002,37.318100000000001,120.4011,100.04170000000001,102.96299999999999,105.43519999999999,106.5149]
["2019-08-01",{"$f":"MONTH(Indice_Emprego[[#This Row],[Período]])&YEAR(Indice_Emprego[[#This Row],[Período]])","v":"82019"},107.1661,140.70439999999999,105.20059999999999,103.89360000000001,91.305000000000007,78.269099999999995,89.036299999999997,37.318100000000001,120.17059999999999,99.7684,115.1191,106.1247,106.9545]
["2019-09-01",{"$f":"MONTH(Indice_Emprego[[#This Row],[Período]])&YEAR(Indice_Emprego[[#This Row],[Período]])","v":"92019"},107.01730000000001,141.34819999999999,105.00539999999999,101.91679999999999,90.979799999999997,78.156499999999994,88.923400000000001,37.238199999999999,119.5874,99.085300000000004,116.6527,105.69880000000001,106.4986]
["2019-10-01",{"$f":"MONTH(Indice_Emprego[[#This Row],[Período]])&YEAR(Indice_Emprego[[#This Row],[Período]])","v":"102019"},107.3223,141.86109999999999,105.2983,101.4791,90.9148,77.908699999999996,89.375299999999996,36.9788,115.5596,98.849199999999996,126.29040000000001,104.2589,110.1891]
["2019-11-01",{"$f":"MONTH(Indice_Emprego[[#This Row],[Período]])&YEAR(Indice_Emprego[[#This Row],[Período]])","v":"112019"},108.35169999999999,141.9265,106.3841,101.4619,91.6952,77.510800000000003,89.134399999999999,36.7194,114.6374,98.808400000000006,147.3092,103.52889999999999,109.6193]
["2019-12-01",{"$f":"MONTH(Indice_Emprego[[#This Row],[Período]])&YEAR(Indice_Emprego[[#This Row],[Período]])","v":"122019"},107.0064,141.3537,104.9935,101.1853,93.776200000000003,77.165400000000005,86.897400000000005,36.220500000000001,113.6202,98.286699999999996,140.21899999999999,102.6649,109.45650000000001]
["2020-01-01",{"$f":"MONTH(Indice_Emprego[[#This Row],[Período]])&YEAR(Indice_Emprego[[#This Row],[Período]])","v":"12020"},106.9509,141.55549999999999,104.923,101.3339,89.224000000000004,77.495699999999999,86.484499999999997,36.240400000000001,113.6474,98.881299999999996,137.63640000000001,100.1994,110.3031]
["2020-02-01",{"$f":"MONTH(Indice_Emprego[[#This Row],[Período]])&YEAR(Indice_Emprego[[#This Row],[Período]])","v":"22020"},107.45650000000001,141.57740000000001,105.4569,102.1575,88.443600000000004,78.168700000000001,86.484499999999997,37.138500000000001,112.9015,100.3561,136.70750000000001,100.0519,109.9666]
["2020-03-01",{"$f":"MONTH(Indice_Emprego[[#This Row],[Período]])&YEAR(Indice_Emprego[[#This Row],[Período]])","v":"32020"},107.65860000000001,141.33189999999999,105.6853,103.4511,87.207999999999998,78.393000000000001,87.2072,38.0764,111.9928,100.4319,132.0257,99.735799999999998,109.8961]
["2020-04-01",{"$f":"MONTH(Indice_Emprego[[#This Row],[Período]])&YEAR(Indice_Emprego[[#This Row],[Período]])","v":"42020"},103.53919999999999,138.63669999999999,101.4824,104.60980000000001,86.947900000000004,75.578999999999994,87.241600000000005,38.176200000000001,110.66379999999999,99.729399999999998,117.1498,96.764600000000002,109.2991]
["2020-05-01",{"$f":"MONTH(Indice_Emprego[[#This Row],[Período]])&YEAR(Indice_Emprego[[#This Row],[Período]])","v":"52020"},102.6799,142.8322,100.32689999999999,106.8481,87.598200000000006,73.155299999999997,86.105900000000005,37.457799999999999,110.6095,98.062700000000007,109.2321,97.860399999999998,107.7833]
["2020-06-01",{"$f":"MONTH(Indice_Emprego[[#This Row],[Período]])&YEAR(Indice_Emprego[[#This Row],[Período]])","v":"62020"},102.3939,144.4853,99.927300000000002,107.01560000000001,87.923299999999998,72.051400000000001,85.004599999999996,37.477699999999999,108.087,97.5702,106.7175,96.343199999999996,107.3947]
["2020-07-01",{"$f":"MONTH(Indice_Emprego[[#This Row],[Período]])&YEAR(Indice_Emprego[[#This Row],[Período]])","v":"72020"},101.28319999999999,144.94900000000001,98.724199999999996,103.9229,85.777299999999997,72.686199999999999,84.798100000000005,37.617400000000004,108.0057,97.634299999999996,99.533199999999994,96.237799999999993,107.5946]
["2020-08-01",{"$f":"MONTH(Indice_Emprego[[#This Row],[Período]])&YEAR(Indice_Emprego[[#This Row],[Período]])","v":"82020"},102.46980000000001,146.2148,99.906199999999998,108.621,84.671700000000001,73.554000000000002,86.312399999999997,37.338000000000001,109.6331,96.363699999999994,97.931700000000006,96.912099999999995,107.9888]
["2020-09-01",{"$f":"MONTH(Indice_Emprego[[#This Row],[Período]])&YEAR(Indice_Emprego[[#This Row],[Período]])","v":"92020"},103.6861,147.5515,101.1155,109.2634,84.281499999999994,74.703699999999998,86.622100000000003,37.258200000000002,111.1656,97.032799999999995,102.43689999999999,97.497,108.64400000000001]
["2020-10-01",{"$f":"MONTH(Indice_Emprego[[#This Row],[Período]])&YEAR(Indice_Emprego[[#This Row],[Período]])","v":"102020"},103.89109999999999,149.9684,101.1909,108.09869999999999,84.476600000000005,76.095699999999994,88.033100000000005,37.078600000000002,113.833,97.5535,99.410700000000006,98.041499999999999,109.18859999999999]
["2020-11-01",{"$f":"MONTH(Indice_Emprego[[#This Row],[Período]])&YEAR(Indice_Emprego[[#This Row],[Período]])","v":"112020"},103.67319999999999,146.26390000000001,101.1773,108.3182,83.696299999999994,76.855000000000004,88.239599999999996,36.619599999999998,115.5073,98.040099999999995,97.423400000000001,99.348299999999995,109.8432]
["2020-12-01",{"$f":"MONTH(Indice_Emprego[[#This Row],[Período]])&YEAR(Indice_Emprego[[#This Row],[Período]])","v":"122020"},103.7782,149.10640000000001,101.12179999999999,109.34099999999999,84.736800000000002,77.354100000000003,88.618200000000002,36.499899999999997,116.0278,98.194500000000005,91.642099999999999,101.9114,112.0214]
["2021-01-01",{"$f":"MONTH(Indice_Emprego[[#This Row],[Período]])&YEAR(Indice_Emprego[[#This Row],[Período]])","v":"12021"},105.13420000000001,149.0736,102.55929999999999,110.2149,86.102400000000003,78.0381,89.168800000000005,36.42,116.71639999999999,99.36,97.8643,102.35080000000001,115.7946]
["2021-02-01",{"$f":"MONTH(Indice_Emprego[[#This Row],[Período]])&YEAR(Indice_Emprego[[#This Row],[Período]])","v":"22021"},107.04689999999999,151.91059999999999,104.4177,110.0591,85.452100000000002,78.858199999999997,90.4422,37.278199999999998,118.6491,100.6566,105.67189999999999,106.1831,120.20959999999999]
["2021-03-01",{"$f":"MONTH(Indice_Emprego[[#This Row],[Período]])&YEAR(Indice_Emprego[[#This Row],[Período]])","v":"32021"},108.152,152.6035,105.5471,110.3573,84.8018,79.559799999999996,90.063599999999994,37.218299999999999,119.7598,102.10760000000001,107.93040000000001,106.2075,123.4624]
["2021-04-01",{"$f":"MONTH(Indice_Emprego[[#This Row],[Período]])&YEAR(Indice_Emprego[[#This Row],[Período]])","v":"42021"},109.29349999999999,153.9074,106.679,110.0127,85.126900000000006,80.206100000000006,90.304500000000004,37.796999999999997,119.982,102.2302,115.7868,106.2319,125.9479]
["2021-05-01",{"$f":"MONTH(Indice_Emprego[[#This Row],[Período]])&YEAR(Indice_Emprego[[#This Row],[Período]])","v":"52021"},109.6478,158.5558,106.7817,111.6198,85.972399999999993,79.882999999999996,90.855099999999993,36.240400000000001,120.1819,103.1318,107.9893,106.76900000000001,125.4196]
["2021-06-01",{"$f":"MONTH(Indice_Emprego[[#This Row],[Período]])&YEAR(Indice_Emprego[[#This Row],[Período]])","v":"62021"},110.0185,157.37729999999999,107.19029999999999,111.28919999999999,85.5822,79.700299999999999,89.891499999999994,36.599600000000002,120.49290000000001,103.619,109.7136,107.3548,124.8691]
["2021-07-01",{"$f":"MONTH(Indice_Emprego[[#This Row],[Período]])&YEAR(Indice_Emprego[[#This Row],[Período]])","v":"72021"},109.6611,159.54329999999999,106.68219999999999,111.2265,81.680300000000003,79.843699999999998,90.166899999999998,36.44,121.97580000000001,92.968000000000004,108.44710000000001,108.5265,124.16849999999999]
["2021-08-01",{"$f":"MONTH(Indice_Emprego[[#This Row],[Período]])&YEAR(Indice_Emprego[[#This Row],[Período]])","v":"82021"},110.2529,158.82310000000001,107.35250000000001,113.902,80.1845,80.553100000000001,88.686999999999998,36.160600000000002,125.40649999999999,93.965800000000002,100.57340000000001,109.42959999999999,122.8896]
["2021-09-01",{"$f":"MONTH(Indice_Emprego[[#This Row],[Período]])&YEAR(Indice_Emprego[[#This Row],[Período]])","v":"92021"},110.5656,160.8417,107.56319999999999,112.4691,74.396699999999996,80.644400000000005,89.753900000000002,35.941099999999999,126.80070000000001,94.928399999999996,106.8449,109.6981,120.9102]
["2021-10-01",{"$f":"MONTH(Indice_Emprego[[#This Row],[Período]])&YEAR(Indice_Emprego[[#This Row],[Período]])","v":"102021"},110.0776,159.3741,107.1337,111.87439999999999,73.811400000000006,80.730500000000006,89.788300000000007,36.000999999999998,127.7998,94.438400000000001,106.4024,108.8682,119.15309999999999]
["2021-11-01",{"$f":"MONTH(Indice_Emprego[[#This Row],[Período]])&YEAR(Indice_Emprego[[#This Row],[Período]])","v":"112021"},109.5861,158.33750000000001,106.6748,110.6641,74.136499999999998,80.457999999999998,89.340900000000005,34.742800000000003,126.82559999999999,95.004300000000001,106.5397,109.1367,118.73609999999999]
["2021-12-01",{"$f":"MONTH(Indice_Emprego[[#This Row],[Período]])&YEAR(Indice_Emprego[[#This Row],[Período]])","v":"122021"},108.8426,160.3725,105.7653,109.6377,73.746300000000005,79.762299999999996,88.927899999999994,34.5426,126.8035,94.858599999999996,102.8775,108.9903,116.94]
["2022-01-01",{"$f":"MONTH(Indice_Emprego[[#This Row],[Período]])&YEAR(Indice_Emprego[[#This Row],[Período]])","v":"12022"},109.66540000000001,159.756,106.6741,110.9598,71.925399999999996,77.883399999999995,88.755799999999994,36.225900000000003,126.60420000000001,95.322400000000002,112.3687,108.9414,115.4499]
["2022-02-01",{"$f":"MONTH(Indice_Emprego[[#This Row],[Período]])&YEAR(Indice_Emprego[[#This Row],[Período]])","v":"22022"},109.1477,155.4187,106.3845,110.7105,72.640799999999999,79.002399999999994,91.096100000000007,36.571800000000003,127.8441,95.735799999999998,110.9191,109.4785,116.08929999999999]
["2022-03-01",{"$f":"MONTH(Indice_Emprego[[#This Row],[Período]])&YEAR(Indice_Emprego[[#This Row],[Período]])","v":"32022"},109.2676,154.23480000000001,106.5822,111.3914,72.315600000000003,79.157600000000002,91.474599999999995,36.7102,128.41980000000001,96.165999999999997,107.43470000000001,109.1123,116.7732]
["2022-04-01",{"$f":"MONTH(Indice_Emprego[[#This Row],[Período]])&YEAR(Indice_Emprego[[#This Row],[Período]])","v":"42022"},108.43640000000001,149.63560000000001,105.9761,110.5394,72.770899999999997,78.755600000000001,90.820700000000002,35.672499999999999,128.6191,96.353899999999996,101.169,109.7714,117.0624]
["2022-05-01",{"$f":"MONTH(Indice_Emprego[[#This Row],[Período]])&YEAR(Indice_Emprego[[#This Row],[Período]])","v":"52022"},108.89400000000001,148.0752,106.55419999999999,112.7174,73.356099999999998,78.741500000000002,91.130499999999998,35.810899999999997,127.0692,96.696200000000005,102.8912,110.25960000000001,115.9614]
["2022-06-01",{"$f":"MONTH(Indice_Emprego[[#This Row],[Período]])&YEAR(Indice_Emprego[[#This Row],[Período]])","v":"62022"},110.09869999999999,153.28,107.52,112.7637,74.266599999999997,78.593400000000003,91.749899999999997,35.8339,128.39760000000001,97.271299999999997,104.5252,111.0163,115.2163]
["2022-07-01",{"$f":"MONTH(Indice_Emprego[[#This Row],[Período]])&YEAR(Indice_Emprego[[#This Row],[Período]])","v":"72022"},110.03360000000001,150.2903,107.6296,113.0382,74.786799999999999,78.692099999999996,92.059700000000007,35.810899999999997,128.50829999999999,97.910300000000007,103.4843,111.4068,115.12739999999999]
["2022-08-01",{"$f":"MONTH(Indice_Emprego[[#This Row],[Período]])&YEAR(Indice_Emprego[[#This Row],[Período]])","v":"82022"},110.0498,153.1327,107.477,113.1147,74.786799999999999,79.021199999999993,91.468699999999998,35.718600000000002,126.82559999999999,98.4114,98.745500000000007,112.432,115.65560000000001]
["2022-09-01",{"$f":"MONTH(Indice_Emprego[[#This Row],[Período]])&YEAR(Indice_Emprego[[#This Row],[Período]])","v":"92022"},110.0532,153.4273,107.46299999999999,112.0326,78.818799999999996,78.876400000000004,91.642499999999998,35.649500000000003,126.9806,98.263400000000004,99.635499999999993,113.4328,117.26260000000001]
["2022-10-01",{"$f":"MONTH(Indice_Emprego[[#This Row],[Período]])&YEAR(Indice_Emprego[[#This Row],[Período]])","v":"102022"},109.7235,153.19820000000001,107.12730000000001,111.6317,79.209000000000003,78.456000000000003,90.885400000000004,35.685200000000002,117.99120000000001,98.602999999999994,99.924199999999999,113.0667,118.5232]
["2022-11-01",{"$f":"MONTH(Indice_Emprego[[#This Row],[Período]])&YEAR(Indice_Emprego[[#This Row],[Período]])","v":"112022"},109.994,155.34229999999999,107.2859,110.8336,79.989400000000003,77.835800000000006,90.1143,34.757300000000001,117.0391,98.845200000000006,106.29130000000001,112.94459999999999,117.996]
["2022-12-01",{"$f":"MONTH(Indice_Emprego[[#This Row],[Período]])&YEAR(Indice_Emprego[[#This Row],[Período]])","v":"122022"},109.63120000000001,155.5933,106.8865,112.5193,80.509699999999995,76.498800000000003,89.376800000000003,34.757300000000001,114.40430000000001,98.064999999999998,104.7859,113.0423,116.74679999999999]
["2023-01-01",{"$f":"MONTH(Indice_Emprego[[#This Row],[Período]])&YEAR(Indice_Emprego[[#This Row],[Período]])","v":"12023"},109.56,157.46459999999999,106.69929999999999,111.5115,79.859300000000005,76.073499999999996,89.597200000000001,35.649500000000003,114.1386,97.691699999999997,108.8579,114.7266,117.1995]
["2023-02-01",{"$f":"MONTH(Indice_Emprego[[#This Row],[Período]])&YEAR(Indice_Emprego[[#This Row],[Período]])","v":"22023"},110.1884,155.03129999999999,107.51049999999999,112.6682,79.274000000000001,75.296599999999998,89.633899999999997,38.147399999999998,113.8715,98.115399999999994,111.0789,115.589,122.8323]

{"sheet":"Horas_Trabalhadas_MG_setores","index":6,"n_rows":245,"n_cols":15,"rows_kept":245,"cut":false,"hidden":false,"merged":[]}
[null,null,"Base 2006=100"]
[null,null,"Horas Trabalhadas na Produção (HTP)"]
["Período","Mês","Indústria Geral","Indústria Extrativa","Indústria de Transformação","10-Alimentos","11-Bebidas","13-Produtos têxteis","17-Celulose e papel","19-Coque e derivados de petróleo","23-Prod. minerais não metálicos","24-Metalurgia","25-Produtos de metal","27- Materiais elétricos","29-Veículos automotores"]
["2003-01-01",{"$f":"MONTH(Indice_Horas[[#This Row],[Período]])&YEAR(Indice_Horas[[#This Row],[Período]])","v":"12003"},86.280600000000007,78.643699999999995,86.729200000000006,75.5184,79.236699999999999,97.5869,86.572599999999994,71.387,98.972300000000004,83.898899999999998,61.642699999999998,93.249200000000002,95.456199999999995]
["2003-02-01",{"$f":"MONTH(Indice_Horas[[#This Row],[Período]])&YEAR(Indice_Horas[[#This Row],[Período]])","v":"22003"},85.909400000000005,76.754800000000003,86.447199999999995,77.892300000000006,76.069299999999998,91.769499999999994,85.013400000000004,79.354900000000001,96.137200000000007,83.300799999999995,63.566000000000003,94.9208,90.023799999999994]
["2003-03-01",{"$f":"MONTH(Indice_Horas[[#This Row],[Período]])&YEAR(Indice_Horas[[#This Row],[Período]])","v":"32003"},85.747900000000001,76.323300000000003,86.301599999999993,82.646799999999999,74.461500000000001,89.871799999999993,84.700599999999994,78.170299999999997,100.5907,84.5762,64.196200000000005,94.670599999999993,82.940700000000007]
["2003-04-01",{"$f":"MONTH(Indice_Horas[[#This Row],[Período]])&YEAR(Indice_Horas[[#This Row],[Período]])","v":"42003"},85.7744,79.348100000000002,86.151899999999998,81.722800000000007,74.015100000000004,93.070400000000006,85.306200000000004,100.324,96.977099999999993,85.841399999999993,66.317599999999999,95.879900000000006,80.945400000000006]
["2003-05-01",{"$f":"MONTH(Indice_Horas[[#This Row],[Período]])&YEAR(Indice_Horas[[#This Row],[Período]])","v":"52003"},91.531999999999996,78.128100000000003,92.319400000000002,94.989900000000006,77.721699999999998,98.746099999999998,88.317099999999996,247.55449999999999,101.57040000000001,89.224900000000005,63.9208,98.265799999999999,78.561700000000002]
["2003-06-01",{"$f":"MONTH(Indice_Horas[[#This Row],[Período]])&YEAR(Indice_Horas[[#This Row],[Período]])","v":"62003"},90.726500000000001,81.314899999999994,91.279300000000006,102.15770000000001,75.029300000000006,98.0047,85.318899999999999,243.66929999999999,96.1297,87.294200000000004,61.617199999999997,89.153499999999994,74.528700000000001]
["2003-07-01",{"$f":"MONTH(Indice_Horas[[#This Row],[Período]])&YEAR(Indice_Horas[[#This Row],[Período]])","v":"72003"},93.112899999999996,80.745000000000005,93.839399999999998,102.5354,73.795000000000002,101.13760000000001,84.445499999999996,238.3143,98.926199999999994,90.056700000000006,64.798900000000003,97.606300000000005,78.461299999999994]
["2003-08-01",{"$f":"MONTH(Indice_Horas[[#This Row],[Período]])&YEAR(Indice_Horas[[#This Row],[Período]])","v":"82003"},92.225499999999997,79.280900000000003,92.985900000000001,100.96939999999999,75.299899999999994,100.6977,86.865300000000005,226.58860000000001,94.495800000000003,90.310100000000006,68.148799999999994,93.751300000000001,78.810299999999998]
["2003-09-01",{"$f":"MONTH(Indice_Horas[[#This Row],[Período]])&YEAR(Indice_Horas[[#This Row],[Período]])","v":"92003"},94.558400000000006,75.126000000000005,95.6999,103.0129,76.150199999999998,99.061199999999999,86.714100000000002,182.67859999999999,93.506200000000007,94.558999999999997,70.527600000000007,94.645200000000003,86.528899999999993]
["2003-10-01",{"$f":"MONTH(Indice_Horas[[#This Row],[Período]])&YEAR(Indice_Horas[[#This Row],[Período]])","v":"102003"},96.593199999999996,76.340800000000002,97.782899999999998,107.6786,77.250100000000003,101.6485,90.535799999999995,91.647400000000005,97.357100000000003,96.063999999999993,69.447100000000006,101.1485,94.702399999999997]
["2003-11-01",{"$f":"MONTH(Indice_Horas[[#This Row],[Período]])&YEAR(Indice_Horas[[#This Row],[Período]])","v":"112003"},92.628500000000003,75.882900000000006,93.612200000000001,100.58450000000001,74.906800000000004,98.503699999999995,90.509399999999999,70.120900000000006,93.476799999999997,90.927599999999998,72.063500000000005,97.225800000000007,89.194999999999993]
["2003-12-01",{"$f":"MONTH(Indice_Horas[[#This Row],[Período]])&YEAR(Indice_Horas[[#This Row],[Período]])","v":"122003"},87.244399999999999,74.931799999999996,87.967699999999994,89.552899999999994,77.334800000000001,93.678600000000003,88.793199999999999,70.906599999999997,92.08,89.729600000000005,74.891300000000001,89.833699999999993,87.3292]
["2004-01-01",{"$f":"MONTH(Indice_Horas[[#This Row],[Período]])&YEAR(Indice_Horas[[#This Row],[Período]])","v":"12004"},84.580500000000001,71.833600000000004,85.329300000000003,92.4863,75.628399999999999,95.674000000000007,92.010300000000001,76.048000000000002,93.075699999999998,88.481700000000004,64.436300000000003,86.128500000000003,81.721199999999996]
["2004-02-01",{"$f":"MONTH(Indice_Horas[[#This Row],[Período]])&YEAR(Indice_Horas[[#This Row],[Período]])","v":"22004"},85.263400000000004,68.850800000000007,86.227500000000006,93.914699999999996,73.059600000000003,93.265500000000003,89.720500000000001,79.623099999999994,93.223399999999998,86.856399999999994,66.045000000000002,88.250500000000002,86.623199999999997]
["2004-03-01",{"$f":"MONTH(Indice_Horas[[#This Row],[Período]])&YEAR(Indice_Horas[[#This Row],[Período]])","v":"32004"},94.145899999999997,73.597700000000003,95.352999999999994,101.15989999999999,73.327399999999997,98.803100000000001,93.675200000000004,85.418300000000002,98.885199999999998,96.353200000000001,73.536699999999996,101.7663,101.09310000000001]
["2004-04-01",{"$f":"MONTH(Indice_Horas[[#This Row],[Período]])&YEAR(Indice_Horas[[#This Row],[Período]])","v":"42004"},89.659499999999994,74.448499999999996,90.553100000000001,98.553600000000003,72.081900000000005,98.286500000000004,97.823599999999999,88.039199999999994,92.743899999999996,90.642300000000006,73.202699999999993,96.725800000000007,88.725399999999993]
["2004-05-01",{"$f":"MONTH(Indice_Horas[[#This Row],[Período]])&YEAR(Indice_Horas[[#This Row],[Período]])","v":"52004"},97.630600000000001,75.704499999999996,98.918599999999998,114.15730000000001,73.809399999999997,101.6631,99.979900000000001,225.31180000000001,99.889799999999994,96.474500000000006,70.420299999999997,97.999099999999999,89.690200000000004]
["2004-06-01",{"$f":"MONTH(Indice_Horas[[#This Row],[Período]])&YEAR(Indice_Horas[[#This Row],[Período]])","v":"62004"},100.15560000000001,74.515199999999993,101.6618,119.1709,75.440299999999993,102.0611,100.62860000000001,275.42930000000001,99.513499999999993,96.216999999999999,72.567899999999995,97.579099999999997,90.206999999999994]
["2004-07-01",{"$f":"MONTH(Indice_Horas[[#This Row],[Período]])&YEAR(Indice_Horas[[#This Row],[Período]])","v":"72004"},101.8695,75.366900000000001,103.4263,119.9512,74.644599999999997,104.89449999999999,101.7192,278.13040000000001,102.9302,94.073999999999998,75.807299999999998,100.2179,94.913799999999995]
["2004-08-01",{"$f":"MONTH(Indice_Horas[[#This Row],[Período]])&YEAR(Indice_Horas[[#This Row],[Período]])","v":"82004"},104.24,79.096000000000004,105.717,124.43429999999999,75.174000000000007,108.1063,106.2136,276.38010000000003,104.6845,98.000600000000006,76.472399999999993,100.11409999999999,97.439700000000002]
["2004-09-01",{"$f":"MONTH(Indice_Horas[[#This Row],[Período]])&YEAR(Indice_Horas[[#This Row],[Período]])","v":"92004"},103.5887,74.778000000000006,105.2811,126.0012,75.614800000000002,104.0861,107.4235,269.68049999999999,104.9791,97.1678,75.820700000000002,96.907799999999995,94.761099999999999]
["2004-10-01",{"$f":"MONTH(Indice_Horas[[#This Row],[Período]])&YEAR(Indice_Horas[[#This Row],[Período]])","v":"102004"},105.1133,75.459999999999994,106.8552,126.0971,79.8613,106.93170000000001,108.2373,269.4581,106.0098,95.3459,81.478499999999997,97.633399999999995,96.405799999999999]
["2004-11-01",{"$f":"MONTH(Indice_Horas[[#This Row],[Período]])&YEAR(Indice_Horas[[#This Row],[Período]])","v":"112004"},104.3065,76.39,105.9464,122.90479999999999,80.387900000000002,105.5044,108.7987,233.96289999999999,104.10590000000001,97.399299999999997,85.016800000000003,94.94,97.422799999999995]
["2004-12-01",{"$f":"MONTH(Indice_Horas[[#This Row],[Período]])&YEAR(Indice_Horas[[#This Row],[Período]])","v":"122004"},96.054299999999998,76.838099999999997,97.183099999999996,111.1134,77.196399999999997,98.881100000000004,99.466800000000006,90.959199999999996,102.6016,94.760400000000004,84.829899999999995,85.594899999999996,87.225099999999998]
["2005-01-01",{"$f":"MONTH(Indice_Horas[[#This Row],[Período]])&YEAR(Indice_Horas[[#This Row],[Período]])","v":"12005"},93.169700000000006,76.262600000000006,94.162899999999993,94.378900000000002,86.524299999999997,101.4581,95.157700000000006,111.22490000000001,105.43510000000001,93.9285,85.520300000000006,89.393699999999995,88.256600000000006]
["2005-02-01",{"$f":"MONTH(Indice_Horas[[#This Row],[Período]])&YEAR(Indice_Horas[[#This Row],[Período]])","v":"22005"},90.129300000000001,76.162599999999998,90.949700000000007,85.174800000000005,84.109899999999996,97.616,95.275000000000006,114.2499,99.633499999999998,90.301000000000002,81.808199999999999,90.664100000000005,86.2727]
["2005-03-01",{"$f":"MONTH(Indice_Horas[[#This Row],[Período]])&YEAR(Indice_Horas[[#This Row],[Período]])","v":"32005"},99.872900000000001,78.799300000000002,101.1108,99.5214,86.234700000000004,104.8077,102.7559,114.2419,107.95059999999999,99.508499999999998,88.7761,102.6061,97.736199999999997]
["2005-04-01",{"$f":"MONTH(Indice_Horas[[#This Row],[Período]])&YEAR(Indice_Horas[[#This Row],[Período]])","v":"42005"},99.923699999999997,80.789599999999993,101.04770000000001,99.741600000000005,86.998900000000006,104.6001,106.35250000000001,203.3768,106.90600000000001,99.7059,90.306700000000006,100.1802,96.492400000000004]
["2005-05-01",{"$f":"MONTH(Indice_Horas[[#This Row],[Período]])&YEAR(Indice_Horas[[#This Row],[Período]])","v":"52005"},106.8342,81.507000000000005,108.322,115.2127,89.270799999999994,107.1913,107.01220000000001,307.1979,110.22969999999999,101.2255,90.100700000000003,103.88809999999999,98.887200000000007]
["2005-06-01",{"$f":"MONTH(Indice_Horas[[#This Row],[Período]])&YEAR(Indice_Horas[[#This Row],[Período]])","v":"62005"},108.5872,82.761200000000002,110.10429999999999,123.85290000000001,87.208200000000005,105.2966,105.87,310.23129999999998,111.6584,103.3104,88.480199999999996,105.94029999999999,103.5551]
["2005-07-01",{"$f":"MONTH(Indice_Horas[[#This Row],[Período]])&YEAR(Indice_Horas[[#This Row],[Período]])","v":"72005"},107.643,82.394800000000004,109.1262,126.75060000000001,87.063599999999994,106.1824,104.7186,297.04649999999998,110.8189,100.17740000000001,86.416600000000003,102.57550000000001,97.881699999999995]
["2005-08-01",{"$f":"MONTH(Indice_Horas[[#This Row],[Período]])&YEAR(Indice_Horas[[#This Row],[Período]])","v":"82005"},111.3265,85.899199999999993,112.8202,132.53440000000001,90.942599999999999,105.5376,106.07689999999999,295.48689999999999,112.8937,107.2929,85.277699999999996,102.93300000000001,99.56]
["2005-09-01",{"$f":"MONTH(Indice_Horas[[#This Row],[Período]])&YEAR(Indice_Horas[[#This Row],[Período]])","v":"92005"},108.46429999999999,86.837900000000005,109.7347,129.036,92.679599999999994,101.5311,105.0718,294.62180000000001,108.3882,103.271,90.227099999999993,98.897099999999995,92.241699999999994]
["2005-10-01",{"$f":"MONTH(Indice_Horas[[#This Row],[Período]])&YEAR(Indice_Horas[[#This Row],[Período]])","v":"102005"},108.38079999999999,86.691999999999993,109.6549,128.85669999999999,93.620999999999995,101.4893,103.7998,288.49040000000002,107.6241,100.035,87.369500000000002,99.436999999999998,101.6472]
["2005-11-01",{"$f":"MONTH(Indice_Horas[[#This Row],[Período]])&YEAR(Indice_Horas[[#This Row],[Período]])","v":"112005"},105.14960000000001,89.020799999999994,106.0971,121.5188,95.9953,100.26909999999999,102.322,165.9896,107.63460000000001,100.9766,78.951700000000002,101.44540000000001,101.6643]
["2005-12-01",{"$f":"MONTH(Indice_Horas[[#This Row],[Período]])&YEAR(Indice_Horas[[#This Row],[Período]])","v":"122005"},98.133399999999995,90.610900000000001,98.575299999999999,110.58799999999999,88.698599999999999,92.240300000000005,99.262100000000004,132.63839999999999,107.2504,93.287599999999998,81.426599999999993,90.344499999999996,89.059700000000007]
["2006-01-01",{"$f":"MONTH(Indice_Horas[[#This Row],[Período]])&YEAR(Indice_Horas[[#This Row],[Período]])","v":"12006"},95.019800000000004,90.042299999999997,95.312200000000004,93.436199999999999,94.551000000000002,99.182400000000001,99.517600000000002,91.582700000000003,104.8462,96.131799999999998,102.47580000000001,92.118399999999994,86.176299999999998]
["2006-02-01",{"$f":"MONTH(Indice_Horas[[#This Row],[Período]])&YEAR(Indice_Horas[[#This Row],[Período]])","v":"22006"},92.738699999999994,92.627899999999997,92.745199999999997,90.512699999999995,90.798000000000002,95.068200000000004,97.462999999999994,60.648099999999999,95.763000000000005,88.650300000000001,82.432500000000005,98.551100000000005,94.904300000000006]
["2006-03-01",{"$f":"MONTH(Indice_Horas[[#This Row],[Período]])&YEAR(Indice_Horas[[#This Row],[Período]])","v":"32006"},101.289,94.258799999999994,101.702,94.031099999999995,97.712599999999995,102.6217,100.3124,75.204099999999997,105.1367,101.7424,106.3361,109.79940000000001,104.56010000000001]
["2006-04-01",{"$f":"MONTH(Indice_Horas[[#This Row],[Período]])&YEAR(Indice_Horas[[#This Row],[Período]])","v":"42006"},94.985699999999994,98.338099999999997,94.788700000000006,93.001800000000003,99.37,100.5504,100.58799999999999,111.45489999999999,93.085599999999999,94.080600000000004,90.670100000000005,100.0737,92.922399999999996]
["2006-05-01",{"$f":"MONTH(Indice_Horas[[#This Row],[Período]])&YEAR(Indice_Horas[[#This Row],[Período]])","v":"52006"},104.66679999999999,100.2196,104.9281,103.8104,100.98350000000001,103.6014,102.8592,113.2312,103.09569999999999,106.5742,106.5463,107.7792,105.94629999999999]
["2006-06-01",{"$f":"MONTH(Indice_Horas[[#This Row],[Período]])&YEAR(Indice_Horas[[#This Row],[Período]])","v":"62006"},101.4772,102.858,101.3961,102.7306,99.258700000000005,100.92919999999999,100.1848,124.0337,99.013400000000004,101.8965,100.372,100.88939999999999,101.1451]
["2006-07-01",{"$f":"MONTH(Indice_Horas[[#This Row],[Período]])&YEAR(Indice_Horas[[#This Row],[Período]])","v":"72006"},101.35760000000001,101.92740000000001,101.3241,106.03270000000001,102.2916,103.1465,98.195899999999995,116.05500000000001,99.378699999999995,100.39449999999999,101.1703,101.2826,101.6019]
["2006-08-01",{"$f":"MONTH(Indice_Horas[[#This Row],[Período]])&YEAR(Indice_Horas[[#This Row],[Período]])","v":"82006"},107.0211,103.0672,107.2534,105.09480000000001,105.7118,104.7223,100.76130000000001,114.44450000000001,103.9924,106.7076,103.8205,103.4751,116.4324]
["2006-09-01",{"$f":"MONTH(Indice_Horas[[#This Row],[Período]])&YEAR(Indice_Horas[[#This Row],[Período]])","v":"92006"},100.3186,104.08540000000001,100.0973,101.8629,100.55070000000001,101.3248,98.721599999999995,108.9205,98.952200000000005,101.3745,99.487700000000004,97.967200000000005,99.022599999999997]
["2006-10-01",{"$f":"MONTH(Indice_Horas[[#This Row],[Período]])&YEAR(Indice_Horas[[#This Row],[Período]])","v":"102006"},103.4658,103.4687,103.46559999999999,103.25530000000001,103.3312,101.1382,100.9084,110.37820000000001,101.1097,102.45480000000001,104.35769999999999,98.743600000000001,102.5936]
["2006-11-01",{"$f":"MONTH(Indice_Horas[[#This Row],[Período]])&YEAR(Indice_Horas[[#This Row],[Período]])","v":"112006"},103.54040000000001,104.44289999999999,103.48739999999999,107.2877,102.8927,99.748699999999999,102.372,109.31019999999999,99.530699999999996,102.73650000000001,102.4169,98.281499999999994,104.2717]
["2006-12-01",{"$f":"MONTH(Indice_Horas[[#This Row],[Período]])&YEAR(Indice_Horas[[#This Row],[Período]])","v":"122006"},94.117800000000003,104.66370000000001,93.4983,98.943600000000004,102.54810000000001,87.966200000000001,98.115899999999996,64.736999999999995,96.095699999999994,97.256399999999999,99.914199999999994,91.038899999999998,90.423199999999994]
["2007-01-01",{"$f":"MONTH(Indice_Horas[[#This Row],[Período]])&YEAR(Indice_Horas[[#This Row],[Período]])","v":"12007"},96.660600000000002,101.4346,96.380099999999999,96.362700000000004,100.893,93.9542,94.233400000000003,54.403100000000002,99.788200000000003,101.3764,111.3964,96.147099999999995,98.067700000000002]
["2007-02-01",{"$f":"MONTH(Indice_Horas[[#This Row],[Período]])&YEAR(Indice_Horas[[#This Row],[Período]])","v":"22007"},93.808499999999995,106.8639,93.041600000000003,93.389399999999995,97.982299999999995,90.828699999999998,89.915099999999995,59.792000000000002,94.740499999999997,95.245099999999994,102.1317,100.3768,96.405100000000004]
["2007-03-01",{"$f":"MONTH(Indice_Horas[[#This Row],[Período]])&YEAR(Indice_Horas[[#This Row],[Período]])","v":"32007"},104.9152,109.339,104.6553,95.700400000000002,101.18689999999999,100.1502,92.696299999999994,65.206800000000001,103.28700000000001,106.6354,116.908,110.83839999999999,119.22410000000001]
["2007-04-01",{"$f":"MONTH(Indice_Horas[[#This Row],[Período]])&YEAR(Indice_Horas[[#This Row],[Período]])","v":"42007"},101.8978,108.1895,101.5282,94.77,100.2349,98.081400000000002,98.090100000000007,74.511200000000002,95.101100000000002,100.626,113.52379999999999,106.8359,116.0438]
["2007-05-01",{"$f":"MONTH(Indice_Horas[[#This Row],[Período]])&YEAR(Indice_Horas[[#This Row],[Período]])","v":"52007"},108.2256,110.5719,108.0878,99.503900000000002,102.8282,103.4581,99.839200000000005,101.2649,102.8733,108.598,121.49,114.101,122.7427]
["2007-06-01",{"$f":"MONTH(Indice_Horas[[#This Row],[Período]])&YEAR(Indice_Horas[[#This Row],[Período]])","v":"62007"},107.90900000000001,122.3353,107.0616,113.49590000000001,101.44450000000001,100.5046,99.985699999999994,99.229399999999998,98.779600000000002,104.812,115.40219999999999,108.2818,121.6023]
["2007-07-01",{"$f":"MONTH(Indice_Horas[[#This Row],[Período]])&YEAR(Indice_Horas[[#This Row],[Período]])","v":"72007"},109.6155,125.42100000000001,108.687,106.96250000000001,99.998699999999999,100.87690000000001,101.2137,99.909199999999998,102.1113,101.7775,117.5641,109.8811,133.56299999999999]
["2007-08-01",{"$f":"MONTH(Indice_Horas[[#This Row],[Período]])&YEAR(Indice_Horas[[#This Row],[Período]])","v":"82007"},114.8749,124.86969999999999,114.2877,107.94670000000001,101.8445,100.81399999999999,99.796400000000006,105.1444,105.61709999999999,109.4158,124.1756,118.0634,140.6859]
["2007-09-01",{"$f":"MONTH(Indice_Horas[[#This Row],[Período]])&YEAR(Indice_Horas[[#This Row],[Período]])","v":"92007"},108.7953,124.4331,107.8767,108.2711,100.52079999999999,97.319699999999997,96.537999999999997,105.3066,97.703000000000003,101.33759999999999,113.7873,110.70440000000001,124.0423]
["2007-10-01",{"$f":"MONTH(Indice_Horas[[#This Row],[Período]])&YEAR(Indice_Horas[[#This Row],[Período]])","v":"102007"},116.0103,124.6377,115.5035,110.6019,103.5496,101.2779,94.5548,107.15819999999999,103.357,106.8959,126.37860000000001,117.9079,138.47819999999999]
["2007-11-01",{"$f":"MONTH(Indice_Horas[[#This Row],[Período]])&YEAR(Indice_Horas[[#This Row],[Período]])","v":"112007"},113.7255,127.1648,112.9361,108.65009999999999,102.4392,99.324799999999996,97.844700000000003,95.312899999999999,99.132099999999994,104.73690000000001,120.82470000000001,110.3852,136.05760000000001]
["2007-12-01",{"$f":"MONTH(Indice_Horas[[#This Row],[Período]])&YEAR(Indice_Horas[[#This Row],[Período]])","v":"122007"},103.3779,123.77200000000001,102.18,98.714399999999998,103.10760000000001,92.456299999999999,99.182599999999994,48.6006,95.718800000000002,98.762600000000006,117.7127,102.069,109.3184]
["2008-01-01",{"$f":"MONTH(Indice_Horas[[#This Row],[Período]])&YEAR(Indice_Horas[[#This Row],[Período]])","v":"12008"},108.1692,126.2915,107.10469999999999,98.4268,101.0947,97.128799999999998,96.962800000000001,66.9452,104.1772,101.5526,127.4611,112.7384,128.15969999999999]
["2008-02-01",{"$f":"MONTH(Indice_Horas[[#This Row],[Período]])&YEAR(Indice_Horas[[#This Row],[Período]])","v":"22008"},106.6798,125.8432,105.55410000000001,104.1246,97.722999999999999,97.04,93.838200000000001,65.581100000000006,101.2933,98.099599999999995,117.6909,108.083,129.39330000000001]
["2008-03-01",{"$f":"MONTH(Indice_Horas[[#This Row],[Período]])&YEAR(Indice_Horas[[#This Row],[Período]])","v":"32008"},113.9456,130.05250000000001,112.99939999999999,123.49079999999999,105.5095,102.0232,89.0916,66.997100000000003,95.496300000000005,102.7383,121.36579999999999,113.63930000000001,140.08840000000001]
["2008-04-01",{"$f":"MONTH(Indice_Horas[[#This Row],[Período]])&YEAR(Indice_Horas[[#This Row],[Período]])","v":"42008"},117.8638,132.9402,116.9781,124.9948,103.4234,101.87779999999999,88.468699999999998,70.254900000000006,99.454800000000006,105.8365,129.3175,118.22629999999999,145.506]
["2008-05-01",{"$f":"MONTH(Indice_Horas[[#This Row],[Período]])&YEAR(Indice_Horas[[#This Row],[Período]])","v":"52008"},117.25239999999999,136.1523,116.1421,120.995,104.3167,102.4478,85.856399999999994,82.138000000000005,100.5521,107.35469999999999,126.49460000000001,116.2786,145.84469999999999]
["2008-06-01",{"$f":"MONTH(Indice_Horas[[#This Row],[Período]])&YEAR(Indice_Horas[[#This Row],[Período]])","v":"62008"},118.634,139.16370000000001,117.428,124.7152,103.254,102.2363,89.800799999999995,88.9221,103.1776,109.28830000000001,130.66149999999999,121.52379999999999,144.8896]
["2008-07-01",{"$f":"MONTH(Indice_Horas[[#This Row],[Período]])&YEAR(Indice_Horas[[#This Row],[Período]])","v":"72008"},121.18640000000001,138.88290000000001,120.1469,125.2535,105.48820000000001,105.1489,92.5702,93.341499999999996,105.4054,110.2649,140.39689999999999,126.8593,148.57060000000001]
["2008-08-01",{"$f":"MONTH(Indice_Horas[[#This Row],[Período]])&YEAR(Indice_Horas[[#This Row],[Período]])","v":"82008"},121.5431,140.97030000000001,120.4019,125.9777,108.18340000000001,104.87050000000001,93.195400000000006,89.153999999999996,104.5295,109.94,131.9034,122.3373,151.2131]
["2008-09-01",{"$f":"MONTH(Indice_Horas[[#This Row],[Período]])&YEAR(Indice_Horas[[#This Row],[Período]])","v":"92008"},124.70740000000001,139.46530000000001,123.84050000000001,127.221,108.15170000000001,104.42919999999999,91.485799999999998,90.393500000000003,107.45,115.0038,137.8272,124.1335,154.82560000000001]
["2008-10-01",{"$f":"MONTH(Indice_Horas[[#This Row],[Período]])&YEAR(Indice_Horas[[#This Row],[Período]])","v":"102008"},121.2929,141.24520000000001,120.12090000000001,111.5067,120.9316,105.61620000000001,86.728499999999997,91.775099999999995,110.4188,118.82250000000001,141.54759999999999,126.8399,139.12430000000001]
["2008-11-01",{"$f":"MONTH(Indice_Horas[[#This Row],[Período]])&YEAR(Indice_Horas[[#This Row],[Período]])","v":"112008"},113.21299999999999,143.42670000000001,111.43819999999999,109.2637,115.018,101.18989999999999,83.874300000000005,87.794300000000007,104.3676,105.8826,128.03739999999999,117.31699999999999,107.3937]
["2008-12-01",{"$f":"MONTH(Indice_Horas[[#This Row],[Período]])&YEAR(Indice_Horas[[#This Row],[Período]])","v":"122008"},95.869600000000005,140.29259999999999,93.260099999999994,100.6228,116.3532,88.376099999999994,76.706699999999998,78.738500000000002,102.99550000000001,84.869799999999998,128.1722,107.94450000000001,60.624200000000002]
["2009-01-01",{"$f":"MONTH(Indice_Horas[[#This Row],[Período]])&YEAR(Indice_Horas[[#This Row],[Período]])","v":"12009"},97.916200000000003,141.03100000000001,95.383499999999998,99.572999999999993,106.0472,93.985600000000005,80.322199999999995,66.8643,97.994100000000003,93.599699999999999,112.7693,115.7568,102.5767]
["2009-02-01",{"$f":"MONTH(Indice_Horas[[#This Row],[Período]])&YEAR(Indice_Horas[[#This Row],[Período]])","v":"22009"},95.741699999999994,134.31450000000001,93.475899999999996,104.4015,97.956999999999994,89.38,80.164400000000001,65.013000000000005,99.230900000000005,83.970699999999994,96.813900000000004,111.4254,103.75579999999999]
["2009-03-01",{"$f":"MONTH(Indice_Horas[[#This Row],[Período]])&YEAR(Indice_Horas[[#This Row],[Período]])","v":"32009"},102.87430000000001,135.14789999999999,100.9785,102.9359,103.9807,97.653000000000006,80.193299999999994,70.657399999999996,104.6378,96.897800000000004,111.45740000000001,119.9153,112.23139999999999]
["2009-04-01",{"$f":"MONTH(Indice_Horas[[#This Row],[Período]])&YEAR(Indice_Horas[[#This Row],[Período]])","v":"42009"},100.152,134.67420000000001,98.124099999999999,102.3493,101.22320000000001,94.029499999999999,76.219399999999993,75.543300000000002,99.222700000000003,93.259299999999996,102.8877,112.1461,110.4609]
["2009-05-01",{"$f":"MONTH(Indice_Horas[[#This Row],[Período]])&YEAR(Indice_Horas[[#This Row],[Período]])","v":"52009"},102.5209,134.76920000000001,100.6266,107.52460000000001,101.6848,94.548599999999993,79.367400000000004,72.871600000000001,100.1443,93.346999999999994,106.5256,114.04349999999999,118.90600000000001]
["2009-06-01",{"$f":"MONTH(Indice_Horas[[#This Row],[Período]])&YEAR(Indice_Horas[[#This Row],[Período]])","v":"62009"},102.7912,134.94370000000001,100.9025,109.8656,102.0698,94.054100000000005,78.667500000000004,72.318399999999997,96.484300000000005,94.505600000000001,111.7856,114.8595,120.2955]
["2009-07-01",{"$f":"MONTH(Indice_Horas[[#This Row],[Período]])&YEAR(Indice_Horas[[#This Row],[Período]])","v":"72009"},105.779,132.36770000000001,104.2171,111.3004,105.63460000000001,96,79.606999999999999,70.018100000000004,101.3426,96.713700000000003,121.6442,120.64279999999999,125.01430000000001]
["2009-08-01",{"$f":"MONTH(Indice_Horas[[#This Row],[Período]])&YEAR(Indice_Horas[[#This Row],[Período]])","v":"82009"},106.0337,132.6669,104.4692,109.4774,108.1563,97.032600000000002,80.511600000000001,69.333699999999993,98.367099999999994,96.457300000000004,118.4312,116.751,124.2013]
["2009-09-01",{"$f":"MONTH(Indice_Horas[[#This Row],[Período]])&YEAR(Indice_Horas[[#This Row],[Período]])","v":"92009"},107.4325,133.00989999999999,105.93,110.3724,108.1194,95.822900000000004,75.748400000000004,68.425600000000003,97.490700000000004,96.983099999999993,125.2512,116.4731,123.5457]
["2009-10-01",{"$f":"MONTH(Indice_Horas[[#This Row],[Período]])&YEAR(Indice_Horas[[#This Row],[Período]])","v":"102009"},110.6724,133.15100000000001,109.3519,110.4372,108.0094,98.894900000000007,77.599800000000002,67.7654,100.5384,102.4718,131.1001,120.7855,130.6626]
["2009-11-01",{"$f":"MONTH(Indice_Horas[[#This Row],[Período]])&YEAR(Indice_Horas[[#This Row],[Período]])","v":"112009"},109.64870000000001,134.2347,108.2045,110.45529999999999,110.9576,96.251099999999994,77.178799999999995,68.340800000000002,96.515500000000003,100.82980000000001,130.459,117.568,122.98009999999999]
["2009-12-01",{"$f":"MONTH(Indice_Horas[[#This Row],[Período]])&YEAR(Indice_Horas[[#This Row],[Período]])","v":"122009"},102.95140000000001,133.76499999999999,101.1413,107.4945,112.43859999999999,91.821299999999994,77.709699999999998,59.961199999999998,98.398300000000006,99.392200000000003,143.8792,110.0616,99.375100000000003]
["2010-01-01",{"$f":"MONTH(Indice_Horas[[#This Row],[Período]])&YEAR(Indice_Horas[[#This Row],[Período]])","v":"12010"},102.4072,135.7268,100.4499,101.3348,103.93859999999999,93.156199999999998,75.823800000000006,57.068800000000003,95.626199999999997,96.377499999999998,136.99940000000001,112.6815,109.1725]
["2010-02-01",{"$f":"MONTH(Indice_Horas[[#This Row],[Período]])&YEAR(Indice_Horas[[#This Row],[Período]])","v":"22010"},104.0346,135.62,102.17919999999999,102.1116,96.041399999999996,91.591099999999997,72.813999999999993,64.175799999999995,98.481700000000004,98.987300000000005,129.54140000000001,110.6892,126.383]
["2010-03-01",{"$f":"MONTH(Indice_Horas[[#This Row],[Período]])&YEAR(Indice_Horas[[#This Row],[Período]])","v":"32010"},118.8871,138.2355,117.7505,111.72839999999999,94.183000000000007,101.1181,77.405100000000004,59.2468,105.5806,102.7059,162.49250000000001,127.343,158.44630000000001]
["2010-04-01",{"$f":"MONTH(Indice_Horas[[#This Row],[Período]])&YEAR(Indice_Horas[[#This Row],[Período]])","v":"42010"},113.44110000000001,139.46799999999999,111.9122,107.2452,97.271799999999999,97.544799999999995,80.002899999999997,59.750700000000002,99.218999999999994,103.8318,144.1849,118.7303,140.65780000000001]
["2010-05-01",{"$f":"MONTH(Indice_Horas[[#This Row],[Período]])&YEAR(Indice_Horas[[#This Row],[Período]])","v":"52010"},116.8672,142.16909999999999,115.3809,112.42749999999999,96.658000000000001,99.268100000000004,79.680000000000007,86.724100000000007,104.3622,102.8561,150.0172,120.2565,146.22909999999999]
["2010-06-01",{"$f":"MONTH(Indice_Horas[[#This Row],[Período]])&YEAR(Indice_Horas[[#This Row],[Período]])","v":"62010"},113.6409,144.14330000000001,111.8492,112.2487,98.211699999999993,98.652000000000001,77.148600000000002,66.807699999999997,106.65300000000001,106.63639999999999,146.791,119.2984,141.07749999999999]
["2010-07-01",{"$f":"MONTH(Indice_Horas[[#This Row],[Período]])&YEAR(Indice_Horas[[#This Row],[Período]])","v":"72010"},119.1523,144.06489999999999,117.6888,115.16030000000001,95.061199999999999,100.7208,78.619,66.4846,109.11020000000001,108.74420000000001,156.9708,123.0658,147.34460000000001]
["2010-08-01",{"$f":"MONTH(Indice_Horas[[#This Row],[Período]])&YEAR(Indice_Horas[[#This Row],[Período]])","v":"82010"},120.24890000000001,146.7176,118.69410000000001,112.0916,100.9409,100.5741,78.752899999999997,67.269199999999998,109.4863,109.3497,159.68729999999999,123.9622,152.1327]
["2010-09-01",{"$f":"MONTH(Indice_Horas[[#This Row],[Período]])&YEAR(Indice_Horas[[#This Row],[Período]])","v":"92010"},118.5125,147.69739999999999,116.79810000000001,110.12949999999999,99.418899999999994,97.7393,78.129900000000006,65.500600000000006,108.12179999999999,110.61539999999999,153.25829999999999,123.1023,146.5488]
["2010-10-01",{"$f":"MONTH(Indice_Horas[[#This Row],[Período]])&YEAR(Indice_Horas[[#This Row],[Período]])","v":"102010"},117.3022,147.94499999999999,115.5022,111.76349999999999,100.4268,98.127200000000002,77.059899999999999,64.915499999999994,108.21040000000001,109.2012,144.53729999999999,121.0535,142.14699999999999]
["2010-11-01",{"$f":"MONTH(Indice_Horas[[#This Row],[Período]])&YEAR(Indice_Horas[[#This Row],[Período]])","v":"112010"},118.85509999999999,149.75829999999999,117.0397,109.7568,100.7915,96.736599999999996,88.586299999999994,61.592500000000001,108.401,107.4423,160.27289999999999,125.8767,142.2424]
["2010-12-01",{"$f":"MONTH(Indice_Horas[[#This Row],[Período]])&YEAR(Indice_Horas[[#This Row],[Período]])","v":"122010"},113.819,151.29859999999999,111.6174,104.3549,107.3266,93.082999999999998,83.409300000000002,56.0852,109.0325,108.857,159.55439999999999,118.70950000000001,132.0591]
["2011-01-01",{"$f":"MONTH(Indice_Horas[[#This Row],[Período]])&YEAR(Indice_Horas[[#This Row],[Período]])","v":"12011"},108.8682,152.89500000000001,106.28189999999999,102.3593,97.573400000000007,92.811000000000007,82.860200000000006,52.905200000000001,107.81829999999999,105.944,148.62459999999999,118.08669999999999,108.5513]
["2011-02-01",{"$f":"MONTH(Indice_Horas[[#This Row],[Período]])&YEAR(Indice_Horas[[#This Row],[Período]])","v":"22011"},112.8107,150.83799999999999,110.57689999999999,107.3488,92.0976,92.882199999999997,82.0852,55.954000000000001,105.0804,108.7508,141.3057,126.07340000000001,137.80940000000001]
["2011-03-01",{"$f":"MONTH(Indice_Horas[[#This Row],[Período]])&YEAR(Indice_Horas[[#This Row],[Período]])","v":"32011"},117.7282,153.85589999999999,115.60590000000001,113.3807,102.946,96.464100000000002,80.9602,53.929099999999998,114.3438,106.66289999999999,144.5701,132.0428,147.99860000000001]
["2011-04-01",{"$f":"MONTH(Indice_Horas[[#This Row],[Período]])&YEAR(Indice_Horas[[#This Row],[Período]])","v":"42011"},114.48090000000001,153.47470000000001,112.19029999999999,109.61020000000001,100.00149999999999,94.903400000000005,85.608599999999996,59.106999999999999,106.1207,108.6324,134.71279999999999,123.06359999999999,140.51249999999999]
["2011-05-01",{"$f":"MONTH(Indice_Horas[[#This Row],[Período]])&YEAR(Indice_Horas[[#This Row],[Período]])","v":"52011"},121.40779999999999,156.74860000000001,119.3318,115.1653,103.1784,97.465800000000002,86.734399999999994,66.243499999999997,113.5699,108.70780000000001,155.04300000000001,132.49549999999999,155.03440000000001]
["2011-06-01",{"$f":"MONTH(Indice_Horas[[#This Row],[Período]])&YEAR(Indice_Horas[[#This Row],[Período]])","v":"62011"},117.5692,157.77770000000001,115.2072,116.7478,98.634500000000003,94.819599999999994,87.58,73.191900000000004,112.6917,113.53530000000001,144.79499999999999,120.4701,150.511]
["2011-07-01",{"$f":"MONTH(Indice_Horas[[#This Row],[Período]])&YEAR(Indice_Horas[[#This Row],[Período]])","v":"72011"},120.0123,157.03319999999999,117.83759999999999,121.9666,99.7303,95.3827,85.314700000000002,70.612200000000001,117.098,106.48909999999999,149.1397,129.053,143.22450000000001]
["2011-08-01",{"$f":"MONTH(Indice_Horas[[#This Row],[Período]])&YEAR(Indice_Horas[[#This Row],[Período]])","v":"82011"},123.6477,157.8562,121.6383,122.2452,102.6456,96.932299999999998,87.661900000000003,69.709900000000005,121.38160000000001,111.5489,157.0163,135.85040000000001,150.21289999999999]
["2011-09-01",{"$f":"MONTH(Indice_Horas[[#This Row],[Período]])&YEAR(Indice_Horas[[#This Row],[Período]])","v":"92011"},119.95440000000001,158.4999,117.6902,117.3998,98.46,92.302499999999995,88.586600000000004,71.448499999999996,118.1888,111.361,148.90190000000001,127.6383,141.8879]
["2011-10-01",{"$f":"MONTH(Indice_Horas[[#This Row],[Período]])&YEAR(Indice_Horas[[#This Row],[Período]])","v":"102011"},119.33450000000001,157.27969999999999,117.10550000000001,116.67440000000001,97.7834,91.915499999999994,90.087599999999995,75.925799999999995,116.6164,107.05410000000001,145.78639999999999,129.09649999999999,141.411]
["2011-11-01",{"$f":"MONTH(Indice_Horas[[#This Row],[Período]])&YEAR(Indice_Horas[[#This Row],[Período]])","v":"112011"},119.7022,160.32230000000001,117.31610000000001,126.0112,93.683199999999999,88.9221,87.999200000000002,68.774100000000004,119.8291,107.0377,127.0727,128.14169999999999,138.97669999999999]
["2011-12-01",{"$f":"MONTH(Indice_Horas[[#This Row],[Período]])&YEAR(Indice_Horas[[#This Row],[Período]])","v":"122011"},112.15470000000001,155.4008,109.6143,114.9312,90.4619,85.115099999999998,83.255300000000005,56.602200000000003,120.01220000000001,104.2062,128.68430000000001,130.93279999999999,121.7313]
["2012-01-01",{"$f":"MONTH(Indice_Horas[[#This Row],[Período]])&YEAR(Indice_Horas[[#This Row],[Período]])","v":"12012"},111.7731,159.33949999999999,108.9789,108.7175,106.98569999999999,85.618399999999994,82.697800000000001,55.0197,115.8927,101.5094,140.0865,128.51689999999999,126.1183]
["2012-02-01",{"$f":"MONTH(Indice_Horas[[#This Row],[Período]])&YEAR(Indice_Horas[[#This Row],[Período]])","v":"22012"},112.02719999999999,156.65799999999999,109.4055,115.90989999999999,101.48739999999999,88.724999999999994,82.774799999999999,55.180500000000002,111.87949999999999,105.2734,122.98650000000001,127.7555,130.422]
["2012-03-01",{"$f":"MONTH(Indice_Horas[[#This Row],[Período]])&YEAR(Indice_Horas[[#This Row],[Período]])","v":"32012"},123.3365,158.93989999999999,121.24509999999999,122.74169999999999,105.36409999999999,94.9392,84.517200000000003,60.746400000000001,117.62179999999999,106.39149999999999,140.7209,137.44560000000001,153.94220000000001]
["2012-04-01",{"$f":"MONTH(Indice_Horas[[#This Row],[Período]])&YEAR(Indice_Horas[[#This Row],[Período]])","v":"42012"},115.71080000000001,158.43520000000001,113.2011,122.4543,102.6421,90.587000000000003,87.280699999999996,56.933100000000003,109.27290000000001,104.73739999999999,109.0485,122.59,146.76179999999999]
["2012-05-01",{"$f":"MONTH(Indice_Horas[[#This Row],[Período]])&YEAR(Indice_Horas[[#This Row],[Período]])","v":"52012"},120.1045,163.37110000000001,117.5629,114.5655,108.4752,93.744100000000003,88.236599999999996,61.698399999999999,120.4316,108.6914,119.5192,135.96029999999999,155.16300000000001]
["2012-06-01",{"$f":"MONTH(Indice_Horas[[#This Row],[Período]])&YEAR(Indice_Horas[[#This Row],[Período]])","v":"62012"},119.21429999999999,164.98490000000001,116.5257,124.91849999999999,109.3216,91.840500000000006,87.610699999999994,60.078099999999999,113.1425,107.7788,107.9864,123.6695,160.45670000000001]
["2012-07-01",{"$f":"MONTH(Indice_Horas[[#This Row],[Período]])&YEAR(Indice_Horas[[#This Row],[Período]])","v":"72012"},124.8445,166.5564,122.3942,125.44750000000001,115.76349999999999,92.098500000000001,86.854900000000001,57.965899999999998,116.9743,108.8416,116.6797,127.81,185.0523]
["2012-08-01",{"$f":"MONTH(Indice_Horas[[#This Row],[Período]])&YEAR(Indice_Horas[[#This Row],[Período]])","v":"82012"},128.1019,170.41079999999999,125.61660000000001,129.08090000000001,122.6112,93.121799999999993,87.980400000000003,59.960299999999997,117.9924,113.4555,117.96080000000001,137.40880000000001,177.2372]
["2012-09-01",{"$f":"MONTH(Indice_Horas[[#This Row],[Período]])&YEAR(Indice_Horas[[#This Row],[Período]])","v":"92012"},121.08669999999999,171.1362,118.1467,126.184,120.1207,92.780699999999996,89.497600000000006,61.459699999999998,113.44670000000001,106.8561,104.2668,128.3235,160.74260000000001]
["2012-10-01",{"$f":"MONTH(Indice_Horas[[#This Row],[Período]])&YEAR(Indice_Horas[[#This Row],[Período]])","v":"102012"},126.9585,171.6764,124.3317,128.11670000000001,125.88079999999999,94.745800000000003,91.547799999999995,53.687600000000003,116.78749999999999,109.05800000000001,118.5153,134.5411,174.7071]
["2012-11-01",{"$f":"MONTH(Indice_Horas[[#This Row],[Período]])&YEAR(Indice_Horas[[#This Row],[Período]])","v":"112012"},122.2916,171.64750000000001,119.39230000000001,127.9421,126.80759999999999,93.232900000000001,89.385000000000005,47.969000000000001,110.7978,108.4669,107.30370000000001,127.38679999999999,166.3048]
["2012-12-01",{"$f":"MONTH(Indice_Horas[[#This Row],[Período]])&YEAR(Indice_Horas[[#This Row],[Período]])","v":"122012"},115.0072,167.9068,111.8998,124.98009999999999,127.94289999999999,82.835499999999996,84.921099999999996,41.110199999999999,111.44710000000001,99.969499999999996,100.39319999999999,115.2645,147.98159999999999]
["2013-01-01",{"$f":"MONTH(Indice_Horas[[#This Row],[Período]])&YEAR(Indice_Horas[[#This Row],[Período]])","v":"12013"},122.1671,174.27780000000001,119.10599999999999,122.6326,128.2525,87.581100000000006,84.062100000000001,32.904299999999999,116.2533,101.44499999999999,114.1502,121.11969999999999,177.4238]
["2013-02-01",{"$f":"MONTH(Indice_Horas[[#This Row],[Período]])&YEAR(Indice_Horas[[#This Row],[Período]])","v":"22013"},114.357,170.88589999999999,111.0364,120.9404,115.5671,87.316199999999995,85.423299999999998,38.723500000000001,113.8699,97.161000000000001,94.8476,118.0917,130.7533]
["2013-03-01",{"$f":"MONTH(Indice_Horas[[#This Row],[Período]])&YEAR(Indice_Horas[[#This Row],[Período]])","v":"32013"},123.5575,172.21549999999999,120.6992,127.3193,116.12909999999999,91.331199999999995,87.732900000000001,48.379800000000003,117.92440000000001,99.958299999999994,106.9384,121.59780000000001,168.04849999999999]
["2013-04-01",{"$f":"MONTH(Indice_Horas[[#This Row],[Período]])&YEAR(Indice_Horas[[#This Row],[Período]])","v":"42013"},129.57669999999999,171.197,127.1319,126.871,155.34469999999999,91.373400000000004,93.176500000000004,50.813499999999998,124.185,105.46510000000001,110.8715,129.2191,190.49459999999999]
["2013-05-01",{"$f":"MONTH(Indice_Horas[[#This Row],[Período]])&YEAR(Indice_Horas[[#This Row],[Período]])","v":"52013"},128.26830000000001,171.0745,125.75369999999999,131.24440000000001,156.83279999999999,92.457599999999999,94.532499999999999,55.986499999999999,123.0157,106.2355,104.0809,124.81870000000001,182.9502]
["2013-06-01",{"$f":"MONTH(Indice_Horas[[#This Row],[Período]])&YEAR(Indice_Horas[[#This Row],[Período]])","v":"62013"},123.9148,171.70750000000001,121.1074,131.67920000000001,159.44999999999999,91.589299999999994,94.594099999999997,57.598500000000001,122.70140000000001,105.2161,98.016499999999994,119.5141,167.75319999999999]
["2013-07-01",{"$f":"MONTH(Indice_Horas[[#This Row],[Período]])&YEAR(Indice_Horas[[#This Row],[Período]])","v":"72013"},127.28100000000001,170.83609999999999,124.7225,131.5925,157.1935,93.035700000000006,96.628399999999999,57.465899999999998,127.0046,108.4139,103.9983,130.44540000000001,169.18209999999999]
["2013-08-01",{"$f":"MONTH(Indice_Horas[[#This Row],[Período]])&YEAR(Indice_Horas[[#This Row],[Período]])","v":"82013"},130.0881,176.39670000000001,127.36790000000001,132.4273,151.73769999999999,95.186000000000007,98.549400000000006,57.519399999999997,129.65530000000001,110.8308,101.1681,133.37129999999999,167.358]
["2013-09-01",{"$f":"MONTH(Indice_Horas[[#This Row],[Período]])&YEAR(Indice_Horas[[#This Row],[Período]])","v":"92013"},123.9718,168.977,121.32810000000001,129.16990000000001,148.9298,92.415899999999993,101.44580000000001,59.360799999999998,122.56659999999999,108.0275,94.435100000000006,129.0282,160.37200000000001]
["2013-10-01",{"$f":"MONTH(Indice_Horas[[#This Row],[Período]])&YEAR(Indice_Horas[[#This Row],[Período]])","v":"102013"},129.69980000000001,176.42150000000001,126.9552,131.77699999999999,162.1756,94.9495,104.6536,56.335900000000002,129.94919999999999,108.8818,96.526399999999995,137.85919999999999,173.9419]
["2013-11-01",{"$f":"MONTH(Indice_Horas[[#This Row],[Período]])&YEAR(Indice_Horas[[#This Row],[Período]])","v":"112013"},122.41079999999999,174.87780000000001,119.3287,129.8518,167.53970000000001,92.475099999999998,98.889300000000006,49.4086,126.26900000000001,107.1062,89.792199999999994,128.12569999999999,151.1609]
["2013-12-01",{"$f":"MONTH(Indice_Horas[[#This Row],[Período]])&YEAR(Indice_Horas[[#This Row],[Período]])","v":"122013"},111.19240000000001,170.92660000000001,107.6835,123.5172,170.55789999999999,81.874799999999993,95.171099999999996,45.213099999999997,121.846,95.804400000000001,85.497699999999995,121.01139999999999,128.8664]
["2014-01-01",{"$f":"MONTH(Indice_Horas[[#This Row],[Período]])&YEAR(Indice_Horas[[#This Row],[Período]])","v":"12014"},120.2398,175.261,117.0077,125.56270000000001,211.3366,86.129499999999993,93.281199999999998,42.503399999999999,125.05370000000001,104.2154,87.943600000000004,125.83110000000001,151.93049999999999]
["2014-02-01",{"$f":"MONTH(Indice_Horas[[#This Row],[Período]])&YEAR(Indice_Horas[[#This Row],[Período]])","v":"22014"},123.3485,172.73840000000001,120.4472,128.0471,163.6977,89.685400000000001,96.741799999999998,43.642899999999997,125.51739999999999,102.6758,79.782799999999995,123.5639,162.7321]
["2014-03-01",{"$f":"MONTH(Indice_Horas[[#This Row],[Período]])&YEAR(Indice_Horas[[#This Row],[Período]])","v":"32014"},120.3809,172.57259999999999,117.315,129.82419999999999,189.66909999999999,94.453100000000006,93.790300000000002,42.190899999999999,128.99209999999999,93.093199999999996,83.123599999999996,128.9058,156.49850000000001]
["2014-04-01",{"$f":"MONTH(Indice_Horas[[#This Row],[Período]])&YEAR(Indice_Horas[[#This Row],[Período]])","v":"42014"},121.5219,175.86160000000001,118.32980000000001,128.66139999999999,191.411,95.9619,93.929500000000004,57.408299999999997,123.3849,100.1568,80.207999999999998,129.8503,145.4222]
["2014-05-01",{"$f":"MONTH(Indice_Horas[[#This Row],[Período]])&YEAR(Indice_Horas[[#This Row],[Período]])","v":"52014"},123.28870000000001,173.93279999999999,120.3137,128.3912,196.15010000000001,97.477400000000003,96.363699999999994,66.186700000000002,129.03489999999999,104.7324,80.225899999999996,134.74549999999999,145.5701]
["2014-06-01",{"$f":"MONTH(Indice_Horas[[#This Row],[Período]])&YEAR(Indice_Horas[[#This Row],[Período]])","v":"62014"},118.3386,171.39230000000001,115.2221,131.44200000000001,197.4486,97.141000000000005,95.052999999999997,60.9955,119.4922,96.947999999999993,83.265100000000004,123.17489999999999,122.33710000000001]
["2014-07-01",{"$f":"MONTH(Indice_Horas[[#This Row],[Período]])&YEAR(Indice_Horas[[#This Row],[Período]])","v":"72014"},124.8634,172.3339,122.0749,133.7347,188.29849999999999,99.672300000000007,93.726799999999997,65.013400000000004,126.0753,98.869500000000002,89.106399999999994,143.4434,143.7063]
["2014-08-01",{"$f":"MONTH(Indice_Horas[[#This Row],[Período]])&YEAR(Indice_Horas[[#This Row],[Período]])","v":"82014"},120.407,173.9513,117.2617,133.7441,186.1122,96.11,96.480099999999993,65.567700000000002,126.72750000000001,99.728099999999998,81.981399999999994,139.8655,125.145]
["2014-09-01",{"$f":"MONTH(Indice_Horas[[#This Row],[Período]])&YEAR(Indice_Horas[[#This Row],[Período]])","v":"92014"},122.5971,171.8108,119.70610000000001,130.53139999999999,184.51929999999999,96.429599999999994,100.8639,65.649500000000003,128.76349999999999,98.614800000000002,78.840599999999995,145.1806,154.4263]
["2014-10-01",{"$f":"MONTH(Indice_Horas[[#This Row],[Período]])&YEAR(Indice_Horas[[#This Row],[Período]])","v":"102014"},123.5654,172.58109999999999,120.6861,130.20570000000001,194.2116,97.343400000000003,99.935699999999997,67.301100000000005,129.43530000000001,98.590999999999994,81.537899999999993,148.88130000000001,152.0274]
["2014-11-01",{"$f":"MONTH(Indice_Horas[[#This Row],[Período]])&YEAR(Indice_Horas[[#This Row],[Período]])","v":"112014"},116.4248,171.70359999999999,113.1776,129.8467,201.94220000000001,92.026799999999994,96.223200000000006,64.878799999999998,119.28570000000001,94.256399999999999,72.971100000000007,132.1969,130.26929999999999]
["2014-12-01",{"$f":"MONTH(Indice_Horas[[#This Row],[Período]])&YEAR(Indice_Horas[[#This Row],[Período]])","v":"122014"},103.4205,166.77809999999999,99.698700000000002,127.27549999999999,204.0017,75.195700000000002,91.014799999999994,62.272599999999997,118.5535,84.820099999999996,65.687399999999997,119.318,106.76220000000001]
["2015-01-01",{"$f":"MONTH(Indice_Horas[[#This Row],[Período]])&YEAR(Indice_Horas[[#This Row],[Período]])","v":"12015"},110.31180000000001,169.9949,106.80589999999999,122.63930000000001,201.29759999999999,83.020499999999998,86.882400000000004,41.536200000000001,122.84690000000001,94.162300000000002,67.374700000000004,123.08710000000001,128.66909999999999]
["2015-02-01",{"$f":"MONTH(Indice_Horas[[#This Row],[Período]])&YEAR(Indice_Horas[[#This Row],[Período]])","v":"22015"},106.1643,185.9016,101.4804,122.99120000000001,166.8579,88.284000000000006,88.540099999999995,47.199300000000001,121.40649999999999,90.052199999999999,59.885899999999999,120.9798,97.987799999999993]
["2015-03-01",{"$f":"MONTH(Indice_Horas[[#This Row],[Período]])&YEAR(Indice_Horas[[#This Row],[Período]])","v":"32015"},113.3736,184.03890000000001,109.2225,130.30109999999999,168.54849999999999,93.247299999999996,89.7881,54.902099999999997,127.0314,87.977099999999993,71.037800000000004,136.3048,119.0745]
["2015-04-01",{"$f":"MONTH(Indice_Horas[[#This Row],[Período]])&YEAR(Indice_Horas[[#This Row],[Período]])","v":"42015"},109.06100000000001,184.10759999999999,104.65260000000001,132.09469999999999,155.9811,90.119399999999999,93.429900000000004,52.589300000000001,124.01609999999999,96.735699999999994,63.24,121.0348,95.102500000000006]
["2015-05-01",{"$f":"MONTH(Indice_Horas[[#This Row],[Período]])&YEAR(Indice_Horas[[#This Row],[Período]])","v":"52015"},111.06180000000001,181.7567,106.90900000000001,134.90010000000001,175.0737,88.7012,95.016900000000007,54.629800000000003,128.71420000000001,91.140600000000006,61.642000000000003,124.39149999999999,106.7683]
["2015-06-01",{"$f":"MONTH(Indice_Horas[[#This Row],[Período]])&YEAR(Indice_Horas[[#This Row],[Período]])","v":"62015"},109.5376,180.47280000000001,105.3707,134.0444,172.8664,91.834599999999995,92.217100000000002,61.5901,123.9465,89.824200000000005,63.088700000000003,126.5909,93.2834]
["2015-07-01",{"$f":"MONTH(Indice_Horas[[#This Row],[Período]])&YEAR(Indice_Horas[[#This Row],[Período]])","v":"72015"},111.1041,179.851,107.06570000000001,131.93190000000001,176.4222,86.821600000000004,89.845500000000001,61.748699999999999,126.2885,91.727099999999993,66.979699999999994,127.00320000000001,99.537499999999994]
["2015-08-01",{"$f":"MONTH(Indice_Horas[[#This Row],[Período]])&YEAR(Indice_Horas[[#This Row],[Período]])","v":"82015"},111.26090000000001,178.85849999999999,107.29,134.3261,185.38849999999999,85.524000000000001,93.419499999999999,62.048299999999998,119.72369999999999,87.587500000000006,65.111000000000004,127.1675,113.06399999999999]
["2015-09-01",{"$f":"MONTH(Indice_Horas[[#This Row],[Período]])&YEAR(Indice_Horas[[#This Row],[Período]])","v":"92015"},107.8687,178.1129,103.7424,132.60570000000001,183.68270000000001,83.497299999999996,96.020200000000003,58.4938,115.9229,90.591200000000001,66.753699999999995,124.004,92.9178]
["2015-10-01",{"$f":"MONTH(Indice_Horas[[#This Row],[Período]])&YEAR(Indice_Horas[[#This Row],[Período]])","v":"102015"},110.23909999999999,177.92850000000001,106.2628,133.83279999999999,189.17349999999999,83.0886,100.3933,58.943600000000004,126.33759999999999,89.362099999999998,64.450599999999994,125.61020000000001,115.166]
["2015-11-01",{"$f":"MONTH(Indice_Horas[[#This Row],[Período]])&YEAR(Indice_Horas[[#This Row],[Período]])","v":"112015"},107.0047,175.34010000000001,102.9905,137.2653,198.56909999999999,79.823300000000003,97.483900000000006,56.4084,118.1859,86.321200000000005,60.181800000000003,118.54349999999999,102.0685]
["2015-12-01",{"$f":"MONTH(Indice_Horas[[#This Row],[Período]])&YEAR(Indice_Horas[[#This Row],[Período]])","v":"122015"},96.878399999999999,166.0085,92.761600000000001,131.8306,201.13820000000001,61.079000000000001,93.787499999999994,47.363999999999997,102.88160000000001,82.375100000000003,56.590899999999998,102.9084,85.043499999999995]
["2016-01-01",{"$f":"MONTH(Indice_Horas[[#This Row],[Período]])&YEAR(Indice_Horas[[#This Row],[Período]])","v":"12016"},100.7796,168.54849999999999,96.743899999999996,128.74379999999999,194.74100000000001,69.504199999999997,89.507000000000005,48.009599999999999,113.04,83.836699999999993,45.817399999999999,106.60890000000001,106.92059999999999]
["2016-02-01",{"$f":"MONTH(Indice_Horas[[#This Row],[Período]])&YEAR(Indice_Horas[[#This Row],[Período]])","v":"22016"},99.051599999999993,166.76070000000001,95.019499999999994,130.876,165.82,74.767300000000006,90.962000000000003,45.558,120.0783,82.269300000000001,51.247399999999999,119.0431,80.348100000000002]
["2016-03-01",{"$f":"MONTH(Indice_Horas[[#This Row],[Período]])&YEAR(Indice_Horas[[#This Row],[Período]])","v":"32016"},107.09820000000001,167.2612,103.5154,131.3219,176.76079999999999,79.598799999999997,91.517700000000005,49.4437,122.3237,88.968100000000007,58.226199999999999,122.178,108.25830000000001]
["2016-04-01",{"$f":"MONTH(Indice_Horas[[#This Row],[Período]])&YEAR(Indice_Horas[[#This Row],[Período]])","v":"42016"},103.3139,168.4008,99.437899999999999,132.24610000000001,176.428,78.787499999999994,93.080100000000002,46.936199999999999,110.602,86.645300000000006,50.878900000000002,117.1296,97.190299999999993]
["2016-05-01",{"$f":"MONTH(Indice_Horas[[#This Row],[Período]])&YEAR(Indice_Horas[[#This Row],[Período]])","v":"52016"},105.0608,169.1962,101.2415,135.41669999999999,178.79580000000001,80.138000000000005,94.575199999999995,48.125799999999998,119.6122,83.148899999999998,52.064500000000002,116.5742,96.348100000000002]
["2016-06-01",{"$f":"MONTH(Indice_Horas[[#This Row],[Período]])&YEAR(Indice_Horas[[#This Row],[Período]])","v":"62016"},106.051,167.75149999999999,102.3767,127.64709999999999,168.3914,78.337900000000005,93.930400000000006,47.466200000000001,118.985,83.104600000000005,54.450800000000001,112.0638,116.949]
["2016-07-01",{"$f":"MONTH(Indice_Horas[[#This Row],[Período]])&YEAR(Indice_Horas[[#This Row],[Período]])","v":"72016"},106.0445,166.0651,102.47020000000001,141.37090000000001,170.55099999999999,79.193899999999999,93.385400000000004,45.556600000000003,115.3013,87.292100000000005,52.639099999999999,117.06610000000001,98.624300000000005]
["2016-08-01",{"$f":"MONTH(Indice_Horas[[#This Row],[Período]])&YEAR(Indice_Horas[[#This Row],[Período]])","v":"82016"},106.5763,172.51079999999999,102.6404,126.4893,160.4118,82.329499999999996,95.277699999999996,48.131300000000003,118.27970000000001,90.190600000000003,59.513800000000003,121.3428,100.9376]
["2016-09-01",{"$f":"MONTH(Indice_Horas[[#This Row],[Período]])&YEAR(Indice_Horas[[#This Row],[Período]])","v":"92016"},103.7769,167.85990000000001,99.951499999999996,122.1005,175.46690000000001,79.734499999999997,94.5077,46.825400000000002,108.17570000000001,89.370900000000006,53.621499999999997,113.1658,102.334]
["2016-10-01",{"$f":"MONTH(Indice_Horas[[#This Row],[Período]])&YEAR(Indice_Horas[[#This Row],[Período]])","v":"102016"},101.0872,166.82409999999999,97.1631,123.67059999999999,178.5806,80.074299999999994,95.735500000000002,42.775500000000001,110.56780000000001,88.381699999999995,52.156399999999998,111.3425,81.119900000000001]
["2016-11-01",{"$f":"MONTH(Indice_Horas[[#This Row],[Período]])&YEAR(Indice_Horas[[#This Row],[Período]])","v":"112016"},102.9349,166.46299999999999,99.142600000000002,125.50449999999999,177.79750000000001,78.222999999999999,96.006,42.779000000000003,113.2137,89.224299999999999,50.858400000000003,110.8305,99.213300000000004]
["2016-12-01",{"$f":"MONTH(Indice_Horas[[#This Row],[Período]])&YEAR(Indice_Horas[[#This Row],[Período]])","v":"122016"},96.448599999999999,163.2235,92.462500000000006,122.2283,179.6045,62.008699999999997,84.526399999999995,38.487099999999998,102.6661,82.882900000000006,47.994900000000001,104.5866,89.33]
["2017-01-01",{"$f":"MONTH(Indice_Horas[[#This Row],[Período]])&YEAR(Indice_Horas[[#This Row],[Período]])","v":"12017"},98.446299999999994,169.19659999999999,94.222899999999996,119.4162,170.59280000000001,71.584900000000005,83.008700000000005,34.522199999999998,115.62990000000001,89.983000000000004,39.197600000000001,103.71259999999999,88.934100000000001]
["2017-02-01",{"$f":"MONTH(Indice_Horas[[#This Row],[Período]])&YEAR(Indice_Horas[[#This Row],[Período]])","v":"22017"},98.802700000000002,166.61429999999999,94.754800000000003,123.5488,155.9194,76.074200000000005,85.604699999999994,32.3003,116.4569,88.310199999999995,43.552199999999999,103.2355,93.367599999999996]
["2017-03-01",{"$f":"MONTH(Indice_Horas[[#This Row],[Período]])&YEAR(Indice_Horas[[#This Row],[Período]])","v":"32017"},105.8103,167.3331,102.1377,122.1178,168.18549999999999,81.747600000000006,87.29,39.893700000000003,117.5951,92.022800000000004,48.270899999999997,114.7047,105.968]
["2017-04-01",{"$f":"MONTH(Indice_Horas[[#This Row],[Período]])&YEAR(Indice_Horas[[#This Row],[Período]])","v":"42017"},100.5744,167.88749999999999,96.556200000000004,134.60059999999999,161.2542,77.153700000000001,89.963200000000001,35.232999999999997,111.3755,86.243600000000001,42.867100000000001,102.1562,87.886099999999999]
["2017-05-01",{"$f":"MONTH(Indice_Horas[[#This Row],[Período]])&YEAR(Indice_Horas[[#This Row],[Período]])","v":"52017"},105.70010000000001,169.94489999999999,101.8651,132.51779999999999,162.5504,82.104799999999997,90.4636,37.740099999999998,108.55549999999999,89.508099999999999,47.761699999999998,114.44110000000001,107.04519999999999]
["2017-06-01",{"$f":"MONTH(Indice_Horas[[#This Row],[Período]])&YEAR(Indice_Horas[[#This Row],[Período]])","v":"62017"},101.4579,168.89420000000001,97.432299999999998,119.24420000000001,158.71889999999999,79.643900000000002,89.841899999999995,36.457999999999998,111.37090000000001,92.678600000000003,47.577800000000003,112.38809999999999,99.272400000000005]
["2017-07-01",{"$f":"MONTH(Indice_Horas[[#This Row],[Período]])&YEAR(Indice_Horas[[#This Row],[Período]])","v":"72017"},101.86199999999999,165.01990000000001,98.091800000000006,123.7296,162.60159999999999,77.320599999999999,87.697999999999993,36.462000000000003,112.41379999999999,93.350399999999993,49.074300000000001,112.05159999999999,99.313000000000002]
["2017-08-01",{"$f":"MONTH(Indice_Horas[[#This Row],[Período]])&YEAR(Indice_Horas[[#This Row],[Período]])","v":"82017"},106.0056,163.67150000000001,102.5633,126.2291,164.8484,78.503600000000006,89.930499999999995,37.880699999999997,115.5308,93.464500000000001,54.8459,116.004,106.9708]
["2017-09-01",{"$f":"MONTH(Indice_Horas[[#This Row],[Período]])&YEAR(Indice_Horas[[#This Row],[Período]])","v":"92017"},101.74120000000001,160.85579999999999,98.212299999999999,125.6872,164.41679999999999,76.956500000000005,91.673699999999997,36.636299999999999,117.05110000000001,97.999399999999994,48.896799999999999,108.6823,90.769800000000004]
["2017-10-01",{"$f":"MONTH(Indice_Horas[[#This Row],[Período]])&YEAR(Indice_Horas[[#This Row],[Período]])","v":"102017"},102.6962,158.7296,99.351299999999995,126.60850000000001,168.1447,77.86,94.203299999999999,37.725999999999999,111.54810000000001,94.286600000000007,50.155200000000001,110.2166,96.641499999999994]
["2017-11-01",{"$f":"MONTH(Indice_Horas[[#This Row],[Período]])&YEAR(Indice_Horas[[#This Row],[Período]])","v":"112017"},100.19410000000001,159.90430000000001,96.6297,126.32170000000001,174.50579999999999,77.081000000000003,102.4096,36.717500000000001,105.90519999999999,94.528700000000001,49.451900000000002,108.4825,92.567300000000003]
["2017-12-01",{"$f":"MONTH(Indice_Horas[[#This Row],[Período]])&YEAR(Indice_Horas[[#This Row],[Período]])","v":"122017"},94.378,157.99510000000001,90.580399999999997,126.6379,182.5855,58.261899999999997,87.843699999999998,35.318199999999997,104.19280000000001,89.824600000000004,48.282299999999999,94.642499999999998,75.087800000000001]
["2018-01-01",{"$f":"MONTH(Indice_Horas[[#This Row],[Período]])&YEAR(Indice_Horas[[#This Row],[Período]])","v":"12018"},98.105500000000006,158.8417,94.479900000000001,124.98950000000001,167.2663,71.275000000000006,87.367199999999997,37.857100000000003,107.1931,95.621600000000001,42.195900000000002,102.5749,97.130600000000001]
["2018-02-01",{"$f":"MONTH(Indice_Horas[[#This Row],[Período]])&YEAR(Indice_Horas[[#This Row],[Período]])","v":"22018"},95.657700000000006,157.87899999999999,91.9435,123.6323,151.76669999999999,72.501000000000005,88.480599999999995,37.270800000000001,105.4593,94.309799999999996,48.000599999999999,97.161199999999994,82.750200000000007]
["2018-03-01",{"$f":"MONTH(Indice_Horas[[#This Row],[Período]])&YEAR(Indice_Horas[[#This Row],[Período]])","v":"32018"},100.9486,160.47749999999999,97.395099999999999,125.9175,161.75460000000001,77.447199999999995,91.229900000000001,42.509300000000003,109.61239999999999,97.575199999999995,53.945399999999999,105.5919,94.724400000000003]
["2018-04-01",{"$f":"MONTH(Indice_Horas[[#This Row],[Período]])&YEAR(Indice_Horas[[#This Row],[Período]])","v":"42018"},100.7189,158.7747,97.253299999999996,123.2944,159.61019999999999,74.622200000000007,92.132199999999997,40.671599999999998,108.8516,99.082599999999999,57.007399999999997,107.73399999999999,92.932199999999995]
["2018-05-01",{"$f":"MONTH(Indice_Horas[[#This Row],[Período]])&YEAR(Indice_Horas[[#This Row],[Período]])","v":"52018"},100.97669999999999,160.6327,97.415599999999998,128.10230000000001,124.51649999999999,78.215100000000007,92.620999999999995,42.000399999999999,111.4021,96.932299999999998,59.268099999999997,108.22499999999999,82.478499999999997]
["2018-06-01",{"$f":"MONTH(Indice_Horas[[#This Row],[Período]])&YEAR(Indice_Horas[[#This Row],[Período]])","v":"62018"},100.1741,159.46379999999999,96.634900000000002,123.646,168.62880000000001,77.402600000000007,91.004000000000005,40.933500000000002,101.2812,100.80759999999999,55.956299999999999,105.5878,95.644599999999997]
["2018-07-01",{"$f":"MONTH(Indice_Horas[[#This Row],[Período]])&YEAR(Indice_Horas[[#This Row],[Período]])","v":"72018"},102.15779999999999,157.9342,98.828299999999999,125.8943,172.1566,77.494299999999996,89.179199999999994,42.1188,108.23269999999999,99.623400000000004,52.702599999999997,110.42619999999999,91.749200000000002]
["2018-08-01",{"$f":"MONTH(Indice_Horas[[#This Row],[Período]])&YEAR(Indice_Horas[[#This Row],[Período]])","v":"82018"},102.47490000000001,159.1559,99.091399999999993,123.5894,161.93379999999999,78.560400000000001,91.787599999999998,42.372799999999998,108.5033,103.2637,50.656599999999997,112.6001,93.134699999999995]
["2018-09-01",{"$f":"MONTH(Indice_Horas[[#This Row],[Período]])&YEAR(Indice_Horas[[#This Row],[Período]])","v":"92018"},96.111999999999995,158.1756,92.4071,121.3205,157.15969999999999,76.152799999999999,91.791899999999998,40.980200000000004,101.4477,99.448499999999996,42.797400000000003,105.5151,70.131200000000007]
["2018-10-01",{"$f":"MONTH(Indice_Horas[[#This Row],[Período]])&YEAR(Indice_Horas[[#This Row],[Período]])","v":"102018"},100.008,157.89019999999999,96.552700000000002,122.0039,162.227,78.049099999999996,94.216499999999996,42.492699999999999,104.7216,99.361599999999996,46.835599999999999,113.24,92.003399999999999]
["2018-11-01",{"$f":"MONTH(Indice_Horas[[#This Row],[Período]])&YEAR(Indice_Horas[[#This Row],[Período]])","v":"112018"},99.105099999999993,158.06659999999999,95.585400000000007,124.3342,157.90790000000001,76.856899999999996,101.7093,41.044199999999996,102.038,99.479799999999997,44.905299999999997,106.29900000000001,85.320999999999998]
["2018-12-01",{"$f":"MONTH(Indice_Horas[[#This Row],[Período]])&YEAR(Indice_Horas[[#This Row],[Período]])","v":"122018"},89.026899999999998,156.22810000000001,85.015299999999996,122.10290000000001,163.9281,51.622399999999999,90.756,39.048999999999999,97.192300000000003,91.639499999999998,38.648099999999999,96.890799999999999,63.256]
["2019-01-01",{"$f":"MONTH(Indice_Horas[[#This Row],[Período]])&YEAR(Indice_Horas[[#This Row],[Período]])","v":"12019"},94.539900000000003,155.1215,90.923500000000004,118.4465,155.46449999999999,71.329800000000006,87.872900000000001,38.546799999999998,100.6425,96.117400000000004,35.722799999999999,91.254599999999996,83.561099999999996]
["2019-02-01",{"$f":"MONTH(Indice_Horas[[#This Row],[Período]])&YEAR(Indice_Horas[[#This Row],[Período]])","v":"22019"},92.763400000000004,105.2119,92.020300000000006,120.13979999999999,138.5652,73.783900000000003,92.121899999999997,37.473700000000001,100.64879999999999,98.9649,35.892299999999999,103.20359999999999,83.541499999999999]
["2019-03-01",{"$f":"MONTH(Indice_Horas[[#This Row],[Período]])&YEAR(Indice_Horas[[#This Row],[Período]])","v":"32019"},92.516599999999997,110.73050000000001,91.429299999999998,120.6181,147.25450000000001,76.646100000000004,90.498000000000005,41.875599999999999,100.6905,96.124899999999997,38.244100000000003,100.5132,74.698800000000006]
["2019-04-01",{"$f":"MONTH(Indice_Horas[[#This Row],[Período]])&YEAR(Indice_Horas[[#This Row],[Período]])","v":"42019"},95.145200000000003,106.46599999999999,94.469399999999993,124.60169999999999,151.28149999999999,75.751599999999996,91.982299999999995,40.482399999999998,104.6177,95.314700000000002,42.360100000000003,101.00620000000001,86.686499999999995]
["2019-05-01",{"$f":"MONTH(Indice_Horas[[#This Row],[Período]])&YEAR(Indice_Horas[[#This Row],[Período]])","v":"52019"},102.932,118.188,102.0213,127.5337,150.97200000000001,76.644999999999996,94.009699999999995,41.864899999999999,100.60980000000001,103.7796,44.860700000000001,101.4636,89.525499999999994]
["2019-06-01",{"$f":"MONTH(Indice_Horas[[#This Row],[Período]])&YEAR(Indice_Horas[[#This Row],[Período]])","v":"62019"},96.632900000000006,117.49639999999999,95.387500000000003,124.7097,147.2475,73.488,89.043499999999995,40.727200000000003,84.912400000000005,99.125900000000001,41.356099999999998,93.986900000000006,81.777699999999996]
["2019-07-01",{"$f":"MONTH(Indice_Horas[[#This Row],[Período]])&YEAR(Indice_Horas[[#This Row],[Período]])","v":"72019"},101.6618,127.0836,100.1443,124.3424,148.08179999999999,74.433499999999995,86.590500000000006,42.024799999999999,92.492099999999994,104.1473,47.203899999999997,98.908699999999996,88.013300000000001]
["2019-08-01",{"$f":"MONTH(Indice_Horas[[#This Row],[Período]])&YEAR(Indice_Horas[[#This Row],[Período]])","v":"82019"},102.7764,135.04,100.85039999999999,126.6327,145.18109999999999,74.404700000000005,88.765900000000002,41.967199999999998,98.006,104.9885,47.247999999999998,105.24169999999999,88.589600000000004]
["2019-09-01",{"$f":"MONTH(Indice_Horas[[#This Row],[Período]])&YEAR(Indice_Horas[[#This Row],[Período]])","v":"92019"},98.046199999999999,132.2645,96.003600000000006,120.34739999999999,151.39789999999999,72.478899999999996,90.012200000000007,40.975000000000001,81.077600000000004,100.0351,43.266100000000002,98.722099999999998,79.084999999999994]
["2019-10-01",{"$f":"MONTH(Indice_Horas[[#This Row],[Período]])&YEAR(Indice_Horas[[#This Row],[Período]])","v":"102019"},101.9632,134.4581,100.0235,123.108,155.46799999999999,75.095399999999998,89.715400000000002,42.141500000000001,96.652600000000007,100.8536,48.771000000000001,102.8561,85.836500000000001]
["2019-11-01",{"$f":"MONTH(Indice_Horas[[#This Row],[Período]])&YEAR(Indice_Horas[[#This Row],[Período]])","v":"112019"},99.528800000000004,136.30029999999999,97.333699999999993,126.36799999999999,152.22980000000001,71.970200000000006,92.346299999999999,40.828699999999998,91.948400000000007,96.889499999999998,44.569600000000001,100.9495,80.184600000000003]
["2019-12-01",{"$f":"MONTH(Indice_Horas[[#This Row],[Período]])&YEAR(Indice_Horas[[#This Row],[Período]])","v":"122019"},91.187100000000001,132.09880000000001,88.744900000000001,121.55029999999999,155.9846,56.390999999999998,92.449299999999994,39.419199999999996,89.013400000000004,89.862499999999997,39.4084,88.053799999999995,70.889600000000002]
["2020-01-01",{"$f":"MONTH(Indice_Horas[[#This Row],[Período]])&YEAR(Indice_Horas[[#This Row],[Período]])","v":"12020"},95.118799999999993,133.4376,92.831299999999999,118.5795,155.3004,66.581900000000005,92.105599999999995,38.753700000000002,88.168400000000005,93.125399999999999,43.186900000000001,98.164100000000005,77.496700000000004]
["2020-02-01",{"$f":"MONTH(Indice_Horas[[#This Row],[Período]])&YEAR(Indice_Horas[[#This Row],[Período]])","v":"22020"},94.892499999999998,129.05099999999999,92.853399999999993,122.4494,140.81659999999999,71.332599999999999,86.261399999999995,38.816299999999998,90.576499999999996,97.441500000000005,43.67,98.567999999999998,70.772599999999997]
["2020-03-01",{"$f":"MONTH(Indice_Horas[[#This Row],[Período]])&YEAR(Indice_Horas[[#This Row],[Período]])","v":"32020"},96.092299999999994,131.5763,93.974100000000007,125.22239999999999,102.8642,68.667199999999994,86.525400000000005,42.179499999999997,89.033299999999997,96.993600000000001,47.133099999999999,100.512,72.376000000000005]
["2020-04-01",{"$f":"MONTH(Indice_Horas[[#This Row],[Período]])&YEAR(Indice_Horas[[#This Row],[Período]])","v":"42020"},77.015500000000003,125.4966,74.121399999999994,126.4455,56.727400000000003,40.905900000000003,85.917400000000001,40.682899999999997,64.839600000000004,81.634699999999995,38.380600000000001,76.294300000000007,9.7578999999999994]
["2020-05-01",{"$f":"MONTH(Indice_Horas[[#This Row],[Período]])&YEAR(Indice_Horas[[#This Row],[Período]])","v":"52020"},82.026499999999999,133.46879999999999,78.955699999999993,127.2089,70.2059,47.211300000000001,107.56140000000001,42.177300000000002,61.822000000000003,86.488200000000006,42.845500000000001,84.468400000000003,35.172499999999999]
["2020-06-01",{"$f":"MONTH(Indice_Horas[[#This Row],[Período]])&YEAR(Indice_Horas[[#This Row],[Período]])","v":"62020"},89.197900000000004,126.3583,86.979600000000005,138.40989999999999,89.709199999999996,59.6432,103.61790000000001,40.752699999999997,75.984399999999994,84.518900000000002,40.659500000000001,96.704499999999996,52.404000000000003]
["2020-07-01",{"$f":"MONTH(Indice_Horas[[#This Row],[Período]])&YEAR(Indice_Horas[[#This Row],[Período]])","v":"72020"},99.226500000000001,131.77199999999999,97.283699999999996,163.96690000000001,122.97020000000001,68.255799999999994,97.6828,42.422499999999999,76.640699999999995,87.114000000000004,45.067900000000002,103.5484,67.684600000000003]
["2020-08-01",{"$f":"MONTH(Indice_Horas[[#This Row],[Período]])&YEAR(Indice_Horas[[#This Row],[Período]])","v":"82020"},98.622,131.34280000000001,96.668800000000005,132.12049999999999,148.68450000000001,66.6126,101.4191,42.611699999999999,85.853700000000003,93.509100000000004,46.604599999999998,104.70950000000001,90.126400000000004]
["2020-09-01",{"$f":"MONTH(Indice_Horas[[#This Row],[Período]])&YEAR(Indice_Horas[[#This Row],[Período]])","v":"92020"},99.863699999999994,140.9819,97.409099999999995,133.4128,144.1746,71.758799999999994,106.0564,41.717100000000002,87.190299999999993,93.108900000000006,42.572099999999999,104.6515,91.753299999999996]
["2020-10-01",{"$f":"MONTH(Indice_Horas[[#This Row],[Período]])&YEAR(Indice_Horas[[#This Row],[Período]])","v":"102020"},100.12949999999999,142.14840000000001,97.621300000000005,132.5865,152.0378,74.068600000000004,105.6219,42.55,90.1935,95.836299999999994,42.788600000000002,107.842,91.919600000000003]
["2020-11-01",{"$f":"MONTH(Indice_Horas[[#This Row],[Período]])&YEAR(Indice_Horas[[#This Row],[Período]])","v":"112020"},97.400099999999995,143.7544,94.632999999999996,130.66290000000001,145.99090000000001,72.149199999999993,107.9331,40.792000000000002,88.511799999999994,89.492199999999997,36.903500000000001,105.1952,87.652100000000004]
["2020-12-01",{"$f":"MONTH(Indice_Horas[[#This Row],[Período]])&YEAR(Indice_Horas[[#This Row],[Período]])","v":"122020"},96.665199999999999,143.73509999999999,93.855400000000003,131.51130000000001,149.9179,66.187799999999996,102.32640000000001,39.017800000000001,91.740700000000004,87.604500000000002,35.374099999999999,105.9755,88.111999999999995]
["2021-01-01",{"$f":"MONTH(Indice_Horas[[#This Row],[Período]])&YEAR(Indice_Horas[[#This Row],[Período]])","v":"12021"},97.302000000000007,143.77449999999999,94.527799999999999,133.22059999999999,192.41630000000001,70.116399999999999,105.00020000000001,40.158200000000001,90.872900000000001,89.965500000000006,34.018300000000004,106.5227,89.283699999999996]
["2021-02-01",{"$f":"MONTH(Indice_Horas[[#This Row],[Período]])&YEAR(Indice_Horas[[#This Row],[Período]])","v":"22021"},97.0214,137.90450000000001,94.5809,131.50569999999999,178.7458,72.268600000000006,101.0068,38.3992,89.6387,92.764300000000006,34.932200000000002,106.35250000000001,92.107299999999995]
["2021-03-01",{"$f":"MONTH(Indice_Horas[[#This Row],[Período]])&YEAR(Indice_Horas[[#This Row],[Período]])","v":"32021"},101.8271,141.87119999999999,99.436700000000002,133.81110000000001,163.49520000000001,75.227900000000005,112.1054,41.370699999999999,93.281199999999998,92.815700000000007,37.667900000000003,110.14449999999999,105.6734]
["2021-04-01",{"$f":"MONTH(Indice_Horas[[#This Row],[Período]])&YEAR(Indice_Horas[[#This Row],[Período]])","v":"42021"},100.1536,143.1893,97.584599999999995,135.02619999999999,164.00489999999999,73.174700000000001,106.1053,39.462299999999999,95.274600000000007,98.452200000000005,35.153799999999997,109.0325,90.653700000000001]
["2021-05-01",{"$f":"MONTH(Indice_Horas[[#This Row],[Período]])&YEAR(Indice_Horas[[#This Row],[Período]])","v":"52021"},102.6272,149.608,99.822699999999998,133.62450000000001,170.60220000000001,74.673299999999998,101.67489999999999,40.529899999999998,95.423299999999998,97.838800000000006,35.648400000000002,110.9823,100.7968]
["2021-06-01",{"$f":"MONTH(Indice_Horas[[#This Row],[Período]])&YEAR(Indice_Horas[[#This Row],[Período]])","v":"62021"},102.6951,143.94589999999999,100.185,132.50409999999999,141.04,74.518799999999999,101.9384,40.444400000000002,100.42319999999999,100.56610000000001,36.137900000000002,109.1927,97.064099999999996]
["2021-07-01",{"$f":"MONTH(Indice_Horas[[#This Row],[Período]])&YEAR(Indice_Horas[[#This Row],[Período]])","v":"72021"},103.4333,149.29849999999999,100.64230000000001,130.279,143.75810000000001,74.993300000000005,101.3516,41.578600000000002,106.54819999999999,91.444800000000001,39.640799999999999,109.8789,93.932299999999998]
["2021-08-01",{"$f":"MONTH(Indice_Horas[[#This Row],[Período]])&YEAR(Indice_Horas[[#This Row],[Período]])","v":"82021"},103.3117,148.66399999999999,100.55200000000001,131.42169999999999,143.8023,76.643699999999995,102.3866,41.522100000000002,101.1079,92.561400000000006,36.249600000000001,117.2034,91.013499999999993]
["2021-09-01",{"$f":"MONTH(Indice_Horas[[#This Row],[Período]])&YEAR(Indice_Horas[[#This Row],[Período]])","v":"92021"},103.1499,153.0444,100.11369999999999,130.47550000000001,133.4933,75.139899999999997,106.09739999999999,39.759500000000003,107.4485,89.136399999999995,37.732199999999999,117.5111,93.251000000000005]
["2021-10-01",{"$f":"MONTH(Indice_Horas[[#This Row],[Período]])&YEAR(Indice_Horas[[#This Row],[Período]])","v":"102021"},101.262,155.67519999999999,97.950800000000001,133.9248,134.2938,73.112099999999998,103.3805,41.172199999999997,105.05759999999999,92.243899999999996,39.641100000000002,113.2316,72.561599999999999]
["2021-11-01",{"$f":"MONTH(Indice_Horas[[#This Row],[Período]])&YEAR(Indice_Horas[[#This Row],[Período]])","v":"112021"},101.7671,152.22190000000001,98.696899999999999,134.6883,131.52690000000001,74.925899999999999,103.7962,39.767400000000002,102.6481,91.874700000000004,39.693199999999997,111.7016,80.195700000000002]
["2021-12-01",{"$f":"MONTH(Indice_Horas[[#This Row],[Período]])&YEAR(Indice_Horas[[#This Row],[Período]])","v":"122021"},98.051900000000003,153.73589999999999,94.663499999999999,135.55119999999999,134.12860000000001,63.956800000000001,102.9345,36.883400000000002,103.3044,90.934399999999997,35.618699999999997,96.613299999999995,71.635499999999993]
["2022-01-01",{"$f":"MONTH(Indice_Horas[[#This Row],[Período]])&YEAR(Indice_Horas[[#This Row],[Período]])","v":"12022"},96.608199999999997,156.286,92.976699999999994,129.40639999999999,129.5361,67.923599999999993,100.4449,36.194899999999997,96.252799999999993,86.325999999999993,33.393300000000004,102.40179999999999,72.542299999999997]
["2022-02-01",{"$f":"MONTH(Indice_Horas[[#This Row],[Período]])&YEAR(Indice_Horas[[#This Row],[Período]])","v":"22022"},99.3001,151.2996,96.135900000000007,127.9842,118.6046,70.302400000000006,103.9418,33.948999999999998,98.647499999999994,84.782200000000003,36.503,108.044,85.717600000000004]
["2022-03-01",{"$f":"MONTH(Indice_Horas[[#This Row],[Período]])&YEAR(Indice_Horas[[#This Row],[Período]])","v":"32022"},107.7469,149.58019999999999,105.2013,153.6919,132.48330000000001,74.903800000000004,103.79349999999999,38.174199999999999,96.518799999999999,89.456800000000001,42.359400000000001,115.818,95.130700000000004]
["2022-04-01",{"$f":"MONTH(Indice_Horas[[#This Row],[Período]])&YEAR(Indice_Horas[[#This Row],[Período]])","v":"42022"},100.91119999999999,150.51589999999999,97.892700000000005,130.0985,133.8784,72.116,104.1326,35.875300000000003,99.628299999999996,96.008300000000006,36.3611,108.9401,83.434200000000004]
["2022-05-01",{"$f":"MONTH(Indice_Horas[[#This Row],[Período]])&YEAR(Indice_Horas[[#This Row],[Período]])","v":"52022"},102.7585,146.0564,100.1238,129.93170000000001,138.3604,73.860699999999994,104.24509999999999,37.975200000000001,102.7624,89.647499999999994,41.545000000000002,115.8845,88.927599999999998]
["2022-06-01",{"$f":"MONTH(Indice_Horas[[#This Row],[Período]])&YEAR(Indice_Horas[[#This Row],[Período]])","v":"62022"},100.02800000000001,144.5917,97.316299999999998,130.5711,133.4898,73.947900000000004,110.40049999999999,35.779499999999999,103.2619,93.876900000000006,40.8932,114.1153,71.212400000000002]
["2022-07-01",{"$f":"MONTH(Indice_Horas[[#This Row],[Período]])&YEAR(Indice_Horas[[#This Row],[Período]])","v":"72022"},102.8721,153.10140000000001,99.8155,131.1035,138.2208,73.536500000000004,109.1397,37.865000000000002,102.456,92.566500000000005,40.659999999999997,115.9563,85.445700000000002]
["2022-08-01",{"$f":"MONTH(Indice_Horas[[#This Row],[Período]])&YEAR(Indice_Horas[[#This Row],[Período]])","v":"82022"},110.3783,151.42930000000001,107.88030000000001,159.02199999999999,137.71690000000001,73.191400000000002,101.4841,38.060600000000001,97.556899999999999,94.849900000000005,42.275500000000001,121.2525,95.349900000000005]
["2022-09-01",{"$f":"MONTH(Indice_Horas[[#This Row],[Período]])&YEAR(Indice_Horas[[#This Row],[Período]])","v":"92022"},103.5324,152.25030000000001,100.56780000000001,129.73009999999999,141.66720000000001,73.855599999999995,102.9247,36.857700000000001,98.198400000000007,96.735799999999998,40.373100000000001,115.464,92.370099999999994]
["2022-10-01",{"$f":"MONTH(Indice_Horas[[#This Row],[Período]])&YEAR(Indice_Horas[[#This Row],[Período]])","v":"102022"},101.9833,146.54810000000001,99.271500000000003,130.25239999999999,144.76220000000001,73.579700000000003,101.0633,37.852899999999998,92.390600000000006,92.161299999999997,38.818199999999997,116.83450000000001,93.610900000000001]
["2022-11-01",{"$f":"MONTH(Indice_Horas[[#This Row],[Período]])&YEAR(Indice_Horas[[#This Row],[Período]])","v":"112022"},101.0367,152.31720000000001,97.916200000000003,129.11709999999999,148.15629999999999,73.102199999999996,99.976900000000001,36.4756,89.575199999999995,93.156800000000004,38.393700000000003,113.18470000000001,86.168800000000005]
["2022-12-01",{"$f":"MONTH(Indice_Horas[[#This Row],[Período]])&YEAR(Indice_Horas[[#This Row],[Período]])","v":"122022"},96.42,168.52369999999999,92.032399999999996,133.244,152.23910000000001,55.635300000000001,97.763999999999996,35.300899999999999,78.9114,90.773799999999994,34.561599999999999,113.1859,74.700400000000002]
["2023-01-01",{"$f":"MONTH(Indice_Horas[[#This Row],[Período]])&YEAR(Indice_Horas[[#This Row],[Período]])","v":"12023"},99.121099999999998,171.9348,94.690200000000004,128.29079999999999,149.29419999999999,64.5625,94.577100000000002,37.755099999999999,88.974699999999999,86.478399999999993,33.292099999999998,114.3293,78.553600000000003]
["2023-02-01",{"$f":"MONTH(Indice_Horas[[#This Row],[Período]])&YEAR(Indice_Horas[[#This Row],[Período]])","v":"22023"},96.663200000000003,162.85040000000001,92.635599999999997,125.25020000000001,137.18520000000001,66.025000000000006,95.985100000000003,35.865299999999998,88.388599999999997,92.787800000000004,35.787500000000001,113.0878,81.11]

{"sheet":"Massa_Salarial_MG_setores","index":7,"n_rows":209,"n_cols":73,"rows_kept":209,"cut":false,"hidden":false,"merged":[]}
[null,null,"Base 2006=100"]
[null,null,"Massa Salarial"]
["Período","Mês","Indústria Geral","Indústria Extrativa","Indústria de Transformação","10-Alimentos","11-Bebidas","13-Produtos têxteis","17-Celulose e papel","19-Coque e derivados de petróleo","23-Prod. minerais não metálicos","24-Metalurgia","25-Produtos de metal","27- Materiais elétricos","29-Veículos automotores"]
["2006-01-01",{"$f":"MONTH(Indice_massa_salarial[[#This Row],[Período]])&YEAR(Indice_massa_salarial[[#This Row],[Período]])","v":"12006"},96.030600000000007,79.861999999999995,97.457800000000006,82.287499999999994,99.984700000000004,89.467399999999998,111.8137,93.444800000000001,106.13249999999999,106.721,100.4136,101.88039999999999,105.67610000000001]
["2006-02-01",{"$f":"MONTH(Indice_massa_salarial[[#This Row],[Período]])&YEAR(Indice_massa_salarial[[#This Row],[Período]])","v":"22006"},102.7924,187.79159999999999,95.289900000000003,78.606999999999999,95.441299999999998,88.317599999999999,191.2988,78.547799999999995,89.777600000000007,111.9062,89.179199999999994,94.859700000000004,82.805800000000005]
["2006-03-01",{"$f":"MONTH(Indice_massa_salarial[[#This Row],[Período]])&YEAR(Indice_massa_salarial[[#This Row],[Período]])","v":"32006"},94.075400000000002,83.284499999999994,95.027900000000002,100.1073,104.1584,95.522300000000001,87.532200000000003,70.736400000000003,92.675299999999993,92.261499999999998,96.265699999999995,95.410499999999999,83.343400000000003]
["2006-04-01",{"$f":"MONTH(Indice_massa_salarial[[#This Row],[Período]])&YEAR(Indice_massa_salarial[[#This Row],[Período]])","v":"42006"},92.317899999999995,77.572100000000006,93.619399999999999,88.4589,97.311000000000007,98.273700000000005,80.917599999999993,74.166399999999996,93.742500000000007,90.792299999999997,91.856499999999997,93.450599999999994,117.41630000000001]
["2006-05-01",{"$f":"MONTH(Indice_massa_salarial[[#This Row],[Período]])&YEAR(Indice_massa_salarial[[#This Row],[Período]])","v":"52006"},91.692400000000006,83.057500000000005,92.454599999999999,92.024600000000007,95.794799999999995,95.334299999999999,85.791600000000003,88.172700000000006,93.091300000000004,94.3095,99.475200000000001,89.491699999999994,83.848399999999998]
["2006-06-01",{"$f":"MONTH(Indice_massa_salarial[[#This Row],[Período]])&YEAR(Indice_massa_salarial[[#This Row],[Período]])","v":"62006"},94.735699999999994,80.164000000000001,96.021900000000002,94.472099999999998,97.8125,96.032700000000006,98.709400000000002,98.873699999999999,92.872200000000007,92.853700000000003,90.186499999999995,85.410700000000006,113.9558]
["2006-07-01",{"$f":"MONTH(Indice_massa_salarial[[#This Row],[Período]])&YEAR(Indice_massa_salarial[[#This Row],[Período]])","v":"72006"},96.778800000000004,88.067800000000005,97.547700000000006,99.537800000000004,100.17149999999999,95.127499999999998,89.478899999999996,164.13040000000001,108.8535,94.462599999999995,89.463800000000006,106.07259999999999,86.4983]
["2006-08-01",{"$f":"MONTH(Indice_massa_salarial[[#This Row],[Período]])&YEAR(Indice_massa_salarial[[#This Row],[Período]])","v":"82006"},95.307000000000002,103.43,94.59,97.608500000000006,97.082400000000007,94.556899999999999,83.276300000000006,91.767700000000005,103.4995,98.735299999999995,94.325299999999999,88.807699999999997,88.607500000000002]
["2006-09-01",{"$f":"MONTH(Indice_massa_salarial[[#This Row],[Período]])&YEAR(Indice_massa_salarial[[#This Row],[Período]])","v":"92006"},94.048100000000005,114.77809999999999,92.218299999999999,98.628699999999995,100.739,98.247100000000003,81.825999999999993,91.508300000000006,94.211699999999993,91.783299999999997,93.268600000000006,83.903000000000006,83.810500000000005]
["2006-10-01",{"$f":"MONTH(Indice_massa_salarial[[#This Row],[Período]])&YEAR(Indice_massa_salarial[[#This Row],[Período]])","v":"102006"},94.432100000000005,85.705299999999994,95.202299999999994,101.7739,99.008300000000006,97.024500000000003,87.116600000000005,93.352599999999995,100.40779999999999,97.678899999999999,100.23520000000001,103.59820000000001,85.8459]
["2006-11-01",{"$f":"MONTH(Indice_massa_salarial[[#This Row],[Período]])&YEAR(Indice_massa_salarial[[#This Row],[Período]])","v":"112006"},107.5064,91.191500000000005,108.9464,119.292,103.8379,112.56789999999999,100.4033,104.9131,107.4864,100.75230000000001,115.53,100.50749999999999,97.4101]
["2006-12-01",{"$f":"MONTH(Indice_massa_salarial[[#This Row],[Período]])&YEAR(Indice_massa_salarial[[#This Row],[Período]])","v":"122006"},139.57769999999999,125.2818,140.83949999999999,145.80179999999999,108.45650000000001,138.54920000000001,102.9355,149.0565,116.8078,127.4997,138.93729999999999,155.7124,169.75049999999999]
["2007-01-01",{"$f":"MONTH(Indice_massa_salarial[[#This Row],[Período]])&YEAR(Indice_massa_salarial[[#This Row],[Período]])","v":"12007"},103.9529,96.202500000000001,104.637,106.61109999999999,109.95910000000001,95.543000000000006,106.29,79.749799999999993,112.9158,107.89279999999999,111.1802,108.89230000000001,113.54649999999999]
["2007-02-01",{"$f":"MONTH(Indice_massa_salarial[[#This Row],[Período]])&YEAR(Indice_massa_salarial[[#This Row],[Período]])","v":"22007"},108.6465,186.1653,101.8044,99.128299999999996,97.163600000000002,92.332800000000006,152.08850000000001,87.732200000000006,98.320400000000006,124.22750000000001,108.59220000000001,105.2941,79.853800000000007]
["2007-03-01",{"$f":"MONTH(Indice_massa_salarial[[#This Row],[Período]])&YEAR(Indice_massa_salarial[[#This Row],[Período]])","v":"32007"},101.0286,98.879900000000006,101.2183,110.39190000000001,130.0703,94.454400000000007,92.400199999999998,87.298900000000003,98.496799999999993,95.613200000000006,133.03559999999999,92.678100000000001,90.102599999999995]
["2007-04-01",{"$f":"MONTH(Indice_massa_salarial[[#This Row],[Período]])&YEAR(Indice_massa_salarial[[#This Row],[Período]])","v":"42007"},100.18219999999999,89.537400000000005,101.1217,105.35299999999999,110.0254,95.740700000000004,91.947599999999994,96.725099999999998,98.664000000000001,100.063,122.7847,105.44240000000001,99.194299999999998]
["2007-05-01",{"$f":"MONTH(Indice_massa_salarial[[#This Row],[Período]])&YEAR(Indice_massa_salarial[[#This Row],[Período]])","v":"52007"},100.63639999999999,94.342500000000001,101.1919,111.4667,108.5742,98.226399999999998,134.7576,115.355,98.877899999999997,93.949399999999997,129.1499,92.266400000000004,92.988500000000002]
["2007-06-01",{"$f":"MONTH(Indice_massa_salarial[[#This Row],[Período]])&YEAR(Indice_massa_salarial[[#This Row],[Período]])","v":"62007"},105.8115,82.448099999999997,107.8737,117.1841,108.4362,105.5134,90.443899999999999,115.3562,98.141000000000005,97.548400000000001,122.7097,89.992999999999995,128.0145]
["2007-07-01",{"$f":"MONTH(Indice_massa_salarial[[#This Row],[Período]])&YEAR(Indice_massa_salarial[[#This Row],[Período]])","v":"72007"},102.86360000000001,80.114900000000006,104.8715,114.1648,109.499,105.5908,99.595600000000005,114.0399,101.91630000000001,95.421199999999999,126.8242,119.8995,95.793599999999998]
["2007-08-01",{"$f":"MONTH(Indice_massa_salarial[[#This Row],[Período]])&YEAR(Indice_massa_salarial[[#This Row],[Período]])","v":"82007"},100.2471,77.443299999999994,102.2599,112.8202,106.235,99.519099999999995,88.139899999999997,135.47130000000001,96.042199999999994,93.036600000000007,130.64230000000001,94.927099999999996,96.516999999999996]
["2007-09-01",{"$f":"MONTH(Indice_massa_salarial[[#This Row],[Período]])&YEAR(Indice_massa_salarial[[#This Row],[Período]])","v":"92007"},97.795699999999997,77.483199999999997,99.5886,115.8098,107.1835,99.718199999999996,86.133300000000006,117.7569,99.690299999999993,90.082400000000007,113.5192,96.277600000000007,91.277000000000001]
["2007-10-01",{"$f":"MONTH(Indice_massa_salarial[[#This Row],[Período]])&YEAR(Indice_massa_salarial[[#This Row],[Período]])","v":"102007"},103.6185,75.880499999999998,106.0668,115.19629999999999,111.9314,97.497200000000007,115.3535,128.41560000000001,105.2689,94.874799999999993,128.96780000000001,109.6831,106.4444]
["2007-11-01",{"$f":"MONTH(Indice_massa_salarial[[#This Row],[Período]])&YEAR(Indice_massa_salarial[[#This Row],[Período]])","v":"112007"},119.0967,137.27330000000001,117.4923,127.9362,119.17140000000001,119.5202,98.446100000000001,137.65299999999999,115.5147,94.791700000000006,124.49379999999999,117.5937,113.492]
["2007-12-01",{"$f":"MONTH(Indice_massa_salarial[[#This Row],[Período]])&YEAR(Indice_massa_salarial[[#This Row],[Período]])","v":"122007"},154.82980000000001,113.8036,158.45099999999999,151.9365,119.6682,146.1,101.0068,174.87260000000001,156.7936,136.58779999999999,164.62270000000001,170.93969999999999,199.63550000000001]
["2008-01-01",{"$f":"MONTH(Indice_massa_salarial[[#This Row],[Período]])&YEAR(Indice_massa_salarial[[#This Row],[Período]])","v":"12008"},120.36790000000001,97.360900000000001,122.3986,111.1832,92.239000000000004,99.402900000000002,96.714799999999997,108.85980000000001,95.467100000000002,111.04900000000001,123.1371,134.9615,186.24160000000001]
["2008-02-01",{"$f":"MONTH(Indice_massa_salarial[[#This Row],[Período]])&YEAR(Indice_massa_salarial[[#This Row],[Período]])","v":"22008"},124.3771,290.85169999999999,109.6832,107.5436,87.926699999999997,95.000200000000007,201.53720000000001,94.663600000000002,88.1554,123.5278,107.5586,124.2471,102.5448]
["2008-03-01",{"$f":"MONTH(Indice_massa_salarial[[#This Row],[Período]])&YEAR(Indice_massa_salarial[[#This Row],[Período]])","v":"32008"},103.9731,89.698700000000002,105.233,112.392,100.97410000000001,98.395899999999997,80.929500000000004,95.532300000000006,91.315700000000007,94.357600000000005,138.23150000000001,111.54519999999999,102.86020000000001]
["2008-04-01",{"$f":"MONTH(Indice_massa_salarial[[#This Row],[Período]])&YEAR(Indice_massa_salarial[[#This Row],[Período]])","v":"42008"},103.94159999999999,82.140900000000002,105.8659,115.9846,91.011399999999995,101.2865,90.485500000000002,101.0048,87.735200000000006,94.828400000000002,128.20330000000001,112.7948,111.1225]
["2008-05-01",{"$f":"MONTH(Indice_massa_salarial[[#This Row],[Período]])&YEAR(Indice_massa_salarial[[#This Row],[Período]])","v":"52008"},102.8535,83.571899999999999,104.55540000000001,117.65519999999999,88.028400000000005,99.932100000000005,80.886899999999997,113.99250000000001,92.020300000000006,98.878500000000003,115.5399,107.2791,104.65260000000001]
["2008-06-01",{"$f":"MONTH(Indice_massa_salarial[[#This Row],[Período]])&YEAR(Indice_massa_salarial[[#This Row],[Período]])","v":"62008"},113.4404,83.602500000000006,116.0741,119.532,98.248800000000003,107.1467,76.651899999999998,133.39599999999999,91.881399999999999,100.5359,117.7448,104.1717,150.9691]
["2008-07-01",{"$f":"MONTH(Indice_massa_salarial[[#This Row],[Período]])&YEAR(Indice_massa_salarial[[#This Row],[Período]])","v":"72008"},110.2989,87.168700000000001,112.3404,122.3642,91.908699999999996,109.94159999999999,84.466300000000004,136.74639999999999,97.587699999999998,97.206199999999995,116.8305,136.06780000000001,108.6944]
["2008-08-01",{"$f":"MONTH(Indice_massa_salarial[[#This Row],[Período]])&YEAR(Indice_massa_salarial[[#This Row],[Período]])","v":"82008"},107.2015,92.316100000000006,108.5154,123.06699999999999,92.596500000000006,110.35550000000001,79.790499999999994,136.19630000000001,93.863799999999998,100.06,114.0887,109.03019999999999,105.2368]
["2008-09-01",{"$f":"MONTH(Indice_massa_salarial[[#This Row],[Período]])&YEAR(Indice_massa_salarial[[#This Row],[Período]])","v":"92008"},107.7863,85.713899999999995,109.7345,126.756,97.683800000000005,109.4118,74.804599999999994,133.63509999999999,115.7984,100.31789999999999,114.6298,106.2466,107.64919999999999]
["2008-10-01",{"$f":"MONTH(Indice_massa_salarial[[#This Row],[Período]])&YEAR(Indice_massa_salarial[[#This Row],[Período]])","v":"102008"},114.9158,86.489800000000002,117.4248,124.3527,100.899,108.0599,121.72369999999999,139.88249999999999,112.547,105.6874,122.8506,125.24509999999999,131.70400000000001]
["2008-11-01",{"$f":"MONTH(Indice_massa_salarial[[#This Row],[Período]])&YEAR(Indice_massa_salarial[[#This Row],[Período]])","v":"112008"},132.01249999999999,124.5634,132.66999999999999,144.9109,121.2243,136.5093,87.039000000000001,151.49260000000001,128.08279999999999,117.29949999999999,142.46960000000001,143.40309999999999,120.218]
["2008-12-01",{"$f":"MONTH(Indice_massa_salarial[[#This Row],[Período]])&YEAR(Indice_massa_salarial[[#This Row],[Período]])","v":"122008"},172.19569999999999,156.298,173.59889999999999,159.34639999999999,147.14429999999999,161.2073,104.8235,166.49619999999999,162.83760000000001,157.20500000000001,216.41059999999999,203.2089,218.39400000000001]
["2009-01-01",{"$f":"MONTH(Indice_massa_salarial[[#This Row],[Período]])&YEAR(Indice_massa_salarial[[#This Row],[Período]])","v":"12009"},117.02079999999999,108.47929999999999,117.7747,121.0051,100.0305,103.8219,95.361000000000004,115.98090000000001,124.6572,111.9507,140.58500000000001,153.1362,117.15860000000001]
["2009-02-01",{"$f":"MONTH(Indice_massa_salarial[[#This Row],[Período]])&YEAR(Indice_massa_salarial[[#This Row],[Período]])","v":"22009"},121.8676,175.0214,117.176,111.8288,96.364199999999997,105.13720000000001,140.9683,117.94710000000001,112.47329999999999,134.34119999999999,124.4012,141.43119999999999,99.117800000000003]
["2009-03-01",{"$f":"MONTH(Indice_massa_salarial[[#This Row],[Período]])&YEAR(Indice_massa_salarial[[#This Row],[Período]])","v":"32009"},111.39700000000001,91.981399999999994,113.1108,116.0496,107.8895,103.92319999999999,83.826499999999996,102.7949,120.23779999999999,97.806299999999993,203.61789999999999,125.8536,95.3964]
["2009-04-01",{"$f":"MONTH(Indice_massa_salarial[[#This Row],[Período]])&YEAR(Indice_massa_salarial[[#This Row],[Período]])","v":"42009"},105.40860000000001,82.607600000000005,107.4211,120.1429,100.5609,107.0933,77.822100000000006,93.039699999999996,112.20180000000001,99.679599999999994,131.68279999999999,133.2808,98.177899999999994]
["2009-05-01",{"$f":"MONTH(Indice_massa_salarial[[#This Row],[Período]])&YEAR(Indice_massa_salarial[[#This Row],[Período]])","v":"52009"},105.66079999999999,81.751000000000005,107.77119999999999,124.2525,96.076300000000003,112.10850000000001,91.3339,95.814800000000005,116.07299999999999,93.138800000000003,145.21510000000001,120.25320000000001,103.1027]
["2009-06-01",{"$f":"MONTH(Indice_massa_salarial[[#This Row],[Período]])&YEAR(Indice_massa_salarial[[#This Row],[Período]])","v":"62009"},111.127,80.8399,113.80029999999999,126.7679,99.668999999999997,109.5236,75.505099999999999,97.244,115.6065,93.050700000000006,146.22540000000001,115.5994,141.5795]
["2009-07-01",{"$f":"MONTH(Indice_massa_salarial[[#This Row],[Período]])&YEAR(Indice_massa_salarial[[#This Row],[Período]])","v":"72009"},113.3797,85.021199999999993,115.8828,131.54679999999999,105.646,106.1639,82.223299999999995,104.73390000000001,123.4136,101.8505,147.6354,141.28960000000001,113.1534]
["2009-08-01",{"$f":"MONTH(Indice_massa_salarial[[#This Row],[Período]])&YEAR(Indice_massa_salarial[[#This Row],[Período]])","v":"82009"},106.35939999999999,86.151300000000006,108.143,128.6653,104.7804,105.5402,77.471800000000002,99.8125,114.1713,93.974299999999999,150.93709999999999,120.39319999999999,100.3156]
["2009-09-01",{"$f":"MONTH(Indice_massa_salarial[[#This Row],[Período]])&YEAR(Indice_massa_salarial[[#This Row],[Período]])","v":"92009"},106.8852,84.175600000000003,108.8897,130.95519999999999,101.27419999999999,105.3616,84.711200000000005,99.2881,110.3156,94.635800000000003,160.3262,118.88849999999999,102.56359999999999]
["2009-10-01",{"$f":"MONTH(Indice_massa_salarial[[#This Row],[Período]])&YEAR(Indice_massa_salarial[[#This Row],[Período]])","v":"102009"},112.723,82.430700000000002,115.3968,128.5985,101.1853,103.07470000000001,90.510599999999997,100.8419,112.2111,115.8768,176.49600000000001,130.714,102.9686]
["2009-11-01",{"$f":"MONTH(Indice_massa_salarial[[#This Row],[Período]])&YEAR(Indice_massa_salarial[[#This Row],[Período]])","v":"112009"},129.9126,122.39570000000001,130.5761,142.78639999999999,122.32769999999999,131.17609999999999,82.285899999999998,105.6087,125.7456,103.24890000000001,201.17400000000001,134.74799999999999,127.1562]
["2009-12-01",{"$f":"MONTH(Indice_massa_salarial[[#This Row],[Período]])&YEAR(Indice_massa_salarial[[#This Row],[Período]])","v":"122009"},173.82400000000001,182.73589999999999,173.03739999999999,161.44479999999999,169.01249999999999,146.6705,96.296400000000006,169.14949999999999,175.6542,143.3938,260.65390000000002,204.25450000000001,217.51740000000001]
["2010-01-01",{"$f":"MONTH(Indice_massa_salarial[[#This Row],[Período]])&YEAR(Indice_massa_salarial[[#This Row],[Período]])","v":"12010"},130.53579999999999,97.162400000000005,133.48150000000001,119.6703,109.62090000000001,105.5103,94.918499999999995,101.6789,126.2842,124.5626,262.51889999999997,140.77099999999999,156.52629999999999,133.3425,128.55760000000001,132.1413,135.30359999999999,154.809,205.05029999999999,136.58529999999999,169.8913,148.2406,130.965,129.4768,129.37639999999999,137.208,133.61410000000001,128.13829999999999,138.51169999999999,165.5761,213.44919999999999,140.21119999999999,190.89490000000001,137.0617,136.57679999999999,140.68469999999999,135.0496,139.29400000000001,133.78030000000001,133.6472,143.69970000000001,163.0735,198.6491,149.61240000000001,202.24260000000001,148.83690000000001,138.65350000000001,141.78440000000001,134.66319999999999,140.49959999999999,137.47479999999999,139.34039999999999,138.0317,167.83109999999999,189.56290000000001,145.2594,155.10249999999999,144.60409999999999,133.05410000000001,136.2337,129.5213,131.88030000000001,125.58629999999999,121.06019999999999,125.839,148.31379999999999,166.0471,122.19070000000001,129.44579999999999,127.0064,116.5532]
["2010-02-01",{"$f":"MONTH(Indice_massa_salarial[[#This Row],[Período]])&YEAR(Indice_massa_salarial[[#This Row],[Período]])","v":"22010"},144.73339999999999,363.0317,125.4653,112.7867,106.3922,104.3621,77.067300000000003,95.7059,115.44199999999999,121.92700000000001,205.89410000000001,135.23400000000001,132.19749999999999]
["2010-03-01",{"$f":"MONTH(Indice_massa_salarial[[#This Row],[Período]])&YEAR(Indice_massa_salarial[[#This Row],[Período]])","v":"32010"},120.67529999999999,100.09520000000001,122.49169999999999,122.77079999999999,101.6884,106.991,166.3082,78.845200000000006,138.37729999999999,86.467100000000002,291,167.43879999999999,109.63249999999999]
["2010-04-01",{"$f":"MONTH(Indice_massa_salarial[[#This Row],[Período]])&YEAR(Indice_massa_salarial[[#This Row],[Período]])","v":"42010"},114.28530000000001,100.4438,115.50700000000001,127.7752,100.2633,111.4123,81.686700000000002,91.637799999999999,115.9802,86.119900000000001,208.23740000000001,137.63890000000001,114.9552]
["2010-05-01",{"$f":"MONTH(Indice_massa_salarial[[#This Row],[Período]])&YEAR(Indice_massa_salarial[[#This Row],[Período]])","v":"52010"},119.04649999999999,101.9633,120.5544,133.08920000000001,99.433199999999999,106.11320000000001,74.835800000000006,83.156999999999996,130.7671,94.997299999999996,257.98079999999999,115.2783,108.30289999999999]
["2010-06-01",{"$f":"MONTH(Indice_massa_salarial[[#This Row],[Período]])&YEAR(Indice_massa_salarial[[#This Row],[Período]])","v":"62010"},118.8259,102.63630000000001,120.2548,136.7253,100.8511,112.19589999999999,74.371200000000002,87.824299999999994,115.4759,89.167199999999994,227.39189999999999,113.0822,116.3723]
["2010-07-01",{"$f":"MONTH(Indice_massa_salarial[[#This Row],[Período]])&YEAR(Indice_massa_salarial[[#This Row],[Período]])","v":"72010"},134.04730000000001,112.9996,135.9051,139.49270000000001,102.684,110.279,76.628299999999996,95.656000000000006,117.8163,108.23820000000001,236.44730000000001,122.30800000000001,165.27449999999999]
["2010-08-01",{"$f":"MONTH(Indice_massa_salarial[[#This Row],[Período]])&YEAR(Indice_massa_salarial[[#This Row],[Período]])","v":"82010"},121.723,106.663,123.0523,142.553,95.834999999999994,112.3887,74.895600000000002,99.181200000000004,118.005,89.329700000000003,236.11619999999999,126.3018,115.84099999999999]
["2010-09-01",{"$f":"MONTH(Indice_massa_salarial[[#This Row],[Período]])&YEAR(Indice_massa_salarial[[#This Row],[Período]])","v":"92010"},121.6669,105.104,123.1288,139.64070000000001,100.1442,113.1301,74.857799999999997,99.9773,123.85550000000001,90.270799999999994,251.03749999999999,139.14959999999999,111.6481]
["2010-10-01",{"$f":"MONTH(Indice_massa_salarial[[#This Row],[Período]])&YEAR(Indice_massa_salarial[[#This Row],[Período]])","v":"102010"},128.64150000000001,105.2405,130.70699999999999,141.8897,92.751999999999995,109.00709999999999,77.623999999999995,177.2859,119.7234,94.661100000000005,247.43700000000001,144.03700000000001,138.8074]
["2010-11-01",{"$f":"MONTH(Indice_massa_salarial[[#This Row],[Período]])&YEAR(Indice_massa_salarial[[#This Row],[Período]])","v":"112010"},148.31630000000001,146.87620000000001,148.4434,156.8587,129.91249999999999,135.9546,86.564300000000003,122.1472,139.87610000000001,121.4393,279.20999999999998,140.28899999999999,127.5142]
["2010-12-01",{"$f":"MONTH(Indice_massa_salarial[[#This Row],[Período]])&YEAR(Indice_massa_salarial[[#This Row],[Período]])","v":"122010"},188.57570000000001,203.4744,187.26060000000001,173.9898,141.12190000000001,164.4237,144.24270000000001,132.51240000000001,187.49359999999999,130.72370000000001,320.4092,223.45580000000001,253.69059999999999]
["2011-01-01",{"$f":"MONTH(Indice_massa_salarial[[#This Row],[Período]])&YEAR(Indice_massa_salarial[[#This Row],[Período]])","v":"12011"},139.249,118.0802,141.11750000000001,125.8098,105.3601,108.4466,84.215100000000007,120.9173,132.27590000000001,105.17919999999999,309.42619999999999,145.42529999999999,164.53890000000001]
["2011-02-01",{"$f":"MONTH(Indice_massa_salarial[[#This Row],[Período]])&YEAR(Indice_massa_salarial[[#This Row],[Período]])","v":"22011"},165.43709999999999,514.01160000000004,134.67019999999999,122.7325,107.0996,105.8412,197.47620000000001,97.905199999999994,135.136,120.2231,221.17490000000001,157.6061,119.35680000000001]
["2011-03-01",{"$f":"MONTH(Indice_massa_salarial[[#This Row],[Período]])&YEAR(Indice_massa_salarial[[#This Row],[Período]])","v":"32011"},131.43190000000001,124.7984,132.01740000000001,129.0394,96.890299999999996,109.1906,79.063100000000006,80.330100000000002,143.13890000000001,96.683599999999998,263.5412,173.39500000000001,127.08839999999999]
["2011-04-01",{"$f":"MONTH(Indice_massa_salarial[[#This Row],[Período]])&YEAR(Indice_massa_salarial[[#This Row],[Período]])","v":"42011"},123.66719999999999,110.8411,124.7993,129.06549999999999,95.928200000000004,120.2543,83.930800000000005,89.667699999999996,131.5359,91.795900000000003,247.0224,140.8297,114.9842]
["2011-05-01",{"$f":"MONTH(Indice_massa_salarial[[#This Row],[Período]])&YEAR(Indice_massa_salarial[[#This Row],[Período]])","v":"52011"},132.27950000000001,111.9499,134.07390000000001,135.22630000000001,98.216800000000006,110.7405,78.636700000000005,91.947999999999993,135.26310000000001,104.7764,252.84690000000001,136.9487,155.4075]
["2011-06-01",{"$f":"MONTH(Indice_massa_salarial[[#This Row],[Período]])&YEAR(Indice_massa_salarial[[#This Row],[Período]])","v":"62011"},134.24799999999999,110.9171,136.3073,139.63849999999999,95.375399999999999,119.00839999999999,79.096100000000007,94.275800000000004,136.917,93.0505,223.3922,138.5652,187.84450000000001]
["2011-07-01",{"$f":"MONTH(Indice_massa_salarial[[#This Row],[Período]])&YEAR(Indice_massa_salarial[[#This Row],[Período]])","v":"72011"},133.05680000000001,117.8635,134.39779999999999,141.94710000000001,92.766999999999996,118.5868,79.488600000000005,94.747299999999996,137.19720000000001,108.90519999999999,237.6575,137.9359,127.6096]
["2011-08-01",{"$f":"MONTH(Indice_massa_salarial[[#This Row],[Período]])&YEAR(Indice_massa_salarial[[#This Row],[Período]])","v":"82011"},128.33199999999999,118.2016,129.22620000000001,143.22569999999999,93.094399999999993,119.77630000000001,80.140199999999993,91.221400000000003,139.9359,95.575999999999993,213.0325,133.6011,147.876]
["2011-09-01",{"$f":"MONTH(Indice_massa_salarial[[#This Row],[Período]])&YEAR(Indice_massa_salarial[[#This Row],[Período]])","v":"92011"},131.8922,130.74639999999999,131.9933,149.49799999999999,93.747799999999998,111.31959999999999,78.341700000000003,125.2366,140.8801,94.851399999999998,206.3398,150.75970000000001,154.57230000000001]
["2011-10-01",{"$f":"MONTH(Indice_massa_salarial[[#This Row],[Período]])&YEAR(Indice_massa_salarial[[#This Row],[Período]])","v":"102011"},135.07939999999999,118.6127,136.53280000000001,151.2696,94.719399999999993,117.0106,77.783799999999999,165.9829,141.66569999999999,99.466099999999997,223.09129999999999,154.5068,154.40199999999999]
["2011-11-01",{"$f":"MONTH(Indice_massa_salarial[[#This Row],[Período]])&YEAR(Indice_massa_salarial[[#This Row],[Período]])","v":"112011"},154.5849,146.15360000000001,155.32910000000001,194.6319,164.49690000000001,138.4529,83.777500000000003,126.4076,158.49760000000001,129.4136,236.10310000000001,170.33869999999999,133.01089999999999]
["2011-12-01",{"$f":"MONTH(Indice_massa_salarial[[#This Row],[Período]])&YEAR(Indice_massa_salarial[[#This Row],[Período]])","v":"122011"},204.8039,238.20320000000001,201.85589999999999,178.40309999999999,185.76560000000001,170.9666,181.7621,146.61109999999999,209.7149,160.61930000000001,270.22340000000003,264.68830000000003,266.78829999999999]
["2012-01-01",{"$f":"MONTH(Indice_massa_salarial[[#This Row],[Período]])&YEAR(Indice_massa_salarial[[#This Row],[Período]])","v":"12012"},136.4811,131.4348,136.9265,148.934,98.510300000000001,111.1251,89.284700000000001,127.4482,167.09530000000001,111.88639999999999,245.32040000000001,176.15600000000001,120.7581]
["2012-02-01",{"$f":"MONTH(Indice_massa_salarial[[#This Row],[Período]])&YEAR(Indice_massa_salarial[[#This Row],[Período]])","v":"22012"},169.63040000000001,550.13160000000005,136.04560000000001,144.70419999999999,100.29989999999999,109.4234,78.905299999999997,118.051,143.5667,129.95429999999999,183.69720000000001,171.27260000000001,124.337]
["2012-03-01",{"$f":"MONTH(Indice_massa_salarial[[#This Row],[Período]])&YEAR(Indice_massa_salarial[[#This Row],[Período]])","v":"32012"},147.95429999999999,133.85650000000001,149.1986,175.21549999999999,98.651300000000006,113.8265,166.20339999999999,120.05029999999999,192.17830000000001,103.8246,224.63380000000001,241.14879999999999,137.7054]
["2012-04-01",{"$f":"MONTH(Indice_massa_salarial[[#This Row],[Período]])&YEAR(Indice_massa_salarial[[#This Row],[Período]])","v":"42012"},130.6532,120.81780000000001,131.5213,153.51429999999999,97.099199999999996,117.9766,82.726100000000002,118.40949999999999,143.46610000000001,101.38760000000001,187.1489,171.09020000000001,131.06960000000001]
["2012-05-01",{"$f":"MONTH(Indice_massa_salarial[[#This Row],[Período]])&YEAR(Indice_massa_salarial[[#This Row],[Período]])","v":"52012"},129.17429999999999,117.7552,130.18219999999999,158.81890000000001,99.076599999999999,114.593,81.186899999999994,120.79649999999999,144.0453,113.22199999999999,163.7893,168.66739999999999,122.9114]
["2012-06-01",{"$f":"MONTH(Indice_massa_salarial[[#This Row],[Período]])&YEAR(Indice_massa_salarial[[#This Row],[Período]])","v":"62012"},129.05179999999999,118.93600000000001,129.94470000000001,157.53819999999999,102.9332,119.41630000000001,83.613500000000002,119.6066,146.20230000000001,99.484999999999999,155.05449999999999,165.5224,135.89529999999999]
["2012-07-01",{"$f":"MONTH(Indice_massa_salarial[[#This Row],[Período]])&YEAR(Indice_massa_salarial[[#This Row],[Período]])","v":"72012"},136.79740000000001,128.72139999999999,137.5103,162.7938,104.0752,120.49420000000001,82.039400000000001,125.11879999999999,158.11930000000001,110.69199999999999,166.309,187.25069999999999,144.10169999999999]
["2012-08-01",{"$f":"MONTH(Indice_massa_salarial[[#This Row],[Período]])&YEAR(Indice_massa_salarial[[#This Row],[Período]])","v":"82012"},133.203,122.04949999999999,134.1874,160.0127,107.63209999999999,113.21420000000001,77.067700000000002,117.5093,132.1045,96.580600000000004,160.79519999999999,173.71350000000001,139.16679999999999]
["2012-09-01",{"$f":"MONTH(Indice_massa_salarial[[#This Row],[Período]])&YEAR(Indice_massa_salarial[[#This Row],[Período]])","v":"92012"},127.7145,115.8081,128.7655,148.71889999999999,102.2457,114.7136,78.116399999999999,134.09700000000001,140.96279999999999,93.506,153.6293,179.71090000000001,138.3192]
["2012-10-01",{"$f":"MONTH(Indice_massa_salarial[[#This Row],[Período]])&YEAR(Indice_massa_salarial[[#This Row],[Período]])","v":"102012"},138.06489999999999,114.5205,140.143,158.30969999999999,108.1901,114.2474,79.852699999999999,223.2748,143.63210000000001,98.613100000000003,168.5872,181.92140000000001,166.2055]
["2012-11-01",{"$f":"MONTH(Indice_massa_salarial[[#This Row],[Período]])&YEAR(Indice_massa_salarial[[#This Row],[Período]])","v":"112012"},165.2704,162.13,165.54759999999999,188.58539999999999,168.6592,134.46090000000001,84.476200000000006,138.99680000000001,162.86179999999999,138.5427,201.92359999999999,214.50319999999999,155.37799999999999]
["2012-12-01",{"$f":"MONTH(Indice_massa_salarial[[#This Row],[Período]])&YEAR(Indice_massa_salarial[[#This Row],[Período]])","v":"122012"},213.00880000000001,214.9436,212.8381,221.208,212.09520000000001,160.1052,124.33629999999999,134.35480000000001,211.32849999999999,157.01150000000001,275.09609999999998,296.51679999999999,263.15539999999999]
["2013-01-01",{"$f":"MONTH(Indice_massa_salarial[[#This Row],[Período]])&YEAR(Indice_massa_salarial[[#This Row],[Período]])","v":"12013"},139.95509999999999,123.7581,141.38470000000001,151.84039999999999,114.1292,112.9209,87.535499999999999,133.44040000000001,148.328,104.9509,177.12569999999999,205.56610000000001,152.93719999999999]
["2013-02-01",{"$f":"MONTH(Indice_massa_salarial[[#This Row],[Período]])&YEAR(Indice_massa_salarial[[#This Row],[Período]])","v":"22013"},190.51560000000001,615.00379999999996,153.04820000000001,147.2963,110.7414,111.5269,165.1258,83.499600000000001,156.1472,123.1747,159.97329999999999,214.77959999999999,156.7689]
["2013-03-01",{"$f":"MONTH(Indice_massa_salarial[[#This Row],[Período]])&YEAR(Indice_massa_salarial[[#This Row],[Período]])","v":"32013"},136.66579999999999,121.7927,137.9786,162.1541,107.08,113.7889,79.193799999999996,108.8155,160.5966,90.271799999999999,163.1533,223.22989999999999,148.251]
["2013-04-01",{"$f":"MONTH(Indice_massa_salarial[[#This Row],[Período]])&YEAR(Indice_massa_salarial[[#This Row],[Período]])","v":"42013"},136.1841,118.9611,137.70429999999999,151.8202,109.7625,114.7722,83.9315,116.2881,173.03569999999999,88.129400000000004,161.66,186.52529999999999,159.1823]
["2013-05-01",{"$f":"MONTH(Indice_massa_salarial[[#This Row],[Período]])&YEAR(Indice_massa_salarial[[#This Row],[Período]])","v":"52013"},140.29920000000001,119.74120000000001,142.11369999999999,169.25819999999999,111.1015,123.6371,80.664900000000003,116.511,163.0376,116.82210000000001,153.72710000000001,187.67189999999999,153.76439999999999]
["2013-06-01",{"$f":"MONTH(Indice_massa_salarial[[#This Row],[Período]])&YEAR(Indice_massa_salarial[[#This Row],[Período]])","v":"62013"},134.65309999999999,119.3866,136.00059999999999,159.3296,118.449,125.1559,79.4666,116.60939999999999,153.7225,88.101600000000005,171.07480000000001,184.5778,141.6611]
["2013-07-01",{"$f":"MONTH(Indice_massa_salarial[[#This Row],[Período]])&YEAR(Indice_massa_salarial[[#This Row],[Período]])","v":"72013"},138.91749999999999,123.053,140.31780000000001,167.34729999999999,116.8715,125.89319999999999,79.324700000000007,121.0766,171.3219,99.235699999999994,159.37360000000001,206.19390000000001,130.27940000000001]
["2013-08-01",{"$f":"MONTH(Indice_massa_salarial[[#This Row],[Período]])&YEAR(Indice_massa_salarial[[#This Row],[Período]])","v":"82013"},133.3955,124.64019999999999,134.16829999999999,146.74799999999999,122.6588,121.5659,76.546899999999994,119.4695,164.69890000000001,88.866500000000002,158.8005,187.13460000000001,141.19030000000001]
["2013-09-01",{"$f":"MONTH(Indice_massa_salarial[[#This Row],[Período]])&YEAR(Indice_massa_salarial[[#This Row],[Período]])","v":"92013"},133.2681,115.7239,134.81659999999999,158.84780000000001,119.0823,123.9823,79.361099999999993,141.09299999999999,167.82409999999999,89.543300000000002,153.81790000000001,198.35409999999999,139.43010000000001]
["2013-10-01",{"$f":"MONTH(Indice_massa_salarial[[#This Row],[Período]])&YEAR(Indice_massa_salarial[[#This Row],[Período]])","v":"102013"},143.3039,121.46680000000001,145.2313,162.77780000000001,124.21980000000001,127.09480000000001,80.918899999999994,213.35990000000001,177.8912,97.2226,176.43719999999999,202.9145,149.02180000000001]
["2013-11-01",{"$f":"MONTH(Indice_massa_salarial[[#This Row],[Período]])&YEAR(Indice_massa_salarial[[#This Row],[Período]])","v":"112013"},162.6172,163.35990000000001,162.55170000000001,188.93940000000001,200.36170000000001,146.1105,81.740799999999993,146.756,178.35720000000001,147.39179999999999,155.81620000000001,219.48150000000001,129.12110000000001]
["2013-12-01",{"$f":"MONTH(Indice_massa_salarial[[#This Row],[Período]])&YEAR(Indice_massa_salarial[[#This Row],[Período]])","v":"122013"},198.18199999999999,215.42080000000001,196.66040000000001,212.1962,222.6962,178.6148,142.7602,147.09889999999999,250.9786,171.86529999999999,214.91980000000001,317.99239999999998,157.94390000000001]
["2014-01-01",{"$f":"MONTH(Indice_massa_salarial[[#This Row],[Período]])&YEAR(Indice_massa_salarial[[#This Row],[Período]])","v":"12014"},149.27709999999999,126.72920000000001,151.26730000000001,162.90450000000001,118.1112,120.5968,133.12049999999999,90.734399999999994,232.0625,108.8284,183.631,209.24690000000001,149.13820000000001]
["2014-02-01",{"$f":"MONTH(Indice_massa_salarial[[#This Row],[Período]])&YEAR(Indice_massa_salarial[[#This Row],[Período]])","v":"22014"},201.9059,678.48479999999995,159.8407,154.03280000000001,120.8789,120.06950000000001,79.2911,108.9422,212.83240000000001,144.96789999999999,152.2859,213.55009999999999,142.7621]
["2014-03-01",{"$f":"MONTH(Indice_massa_salarial[[#This Row],[Período]])&YEAR(Indice_massa_salarial[[#This Row],[Período]])","v":"32014"},148.46549999999999,123.432,150.67500000000001,167.66370000000001,115.616,121.6534,174.22710000000001,102.0318,210.2809,98.491100000000003,154.23759999999999,205.3759,158.11320000000001]
["2014-04-01",{"$f":"MONTH(Indice_massa_salarial[[#This Row],[Período]])&YEAR(Indice_massa_salarial[[#This Row],[Período]])","v":"42014"},138.3151,121.45959999999999,139.80289999999999,155.16319999999999,120.4468,123.753,79.148799999999994,111.2029,209.9418,92.361699999999999,146.6516,199.3759,140.80629999999999]
["2014-05-01",{"$f":"MONTH(Indice_massa_salarial[[#This Row],[Período]])&YEAR(Indice_massa_salarial[[#This Row],[Período]])","v":"52014"},141.4725,118.61360000000001,143.49010000000001,156.2783,110.49679999999999,129.55179999999999,81.4726,110.4173,212.10650000000001,132.37700000000001,208.26669999999999,184.0941,101.9457]
["2014-06-01",{"$f":"MONTH(Indice_massa_salarial[[#This Row],[Período]])&YEAR(Indice_massa_salarial[[#This Row],[Período]])","v":"62014"},134.36680000000001,117.2397,135.8785,149.82650000000001,111.12309999999999,131.08690000000001,78.091700000000003,105.6604,197.60310000000001,92.787599999999998,160.60669999999999,180.3946,121.32559999999999]
["2014-07-01",{"$f":"MONTH(Indice_massa_salarial[[#This Row],[Período]])&YEAR(Indice_massa_salarial[[#This Row],[Período]])","v":"72014"},140.2046,124.8548,141.55940000000001,156.2978,113.5617,129.7801,80.375900000000001,104.2649,207.83420000000001,107.3078,162.48820000000001,189.40780000000001,131.03659999999999]
["2014-08-01",{"$f":"MONTH(Indice_massa_salarial[[#This Row],[Período]])&YEAR(Indice_massa_salarial[[#This Row],[Período]])","v":"82014"},137.1001,123.4263,138.30699999999999,166.67840000000001,119.42359999999999,132.54519999999999,84.9452,128.50899999999999,195.62620000000001,91.411500000000004,161.714,185.9512,122.0523]
["2014-09-01",{"$f":"MONTH(Indice_massa_salarial[[#This Row],[Período]])&YEAR(Indice_massa_salarial[[#This Row],[Período]])","v":"92014"},138.96960000000001,123.08029999999999,140.37200000000001,157.21700000000001,129.81569999999999,133.87809999999999,78.9923,125.361,195.92240000000001,88.524000000000001,168.61969999999999,188.38640000000001,128.64490000000001]
["2014-10-01",{"$f":"MONTH(Indice_massa_salarial[[#This Row],[Período]])&YEAR(Indice_massa_salarial[[#This Row],[Período]])","v":"102014"},137.6601,122.0261,139.04,155.55670000000001,117.0224,129.5729,79.704300000000003,122.7889,206.99700000000001,87.494699999999995,167.5325,188.04640000000001,137.2313]
["2014-11-01",{"$f":"MONTH(Indice_massa_salarial[[#This Row],[Período]])&YEAR(Indice_massa_salarial[[#This Row],[Período]])","v":"112014"},167.40299999999999,145.99299999999999,169.2927,180.77529999999999,207.3271,150.4502,86.426000000000002,113.7298,215.88159999999999,154.63319999999999,175.18369999999999,222.06460000000001,135.03]
["2014-12-01",{"$f":"MONTH(Indice_massa_salarial[[#This Row],[Período]])&YEAR(Indice_massa_salarial[[#This Row],[Período]])","v":"122014"},189.1233,148.59440000000001,192.70060000000001,208.8998,213.54810000000001,192.47739999999999,140.45179999999999,220.2319,254.58840000000001,165.7569,222.39109999999999,306.79939999999999,109.0472]
["2015-01-01",{"$f":"MONTH(Indice_massa_salarial[[#This Row],[Período]])&YEAR(Indice_massa_salarial[[#This Row],[Período]])","v":"12015"},144.84370000000001,130.3535,146.12260000000001,159.94239999999999,116.5759,120.6589,138.07859999999999,113.06570000000001,217.0847,110.3603,177.49780000000001,220.91810000000001,127.7199]
["2015-02-01",{"$f":"MONTH(Indice_massa_salarial[[#This Row],[Período]])&YEAR(Indice_massa_salarial[[#This Row],[Período]])","v":"22015"},154.69329999999999,212.68629999999999,149.5746,148.60079999999999,113.07089999999999,121.7479,75.3001,105.5817,185.1463,130.0437,157.464,232.71639999999999,127.9603]
["2015-03-01",{"$f":"MONTH(Indice_massa_salarial[[#This Row],[Período]])&YEAR(Indice_massa_salarial[[#This Row],[Período]])","v":"32015"},144.21700000000001,126.0167,145.8235,178.51159999999999,105.4546,121.82210000000001,132.39009999999999,106.45610000000001,206.19569999999999,121.9036,171.50069999999999,199.26230000000001,116.6893]
["2015-04-01",{"$f":"MONTH(Indice_massa_salarial[[#This Row],[Período]])&YEAR(Indice_massa_salarial[[#This Row],[Período]])","v":"42015"},132.67429999999999,118.3374,133.93969999999999,156.41050000000001,104.1478,120.35720000000001,87.267700000000005,104.81740000000001,221.8509,91.865600000000001,155.36420000000001,196.39019999999999,106.23350000000001]
["2015-05-01",{"$f":"MONTH(Indice_massa_salarial[[#This Row],[Período]])&YEAR(Indice_massa_salarial[[#This Row],[Período]])","v":"52015"},135.87309999999999,114.5669,137.75370000000001,157.23840000000001,111.3574,128.2885,77.604699999999994,105.8438,202.01439999999999,107.00749999999999,211.1532,184.81229999999999,103.196]
["2015-06-01",{"$f":"MONTH(Indice_massa_salarial[[#This Row],[Período]])&YEAR(Indice_massa_salarial[[#This Row],[Período]])","v":"62015"},129.1609,115.8612,130.3348,153.9639,118.6999,125.8961,75.320800000000006,106.2133,190.93459999999999,87.977699999999999,158.88050000000001,168.1986,109.3206]
["2015-07-01",{"$f":"MONTH(Indice_massa_salarial[[#This Row],[Período]])&YEAR(Indice_massa_salarial[[#This Row],[Período]])","v":"72015"},131.52379999999999,122.6251,132.3092,153.97319999999999,108.0954,120.4076,74.614199999999997,98.783699999999996,205.62260000000001,105.4114,144.60830000000001,179.64500000000001,98.633499999999998]
["2015-08-01",{"$f":"MONTH(Indice_massa_salarial[[#This Row],[Período]])&YEAR(Indice_massa_salarial[[#This Row],[Período]])","v":"82015"},125.22150000000001,119.8633,125.6944,152.77420000000001,108.33620000000001,116.5128,73.357200000000006,102.9139,190.4555,84.603300000000004,139.70930000000001,174.3133,106.8501]
["2015-09-01",{"$f":"MONTH(Indice_massa_salarial[[#This Row],[Período]])&YEAR(Indice_massa_salarial[[#This Row],[Período]])","v":"92015"},120.7102,113.4062,121.3549,150.71619999999999,112.8548,112.3094,75.19,98.375,187.35290000000001,81.4298,134.3725,161.78149999999999,98.385599999999997]
["2015-10-01",{"$f":"MONTH(Indice_massa_salarial[[#This Row],[Período]])&YEAR(Indice_massa_salarial[[#This Row],[Período]])","v":"102015"},125.506,111.3022,126.75960000000001,147.56780000000001,113.8437,107.1816,74.842699999999994,99.906400000000005,190.29810000000001,81.780799999999999,157.6311,173.41659999999999,120.12439999999999]
["2015-11-01",{"$f":"MONTH(Indice_massa_salarial[[#This Row],[Período]])&YEAR(Indice_massa_salarial[[#This Row],[Período]])","v":"112015"},147.90049999999999,126.15689999999999,149.81970000000001,175.38589999999999,190.9058,126.8981,82.437200000000004,98.249300000000005,200.5872,132.9145,138,188.42410000000001,118.72669999999999]
["2015-12-01",{"$f":"MONTH(Indice_massa_salarial[[#This Row],[Período]])&YEAR(Indice_massa_salarial[[#This Row],[Período]])","v":"122015"},166.0471,120.2426,170.13339999999999,208.5153,192.2636,148.6079,131.5909,100.0834,246.67420000000001,147.7724,161.14570000000001,205.3125,107.95610000000001]
["2016-01-01",{"$f":"MONTH(Indice_massa_salarial[[#This Row],[Período]])&YEAR(Indice_massa_salarial[[#This Row],[Período]])","v":"12016"},122.48480000000001,116.3762,123.02979999999999,158.44309999999999,104.1765,100.7642,133.76300000000001,101.2517,117.3741,99.324100000000001,104.3554,184.13720000000001,104.52460000000001]
["2016-02-01",{"$f":"MONTH(Indice_massa_salarial[[#This Row],[Período]])&YEAR(Indice_massa_salarial[[#This Row],[Período]])","v":"22016"},129.87860000000001,170.14449999999999,126.2865,149.09559999999999,104.087,96.913899999999998,81.856899999999996,97.538799999999995,118.35,130.47110000000001,95.902699999999996,185.57689999999999,100.33750000000001]
["2016-03-01",{"$f":"MONTH(Indice_massa_salarial[[#This Row],[Período]])&YEAR(Indice_massa_salarial[[#This Row],[Período]])","v":"32016"},127.149,107.0617,128.941,176.2159,102.22369999999999,96.852800000000002,132.49850000000001,97.414400000000001,120.57299999999999,97.963300000000004,98.567700000000002,161.03370000000001,118.40600000000001]
["2016-04-01",{"$f":"MONTH(Indice_massa_salarial[[#This Row],[Período]])&YEAR(Indice_massa_salarial[[#This Row],[Período]])","v":"42016"},117.0633,116.1039,117.1489,152.2225,97.920299999999997,97.138900000000007,78.533299999999997,93.8065,119.54089999999999,83.529600000000002,100.27670000000001,157.66919999999999,108.4409]
["2016-05-01",{"$f":"MONTH(Indice_massa_salarial[[#This Row],[Período]])&YEAR(Indice_massa_salarial[[#This Row],[Período]])","v":"52016"},117.5471,108.4881,118.3553,153.05590000000001,95.928899999999999,104.46720000000001,76.423100000000005,95.376099999999994,114.55840000000001,81.122,100.2415,155.93379999999999,109.3856]
["2016-06-01",{"$f":"MONTH(Indice_massa_salarial[[#This Row],[Período]])&YEAR(Indice_massa_salarial[[#This Row],[Período]])","v":"62016"},116.6516,104.88720000000001,117.7011,146.14859999999999,100.4409,103.49460000000001,73.100800000000007,104.5492,111.1113,82.585499999999996,93.361199999999997,160.71199999999999,109.75190000000001]
["2016-07-01",{"$f":"MONTH(Indice_massa_salarial[[#This Row],[Período]])&YEAR(Indice_massa_salarial[[#This Row],[Período]])","v":"72016"},120.07980000000001,120.45820000000001,120.04600000000001,149.02709999999999,105.48220000000001,104.7145,78.386899999999997,124.86669999999999,122.6692,86.031199999999998,82.338399999999993,161.56559999999999,107.3451]
["2016-08-01",{"$f":"MONTH(Indice_massa_salarial[[#This Row],[Período]])&YEAR(Indice_massa_salarial[[#This Row],[Período]])","v":"82016"},116.16759999999999,106.0624,117.06910000000001,147.76900000000001,101.75360000000001,105.1985,79.304900000000004,112.8912,118.2002,82.2059,81.515000000000001,159.64830000000001,112.6486]
["2016-09-01",{"$f":"MONTH(Indice_massa_salarial[[#This Row],[Período]])&YEAR(Indice_massa_salarial[[#This Row],[Período]])","v":"92016"},114.6245,100.73350000000001,115.8638,145.0574,105.0146,106.6635,77.954999999999998,99.392899999999997,123.9003,77.149000000000001,81.2988,160.9967,107.1285]
["2016-10-01",{"$f":"MONTH(Indice_massa_salarial[[#This Row],[Período]])&YEAR(Indice_massa_salarial[[#This Row],[Período]])","v":"102016"},115.8753,99.480199999999996,117.3379,141.9246,97.680199999999999,104.0638,73.529200000000003,97.927000000000007,118.5996,79.894900000000007,88.563199999999995,167.20679999999999,116.9652]
["2016-11-01",{"$f":"MONTH(Indice_massa_salarial[[#This Row],[Período]])&YEAR(Indice_massa_salarial[[#This Row],[Período]])","v":"112016"},134.8305,117.5279,136.374,182.01390000000001,185.3201,121.8116,94.213499999999996,95.201700000000002,125.6936,98.720699999999994,84.746799999999993,180.28290000000001,114.92]
["2016-12-01",{"$f":"MONTH(Indice_massa_salarial[[#This Row],[Período]])&YEAR(Indice_massa_salarial[[#This Row],[Período]])","v":"122016"},166.11420000000001,151.66540000000001,167.4032,216.50309999999999,197.74629999999999,156.73330000000001,146.26599999999999,186.76339999999999,161.5668,153.3837,114.11020000000001,238.7081,89.100099999999998]
["2017-01-01",{"$f":"MONTH(Indice_massa_salarial[[#This Row],[Período]])&YEAR(Indice_massa_salarial[[#This Row],[Período]])","v":"12017"},122.0949,129.97290000000001,121.3921,145.7346,102.56480000000001,101.2864,113.852,98.977099999999993,115.7453,102.4422,80.757800000000003,172.63900000000001,106.37649999999999]
["2017-02-01",{"$f":"MONTH(Indice_massa_salarial[[#This Row],[Período]])&YEAR(Indice_massa_salarial[[#This Row],[Período]])","v":"22017"},128.32380000000001,183.4453,123.4064,140.77430000000001,107.739,99.153400000000005,84.295100000000005,133.97919999999999,113.7654,103.49890000000001,69.988900000000001,169.45650000000001,106.33580000000001]
["2017-03-01",{"$f":"MONTH(Indice_massa_salarial[[#This Row],[Período]])&YEAR(Indice_massa_salarial[[#This Row],[Período]])","v":"32017"},124.7076,122.9786,124.8618,162.75030000000001,102.9666,101.3026,202.7287,90.161500000000004,116.3745,92.111800000000002,76.723600000000005,170.8741,108.8272]
["2017-04-01",{"$f":"MONTH(Indice_massa_salarial[[#This Row],[Período]])&YEAR(Indice_massa_salarial[[#This Row],[Período]])","v":"42017"},121.4879,114.8502,122.0801,154.5334,102.7885,100.0879,85.312600000000003,90.244100000000003,120.50579999999999,92.555400000000006,76.2453,161.2499,105.5127]
["2017-05-01",{"$f":"MONTH(Indice_massa_salarial[[#This Row],[Período]])&YEAR(Indice_massa_salarial[[#This Row],[Período]])","v":"52017"},118.7771,113.6121,119.2379,153.46979999999999,101.78270000000001,106.6074,84.556899999999999,91.121499999999997,120.20229999999999,95.670100000000005,62.188800000000001,154.37,107.197]
["2017-06-01",{"$f":"MONTH(Indice_massa_salarial[[#This Row],[Período]])&YEAR(Indice_massa_salarial[[#This Row],[Período]])","v":"62017"},116.724,117.2838,116.6741,161.3477,106.8496,112.9795,88.187600000000003,85.449299999999994,121.43640000000001,83.633799999999994,67.301500000000004,154.01480000000001,104.0701]
["2017-07-01",{"$f":"MONTH(Indice_massa_salarial[[#This Row],[Período]])&YEAR(Indice_massa_salarial[[#This Row],[Período]])","v":"72017"},118.3685,101.9183,119.836,151.7499,108.8549,109.2209,86.603899999999996,83.583699999999993,121.6597,92.477199999999996,77.723799999999997,170.67019999999999,102.0915]
["2017-08-01",{"$f":"MONTH(Indice_massa_salarial[[#This Row],[Período]])&YEAR(Indice_massa_salarial[[#This Row],[Período]])","v":"82017"},118.2182,108.1277,119.11839999999999,149.45500000000001,113.0275,103.41500000000001,85.849299999999999,120.22450000000001,122.7075,86.993099999999998,66.47,152.87649999999999,104.9538]
["2017-09-01",{"$f":"MONTH(Indice_massa_salarial[[#This Row],[Período]])&YEAR(Indice_massa_salarial[[#This Row],[Período]])","v":"92017"},115.55249999999999,98.106300000000005,117.1159,157.09229999999999,115.4568,106.98950000000001,85.236000000000004,96.086600000000004,118.70869999999999,82.895799999999994,68.896299999999997,157.34350000000001,101.9144]
["2017-10-01",{"$f":"MONTH(Indice_massa_salarial[[#This Row],[Período]])&YEAR(Indice_massa_salarial[[#This Row],[Período]])","v":"102017"},116.217,104.2088,117.2931,149.05359999999999,117.48309999999999,104.0403,124.9492,103.66800000000001,126.9984,82.4863,71.707899999999995,158.81280000000001,104.4034]
["2017-11-01",{"$f":"MONTH(Indice_massa_salarial[[#This Row],[Período]])&YEAR(Indice_massa_salarial[[#This Row],[Período]])","v":"112017"},136.5223,115.02549999999999,138.4487,188.01079999999999,189.6258,123.44589999999999,104.17570000000001,111.8687,141.81630000000001,102.37860000000001,74.085800000000006,167.5823,106.0581]
["2017-12-01",{"$f":"MONTH(Indice_massa_salarial[[#This Row],[Período]])&YEAR(Indice_massa_salarial[[#This Row],[Período]])","v":"122017"},170.0907,195.374,167.82499999999999,218.68360000000001,198.376,160.9451,148.24180000000001,181.7732,177.82640000000001,133.12,107.27670000000001,243.93459999999999,117.9465]
["2018-01-01",{"$f":"MONTH(Indice_massa_salarial[[#This Row],[Período]])&YEAR(Indice_massa_salarial[[#This Row],[Período]])","v":"12018"},125.3349,111.5299,126.572,159.6001,110.6405,102.58620000000001,103.4686,101.43,114.24760000000001,119.80540000000001,97.610500000000002,163.93299999999999,99.453599999999994]
["2018-02-01",{"$f":"MONTH(Indice_massa_salarial[[#This Row],[Período]])&YEAR(Indice_massa_salarial[[#This Row],[Período]])","v":"22018"},127.6841,207.11179999999999,120.5663,144.2492,102.9469,99.174400000000006,89.133799999999994,85.873000000000005,107.8352,91.677700000000002,71.5702,177.9684,98.468800000000002]
["2018-03-01",{"$f":"MONTH(Indice_massa_salarial[[#This Row],[Período]])&YEAR(Indice_massa_salarial[[#This Row],[Período]])","v":"32018"},122.8201,112.35120000000001,123.75830000000001,162.77180000000001,104.3218,101.14870000000001,188.2996,90.718100000000007,114.82250000000001,101.9289,80.010900000000007,192.36709999999999,104.1889]
["2018-04-01",{"$f":"MONTH(Indice_massa_salarial[[#This Row],[Período]])&YEAR(Indice_massa_salarial[[#This Row],[Período]])","v":"42018"},118.7653,119.9987,118.65479999999999,149.71610000000001,107.24209999999999,99.414299999999997,94.051699999999997,86.885000000000005,115.86,85.407499999999999,89.219700000000003,150.55709999999999,103.24890000000001]
["2018-05-01",{"$f":"MONTH(Indice_massa_salarial[[#This Row],[Período]])&YEAR(Indice_massa_salarial[[#This Row],[Período]])","v":"52018"},121.6253,110.1378,122.65470000000001,147.96770000000001,110.1825,105.4927,94.542299999999997,87.437799999999996,120.1052,112.3142,98.214500000000001,154.40950000000001,102.8212]
["2018-06-01",{"$f":"MONTH(Indice_massa_salarial[[#This Row],[Período]])&YEAR(Indice_massa_salarial[[#This Row],[Período]])","v":"62018"},113.59869999999999,106.54559999999999,114.2307,149.81190000000001,97.155199999999994,104.9178,84.357399999999998,90.237200000000001,113.92359999999999,78.89,105.289,145.30709999999999,96.980800000000002]
["2018-07-01",{"$f":"MONTH(Indice_massa_salarial[[#This Row],[Período]])&YEAR(Indice_massa_salarial[[#This Row],[Período]])","v":"72018"},118.24420000000001,105.8357,119.3561,153.50200000000001,106.75539999999999,106.2075,86.091499999999996,93.472800000000007,117.1429,89.548199999999994,111.669,159.4761,97.641499999999994]
["2018-08-01",{"$f":"MONTH(Indice_massa_salarial[[#This Row],[Período]])&YEAR(Indice_massa_salarial[[#This Row],[Período]])","v":"82018"},114.974,111.0552,115.3252,144.88329999999999,106.2304,104.19159999999999,85.492699999999999,85.664699999999996,113.0475,85.867999999999995,103.3535,151.35159999999999,98.221800000000002]
["2018-09-01",{"$f":"MONTH(Indice_massa_salarial[[#This Row],[Período]])&YEAR(Indice_massa_salarial[[#This Row],[Período]])","v":"92018"},110.4376,106.9996,110.7457,145.85740000000001,110.1664,106.4756,89.168899999999994,88.850399999999993,111.5421,79.025099999999995,79.176900000000003,152.10290000000001,89.146799999999999]
["2018-10-01",{"$f":"MONTH(Indice_massa_salarial[[#This Row],[Período]])&YEAR(Indice_massa_salarial[[#This Row],[Período]])","v":"102018"},115.245,113.3451,115.4152,146.4683,112.2407,100.34699999999999,129.66220000000001,92.091499999999996,116.22669999999999,81.077399999999997,85.607900000000001,160.38900000000001,102.4846]
["2018-11-01",{"$f":"MONTH(Indice_massa_salarial[[#This Row],[Período]])&YEAR(Indice_massa_salarial[[#This Row],[Período]])","v":"112018"},132.40389999999999,118.7521,133.62729999999999,169.44550000000001,197.13759999999999,119.4477,94.837599999999995,84.230900000000005,125.4542,104.2135,98.468699999999998,181.73670000000001,103.25239999999999]
["2018-12-01",{"$f":"MONTH(Indice_massa_salarial[[#This Row],[Período]])&YEAR(Indice_massa_salarial[[#This Row],[Período]])","v":"122018"},176.33439999999999,205.8603,173.6884,207.24080000000001,203.1259,155.8793,155.14760000000001,186.79939999999999,145.80279999999999,143.6311,137.9999,242.89660000000001,97.723200000000006]
["2019-01-01",{"$f":"MONTH(Indice_massa_salarial[[#This Row],[Período]])&YEAR(Indice_massa_salarial[[#This Row],[Período]])","v":"12019"},124.6033,118.1189,125.1844,153.78800000000001,110.2256,100.34220000000001,94.015699999999995,93.107200000000006,107.44029999999999,105.7456,122.2229,178.67160000000001,97.674999999999997]
["2019-02-01",{"$f":"MONTH(Indice_massa_salarial[[#This Row],[Período]])&YEAR(Indice_massa_salarial[[#This Row],[Período]])","v":"22019"},122.59229999999999,176.11340000000001,117.7961,141.18729999999999,105.4419,95.823099999999997,85.191100000000006,90.069000000000003,98.622299999999996,92.946600000000004,89.763400000000004,177.02099999999999,96.299000000000007]
["2019-03-01",{"$f":"MONTH(Indice_massa_salarial[[#This Row],[Período]])&YEAR(Indice_massa_salarial[[#This Row],[Período]])","v":"32019"},120.2479,111.8712,120.99850000000001,151.97730000000001,105.34010000000001,97.149000000000001,197.2328,92.426000000000002,99.168199999999999,106.56010000000001,88.895099999999999,172.4091,97.260099999999994]
["2019-04-01",{"$f":"MONTH(Indice_massa_salarial[[#This Row],[Período]])&YEAR(Indice_massa_salarial[[#This Row],[Período]])","v":"42019"},115.07769999999999,110.5607,115.4824,149.14019999999999,105.5091,97.278800000000004,90.041899999999998,95.440299999999993,115.47929999999999,83.756900000000002,91.3566,145.35409999999999,94.637699999999995]
["2019-05-01",{"$f":"MONTH(Indice_massa_salarial[[#This Row],[Período]])&YEAR(Indice_massa_salarial[[#This Row],[Período]])","v":"52019"},122.2413,117.0669,122.705,150.42850000000001,110.5656,101.60890000000001,84.250200000000007,92.598200000000006,119.12609999999999,115.1337,98.391499999999994,146.56010000000001,94.935100000000006]
["2019-06-01",{"$f":"MONTH(Indice_massa_salarial[[#This Row],[Período]])&YEAR(Indice_massa_salarial[[#This Row],[Período]])","v":"62019"},117.7565,115.37569999999999,117.96980000000001,148.9957,108.41459999999999,104.9769,93.579300000000003,93.069500000000005,117.8028,86.204800000000006,107.98480000000001,148.49959999999999,95.972800000000007]
["2019-07-01",{"$f":"MONTH(Indice_massa_salarial[[#This Row],[Período]])&YEAR(Indice_massa_salarial[[#This Row],[Período]])","v":"72019"},119.5303,117.10680000000001,119.7475,146.71799999999999,112.56910000000001,102.25060000000001,88.525400000000005,90.042000000000002,117.2426,94.224500000000006,115.9529,181.43279999999999,95.313199999999995]
["2019-08-01",{"$f":"MONTH(Indice_massa_salarial[[#This Row],[Período]])&YEAR(Indice_massa_salarial[[#This Row],[Período]])","v":"82019"},117.2914,117.4635,117.276,147.66820000000001,111.3531,96.647400000000005,81.198599999999999,93.754900000000006,111.87479999999999,80.795299999999997,126.2111,168.78450000000001,94.936499999999995]
["2019-09-01",{"$f":"MONTH(Indice_massa_salarial[[#This Row],[Período]])&YEAR(Indice_massa_salarial[[#This Row],[Período]])","v":"92019"},116.5673,119.68429999999999,116.28789999999999,146.3947,110.2285,98.151600000000002,80.344499999999996,94.239500000000007,106.655,80.378399999999999,124.687,163.4314,94.724000000000004]
["2019-10-01",{"$f":"MONTH(Indice_massa_salarial[[#This Row],[Período]])&YEAR(Indice_massa_salarial[[#This Row],[Período]])","v":"102019"},119.0082,120.3184,118.8907,145.74080000000001,110.831,93.861800000000002,88.726100000000002,101.3826,113.5033,81.460999999999999,145.6207,158.55189999999999,97.145799999999994]
["2019-11-01",{"$f":"MONTH(Indice_massa_salarial[[#This Row],[Período]])&YEAR(Indice_massa_salarial[[#This Row],[Período]])","v":"112019"},140.2011,129.2621,141.1814,172.74799999999999,194.74850000000001,114.75579999999999,122.6332,120.8717,113.2683,103.2668,169.87620000000001,165.1292,97.058700000000002]
["2019-12-01",{"$f":"MONTH(Indice_massa_salarial[[#This Row],[Período]])&YEAR(Indice_massa_salarial[[#This Row],[Período]])","v":"122019"},180.02809999999999,210.5087,177.29660000000001,212.34889999999999,196.22970000000001,126.1266,150.7764,193.56489999999999,128.08799999999999,142.18459999999999,219.4495,204.61709999999999,113.88500000000001]
["2020-01-01",{"$f":"MONTH(Indice_massa_salarial[[#This Row],[Período]])&YEAR(Indice_massa_salarial[[#This Row],[Período]])","v":"12020"},128.50399999999999,121.9238,129.09370000000001,148.57079999999999,109.4181,86.885999999999996,103.5377,89.663300000000007,102.4115,113.0608,172.15870000000001,157.6499,102.01220000000001]
["2020-02-01",{"$f":"MONTH(Indice_massa_salarial[[#This Row],[Período]])&YEAR(Indice_massa_salarial[[#This Row],[Período]])","v":"22020"},125.2557,180.982,120.26179999999999,148.76660000000001,106.3591,89.643299999999996,84.6494,84.587599999999995,100.9935,94.277299999999997,160.31120000000001,146.8656,95.762200000000007]
["2020-03-01",{"$f":"MONTH(Indice_massa_salarial[[#This Row],[Período]])&YEAR(Indice_massa_salarial[[#This Row],[Período]])","v":"32020"},126.1182,135.2698,125.29810000000001,154.04839999999999,107.80710000000001,92.368899999999996,210.5889,115.93259999999999,110.3968,89.578199999999995,175.35400000000001,156.40770000000001,99.963499999999996]
["2020-04-01",{"$f":"MONTH(Indice_massa_salarial[[#This Row],[Período]])&YEAR(Indice_massa_salarial[[#This Row],[Período]])","v":"42020"},120.2839,118.4757,120.446,150.02500000000001,105.9251,70.957999999999998,90.216899999999995,71.917599999999993,94.864199999999997,127.1264,147.70419999999999,147.9796,93.869100000000003]
["2020-05-01",{"$f":"MONTH(Indice_massa_salarial[[#This Row],[Período]])&YEAR(Indice_massa_salarial[[#This Row],[Período]])","v":"52020"},104.9593,119.69289999999999,103.639,147.57259999999999,100.7119,70.351600000000005,84.079099999999997,66.072999999999993,87.680499999999995,73.1387,148.21369999999999,130.77520000000001,88.172200000000004]
["2020-06-01",{"$f":"MONTH(Indice_massa_salarial[[#This Row],[Período]])&YEAR(Indice_massa_salarial[[#This Row],[Período]])","v":"62020"},109.411,127.7719,107.76560000000001,157.26400000000001,105.1378,73.147900000000007,82.018299999999996,74.103700000000003,97.118700000000004,70.662800000000004,145.50309999999999,130.3417,86.331299999999999]
["2020-07-01",{"$f":"MONTH(Indice_massa_salarial[[#This Row],[Período]])&YEAR(Indice_massa_salarial[[#This Row],[Período]])","v":"72020"},112.5204,128.17590000000001,111.1174,142.892,107.55710000000001,85.106300000000005,82.767799999999994,80.270499999999998,107.6249,77.593199999999996,137.1009,131.2672,89.964500000000001]
["2020-08-01",{"$f":"MONTH(Indice_massa_salarial[[#This Row],[Período]])&YEAR(Indice_massa_salarial[[#This Row],[Período]])","v":"82020"},115.0038,130.7697,113.59099999999999,155.0599,105.25060000000001,86.651700000000005,83.180400000000006,78.820700000000002,99.5886,75.320300000000003,142.53970000000001,124.1897,93.090699999999998]
["2020-09-01",{"$f":"MONTH(Indice_massa_salarial[[#This Row],[Período]])&YEAR(Indice_massa_salarial[[#This Row],[Período]])","v":"92020"},115.4675,126.3259,114.4945,152.4057,106.9062,87.691500000000005,89.608099999999993,83.136600000000001,103.24379999999999,80.358999999999995,141.09100000000001,133.50460000000001,94.167900000000003]
["2020-10-01",{"$f":"MONTH(Indice_massa_salarial[[#This Row],[Período]])&YEAR(Indice_massa_salarial[[#This Row],[Período]])","v":"102020"},113.0937,126.5307,111.8896,150.93209999999999,103.4481,85.572999999999993,82.263800000000003,72.869,104.5176,76.166700000000006,114.6006,125.5639,93.702299999999994]
["2020-11-01",{"$f":"MONTH(Indice_massa_salarial[[#This Row],[Período]])&YEAR(Indice_massa_salarial[[#This Row],[Período]])","v":"112020"},133.45580000000001,145.03200000000001,132.41839999999999,171.14869999999999,184.32820000000001,103.9679,91.6755,77.434399999999997,116.5842,96.665599999999998,158.77539999999999,140.8141,94.372799999999998]
["2020-12-01",{"$f":"MONTH(Indice_massa_salarial[[#This Row],[Período]])&YEAR(Indice_massa_salarial[[#This Row],[Período]])","v":"122020"},168.7722,228.0882,163.45670000000001,200.42939999999999,186.42169999999999,132.749,175.66309999999999,140.28530000000001,165.52369999999999,127.29170000000001,172.35810000000001,211.06729999999999,100.1446]
["2021-01-01",{"$f":"MONTH(Indice_massa_salarial[[#This Row],[Período]])&YEAR(Indice_massa_salarial[[#This Row],[Período]])","v":"12021"},120.7782,149.95959999999999,118.1631,155.3159,86.307000000000002,92.100899999999996,98.154200000000003,71.602000000000004,104.4581,97.395200000000003,120.8847,150.02180000000001,94.964699999999993]
["2021-02-01",{"$f":"MONTH(Indice_massa_salarial[[#This Row],[Período]])&YEAR(Indice_massa_salarial[[#This Row],[Período]])","v":"22021"},123.1331,211.6617,115.19970000000001,152.5324,104.6283,90.005399999999995,86.893500000000003,67.577699999999993,102.5502,99.251499999999993,114.4783,128.44390000000001,93.959000000000003]
["2021-03-01",{"$f":"MONTH(Indice_massa_salarial[[#This Row],[Período]])&YEAR(Indice_massa_salarial[[#This Row],[Período]])","v":"32021"},119.0147,164.79929999999999,114.9118,159.9358,92.691100000000006,91.288600000000002,151.7396,68.747699999999995,99.825000000000003,75.844300000000004,119.8065,157.98099999999999,95.388599999999997]
["2021-04-01",{"$f":"MONTH(Indice_massa_salarial[[#This Row],[Período]])&YEAR(Indice_massa_salarial[[#This Row],[Período]])","v":"42021"},122.0436,132.9221,121.06870000000001,153.05160000000001,90.711399999999998,90.0685,91.292100000000005,75.858099999999993,101.78749999999999,112.5522,124.51049999999999,133.40950000000001,94.561099999999996]
["2021-05-01",{"$f":"MONTH(Indice_massa_salarial[[#This Row],[Período]])&YEAR(Indice_massa_salarial[[#This Row],[Período]])","v":"52021"},114.69589999999999,136.83260000000001,112.7122,150.68039999999999,93.326300000000003,88.232799999999997,85.778599999999997,71.415999999999997,102.9192,74.401899999999998,137.68510000000001,135.09639999999999,94.669300000000007]
["2021-06-01",{"$f":"MONTH(Indice_massa_salarial[[#This Row],[Período]])&YEAR(Indice_massa_salarial[[#This Row],[Período]])","v":"62021"},114.34180000000001,138.94900000000001,112.09399999999999,149.9177,82.693399999999997,92.980800000000002,85.203599999999994,66.401600000000002,106.4212,85.198800000000006,134.1378,129.3355,95.815799999999996]
["2021-07-01",{"$f":"MONTH(Indice_massa_salarial[[#This Row],[Período]])&YEAR(Indice_massa_salarial[[#This Row],[Período]])","v":"72021"},112.61020000000001,137.9709,110.2937,149.5378,87.756200000000007,89.934600000000003,85.834400000000002,68.032799999999995,105.7647,75.221800000000002,135.63579999999999,151.56120000000001,92.671199999999999]
["2021-08-01",{"$f":"MONTH(Indice_massa_salarial[[#This Row],[Período]])&YEAR(Indice_massa_salarial[[#This Row],[Período]])","v":"82021"},110.0553,134.29730000000001,107.8409,151.54490000000001,91.747699999999995,92.440899999999999,83.05,66.607299999999995,101.9268,68.248900000000006,114.7304,138.56659999999999,91.531199999999998]
["2021-09-01",{"$f":"MONTH(Indice_massa_salarial[[#This Row],[Período]])&YEAR(Indice_massa_salarial[[#This Row],[Período]])","v":"92021"},109.9975,141.52379999999999,107.1178,146.54570000000001,76.417400000000001,91.938500000000005,79.811000000000007,68.036600000000007,102.4627,68.073400000000007,119.0046,139.3098,88.781099999999995]
["2021-10-01",{"$f":"MONTH(Indice_massa_salarial[[#This Row],[Período]])&YEAR(Indice_massa_salarial[[#This Row],[Período]])","v":"102021"},115.41840000000001,148.42609999999999,112.4034,163.26910000000001,94.0642,90.524600000000007,82.223200000000006,68.406999999999996,108.9966,68.505600000000001,136.43340000000001,135.31100000000001,92.323099999999997]
["2021-11-01",{"$f":"MONTH(Indice_massa_salarial[[#This Row],[Período]])&YEAR(Indice_massa_salarial[[#This Row],[Período]])","v":"112021"},128.56559999999999,153.2073,126.31480000000001,166.47900000000001,151.4341,110.0864,85.235299999999995,71.977599999999995,118.46169999999999,87.328400000000002,156.37139999999999,145.8544,92.725300000000004]
["2021-12-01",{"$f":"MONTH(Indice_massa_salarial[[#This Row],[Período]])&YEAR(Indice_massa_salarial[[#This Row],[Período]])","v":"122021"},165.10499999999999,249.52719999999999,157.39349999999999,197.3871,162.15039999999999,141.5421,191.9649,133.21809999999999,146.36760000000001,130.8519,178.68,211.47239999999999,93.627700000000004]
["2022-01-01",{"$f":"MONTH(Indice_massa_salarial[[#This Row],[Período]])&YEAR(Indice_massa_salarial[[#This Row],[Período]])","v":"12022"},118.3335,147.9693,115.62649999999999,146.5582,74.873599999999996,95.244500000000002,90.047899999999998,106.3329,108.1947,97.360500000000002,128.0042,146.5471,92.838899999999995]
["2022-02-01",{"$f":"MONTH(Indice_massa_salarial[[#This Row],[Período]])&YEAR(Indice_massa_salarial[[#This Row],[Período]])","v":"22022"},127.3092,190.84639999999999,121.5055,152.3888,94.729500000000002,87.869900000000001,97.021900000000002,65.070300000000003,105.5312,131.93109999999999,125.1365,157.65719999999999,88.927899999999994]
["2022-03-01",{"$f":"MONTH(Indice_massa_salarial[[#This Row],[Período]])&YEAR(Indice_massa_salarial[[#This Row],[Período]])","v":"32022"},126.3048,164.6652,122.8008,148.52760000000001,77.319900000000004,88.497399999999999,230.44659999999999,65.526200000000003,107.1621,117.3387,145.21719999999999,169.87870000000001,89.592299999999994]
["2022-04-01",{"$f":"MONTH(Indice_massa_salarial[[#This Row],[Período]])&YEAR(Indice_massa_salarial[[#This Row],[Período]])","v":"42022"},113.4871,140.49350000000001,111.0202,151.22929999999999,81.561800000000005,88.281599999999997,81.037599999999998,65.062799999999996,116.5629,76.243099999999998,144.1199,135.6046,87.675399999999996]
["2022-05-01",{"$f":"MONTH(Indice_massa_salarial[[#This Row],[Período]])&YEAR(Indice_massa_salarial[[#This Row],[Período]])","v":"52022"},113.1923,137.22739999999999,110.99679999999999,145.24719999999999,88.335999999999999,95.511700000000005,85.802700000000002,62.325000000000003,110.75920000000001,74.031899999999993,153.94479999999999,134.65960000000001,88.537099999999995]
["2022-06-01",{"$f":"MONTH(Indice_massa_salarial[[#This Row],[Período]])&YEAR(Indice_massa_salarial[[#This Row],[Período]])","v":"62022"},113.81829999999999,140.1943,111.40900000000001,146.0574,79.572100000000006,96.0565,88.413700000000006,62.346600000000002,106.4007,77.845200000000006,152.93020000000001,121.4007,87.266400000000004]
["2022-07-01",{"$f":"MONTH(Indice_massa_salarial[[#This Row],[Período]])&YEAR(Indice_massa_salarial[[#This Row],[Período]])","v":"72022"},120.4098,143.0284,118.3437,166.91900000000001,85.031300000000002,95.914400000000001,92.812600000000003,68.634200000000007,122.3719,82.7958,151.79990000000001,135.32810000000001,88.744399999999999]
["2022-08-01",{"$f":"MONTH(Indice_massa_salarial[[#This Row],[Período]])&YEAR(Indice_massa_salarial[[#This Row],[Período]])","v":"82022"},116.6901,136.15889999999999,114.9117,151.90639999999999,87.153800000000004,94.389200000000002,86.580299999999994,67.790800000000004,120.0689,76.615200000000002,155.70349999999999,132.01050000000001,92.836299999999994]
["2022-09-01",{"$f":"MONTH(Indice_massa_salarial[[#This Row],[Período]])&YEAR(Indice_massa_salarial[[#This Row],[Período]])","v":"92022"},118.6176,141.1096,116.56310000000001,163.5778,100.7159,96.650700000000001,89.809399999999997,73.325500000000005,109.78919999999999,77.476600000000005,156.04179999999999,140.5376,90.990300000000005]
["2022-10-01",{"$f":"MONTH(Indice_massa_salarial[[#This Row],[Período]])&YEAR(Indice_massa_salarial[[#This Row],[Período]])","v":"102022"},119.0728,140.39279999999999,117.1253,152.82509999999999,99.490600000000001,95.794200000000004,84.078100000000006,72.608900000000006,115.27849999999999,76.603499999999997,150.65790000000001,134.76949999999999,93.706900000000005]
["2022-11-01",{"$f":"MONTH(Indice_massa_salarial[[#This Row],[Período]])&YEAR(Indice_massa_salarial[[#This Row],[Período]])","v":"112022"},137.98070000000001,154.12180000000001,136.50630000000001,180.06129999999999,164.25630000000001,111.8077,104.09220000000001,76.343800000000002,124.0519,90.360699999999994,187.7612,145.57900000000001,96.355199999999996]
["2022-12-01",{"$f":"MONTH(Indice_massa_salarial[[#This Row],[Período]])&YEAR(Indice_massa_salarial[[#This Row],[Período]])","v":"122022"},180.26929999999999,263.66649999999998,172.6515,206.7835,174.99789999999999,147.70140000000001,189.9641,146.50710000000001,179.577,134.1756,240.19970000000001,219.3159,104.64709999999999]
["2023-01-01",{"$f":"MONTH(Indice_massa_salarial[[#This Row],[Período]])&YEAR(Indice_massa_salarial[[#This Row],[Período]])","v":"12023"},130.7268,153.7073,128.6276,159.79220000000001,88.554299999999998,89.458799999999997,93.721699999999998,127.0932,114.05929999999999,104.4948,172.6568,147.62129999999999,97.543700000000001]
["2023-02-01",{"$f":"MONTH(Indice_massa_salarial[[#This Row],[Período]])&YEAR(Indice_massa_salarial[[#This Row],[Período]])","v":"22023"},126.6618,166.71299999999999,123.0034,151.5856,86.915899999999993,86.540999999999997,90.965800000000002,73.516800000000003,110.90649999999999,112.6837,154.3338,148.07730000000001,95.296999999999997]

{"sheet":"Rendimento_Médio_MG_setores","index":8,"n_rows":209,"n_cols":15,"rows_kept":209,"cut":false,"hidden":false,"merged":[]}
[null,null,"Base 2006=100"]
[null,null,"Remuneração Média Real"]
["Período","Mês","Indústria Geral","Indústria Extrativa","Indústria de Transformação","10-Alimentos","11-Bebidas","13-Produtos têxteis","17-Celulose e papel","19-Coque e derivados de petróleo","23-Prod. minerais não metálicos","24-Metalurgia","25-Produtos de metal","27- Materiais elétricos","29-Veículos automotores"]
["2006-01-01",{"$f":"MONTH(Indice_RMR[[#This Row],[Período]])&YEAR(Indice_RMR[[#This Row],[Período]])","v":"12006"},98.680800000000005,88.223200000000006,99.745699999999999,88.171400000000006,103.5548,88.801100000000005,110.0505,152.63390000000001,105.8229,108.8364,103.53400000000001,103.515,105.0325]
["2006-02-01",{"$f":"MONTH(Indice_RMR[[#This Row],[Período]])&YEAR(Indice_RMR[[#This Row],[Período]])","v":"22006"},105.6759,198.80019999999999,97.800799999999995,84.156999999999996,99.188599999999994,87.5505,187.0898,125.6262,89.110399999999998,114.1754,93.254900000000006,95.406800000000004,82.860399999999998]
["2006-03-01",{"$f":"MONTH(Indice_RMR[[#This Row],[Período]])&YEAR(Indice_RMR[[#This Row],[Período]])","v":"32006"},96.523799999999994,85.747799999999998,97.482200000000006,105.8783,108.8479,95.099699999999999,86.648899999999998,99.896799999999999,93.380099999999999,93.882999999999996,102.5527,94.591800000000006,84.449100000000001]
["2006-04-01",{"$f":"MONTH(Indice_RMR[[#This Row],[Período]])&YEAR(Indice_RMR[[#This Row],[Período]])","v":"42006"},93.304500000000004,79.140900000000002,94.569000000000003,91.389499999999998,100.7878,98.361599999999996,80.126800000000003,66.503600000000006,93.935699999999997,91.759500000000003,96.647099999999995,92.032899999999998,119.0658]
["2006-05-01",{"$f":"MONTH(Indice_RMR[[#This Row],[Período]])&YEAR(Indice_RMR[[#This Row],[Período]])","v":"52006"},91.234700000000004,83.837199999999996,91.9178,88.234700000000004,98.19,95.886700000000005,85.391099999999994,67.582499999999996,93.336500000000001,94.985600000000005,105.61960000000001,88.195700000000002,84.988]
["2006-06-01",{"$f":"MONTH(Indice_RMR[[#This Row],[Período]])&YEAR(Indice_RMR[[#This Row],[Período]])","v":"62006"},94.398700000000005,79.940799999999996,95.676100000000005,90.675899999999999,98.800399999999996,96.611999999999995,99.111099999999993,77.885599999999997,93.097300000000004,92.9589,96.794399999999996,83.997399999999999,115.12430000000001]
["2006-07-01",{"$f":"MONTH(Indice_RMR[[#This Row],[Período]])&YEAR(Indice_RMR[[#This Row],[Período]])","v":"72006"},96.406199999999998,87.093199999999996,97.213099999999997,94.87,100.5164,96.271500000000003,90.015000000000001,148.62010000000001,108.9482,94.124499999999998,92.095500000000001,106.77979999999999,87.908500000000004]
["2006-08-01",{"$f":"MONTH(Indice_RMR[[#This Row],[Período]])&YEAR(Indice_RMR[[#This Row],[Período]])","v":"82006"},94.259600000000006,101.3725,93.599100000000007,93.432599999999994,94.915199999999999,95.007199999999997,83.802000000000007,86.216499999999996,103.1935,98.203500000000005,95.71,90.418499999999995,89.535799999999995]
["2006-09-01",{"$f":"MONTH(Indice_RMR[[#This Row],[Período]])&YEAR(Indice_RMR[[#This Row],[Período]])","v":"92006"},92.383200000000002,111.3847,90.649799999999999,94.4863,97.646299999999997,98.479600000000005,82.368899999999996,86.942800000000005,93.791499999999999,90.867699999999999,88.619200000000006,85.132199999999997,82.126499999999993]
["2006-10-01",{"$f":"MONTH(Indice_RMR[[#This Row],[Período]])&YEAR(Indice_RMR[[#This Row],[Período]])","v":"102006"},92.5351,82.535200000000003,93.384299999999996,99.819900000000004,94.923100000000005,96.644499999999994,87.863,85.987499999999997,100.1161,96.521799999999999,93.202699999999993,105.07810000000001,84.116100000000003]
["2006-11-01",{"$f":"MONTH(Indice_RMR[[#This Row],[Período]])&YEAR(Indice_RMR[[#This Row],[Período]])","v":"112006"},105.42610000000001,87.084500000000006,107.0039,118.6782,99.409000000000006,112.02209999999999,101.6212,95.106300000000005,107.23909999999999,98.465800000000002,105.3562,99.557500000000005,95.740799999999993]
["2006-12-01",{"$f":"MONTH(Indice_RMR[[#This Row],[Período]])&YEAR(Indice_RMR[[#This Row],[Período]])","v":"122006"},138.5222,118.4491,140.1763,150.00970000000001,103.7303,138.25559999999999,105.0274,156.07249999999999,117.81699999999999,124.8674,122.98390000000001,154.26769999999999,167.5821]
["2007-01-01",{"$f":"MONTH(Indice_RMR[[#This Row],[Período]])&YEAR(Indice_RMR[[#This Row],[Período]])","v":"12007"},102.6442,90.166399999999996,103.6392,111.4212,104.03660000000001,95.505899999999997,110.46169999999999,110.0243,112.81100000000001,104.7598,93.677800000000005,106.1999,106.20869999999999]
["2007-02-01",{"$f":"MONTH(Indice_RMR[[#This Row],[Período]])&YEAR(Indice_RMR[[#This Row],[Período]])","v":"22007"},106.0599,173.02440000000001,99.668199999999999,102.4362,91.124499999999998,92.477599999999995,159.5102,117.5971,97.633899999999997,119.9659,87.597399999999993,100.5651,73.794600000000003]
["2007-03-01",{"$f":"MONTH(Indice_RMR[[#This Row],[Período]])&YEAR(Indice_RMR[[#This Row],[Período]])","v":"32007"},97.534700000000001,90.689099999999996,98.014600000000002,112.2189,122.50830000000001,93.888300000000001,97.808099999999996,118.3447,96.793599999999998,91.957300000000004,108.11239999999999,87.418099999999995,82.017799999999994]
["2007-04-01",{"$f":"MONTH(Indice_RMR[[#This Row],[Período]])&YEAR(Indice_RMR[[#This Row],[Período]])","v":"42007"},94.659800000000004,80.679199999999994,95.815899999999999,103.5504,102.7975,93.592200000000005,97.833100000000002,84.744699999999995,96.994299999999996,96.004000000000005,97.561700000000002,98.770499999999998,87.665499999999994]
["2007-05-01",{"$f":"MONTH(Indice_RMR[[#This Row],[Período]])&YEAR(Indice_RMR[[#This Row],[Período]])","v":"52007"},93.617699999999999,84.096500000000006,94.371399999999994,103.76300000000001,98.966200000000001,95.034199999999998,143.28450000000001,98.756799999999998,96.865200000000002,89.877099999999999,100.6092,86.286100000000005,80.557299999999998]
["2007-06-01",{"$f":"MONTH(Indice_RMR[[#This Row],[Período]])&YEAR(Indice_RMR[[#This Row],[Período]])","v":"62007"},96.787800000000004,75.776799999999994,98.646900000000002,103.1134,97.295000000000002,103.4528,95.246499999999997,100.3905,95.772999999999996,93.439700000000002,95.678100000000001,84.707300000000004,103.4764]
["2007-07-01",{"$f":"MONTH(Indice_RMR[[#This Row],[Período]])&YEAR(Indice_RMR[[#This Row],[Período]])","v":"72007"},94.002600000000001,73.857399999999998,95.909700000000001,101.3583,98.36,104.01560000000001,104.3138,100.27670000000001,99.561300000000003,91.637200000000007,98.930599999999998,112.63760000000001,76.000600000000006]
["2007-08-01",{"$f":"MONTH(Indice_RMR[[#This Row],[Período]])&YEAR(Indice_RMR[[#This Row],[Período]])","v":"82007"},91.072699999999998,71.394400000000005,92.870500000000007,99.379800000000003,95.645099999999999,97.554900000000004,92.883700000000005,122.3955,92.798000000000002,88.311400000000006,105.4234,87.377300000000005,75.178399999999996]
["2007-09-01",{"$f":"MONTH(Indice_RMR[[#This Row],[Período]])&YEAR(Indice_RMR[[#This Row],[Período]])","v":"92007"},88.538799999999995,69.296400000000006,90.225899999999996,104.6905,97.362399999999994,97.349599999999995,90.275099999999995,97.863699999999994,96.399699999999996,86.191100000000006,92.331800000000001,88.018900000000002,70.5334]
["2007-10-01",{"$f":"MONTH(Indice_RMR[[#This Row],[Período]])&YEAR(Indice_RMR[[#This Row],[Período]])","v":"102007"},93.760999999999996,67.472200000000001,96.073999999999998,108.1771,100.79649999999999,94.045699999999997,120.8182,102.6641,99.660399999999996,90.5749,109.5873,98.992900000000006,81.328100000000006]
["2007-11-01",{"$f":"MONTH(Indice_RMR[[#This Row],[Período]])&YEAR(Indice_RMR[[#This Row],[Período]])","v":"112007"},107.6071,121.4611,106.2863,123.1314,107.6345,115.22490000000001,103.21510000000001,116.2076,109.21550000000001,89.861900000000006,107.2702,105.5403,85.196200000000005]
["2007-12-01",{"$f":"MONTH(Indice_RMR[[#This Row],[Período]])&YEAR(Indice_RMR[[#This Row],[Período]])","v":"122007"},141.84780000000001,101.4213,145.40010000000001,144.0823,108.23139999999999,141.44120000000001,106.008,251.9435,156.90950000000001,129.58199999999999,142.85820000000001,152.73179999999999,149.3792]
["2008-01-01",{"$f":"MONTH(Indice_RMR[[#This Row],[Período]])&YEAR(Indice_RMR[[#This Row],[Período]])","v":"12008"},110.28489999999999,85.805499999999995,112.40219999999999,106.5479,82.9876,95.265900000000002,102.4104,154.99780000000001,95.807500000000005,105.4768,107.259,119.261,136.70609999999999]
["2008-02-01",{"$f":"MONTH(Indice_RMR[[#This Row],[Período]])&YEAR(Indice_RMR[[#This Row],[Período]])","v":"22008"},113.1336,254.5788,99.991299999999995,101.8112,74.391800000000003,91.109700000000004,212.26669999999999,127.0472,87.605000000000004,116.5206,91.513199999999998,109.0607,74.397599999999997]
["2008-03-01",{"$f":"MONTH(Indice_RMR[[#This Row],[Período]])&YEAR(Indice_RMR[[#This Row],[Período]])","v":"32008"},93.799800000000005,77.212800000000001,95.1999,106.3811,83.191000000000003,94.655600000000007,90.384500000000003,124.03360000000001,92.106399999999994,88.654399999999995,117.0735,95.890900000000002,72.517200000000003]
["2008-04-01",{"$f":"MONTH(Indice_RMR[[#This Row],[Período]])&YEAR(Indice_RMR[[#This Row],[Período]])","v":"42008"},92.566699999999997,70.570700000000002,94.5595,106.7991,74.873900000000006,96.882499999999993,101.53,122.47790000000001,88.443899999999999,88.303399999999996,107.97629999999999,95.05,77.638800000000003]
["2008-05-01",{"$f":"MONTH(Indice_RMR[[#This Row],[Período]])&YEAR(Indice_RMR[[#This Row],[Período]])","v":"52008"},90.544600000000003,69.545699999999997,92.350899999999996,106.92149999999999,72.030600000000007,95.171300000000002,91.153700000000001,91.7864,92.624700000000004,91.067400000000006,96.369799999999998,89.581400000000002,72.985699999999994]
["2008-06-01",{"$f":"MONTH(Indice_RMR[[#This Row],[Período]])&YEAR(Indice_RMR[[#This Row],[Período]])","v":"62008"},98.840800000000002,68.427199999999999,101.5133,104.7901,80.543499999999995,102.1335,85.484499999999997,104.43859999999999,91.100700000000003,91.997500000000002,98.123800000000003,86.605900000000005,104.471]
["2008-07-01",{"$f":"MONTH(Indice_RMR[[#This Row],[Período]])&YEAR(Indice_RMR[[#This Row],[Período]])","v":"72008"},96.046199999999999,70.598600000000005,98.249899999999997,105.108,74.880799999999994,103.6562,94.742000000000004,110.2848,95.623500000000007,88.498099999999994,97.518600000000006,112.964,75.280500000000004]
["2008-08-01",{"$f":"MONTH(Indice_RMR[[#This Row],[Período]])&YEAR(Indice_RMR[[#This Row],[Período]])","v":"82008"},92.711699999999993,73.893199999999993,94.285300000000007,105.36190000000001,73.979799999999997,103.77679999999999,90.113699999999994,112.50490000000001,90.695800000000006,90.926199999999994,94.554299999999998,89.110100000000003,72.140199999999993]
["2008-09-01",{"$f":"MONTH(Indice_RMR[[#This Row],[Período]])&YEAR(Indice_RMR[[#This Row],[Período]])","v":"92008"},91.430999999999997,68.380499999999998,93.424499999999995,108.79510000000001,77.965699999999998,102.7256,85.536799999999999,107.7294,86.357299999999995,89.241500000000002,94.1053,86.630600000000001,73.759]
["2008-10-01",{"$f":"MONTH(Indice_RMR[[#This Row],[Período]])&YEAR(Indice_RMR[[#This Row],[Período]])","v":"102008"},97.521699999999996,69.571299999999994,100.0425,108.1545,80.289100000000005,101.2012,140.16640000000001,112.2129,83.2804,91.293499999999995,99.635400000000004,101.044,91.324100000000001]
["2008-11-01",{"$f":"MONTH(Indice_RMR[[#This Row],[Período]])&YEAR(Indice_RMR[[#This Row],[Período]])","v":"112008"},113.4455,97.765299999999996,114.6377,128.08760000000001,95.712599999999995,128.46539999999999,101.6567,124.839,94.776300000000006,101.8232,113.11109999999999,114.9374,88.078299999999999]
["2008-12-01",{"$f":"MONTH(Indice_RMR[[#This Row],[Período]])&YEAR(Indice_RMR[[#This Row],[Período]])","v":"122008"},153.16739999999999,124.94199999999999,155.42580000000001,149.3058,115.6473,153.89760000000001,123.062,168.46080000000001,122.3027,139.16290000000001,171.0256,159.44229999999999,169.6293]
["2009-01-01",{"$f":"MONTH(Indice_RMR[[#This Row],[Período]])&YEAR(Indice_RMR[[#This Row],[Período]])","v":"12009"},107.0592,87.391999999999996,108.59820000000001,114.75239999999999,79.55,99.773600000000002,112.446,135.46629999999999,95.406199999999998,101.6073,112.52809999999999,118.80840000000001,96.121600000000001]
["2009-02-01",{"$f":"MONTH(Indice_RMR[[#This Row],[Período]])&YEAR(Indice_RMR[[#This Row],[Período]])","v":"22009"},113.0115,142.86940000000001,109.5188,106.6101,77.333399999999997,103.1096,168.6292,145.4828,84.265900000000002,125.1863,100.3357,113.09520000000001,83.474000000000004]
["2009-03-01",{"$f":"MONTH(Indice_RMR[[#This Row],[Período]])&YEAR(Indice_RMR[[#This Row],[Período]])","v":"32009"},103.11839999999999,74.9268,105.5348,106.7324,87.272400000000005,104.1045,101.4405,120.3263,90.144599999999997,94.376000000000005,165.83189999999999,101.3267,80.539500000000004]
["2009-04-01",{"$f":"MONTH(Indice_RMR[[#This Row],[Período]])&YEAR(Indice_RMR[[#This Row],[Período]])","v":"42009"},96.824399999999997,67.602599999999995,99.374799999999993,106.36960000000001,81.560900000000004,108.6253,95.033600000000007,129.05529999999999,84.581199999999995,97.358500000000006,105.1443,108.9905,80.800799999999995]
["2009-05-01",{"$f":"MONTH(Indice_RMR[[#This Row],[Período]])&YEAR(Indice_RMR[[#This Row],[Período]])","v":"52009"},96.299199999999999,67.578500000000005,98.807000000000002,106.9464,78.518600000000006,113.2739,111.3884,142.4316,88.301500000000004,91.396299999999997,111.7919,98.721100000000007,84.047399999999996]
["2009-06-01",{"$f":"MONTH(Indice_RMR[[#This Row],[Período]])&YEAR(Indice_RMR[[#This Row],[Período]])","v":"62009"},101.0864,67.142099999999999,104.09,110.13500000000001,81.945300000000003,110.6622,92.284199999999998,131.495,89.604799999999997,92.454400000000007,107.2175,95.607100000000003,114.51309999999999]
["2009-07-01",{"$f":"MONTH(Indice_RMR[[#This Row],[Período]])&YEAR(Indice_RMR[[#This Row],[Período]])","v":"72009"},102.7877,71.152900000000002,105.56399999999999,113.6165,87.660300000000007,106.7722,100.45180000000001,146.40950000000001,96.678100000000001,102.21899999999999,106.25579999999999,116.7559,88.622799999999998]
["2009-08-01",{"$f":"MONTH(Indice_RMR[[#This Row],[Período]])&YEAR(Indice_RMR[[#This Row],[Período]])","v":"82009"},95.523300000000006,72.382099999999994,97.513000000000005,111.0544,86.129800000000003,105.7747,93.952699999999993,143.09049999999999,89.6113,94.2911,104.3937,99.927800000000005,77.517799999999994]
["2009-09-01",{"$f":"MONTH(Indice_RMR[[#This Row],[Período]])&YEAR(Indice_RMR[[#This Row],[Período]])","v":"92009"},94.3523,70.200500000000005,96.446899999999999,112.8883,82.783699999999996,106.10169999999999,99.180800000000005,144.0393,85.694400000000002,94.615300000000005,102.625,99.458699999999993,78.425200000000004]
["2009-10-01",{"$f":"MONTH(Indice_RMR[[#This Row],[Período]])&YEAR(Indice_RMR[[#This Row],[Período]])","v":"102009"},98.277100000000004,68.340800000000002,100.9085,112.1793,82.016800000000003,103.56910000000001,103.3873,148.3519,85.790899999999993,113.7094,106.2585,108.078,78.993700000000004]
["2009-11-01",{"$f":"MONTH(Indice_RMR[[#This Row],[Período]])&YEAR(Indice_RMR[[#This Row],[Período]])","v":"112009"},112.9091,100.9752,113.8365,131.99969999999999,99.337100000000007,131.1688,93.122100000000003,151.3998,97.1387,99.8489,112.2679,111.2713,95.836699999999993]
["2009-12-01",{"$f":"MONTH(Indice_RMR[[#This Row],[Período]])&YEAR(Indice_RMR[[#This Row],[Período]])","v":"122009"},150.65039999999999,150.51249999999999,150.42089999999999,152.84899999999999,136.1311,147.67959999999999,108.7152,262.92009999999999,135.5521,139.08750000000001,133.37790000000001,169.1721,163.55840000000001]
["2010-01-01",{"$f":"MONTH(Indice_RMR[[#This Row],[Período]])&YEAR(Indice_RMR[[#This Row],[Período]])","v":"12010"},111.9498,79.138800000000003,114.82680000000001,113.8077,89.183000000000007,105.1236,107.5483,173.2106,93.573599999999999,120.4746,128.47819999999999,116.2449,117.3334]
["2010-02-01",{"$f":"MONTH(Indice_RMR[[#This Row],[Período]])&YEAR(Indice_RMR[[#This Row],[Período]])","v":"22010"},122.3515,291.7466,106.3817,107.6472,83.320700000000002,103.4453,87.076099999999997,165.3176,85.031300000000002,117.9683,95.705500000000001,110.6846,98.076599999999999]
["2010-03-01",{"$f":"MONTH(Indice_RMR[[#This Row],[Período]])&YEAR(Indice_RMR[[#This Row],[Período]])","v":"32010"},99.002399999999994,76.808099999999996,100.8951,109.3216,78.996300000000005,104.8043,186.334,134.10079999999999,101.67010000000001,82.905900000000003,129.1309,135.58179999999999,78.839200000000005]
["2010-04-01",{"$f":"MONTH(Indice_RMR[[#This Row],[Período]])&YEAR(Indice_RMR[[#This Row],[Período]])","v":"42010"},93.038600000000002,76.201800000000006,94.431299999999993,111.4408,80.008399999999995,108.8248,91.889099999999999,156.6728,86.750299999999996,81.980999999999995,93.127899999999997,111.7782,81.471500000000006]
["2010-05-01",{"$f":"MONTH(Indice_RMR[[#This Row],[Período]])&YEAR(Indice_RMR[[#This Row],[Período]])","v":"52010"},96.307299999999998,76.392899999999997,97.977999999999994,112.8095,79.909599999999998,103.4263,87.255200000000002,133.2457,100.1598,89.589699999999993,120.28060000000001,93.386300000000006,74.958699999999993]
["2010-06-01",{"$f":"MONTH(Indice_RMR[[#This Row],[Período]])&YEAR(Indice_RMR[[#This Row],[Período]])","v":"62010"},96.472899999999996,76.240799999999993,98.159499999999994,114.9581,80.3964,108.8951,86.713499999999996,144.12970000000001,88.138599999999997,83.648899999999998,109.39019999999999,91.008799999999994,79.927499999999995]
["2010-07-01",{"$f":"MONTH(Indice_RMR[[#This Row],[Período]])&YEAR(Indice_RMR[[#This Row],[Período]])","v":"72010"},108.06010000000001,82.654399999999995,110.2067,118.03789999999999,81.578299999999999,107.658,89.892499999999998,157.97659999999999,89.909199999999998,101.20140000000001,112.70350000000001,98.576899999999995,112.8094]
["2010-08-01",{"$f":"MONTH(Indice_RMR[[#This Row],[Período]])&YEAR(Indice_RMR[[#This Row],[Período]])","v":"82010"},97.393000000000001,77.767399999999995,99.013000000000005,121.48480000000001,73.242099999999994,109.32340000000001,87.558199999999999,162.67449999999999,89.395700000000005,82.646600000000007,111.1443,98.585099999999997,78.410799999999995]
["2010-09-01",{"$f":"MONTH(Indice_RMR[[#This Row],[Período]])&YEAR(Indice_RMR[[#This Row],[Período]])","v":"92010"},97.3596,76.263900000000007,99.117400000000004,119.119,76.080200000000005,110.0598,85.843599999999995,169.8056,93.237099999999998,82.893000000000001,119.26349999999999,106.4697,75.908600000000007]
["2010-10-01",{"$f":"MONTH(Indice_RMR[[#This Row],[Período]])&YEAR(Indice_RMR[[#This Row],[Período]])","v":"102010"},103.8515,75.979500000000002,106.2433,126.6857,69.569999999999993,106.0414,88.816299999999998,287.33019999999999,90.045500000000004,85.578500000000005,121.42189999999999,111.1142,94.275999999999996]
["2010-11-01",{"$f":"MONTH(Indice_RMR[[#This Row],[Período]])&YEAR(Indice_RMR[[#This Row],[Período]])","v":"112010"},119.9066,105.0616,120.91759999999999,141.73349999999999,98.195300000000003,132.04599999999999,98.750699999999995,203.61369999999999,104.2285,109.6713,140.2071,106.9135,86.278400000000005]
["2010-12-01",{"$f":"MONTH(Indice_RMR[[#This Row],[Período]])&YEAR(Indice_RMR[[#This Row],[Período]])","v":"122010"},154.16399999999999,143.13570000000001,154.5343,161.89500000000001,106.1148,161.0463,165.5351,245.88890000000001,139.2578,118.1606,162.47929999999999,169.31440000000001,171.6576]
["2011-01-01",{"$f":"MONTH(Indice_RMR[[#This Row],[Período]])&YEAR(Indice_RMR[[#This Row],[Período]])","v":"12011"},114.2672,83.067400000000006,116.9233,116.9902,80.288399999999996,106.1671,95.149699999999996,232.16919999999999,97.878500000000003,94.748800000000003,165.6283,108.6431,111.8886]
["2011-02-01",{"$f":"MONTH(Indice_RMR[[#This Row],[Período]])&YEAR(Indice_RMR[[#This Row],[Período]])","v":"22011"},136.1722,359.7337,111.9855,111.8764,82.045199999999994,102.4294,222.21559999999999,184.7114,96.359800000000007,108.18380000000001,130.60210000000001,117.9012,80.523399999999995]
["2011-03-01",{"$f":"MONTH(Indice_RMR[[#This Row],[Período]])&YEAR(Indice_RMR[[#This Row],[Período]])","v":"32011"},107.7752,86.132499999999993,109.443,117.6885,73.949200000000005,105.86799999999999,87.426900000000003,150.93510000000001,100.84439999999999,86.568200000000004,147.90450000000001,127.7055,85.287599999999998]
["2011-04-01",{"$f":"MONTH(Indice_RMR[[#This Row],[Período]])&YEAR(Indice_RMR[[#This Row],[Período]])","v":"42011"},100.4986,76.189400000000006,102.4962,112.7268,72.062799999999996,117.1378,93.382400000000004,155.96459999999999,91.969300000000004,81.641099999999994,141.89080000000001,104.5324,76.148899999999998]
["2011-05-01",{"$f":"MONTH(Indice_RMR[[#This Row],[Período]])&YEAR(Indice_RMR[[#This Row],[Período]])","v":"52011"},105.93429999999999,76.946200000000005,108.404,113.7242,73.303799999999995,107.5046,87.715000000000003,148.26390000000001,93.240499999999997,92.729799999999997,136.2723,102.1527,102.20569999999999]
["2011-06-01",{"$f":"MONTH(Indice_RMR[[#This Row],[Período]])&YEAR(Indice_RMR[[#This Row],[Período]])","v":"62011"},107.28879999999999,75.802999999999997,110.0095,118.83629999999999,72.849800000000002,115.16419999999999,89.037800000000004,143.27930000000001,92.775700000000001,81.608000000000004,119.0087,103.9388,123.1957]
["2011-07-01",{"$f":"MONTH(Indice_RMR[[#This Row],[Período]])&YEAR(Indice_RMR[[#This Row],[Período]])","v":"72011"},106.4061,80.486500000000007,108.5498,120.3527,71.810299999999998,114.19670000000001,89.446700000000007,146.476,90.798299999999998,95.247,133.83000000000001,103.52679999999999,83.941299999999998]
["2011-08-01",{"$f":"MONTH(Indice_RMR[[#This Row],[Período]])&YEAR(Indice_RMR[[#This Row],[Período]])","v":"82011"},102.2419,80.515000000000001,103.9716,120.8621,71.526200000000003,116.3489,90.579099999999997,137.85919999999999,90.339500000000001,83.806899999999999,119.2171,99.555499999999995,96.659400000000005]
["2011-09-01",{"$f":"MONTH(Indice_RMR[[#This Row],[Período]])&YEAR(Indice_RMR[[#This Row],[Período]])","v":"92011"},105.32989999999999,89.035700000000006,106.47150000000001,128.45679999999999,72.492099999999994,108.4798,87.641199999999998,184.02459999999999,90.545400000000001,83.239800000000002,116.5684,111.86839999999999,101.68089999999999]
["2011-10-01",{"$f":"MONTH(Indice_RMR[[#This Row],[Período]])&YEAR(Indice_RMR[[#This Row],[Período]])","v":"102011"},108.4473,80.5792,110.7758,129.35149999999999,73.286199999999994,115.05719999999999,86.826800000000006,237.9821,91.632199999999997,87.370999999999995,128.37729999999999,112.17749999999999,101.8266]
["2011-11-01",{"$f":"MONTH(Indice_RMR[[#This Row],[Período]])&YEAR(Indice_RMR[[#This Row],[Período]])","v":"112011"},125.393,98.4495,127.4986,170.81530000000001,128.3015,138.34379999999999,93.688100000000006,187.67789999999999,102.8395,111.22620000000001,152.81549999999999,123.0228,87.6006]
["2011-12-01",{"$f":"MONTH(Indice_RMR[[#This Row],[Período]])&YEAR(Indice_RMR[[#This Row],[Período]])","v":"122011"},168.2209,160.6781,167.90790000000001,159.41919999999999,144.57730000000001,172.88839999999999,202.9676,246.37989999999999,138.34960000000001,139.09739999999999,177.62180000000001,190.12129999999999,176.0359]
["2012-01-01",{"$f":"MONTH(Indice_RMR[[#This Row],[Período]])&YEAR(Indice_RMR[[#This Row],[Período]])","v":"12012"},111.9008,88.519900000000007,113.6917,133.47229999999999,70.3416,112.3742,100.61790000000001,213.3955,110.181,97.061800000000005,163.3355,125.20059999999999,80.639200000000002]
["2012-02-01",{"$f":"MONTH(Indice_RMR[[#This Row],[Período]])&YEAR(Indice_RMR[[#This Row],[Período]])","v":"22012"},139.0634,364.90750000000003,113.0693,129.00890000000001,71.722800000000007,110.3113,88.823099999999997,200.81030000000001,95.214399999999998,113.1497,123.7522,121.0449,82.996899999999997]
["2012-03-01",{"$f":"MONTH(Indice_RMR[[#This Row],[Período]])&YEAR(Indice_RMR[[#This Row],[Período]])","v":"32012"},120.7559,88.128100000000003,123.4787,154.94569999999999,70.416799999999995,114.41289999999999,187.78360000000001,207.20519999999999,128.63640000000001,90.916799999999995,151.0685,171.62350000000001,91.297600000000003]
["2012-04-01",{"$f":"MONTH(Indice_RMR[[#This Row],[Período]])&YEAR(Indice_RMR[[#This Row],[Período]])","v":"42012"},107.65260000000001,79.0488,110.0137,134.4135,70.257999999999996,118.16930000000001,94.022099999999995,188.95820000000001,96.507900000000006,85.765699999999995,150.9768,121.7794,86.7102]
["2012-05-01",{"$f":"MONTH(Indice_RMR[[#This Row],[Período]])&YEAR(Indice_RMR[[#This Row],[Período]])","v":"52012"},106.3233,76.313199999999995,108.8488,136.38149999999999,71.233599999999996,114.3391,91.525800000000004,190.64689999999999,97.078599999999994,96.512600000000006,136.6249,120.9888,82.2102]
["2012-06-01",{"$f":"MONTH(Indice_RMR[[#This Row],[Período]])&YEAR(Indice_RMR[[#This Row],[Período]])","v":"62012"},104.16549999999999,75.811300000000003,106.5226,133.89420000000001,71.277900000000002,119.6883,94.123000000000005,188.50980000000001,98.948999999999998,85.055400000000006,125.0423,122.1931,84.577799999999996]
["2012-07-01",{"$f":"MONTH(Indice_RMR[[#This Row],[Período]])&YEAR(Indice_RMR[[#This Row],[Período]])","v":"72012"},109.1443,79.726299999999995,111.5676,137.54939999999999,73.520399999999995,121.8663,93.276300000000006,200.29159999999999,106.58329999999999,94.118799999999993,135.3972,137.5967,87.537700000000001]
["2012-08-01",{"$f":"MONTH(Indice_RMR[[#This Row],[Período]])&YEAR(Indice_RMR[[#This Row],[Período]])","v":"82012"},105.9676,77.047799999999995,108.37739999999999,136.14789999999999,73.796700000000001,114.17400000000001,88.743200000000002,185.20419999999999,88.440100000000001,82.783600000000007,123.9335,125.50839999999999,84.248699999999999]
["2012-09-01",{"$f":"MONTH(Indice_RMR[[#This Row],[Período]])&YEAR(Indice_RMR[[#This Row],[Período]])","v":"92012"},101.517,72.487200000000001,103.9712,129.4331,74.787499999999994,116.01139999999999,90.392399999999995,210.76900000000001,92.872900000000001,80.959800000000001,117.4151,126.9658,82.999499999999998]
["2012-10-01",{"$f":"MONTH(Indice_RMR[[#This Row],[Período]])&YEAR(Indice_RMR[[#This Row],[Período]])","v":"102012"},109.3181,72.291499999999999,112.6156,136.09030000000001,76.645700000000005,114.6634,91.3322,365.18790000000001,95.285899999999998,85.666600000000003,124.0273,128.89060000000001,99.840199999999996]
["2012-11-01",{"$f":"MONTH(Indice_RMR[[#This Row],[Período]])&YEAR(Indice_RMR[[#This Row],[Período]])","v":"112012"},130.21449999999999,102.2564,132.33529999999999,161.44579999999999,118.8258,134.78649999999999,96.692599999999999,252.13419999999999,107.3502,120.65179999999999,147.1454,153.02330000000001,92.238299999999995]
["2012-12-01",{"$f":"MONTH(Indice_RMR[[#This Row],[Período]])&YEAR(Indice_RMR[[#This Row],[Período]])","v":"122012"},168.92,134.5617,171.4222,195.04560000000001,146.63839999999999,161.01079999999999,143.01159999999999,249.22810000000001,140.3252,137.5882,211.40289999999999,211.8587,155.85820000000001]
["2013-01-01",{"$f":"MONTH(Indice_RMR[[#This Row],[Período]])&YEAR(Indice_RMR[[#This Row],[Período]])","v":"12013"},110.36920000000001,77.752899999999997,113.1626,133.36410000000001,78.482200000000006,112.88760000000001,99.230599999999995,269.5299,97.115399999999994,94.292199999999994,135.62440000000001,146.5505,90.023300000000006]
["2013-02-01",{"$f":"MONTH(Indice_RMR[[#This Row],[Período]])&YEAR(Indice_RMR[[#This Row],[Período]])","v":"22013"},151.2921,386.62630000000001,123.4123,129.09639999999999,78.706400000000002,111.2007,186.91059999999999,178.72110000000001,101.0605,110.9131,142.5017,154.72880000000001,92.490600000000001]
["2013-03-01",{"$f":"MONTH(Indice_RMR[[#This Row],[Período]])&YEAR(Indice_RMR[[#This Row],[Período]])","v":"32013"},107.36669999999999,76.749499999999998,109.9628,140.86539999999999,76.405699999999996,114.2196,89.608599999999996,196.14660000000001,103.3222,81.513199999999998,142.7415,160.71090000000001,87.3506]
["2013-04-01",{"$f":"MONTH(Indice_RMR[[#This Row],[Período]])&YEAR(Indice_RMR[[#This Row],[Período]])","v":"42013"},106.01690000000001,74.955500000000001,108.6768,130.94569999999999,78.080799999999996,113.9584,94.654799999999994,197.81139999999999,110.8308,79.163799999999995,142.94030000000001,134.12739999999999,92.138300000000001]
["2013-05-01",{"$f":"MONTH(Indice_RMR[[#This Row],[Período]])&YEAR(Indice_RMR[[#This Row],[Período]])","v":"52013"},108.8785,76.204899999999995,111.7003,143.85159999999999,79.375200000000007,122.88290000000001,90.637200000000007,188.55009999999999,103.5078,104.4879,139.34889999999999,135.84289999999999,88.424199999999999]
["2013-06-01",{"$f":"MONTH(Indice_RMR[[#This Row],[Período]])&YEAR(Indice_RMR[[#This Row],[Período]])","v":"62013"},104.5492,76.252700000000004,106.9256,136.26499999999999,85.301199999999994,124.83750000000001,90.755200000000002,196.46549999999999,97.651200000000003,79.060500000000005,146.19309999999999,134.54490000000001,82.107600000000005]
["2013-07-01",{"$f":"MONTH(Indice_RMR[[#This Row],[Período]])&YEAR(Indice_RMR[[#This Row],[Período]])","v":"72013"},108.0689,78.477400000000003,110.56010000000001,142.83340000000001,83.302300000000002,125.0095,89.723600000000005,208.11600000000001,108.0697,87.531700000000001,138.4126,149.13159999999999,75.931399999999996]
["2013-08-01",{"$f":"MONTH(Indice_RMR[[#This Row],[Período]])&YEAR(Indice_RMR[[#This Row],[Período]])","v":"82013"},103.6584,79.417599999999993,105.5963,125.4297,86.294300000000007,119.3019,86.709699999999998,204.35890000000001,103.4211,78.347300000000004,140.06379999999999,132.39449999999999,82.353099999999998]
["2013-09-01",{"$f":"MONTH(Indice_RMR[[#This Row],[Período]])&YEAR(Indice_RMR[[#This Row],[Período]])","v":"92013"},103.9849,73.607299999999995,106.58710000000001,137.14080000000001,83.407899999999998,121.40009999999999,89.074200000000005,242.0686,105.56789999999999,79.523300000000006,137.6378,138.72919999999999,80.690200000000004]
["2013-10-01",{"$f":"MONTH(Indice_RMR[[#This Row],[Período]])&YEAR(Indice_RMR[[#This Row],[Período]])","v":"102013"},112.0663,77.308800000000005,115.092,144.7851,86.638900000000007,123.7933,90.524299999999997,370.7654,110.9435,86.433400000000006,165.10849999999999,142.13140000000001,83.018500000000003]
["2013-11-01",{"$f":"MONTH(Indice_RMR[[#This Row],[Período]])&YEAR(Indice_RMR[[#This Row],[Período]])","v":"112013"},128.5926,104.0414,130.35769999999999,169.1164,145.05510000000001,142.47929999999999,91.443799999999996,261.15309999999999,111.04819999999999,132.41399999999999,150.18690000000001,153.48490000000001,72.708600000000004]
["2013-12-01",{"$f":"MONTH(Indice_RMR[[#This Row],[Período]])&YEAR(Indice_RMR[[#This Row],[Período]])","v":"122013"},158.6446,138.1814,159.71100000000001,191.26429999999999,161.52869999999999,176.22210000000001,159.99850000000001,279.59949999999998,158.65819999999999,155.3905,210.74359999999999,223.27090000000001,89.552000000000007]
["2014-01-01",{"$f":"MONTH(Indice_RMR[[#This Row],[Período]])&YEAR(Indice_RMR[[#This Row],[Período]])","v":"12014"},119.5493,81.474400000000003,122.8847,147.09129999999999,86.899600000000007,117.9229,148.38079999999999,206.20490000000001,144.8528,98.321399999999997,196.55860000000001,147.233,83.924199999999999]
["2014-02-01",{"$f":"MONTH(Indice_RMR[[#This Row],[Período]])&YEAR(Indice_RMR[[#This Row],[Período]])","v":"22014"},159.9933,435.96749999999997,128.38740000000001,138.51650000000001,89.535700000000006,116.5308,88.316400000000002,247.72659999999999,130.76570000000001,131.83009999999999,140.75290000000001,151.1,80.374600000000001]
["2014-03-01",{"$f":"MONTH(Indice_RMR[[#This Row],[Período]])&YEAR(Indice_RMR[[#This Row],[Período]])","v":"32014"},116.5831,79.551699999999997,119.8278,150.10079999999999,100.1031,117.62520000000001,193.7063,231.87960000000001,128.65029999999999,89.933800000000005,134.85149999999999,144.56399999999999,89.119299999999996]
["2014-04-01",{"$f":"MONTH(Indice_RMR[[#This Row],[Período]])&YEAR(Indice_RMR[[#This Row],[Período]])","v":"42014"},108.2129,78.506900000000002,110.72069999999999,142.80850000000001,106.5659,116.19840000000001,88.157799999999995,205.07210000000001,128.25739999999999,84.287700000000001,125.0707,137.1711,80.652500000000003]
["2014-05-01",{"$f":"MONTH(Indice_RMR[[#This Row],[Período]])&YEAR(Indice_RMR[[#This Row],[Período]])","v":"52014"},110.1729,76.991900000000001,113.0468,140.17500000000001,97.818899999999999,121.6095,91.210300000000004,195.08600000000001,129.77000000000001,122.1692,169.1635,125.8146,59.140700000000002]
["2014-06-01",{"$f":"MONTH(Indice_RMR[[#This Row],[Período]])&YEAR(Indice_RMR[[#This Row],[Período]])","v":"62014"},104.6558,76.338300000000004,107.0448,134.13919999999999,98.486699999999999,122.8378,87.521299999999997,188.36170000000001,121.6604,85.531099999999995,126.0266,123.8661,71.338300000000004]
["2014-07-01",{"$f":"MONTH(Indice_RMR[[#This Row],[Período]])&YEAR(Indice_RMR[[#This Row],[Período]])","v":"72014"},109.47580000000001,81.811899999999994,111.7693,139.3888,102.479,121.6974,89.524699999999996,185.54,129.7396,99.510199999999998,128.58250000000001,129.1755,78.026499999999999]
["2014-08-01",{"$f":"MONTH(Indice_RMR[[#This Row],[Período]])&YEAR(Indice_RMR[[#This Row],[Período]])","v":"82014"},107.27809999999999,81.137299999999996,109.4238,150.41810000000001,106.4569,123.9131,94.579700000000003,229.40389999999999,121.6353,86.232500000000002,131.42850000000001,126.4141,73.199299999999994]
["2014-09-01",{"$f":"MONTH(Indice_RMR[[#This Row],[Período]])&YEAR(Indice_RMR[[#This Row],[Período]])","v":"92014"},111.0115,81.341300000000004,113.4984,144.54499999999999,122.315,125.306,87.329800000000006,226.4374,121.3272,83.942800000000005,146.27600000000001,128.58959999999999,78.268199999999993]
["2014-10-01",{"$f":"MONTH(Indice_RMR[[#This Row],[Período]])&YEAR(Indice_RMR[[#This Row],[Período]])","v":"102014"},110.8468,80.919399999999996,113.3591,143.7749,114.32389999999999,121.9756,88.709299999999999,217.5264,129.68440000000001,83.820599999999999,148.6071,127.7289,83.711100000000002]
["2014-11-01",{"$f":"MONTH(Indice_RMR[[#This Row],[Período]])&YEAR(Indice_RMR[[#This Row],[Período]])","v":"112014"},135.1626,97.272400000000005,138.3792,167.1849,206.21449999999999,143.2407,96.610600000000005,200.93860000000001,133.8143,149.68010000000001,157.9325,151.52189999999999,82.147300000000001]
["2014-12-01",{"$f":"MONTH(Indice_RMR[[#This Row],[Período]])&YEAR(Indice_RMR[[#This Row],[Período]])","v":"122014"},154.00899999999999,99.832800000000006,158.8656,194.56800000000001,213.3683,187.4143,157.51759999999999,416.40969999999999,160.19120000000001,161.78309999999999,194.79089999999999,209.2105,66.705200000000005]
["2015-01-01",{"$f":"MONTH(Indice_RMR[[#This Row],[Período]])&YEAR(Indice_RMR[[#This Row],[Período]])","v":"12015"},118.22199999999999,88.107600000000005,120.71120000000001,148.8913,116.7052,117.7473,154.18199999999999,262.52850000000001,136.47540000000001,107.44589999999999,148.9401,149.6353,79.413300000000007]
["2015-02-01",{"$f":"MONTH(Indice_RMR[[#This Row],[Período]])&YEAR(Indice_RMR[[#This Row],[Período]])","v":"22015"},125.80370000000001,135.6267,123.6039,137.88249999999999,114.16249999999999,117.9438,83.057699999999997,239.6722,115.4306,127.73390000000001,134.19880000000001,156.22749999999999,80.443299999999994]
["2015-03-01",{"$f":"MONTH(Indice_RMR[[#This Row],[Período]])&YEAR(Indice_RMR[[#This Row],[Período]])","v":"32015"},117.43380000000001,81.220399999999998,120.57389999999999,164.4494,106.4029,118.0916,145.61189999999999,245.45500000000001,128.5761,120.6109,136.88509999999999,134.36539999999999,74.498900000000006]
["2015-04-01",{"$f":"MONTH(Indice_RMR[[#This Row],[Período]])&YEAR(Indice_RMR[[#This Row],[Período]])","v":"42015"},109.96769999999999,76.889799999999994,112.8104,143.81139999999999,104.87779999999999,118.4508,95.846199999999996,214.13130000000001,139.9385,91.180499999999995,137.75319999999999,136.36699999999999,69.625399999999999]
["2015-05-01",{"$f":"MONTH(Indice_RMR[[#This Row],[Período]])&YEAR(Indice_RMR[[#This Row],[Período]])","v":"52015"},112.9415,75.8035,116.223,141.4194,111.6991,128.42930000000001,85.467299999999994,212.7175,127.3837,105.8685,187.785,129.66739999999999,69.107100000000003]
["2015-06-01",{"$f":"MONTH(Indice_RMR[[#This Row],[Período]])&YEAR(Indice_RMR[[#This Row],[Período]])","v":"62015"},109.27679999999999,76.9512,112.0399,138.23910000000001,118.13930000000001,128.7252,83.442800000000005,203.9409,121.499,89.804199999999994,147.22579999999999,127.7821,74.423000000000002]
["2015-07-01",{"$f":"MONTH(Indice_RMR[[#This Row],[Período]])&YEAR(Indice_RMR[[#This Row],[Período]])","v":"72015"},112.3994,81.7453,114.9401,138.7458,110.2978,127.0331,82.594800000000006,192.285,131.94229999999999,109.7807,138.95439999999999,136.57509999999999,68.548500000000004]
["2015-08-01",{"$f":"MONTH(Indice_RMR[[#This Row],[Período]])&YEAR(Indice_RMR[[#This Row],[Período]])","v":"82015"},108.4151,80.272199999999998,110.6942,136.87739999999999,110.9854,128.73650000000001,80.729100000000003,195.14609999999999,124.9067,89.981300000000005,138.01480000000001,133.3372,74.764099999999999]
["2015-09-01",{"$f":"MONTH(Indice_RMR[[#This Row],[Período]])&YEAR(Indice_RMR[[#This Row],[Período]])","v":"92015"},105.67700000000001,76.118899999999996,108.1397,135.06360000000001,115.38379999999999,126.9679,81.891999999999996,191.20750000000001,123.48099999999999,85.899199999999993,139.36349999999999,124.26690000000001,70.151399999999995]
["2015-10-01",{"$f":"MONTH(Indice_RMR[[#This Row],[Período]])&YEAR(Indice_RMR[[#This Row],[Período]])","v":"102015"},111.73560000000001,74.8476,115.0004,133.8717,115.9324,123.1028,81.261200000000002,197.7747,125.378,86.18,192.9161,134.3819,87.796499999999995]
["2015-11-01",{"$f":"MONTH(Indice_RMR[[#This Row],[Período]])&YEAR(Indice_RMR[[#This Row],[Período]])","v":"112015"},133.02440000000001,85.01,137.40389999999999,158.4813,195.05420000000001,148.9221,89.472300000000004,195.8647,132.4246,140.09960000000001,180.50059999999999,148.35210000000001,88.422799999999995]
["2015-12-01",{"$f":"MONTH(Indice_RMR[[#This Row],[Período]])&YEAR(Indice_RMR[[#This Row],[Período]])","v":"122015"},151.56710000000001,81.247600000000006,158.5497,189.86449999999999,195.7911,178.97730000000001,144.10390000000001,216.73509999999999,167.375,156.51329999999999,219.84219999999999,163.45349999999999,81.579499999999996]
["2016-01-01",{"$f":"MONTH(Indice_RMR[[#This Row],[Período]])&YEAR(Indice_RMR[[#This Row],[Período]])","v":"12016"},111.1378,78.728700000000003,113.9049,145.245,106.6529,123.72490000000001,148.5718,217.44120000000001,79.749700000000004,107.1695,148.31489999999999,146.01920000000001,71.433400000000006]
["2016-02-01",{"$f":"MONTH(Indice_RMR[[#This Row],[Período]])&YEAR(Indice_RMR[[#This Row],[Período]])","v":"22016"},117.7354,115.1202,116.79940000000001,135.97399999999999,110.7647,118.22450000000001,91.135900000000007,209.66149999999999,80.926100000000005,138.93809999999999,135.60499999999999,146.4753,69.359899999999996]
["2016-03-01",{"$f":"MONTH(Indice_RMR[[#This Row],[Período]])&YEAR(Indice_RMR[[#This Row],[Período]])","v":"32016"},115.48390000000001,72.554400000000001,119.4883,162.39279999999999,109.3874,116.8737,145.6669,209.58789999999999,81.158299999999997,104.6056,139.3734,127.37730000000001,83.188900000000004]
["2016-04-01",{"$f":"MONTH(Indice_RMR[[#This Row],[Período]])&YEAR(Indice_RMR[[#This Row],[Período]])","v":"42016"},106.73260000000001,79.097899999999996,108.9659,140.15870000000001,105.2954,117.0843,86.746600000000001,201.9358,80.586600000000004,89.826300000000003,148.91980000000001,124.98520000000001,77.686199999999999]
["2016-05-01",{"$f":"MONTH(Indice_RMR[[#This Row],[Período]])&YEAR(Indice_RMR[[#This Row],[Período]])","v":"52016"},106.5887,74.248999999999995,109.3997,138.6234,103.3708,125.7727,84.448899999999995,200.0301,76.3626,87.382000000000005,151.6369,121.58580000000001,79.293599999999998]
["2016-06-01",{"$f":"MONTH(Indice_RMR[[#This Row],[Período]])&YEAR(Indice_RMR[[#This Row],[Período]])","v":"62016"},105.6591,72.290899999999993,108.60469999999999,134.61580000000001,109.84950000000001,125.5223,81.978999999999999,219.73230000000001,69.336699999999993,88.8416,140.28,127.9539,81.453800000000001]
["2016-07-01",{"$f":"MONTH(Indice_RMR[[#This Row],[Período]])&YEAR(Indice_RMR[[#This Row],[Período]])","v":"72016"},109.79430000000001,84.705799999999996,111.7248,137.19,112.1718,127.11499999999999,88.808999999999997,263.43619999999999,79.008600000000001,92.107600000000005,123.2444,128.79640000000001,81.147599999999997]
["2016-08-01",{"$f":"MONTH(Indice_RMR[[#This Row],[Período]])&YEAR(Indice_RMR[[#This Row],[Período]])","v":"82016"},106.09180000000001,74.628900000000002,108.8104,137.17240000000001,108.5069,127.7936,89.717600000000004,243.54640000000001,76.769900000000007,87.435100000000006,119.1181,127.0611,85.971800000000002]
["2016-09-01",{"$f":"MONTH(Indice_RMR[[#This Row],[Período]])&YEAR(Indice_RMR[[#This Row],[Período]])","v":"92016"},105.1495,70.928799999999995,108.20189999999999,136.63310000000001,111.9843,129.7037,89.467100000000002,217.06379999999999,79.966399999999993,82.092100000000002,122.0185,129.5138,82.635400000000004]
["2016-10-01",{"$f":"MONTH(Indice_RMR[[#This Row],[Período]])&YEAR(Indice_RMR[[#This Row],[Período]])","v":"102016"},107.8554,70.160499999999999,111.2975,134.73169999999999,107.4415,126.61190000000001,84.387699999999995,244.10769999999999,76.766800000000003,85.299800000000005,156.93299999999999,136.87450000000001,91.563699999999997]
["2016-11-01",{"$f":"MONTH(Indice_RMR[[#This Row],[Período]])&YEAR(Indice_RMR[[#This Row],[Período]])","v":"112016"},126.80500000000001,81.088399999999993,131.0386,172.06659999999999,203.2577,148.6883,107.0538,238.4083,82.1511,105.62560000000001,154.33430000000001,149.70089999999999,90.503]
["2016-12-01",{"$f":"MONTH(Indice_RMR[[#This Row],[Período]])&YEAR(Indice_RMR[[#This Row],[Período]])","v":"122016"},158.71,103.41200000000001,163.78370000000001,208.28989999999999,216.2698,195.21850000000001,168.56899999999999,486.50490000000002,107.812,166.7004,221.18539999999999,203.29470000000001,70.673400000000001]
["2017-01-01",{"$f":"MONTH(Indice_RMR[[#This Row],[Período]])&YEAR(Indice_RMR[[#This Row],[Período]])","v":"12017"},117.5789,88.497799999999998,119.80419999999999,138.684,111.1446,124.5449,130.7466,265.79430000000002,89.512200000000007,110.3013,154.5472,147.8176,84.674800000000005]
["2017-02-01",{"$f":"MONTH(Indice_RMR[[#This Row],[Período]])&YEAR(Indice_RMR[[#This Row],[Período]])","v":"22017"},123.20189999999999,124.42010000000001,121.43089999999999,134.0762,116.1786,121.2872,96.575199999999995,356.35180000000003,87.999499999999998,110.97320000000001,127.71210000000001,148.14869999999999,86.122299999999996]
["2017-03-01",{"$f":"MONTH(Indice_RMR[[#This Row],[Período]])&YEAR(Indice_RMR[[#This Row],[Período]])","v":"32017"},120.27630000000001,83.456000000000003,123.46559999999999,155.3561,110.7218,122.6816,227.51650000000001,238.28960000000001,90.358500000000006,98.951800000000006,133.75970000000001,148.81299999999999,90.264799999999994]
["2017-04-01",{"$f":"MONTH(Indice_RMR[[#This Row],[Período]])&YEAR(Indice_RMR[[#This Row],[Período]])","v":"42017"},117.4444,77.936999999999998,121.0209,147.517,110.2989,120.1293,95.8917,236.3886,93.654899999999998,99.799700000000001,131.2595,140.97900000000001,89.005300000000005]
["2017-05-01",{"$f":"MONTH(Indice_RMR[[#This Row],[Período]])&YEAR(Indice_RMR[[#This Row],[Período]])","v":"52017"},114.3004,77.350899999999996,117.586,143.4007,109.5245,128.84610000000001,95.483999999999995,241.97380000000001,93.982500000000002,103.5595,101.22020000000001,134.51,91.126099999999994]
["2017-06-01",{"$f":"MONTH(Indice_RMR[[#This Row],[Período]])&YEAR(Indice_RMR[[#This Row],[Período]])","v":"62017"},112.52460000000001,80.042599999999993,115.2565,151.38,114.6563,141.07560000000001,99.391499999999994,231.07550000000001,94.947699999999998,90.596400000000003,112.0423,135.20439999999999,88.7714]
["2017-07-01",{"$f":"MONTH(Indice_RMR[[#This Row],[Período]])&YEAR(Indice_RMR[[#This Row],[Período]])","v":"72017"},114.2034,72.600200000000001,118.0659,142.59719999999999,111.739,136.64019999999999,97.795400000000001,230.6344,95.242900000000006,99.677000000000007,125.1263,151.6061,87.293499999999995]
["2017-08-01",{"$f":"MONTH(Indice_RMR[[#This Row],[Período]])&YEAR(Indice_RMR[[#This Row],[Período]])","v":"82017"},113.95010000000001,77.305099999999996,117.2039,139.90020000000001,116.56740000000001,129.3536,97.359099999999998,330.28469999999999,95.399199999999993,92.816299999999998,104.7826,137.58510000000001,89.803799999999995]
["2017-09-01",{"$f":"MONTH(Indice_RMR[[#This Row],[Período]])&YEAR(Indice_RMR[[#This Row],[Período]])","v":"92017"},111.2186,70.581800000000001,115.0001,149.15180000000001,121.7684,133.7029,95.217399999999998,262.2482,93.125,87.5124,100.2163,143.33250000000001,87.288700000000006]
["2017-10-01",{"$f":"MONTH(Indice_RMR[[#This Row],[Período]])&YEAR(Indice_RMR[[#This Row],[Período]])","v":"102017"},112.1247,75.2072,115.44159999999999,140.4401,124.07559999999999,130.11240000000001,135.87909999999999,282.47840000000002,100.3626,87.047799999999995,103.0091,145.01920000000001,89.884399999999999]
["2017-11-01",{"$f":"MONTH(Indice_RMR[[#This Row],[Período]])&YEAR(Indice_RMR[[#This Row],[Período]])","v":"112017"},132.39449999999999,83.460899999999995,136.96379999999999,178.76320000000001,202.9135,154.32380000000001,112.99250000000001,305.98719999999997,112.8417,107.4494,107.0214,153.33879999999999,90.194699999999997]
["2017-12-01",{"$f":"MONTH(Indice_RMR[[#This Row],[Período]])&YEAR(Indice_RMR[[#This Row],[Período]])","v":"122017"},166.73220000000001,143.29339999999999,167.82089999999999,208.12049999999999,212.4247,202.8914,162.05590000000001,508.29059999999998,144.6011,139.5275,155.31530000000001,223.90799999999999,100.7567]
["2018-01-01",{"$f":"MONTH(Indice_RMR[[#This Row],[Período]])&YEAR(Indice_RMR[[#This Row],[Período]])","v":"12018"},122.52119999999999,82.602599999999995,126.09439999999999,151.8749,117.9847,129.70740000000001,112.9425,284.74400000000003,92.203599999999994,124.4987,138.52590000000001,150.8134,84.381299999999996]
["2018-02-01",{"$f":"MONTH(Indice_RMR[[#This Row],[Período]])&YEAR(Indice_RMR[[#This Row],[Período]])","v":"22018"},124.6407,151.73079999999999,120.0311,137.8296,110.2379,123.9024,97.294200000000004,237.21449999999999,86.739599999999996,94.916799999999995,97.984099999999998,165.98439999999999,83.548699999999997]
["2018-03-01",{"$f":"MONTH(Indice_RMR[[#This Row],[Período]])&YEAR(Indice_RMR[[#This Row],[Período]])","v":"32018"},119.4162,81.173900000000003,122.81659999999999,154.6643,110.93810000000001,126.4736,204.92490000000001,247.73169999999999,92.330200000000005,104.94199999999999,107.32680000000001,178.33500000000001,88.848500000000001]
["2018-04-01",{"$f":"MONTH(Indice_RMR[[#This Row],[Período]])&YEAR(Indice_RMR[[#This Row],[Período]])","v":"42018"},113.9337,86.750799999999998,116.0515,142.97839999999999,113.4948,123.92019999999999,101.74769999999999,237.13640000000001,92.359300000000005,87.422600000000003,100.36069999999999,138.76679999999999,88.088099999999997]
["2018-05-01",{"$f":"MONTH(Indice_RMR[[#This Row],[Período]])&YEAR(Indice_RMR[[#This Row],[Período]])","v":"52018"},115.5103,79.561999999999998,118.6767,138.12639999999999,117.4956,131.80879999999999,103.7038,239.03460000000001,92.890900000000002,115.03879999999999,105.7133,143.22710000000001,88.2376]
["2018-06-01",{"$f":"MONTH(Indice_RMR[[#This Row],[Período]])&YEAR(Indice_RMR[[#This Row],[Período]])","v":"62018"},108.9298,76.954899999999995,111.6801,141.66300000000001,104.10899999999999,128.5523,92.15,245.8826,91.557400000000001,80.948300000000003,120.2426,135.2672,83.486000000000004]
["2018-07-01",{"$f":"MONTH(Indice_RMR[[#This Row],[Período]])&YEAR(Indice_RMR[[#This Row],[Período]])","v":"72018"},113.52500000000001,76.575699999999998,116.831,144.50370000000001,115.0368,129.68979999999999,94.540199999999999,253.8689,94.318799999999996,91.507400000000004,139.3954,145.30160000000001,83.426699999999997]
["2018-08-01",{"$f":"MONTH(Indice_RMR[[#This Row],[Período]])&YEAR(Indice_RMR[[#This Row],[Período]])","v":"82018"},111.2901,80.253399999999999,113.8959,137.0532,115.52419999999999,127.45,93.989500000000007,232.66380000000001,91.191299999999998,87.495099999999994,141.89019999999999,137.34180000000001,84.168899999999994]
["2018-09-01",{"$f":"MONTH(Indice_RMR[[#This Row],[Período]])&YEAR(Indice_RMR[[#This Row],[Período]])","v":"92018"},107.0056,77.414699999999996,109.4804,138.22819999999999,120.4014,130.7346,97.736500000000007,241.5797,90.273799999999994,79.708500000000001,111.5813,139.7475,76.753299999999996]
["2018-10-01",{"$f":"MONTH(Indice_RMR[[#This Row],[Período]])&YEAR(Indice_RMR[[#This Row],[Período]])","v":"102018"},112.0369,81.276200000000003,114.59139999999999,139.86099999999999,122.7542,123.6506,141.2149,250.38890000000001,94.3643,82.1751,117.0668,146.89340000000001,89.596299999999999]
["2018-11-01",{"$f":"MONTH(Indice_RMR[[#This Row],[Período]])&YEAR(Indice_RMR[[#This Row],[Período]])","v":"112018"},127.4589,85.103099999999998,131.2775,161.6499,215.29759999999999,148.5,103.5979,231.91159999999999,101.89,105.157,115.7235,166.44540000000001,91.001900000000006]
["2018-12-01",{"$f":"MONTH(Indice_RMR[[#This Row],[Período]])&YEAR(Indice_RMR[[#This Row],[Período]])","v":"122018"},170.80850000000001,147.84870000000001,171.75559999999999,198.26390000000001,220.8948,192.9667,168.8441,518.29520000000002,119.2696,146.19110000000001,179.24340000000001,222.4991,85.591800000000006]
["2019-01-01",{"$f":"MONTH(Indice_RMR[[#This Row],[Período]])&YEAR(Indice_RMR[[#This Row],[Período]])","v":"12019"},121.70140000000001,84.822199999999995,124.905,152.31649999999999,120.46420000000001,126.10550000000001,103.98699999999999,256.9135,87.956599999999995,106.5616,165.1164,162.2807,87.6922]
["2019-02-01",{"$f":"MONTH(Indice_RMR[[#This Row],[Período]])&YEAR(Indice_RMR[[#This Row],[Período]])","v":"22019"},119.893,126.6386,117.68559999999999,140.47309999999999,115.3194,119.6391,92.921300000000002,242.39269999999999,82.357100000000003,93.456800000000001,121.21420000000001,164.07749999999999,87.870699999999999]
["2019-03-01",{"$f":"MONTH(Indice_RMR[[#This Row],[Período]])&YEAR(Indice_RMR[[#This Row],[Período]])","v":"32019"},116.9462,80.421599999999998,120.161,149.94390000000001,115.8676,120.7968,217.4931,243.3777,82.356099999999998,106.6373,116.90170000000001,161.8723,90.477400000000003]
["2019-04-01",{"$f":"MONTH(Indice_RMR[[#This Row],[Período]])&YEAR(Indice_RMR[[#This Row],[Período]])","v":"42019"},110.7265,79.529399999999995,113.3588,146.6241,116.3861,121.82210000000001,98.953599999999994,250.78700000000001,95.503699999999995,83.902699999999996,114.6478,134.27160000000001,87.926599999999993]
["2019-05-01",{"$f":"MONTH(Indice_RMR[[#This Row],[Período]])&YEAR(Indice_RMR[[#This Row],[Período]])","v":"52019"},116.0035,84.1798,118.66679999999999,144.9034,122.5796,126.75620000000001,92.763999999999996,244.73079999999999,97.254499999999993,114.8661,117.7851,135.9718,88.7761]
["2019-06-01",{"$f":"MONTH(Indice_RMR[[#This Row],[Período]])&YEAR(Indice_RMR[[#This Row],[Período]])","v":"62019"},111.46429999999999,82.6524,113.8094,143.94730000000001,118.5689,134.21190000000001,104.0179,250.0617,97.577299999999994,86.178100000000001,118.2114,137.66560000000001,90.253600000000006]
["2019-07-01",{"$f":"MONTH(Indice_RMR[[#This Row],[Período]])&YEAR(Indice_RMR[[#This Row],[Período]])","v":"72019"},112.7278,83.601699999999994,115.09820000000001,141.16380000000001,123.2015,131.0675,99.234899999999996,241.28290000000001,97.376800000000003,94.185400000000001,112.61620000000001,172.08019999999999,89.483599999999996]
["2019-08-01",{"$f":"MONTH(Indice_RMR[[#This Row],[Período]])&YEAR(Indice_RMR[[#This Row],[Período]])","v":"82019"},109.4482,83.482399999999998,111.47839999999999,142.13419999999999,121.9569,123.4806,91.196899999999999,251.2313,93.096400000000003,80.982699999999994,109.63500000000001,159.04320000000001,88.763199999999998]
["2019-09-01",{"$f":"MONTH(Indice_RMR[[#This Row],[Período]])&YEAR(Indice_RMR[[#This Row],[Período]])","v":"92019"},108.9237,84.673400000000001,110.74469999999999,143.6413,121.1579,125.5842,90.353200000000001,253.0735,89.186400000000006,81.120999999999995,106.88809999999999,154.62090000000001,88.944500000000005]
["2019-10-01",{"$f":"MONTH(Indice_RMR[[#This Row],[Período]])&YEAR(Indice_RMR[[#This Row],[Período]])","v":"102019"},110.88849999999999,84.814300000000003,112.90860000000001,143.6165,121.9053,120.4755,99.2727,274.16149999999999,98.219700000000003,82.408600000000007,115.3052,152.07380000000001,88.162000000000006]
["2019-11-01",{"$f":"MONTH(Indice_RMR[[#This Row],[Período]])&YEAR(Indice_RMR[[#This Row],[Período]])","v":"112019"},129.39449999999999,91.076700000000002,132.70910000000001,170.25909999999999,212.3854,148.0504,137.5814,329.17469999999997,98.805099999999996,104.5115,115.3188,159.49950000000001,88.5411]
["2019-12-01",{"$f":"MONTH(Indice_RMR[[#This Row],[Período]])&YEAR(Indice_RMR[[#This Row],[Período]])","v":"122019"},168.2406,148.92339999999999,168.86439999999999,209.8614,209.2525,163.44919999999999,173.5102,534.40560000000005,112.733,144.6626,156.5043,199.30510000000001,104.04559999999999]
["2020-01-01",{"$f":"MONTH(Indice_RMR[[#This Row],[Período]])&YEAR(Indice_RMR[[#This Row],[Período]])","v":"12020"},120.1523,86.131399999999999,123.03660000000001,146.61500000000001,122.6331,112.11709999999999,119.7182,247.41220000000001,90.113399999999999,114.3399,125.0822,157.33609999999999,92.483500000000006]
["2020-02-01",{"$f":"MONTH(Indice_RMR[[#This Row],[Período]])&YEAR(Indice_RMR[[#This Row],[Período]])","v":"22020"},116.5641,127.8326,114.03879999999999,145.62469999999999,120.25579999999999,114.67919999999999,97.877600000000001,227.76169999999999,89.452299999999994,93.9422,117.26519999999999,146.7886,87.082999999999998]
["2020-03-01",{"$f":"MONTH(Indice_RMR[[#This Row],[Período]])&YEAR(Indice_RMR[[#This Row],[Período]])","v":"32020"},117.1464,95.710800000000006,118.5578,148.90940000000001,123.62,117.828,241.47989999999999,304.47199999999998,98.574399999999997,89.192599999999999,132.81739999999999,156.8212,90.9619]
["2020-04-01",{"$f":"MONTH(Indice_RMR[[#This Row],[Período]])&YEAR(Indice_RMR[[#This Row],[Período]])","v":"42020"},116.1724,85.457700000000003,118.6866,143.41390000000001,121.8262,93.885900000000007,103.4106,188.3836,85.722999999999999,127.47150000000001,126.08159999999999,152.92760000000001,85.882800000000003]
["2020-05-01",{"$f":"MONTH(Indice_RMR[[#This Row],[Período]])&YEAR(Indice_RMR[[#This Row],[Período]])","v":"52020"},102.2199,83.799599999999998,103.3013,138.11439999999999,114.97029999999999,96.167400000000001,97.646100000000004,176.39340000000001,79.270300000000006,74.583600000000004,135.68709999999999,133.63460000000001,81.805099999999996]
["2020-06-01",{"$f":"MONTH(Indice_RMR[[#This Row],[Período]])&YEAR(Indice_RMR[[#This Row],[Período]])","v":"62020"},106.85299999999999,88.432500000000005,107.8441,146.95429999999999,119.5789,101.5218,96.486800000000002,197.72720000000001,89.8523,72.422499999999999,136.3442,135.28899999999999,80.387]
["2020-07-01",{"$f":"MONTH(Indice_RMR[[#This Row],[Período]])&YEAR(Indice_RMR[[#This Row],[Período]])","v":"72020"},111.0949,88.428299999999993,112.5534,137.49799999999999,125.3912,117.0874,97.605599999999995,213.38650000000001,99.647400000000005,79.473299999999995,137.7439,136.39869999999999,83.614400000000003]
["2020-08-01",{"$f":"MONTH(Indice_RMR[[#This Row],[Período]])&YEAR(Indice_RMR[[#This Row],[Período]])","v":"82020"},112.232,89.436700000000002,113.6977,142.75309999999999,124.3043,117.8068,96.371300000000005,211.10050000000001,90.838099999999997,78.162499999999994,145.55009999999999,128.14670000000001,86.204099999999997]
["2020-09-01",{"$f":"MONTH(Indice_RMR[[#This Row],[Período]])&YEAR(Indice_RMR[[#This Row],[Período]])","v":"92020"},111.3625,85.614800000000002,113.23139999999999,139.4847,126.8441,117.3858,103.44710000000001,223.13630000000001,92.873900000000006,82.816400000000002,137.7346,136.93199999999999,86.675700000000006]
["2020-10-01",{"$f":"MONTH(Indice_RMR[[#This Row],[Período]])&YEAR(Indice_RMR[[#This Row],[Período]])","v":"102020"},108.8579,84.371600000000001,110.5728,139.62440000000001,122.4576,112.45440000000001,93.4465,196.5257,91.816599999999994,78.076800000000006,115.2799,128.07220000000001,85.816900000000004]
["2020-11-01",{"$f":"MONTH(Indice_RMR[[#This Row],[Período]])&YEAR(Indice_RMR[[#This Row],[Período]])","v":"112020"},128.72739999999999,99.157700000000006,130.8776,158.00550000000001,220.2347,135.27799999999999,103.8938,211.4563,100.9323,98.597999999999999,162.97460000000001,141.73769999999999,85.915899999999993]
["2020-12-01",{"$f":"MONTH(Indice_RMR[[#This Row],[Período]])&YEAR(Indice_RMR[[#This Row],[Período]])","v":"122020"},162.62790000000001,152.97020000000001,161.64340000000001,183.3066,220.001,171.61199999999999,198.22470000000001,384.34469999999999,142.65870000000001,129.63220000000001,188.07740000000001,207.1086,89.397800000000004]
["2021-01-01",{"$f":"MONTH(Indice_RMR[[#This Row],[Período]])&YEAR(Indice_RMR[[#This Row],[Período]])","v":"12021"},114.88,100.59439999999999,115.2145,140.92099999999999,100.2376,118.0204,110.07680000000001,196.60050000000001,89.497299999999996,98.022599999999997,123.5228,146.5761,82.011300000000006]
["2021-02-01",{"$f":"MONTH(Indice_RMR[[#This Row],[Período]])&YEAR(Indice_RMR[[#This Row],[Período]])","v":"22021"},115.0273,139.3331,110.3258,138.59139999999999,122.4408,114.1357,96.076400000000007,181.27969999999999,86.4315,98.604100000000003,108.33369999999999,120.9646,78.162700000000001]
["2021-03-01",{"$f":"MONTH(Indice_RMR[[#This Row],[Período]])&YEAR(Indice_RMR[[#This Row],[Período]])","v":"32021"},110.04389999999999,107.9918,108.8725,144.9254,109.30329999999999,114.74209999999999,168.48050000000001,184.71469999999999,83.354299999999995,74.278800000000004,111.0034,148.7475,77.261200000000002]
["2021-04-01",{"$f":"MONTH(Indice_RMR[[#This Row],[Período]])&YEAR(Indice_RMR[[#This Row],[Período]])","v":"42021"},111.66589999999999,86.364900000000006,113.4888,139.1217,106.56010000000001,112.2963,101.0936,200.6986,84.835700000000003,110.0968,107.5343,125.58320000000001,75.079599999999999]
["2021-05-01",{"$f":"MONTH(Indice_RMR[[#This Row],[Período]])&YEAR(Indice_RMR[[#This Row],[Período]])","v":"52021"},104.6039,86.299300000000002,105.5539,134.99430000000001,108.5538,110.4526,94.412499999999994,197.0615,85.636200000000002,72.142499999999998,127.4987,126.5316,75.481999999999999]
["2021-06-01",{"$f":"MONTH(Indice_RMR[[#This Row],[Período]])&YEAR(Indice_RMR[[#This Row],[Período]])","v":"62021"},103.92959999999999,88.290400000000005,104.5748,134.71,96.624600000000001,116.663,94.784899999999993,181.42689999999999,88.3215,82.223200000000006,122.2617,120.47490000000001,76.733000000000004]
["2021-07-01",{"$f":"MONTH(Indice_RMR[[#This Row],[Período]])&YEAR(Indice_RMR[[#This Row],[Período]])","v":"72021"},102.68940000000001,86.478700000000003,103.3853,134.4444,107.4387,112.6382,95.195099999999996,186.69820000000001,86.709500000000006,80.911500000000004,125.07089999999999,139.65360000000001,74.633399999999995]
["2021-08-01",{"$f":"MONTH(Indice_RMR[[#This Row],[Período]])&YEAR(Indice_RMR[[#This Row],[Período]])","v":"82021"},99.820700000000002,84.5578,100.455,133.04849999999999,114.4207,114.7577,93.643900000000002,184.19839999999999,81.277100000000004,72.631699999999995,114.0763,126.6262,74.482500000000002]
["2021-09-01",{"$f":"MONTH(Indice_RMR[[#This Row],[Período]])&YEAR(Indice_RMR[[#This Row],[Período]])","v":"92021"},99.486199999999997,87.989500000000007,99.585899999999995,130.2987,102.7162,114.0047,88.9221,189.30029999999999,80.806100000000001,71.7102,111.3807,126.9937,73.427300000000002]
["2021-10-01",{"$f":"MONTH(Indice_RMR[[#This Row],[Período]])&YEAR(Indice_RMR[[#This Row],[Período]])","v":"102021"},104.8519,93.130600000000001,104.9188,145.93960000000001,127.43859999999999,112.1319,91.5745,190.01439999999999,85.287000000000006,72.540000000000006,128.22399999999999,124.28879999999999,77.482699999999994]
["2021-11-01",{"$f":"MONTH(Indice_RMR[[#This Row],[Período]])&YEAR(Indice_RMR[[#This Row],[Período]])","v":"112021"},117.3193,96.759900000000002,118.4111,150.43629999999999,204.2638,136.82470000000001,95.404600000000002,207.1728,93.405199999999994,91.920500000000004,146.77279999999999,133.6438,78.093599999999995]
["2021-12-01",{"$f":"MONTH(Indice_RMR[[#This Row],[Período]])&YEAR(Indice_RMR[[#This Row],[Período]])","v":"122021"},151.69149999999999,155.59219999999999,148.81389999999999,180.03579999999999,219.8758,177.45490000000001,215.86580000000001,385.66289999999998,115.42870000000001,137.94399999999999,173.6823,194.02869999999999,80.064700000000002]
["2022-01-01",{"$f":"MONTH(Indice_RMR[[#This Row],[Período]])&YEAR(Indice_RMR[[#This Row],[Período]])","v":"12022"},107.9041,92.622,108.39230000000001,132.0822,104.099,122.2912,101.45569999999999,293.52690000000001,85.459000000000003,102.13809999999999,113.9144,134.51920000000001,80.414900000000003]
["2022-02-01",{"$f":"MONTH(Indice_RMR[[#This Row],[Período]])&YEAR(Indice_RMR[[#This Row],[Período]])","v":"22022"},116.63939999999999,122.795,114.2135,137.64609999999999,130.40809999999999,111.2243,106.5051,177.9246,82.546800000000005,137.8075,112.81780000000001,144.00749999999999,76.602999999999994]
["2022-03-01",{"$f":"MONTH(Indice_RMR[[#This Row],[Período]])&YEAR(Indice_RMR[[#This Row],[Período]])","v":"32022"},115.59220000000001,106.7627,115.217,133.33850000000001,106.92,111.79900000000001,251.92410000000001,178.49590000000001,83.446700000000007,122.0168,135.1678,155.69159999999999,76.723299999999995]
["2022-04-01",{"$f":"MONTH(Indice_RMR[[#This Row],[Período]])&YEAR(Indice_RMR[[#This Row],[Período]])","v":"42022"},104.65770000000001,93.890500000000003,104.7597,136.81020000000001,112.0802,112.09569999999999,89.227999999999994,182.38900000000001,90.626400000000004,79.128200000000007,142.4546,123.5337,74.896299999999997]
["2022-05-01",{"$f":"MONTH(Indice_RMR[[#This Row],[Período]])&YEAR(Indice_RMR[[#This Row],[Período]])","v":"52022"},103.9472,92.674099999999996,104.16930000000001,128.8597,120.4207,121.2978,94.153700000000001,174.03919999999999,87.164500000000004,76.561300000000003,149.619,122.1296,76.350499999999997]
["2022-06-01",{"$f":"MONTH(Indice_RMR[[#This Row],[Período]])&YEAR(Indice_RMR[[#This Row],[Período]])","v":"62022"},103.3784,91.462800000000001,103.617,129.52520000000001,107.1439,122.2196,96.363699999999994,173.98750000000001,82.868099999999998,80.028999999999996,146.30950000000001,109.3539,75.741399999999999]
["2022-07-01",{"$f":"MONTH(Indice_RMR[[#This Row],[Período]])&YEAR(Indice_RMR[[#This Row],[Período]])","v":"72022"},109.43,95.168099999999995,109.9546,147.6661,113.6982,121.8857,100.81789999999999,191.65719999999999,95.224900000000005,84.563000000000002,146.68879999999999,121.47199999999999,77.083600000000004]
["2022-08-01",{"$f":"MONTH(Indice_RMR[[#This Row],[Período]])&YEAR(Indice_RMR[[#This Row],[Período]])","v":"82022"},106.0339,88.915599999999998,106.9175,134.29409999999999,116.53619999999999,119.44799999999999,94.655699999999996,189.7912,94.672499999999999,77.852000000000004,157.68170000000001,117.4136,80.269599999999997]
["2022-09-01",{"$f":"MONTH(Indice_RMR[[#This Row],[Período]])&YEAR(Indice_RMR[[#This Row],[Período]])","v":"92022"},107.7821,91.971599999999995,108.4682,146.00919999999999,127.78149999999999,122.5343,97.999700000000004,205.6848,86.461399999999998,78.8459,156.61269999999999,123.895,77.595399999999998]
["2022-10-01",{"$f":"MONTH(Indice_RMR[[#This Row],[Período]])&YEAR(Indice_RMR[[#This Row],[Período]])","v":"102022"},108.52070000000001,91.641300000000001,109.33280000000001,136.90119999999999,125.60509999999999,122.0992,92.51,203.4709,97.700900000000004,77.688800000000001,150.7722,119.1947,79.062100000000001]
["2022-11-01",{"$f":"MONTH(Indice_RMR[[#This Row],[Período]])&YEAR(Indice_RMR[[#This Row],[Período]])","v":"112022"},125.4438,99.214299999999994,127.236,162.46100000000001,205.3476,143.64570000000001,115.51130000000001,219.64789999999999,105.9918,91.416399999999996,176.64769999999999,128.89410000000001,81.659700000000001]
["2022-12-01",{"$f":"MONTH(Indice_RMR[[#This Row],[Período]])&YEAR(Indice_RMR[[#This Row],[Período]])","v":"122022"},164.4324,169.4588,161.52789999999999,183.77600000000001,217.36259999999999,193.07689999999999,212.54300000000001,421.51429999999999,156.96700000000001,136.82320000000001,229.22909999999999,194.01220000000001,89.635999999999996]
["2023-01-01",{"$f":"MONTH(Indice_RMR[[#This Row],[Período]])&YEAR(Indice_RMR[[#This Row],[Período]])","v":"12023"},119.3198,97.613900000000001,120.5515,143.29669999999999,110.8879,117.59520000000001,104.60339999999999,356.50799999999998,99.930499999999995,106.96380000000001,158.60759999999999,128.67230000000001,83.228800000000007]
["2023-02-01",{"$f":"MONTH(Indice_RMR[[#This Row],[Período]])&YEAR(Indice_RMR[[#This Row],[Período]])","v":"22023"},114.9502,107.5351,114.4106,134.54159999999999,109.63979999999999,114.93340000000001,101.4859,192.7176,97.396199999999993,114.8481,138.94069999999999,128.10679999999999,77.582999999999998]

{"sheet":"UCI_MG_setores","index":9,"n_rows":245,"n_cols":15,"rows_kept":245,"cut":false,"hidden":false,"merged":[]}
[null,null,"Base 2006=100"]
[null,null,"Utilização da Capacidade Instalada"]
["Período","Mês","Indústria Geral","Indústria Extrativa","Indústria de Transformação","10-Alimentos","11-Bebidas","13-Produtos têxteis","17-Celulose e papel","19-Coque e derivados de petróleo","23-Prod. minerais não metálicos","24-Metalurgia","25-Produtos de metal","27- Materiais elétricos","29-Veículos automotores"]
["2003-01-01",{"$f":"MONTH(Indice_UCI[[#This Row],[Período]])&YEAR(Indice_UCI[[#This Row],[Período]])","v":"12003"},82.187700000000007,95.084299999999999,81.430099999999996,77.851600000000005,67.567099999999996,85.848500000000001,94.299899999999994,98.460700000000003,85.215999999999994,90.956299999999999,88.643500000000003,83.183400000000006,68.165800000000004]
["2003-02-01",{"$f":"MONTH(Indice_UCI[[#This Row],[Período]])&YEAR(Indice_UCI[[#This Row],[Período]])","v":"22003"},80.461799999999997,93.956500000000005,79.6691,75.537599999999998,71.032399999999996,81.304900000000004,94.276899999999998,93.2316,85.364599999999996,87.741,84.711500000000001,85.641999999999996,68.933300000000003]
["2003-03-01",{"$f":"MONTH(Indice_UCI[[#This Row],[Período]])&YEAR(Indice_UCI[[#This Row],[Período]])","v":"32003"},81.069800000000001,96.079400000000007,80.188100000000006,78.183800000000005,67.068899999999999,81.622,86.386399999999995,92.136300000000006,85.555199999999999,92.525499999999994,83.120599999999996,86.005099999999999,70.425799999999995]
["2003-04-01",{"$f":"MONTH(Indice_UCI[[#This Row],[Período]])&YEAR(Indice_UCI[[#This Row],[Período]])","v":"42003"},79.6678,96.935900000000004,79.228200000000001,75.743300000000005,64.279499999999999,81.922499999999999,85.910300000000007,83.7864,85.325000000000003,88.657200000000003,85.082899999999995,87.494200000000006,69.923500000000004]
["2003-05-01",{"$f":"MONTH(Indice_UCI[[#This Row],[Período]])&YEAR(Indice_UCI[[#This Row],[Período]])","v":"52003"},79.799800000000005,95.523200000000003,79.228200000000001,73.346199999999996,68.9602,84.466899999999995,86.802800000000005,85.306399999999996,87.020399999999995,93.200599999999994,83.8523,88.178799999999995,69.038899999999998]
["2003-06-01",{"$f":"MONTH(Indice_UCI[[#This Row],[Período]])&YEAR(Indice_UCI[[#This Row],[Período]])","v":"62003"},80.394800000000004,96.408600000000007,79.471100000000007,74.937399999999997,66.167299999999997,88.256100000000004,84.334299999999999,85.736699999999999,85.725899999999996,93.844700000000003,84.458500000000001,87.995699999999999,69.637799999999999]
["2003-07-01",{"$f":"MONTH(Indice_UCI[[#This Row],[Período]])&YEAR(Indice_UCI[[#This Row],[Período]])","v":"72003"},79.884399999999999,95.572699999999998,78.979399999999998,75.328000000000003,62.130800000000001,87.579700000000003,84.804299999999998,89.808700000000002,88.818299999999994,92.207599999999999,83.671400000000006,87.397300000000001,65.914000000000001]
["2003-08-01",{"$f":"MONTH(Indice_UCI[[#This Row],[Período]])&YEAR(Indice_UCI[[#This Row],[Período]])","v":"82003"},79.667199999999994,96.0672,78.840599999999995,75.649500000000003,70.318100000000001,88.759600000000006,83.044200000000004,93.501599999999996,86.1447,94.0184,85.070400000000006,86.785799999999995,66.716200000000001]
["2003-09-01",{"$f":"MONTH(Indice_UCI[[#This Row],[Período]])&YEAR(Indice_UCI[[#This Row],[Período]])","v":"92003"},80.900700000000001,96.872900000000001,79.979299999999995,77.740600000000001,67.888300000000001,88.988100000000003,90.558499999999995,93.668599999999998,87.455299999999994,93.3857,87.5642,89.170400000000001,66.513300000000001]
["2003-10-01",{"$f":"MONTH(Indice_UCI[[#This Row],[Período]])&YEAR(Indice_UCI[[#This Row],[Período]])","v":"102003"},80.906800000000004,96.314700000000002,80.018000000000001,79.229900000000001,74.763499999999993,88.453599999999994,87.686000000000007,90.326300000000003,87.447100000000006,91.870999999999995,90.073499999999996,87.950800000000001,67.561300000000003]
["2003-11-01",{"$f":"MONTH(Indice_UCI[[#This Row],[Período]])&YEAR(Indice_UCI[[#This Row],[Período]])","v":"112003"},81.684600000000003,96.593900000000005,80.808800000000005,77.752700000000004,73.019900000000007,88.702699999999993,91.364599999999996,84.796400000000006,87.753500000000003,91.255099999999999,89.923100000000005,87.206999999999994,66.235299999999995]
["2003-12-01",{"$f":"MONTH(Indice_UCI[[#This Row],[Período]])&YEAR(Indice_UCI[[#This Row],[Período]])","v":"122003"},80.840199999999996,93.144800000000004,80.117400000000004,76.133600000000001,79.134,88.649299999999997,87.640799999999999,88.8245,86.737200000000001,89.986400000000003,92.034999999999997,81.793800000000005,69.975499999999997]
["2004-01-01",{"$f":"MONTH(Indice_UCI[[#This Row],[Período]])&YEAR(Indice_UCI[[#This Row],[Período]])","v":"12004"},80.246899999999997,95.052199999999999,79.377200000000002,72.611599999999996,63.4617,88.849400000000003,86.539000000000001,97.919700000000006,89.5441,92.643699999999995,91.281700000000001,85.524000000000001,69.981099999999998]
["2004-02-01",{"$f":"MONTH(Indice_UCI[[#This Row],[Período]])&YEAR(Indice_UCI[[#This Row],[Período]])","v":"22004"},79.775499999999994,93.639899999999997,78.961100000000002,72.930599999999998,63.650399999999998,86.945099999999996,84.481700000000004,98.486199999999997,87.493499999999997,90.910799999999995,90.855000000000004,86.2256,69.717200000000005]
["2004-03-01",{"$f":"MONTH(Indice_UCI[[#This Row],[Período]])&YEAR(Indice_UCI[[#This Row],[Período]])","v":"32004"},82.195999999999998,94.197199999999995,81.491,75.022999999999996,63.216200000000001,89.837999999999994,92.118700000000004,98.429000000000002,88.857399999999998,93.754800000000003,88.700100000000006,89.123800000000003,71.009500000000003]
["2004-04-01",{"$f":"MONTH(Indice_UCI[[#This Row],[Período]])&YEAR(Indice_UCI[[#This Row],[Período]])","v":"42004"},81.658600000000007,95.748699999999999,80.8309,74.577399999999997,64.978800000000007,89.047600000000003,84.789599999999993,96.795500000000004,87.404499999999999,93.421000000000006,89.366699999999994,88.2059,71.011600000000001]
["2004-05-01",{"$f":"MONTH(Indice_UCI[[#This Row],[Período]])&YEAR(Indice_UCI[[#This Row],[Período]])","v":"52004"},82.296300000000002,96.442400000000006,81.465299999999999,72.963499999999996,65.292000000000002,89.069699999999997,88.837400000000002,77.604500000000002,89.839600000000004,95.727400000000003,90.362099999999998,89.77,71.987799999999993]
["2004-06-01",{"$f":"MONTH(Indice_UCI[[#This Row],[Período]])&YEAR(Indice_UCI[[#This Row],[Período]])","v":"62004"},82.895099999999999,94.942499999999995,82.187399999999997,75.049400000000006,57.799799999999998,89.280500000000004,86.121899999999997,83.331000000000003,89.316999999999993,94.614599999999996,90.133200000000002,88.701800000000006,72.006900000000002]
["2004-07-01",{"$f":"MONTH(Indice_UCI[[#This Row],[Período]])&YEAR(Indice_UCI[[#This Row],[Período]])","v":"72004"},82.888000000000005,94.483000000000004,82.206900000000005,74.878299999999996,63.377699999999997,89.769499999999994,86.775000000000006,82.583699999999993,90.778400000000005,96.591399999999993,88.084599999999995,87.623800000000003,70.464200000000005]
["2004-08-01",{"$f":"MONTH(Indice_UCI[[#This Row],[Período]])&YEAR(Indice_UCI[[#This Row],[Período]])","v":"82004"},83.224500000000006,95.306200000000004,82.514799999999994,76.466899999999995,67.387,89.626900000000006,89.090699999999998,85.472099999999998,91.966800000000006,95.463800000000006,89.444699999999997,89.6357,72.194299999999998]
["2004-09-01",{"$f":"MONTH(Indice_UCI[[#This Row],[Período]])&YEAR(Indice_UCI[[#This Row],[Período]])","v":"92004"},83.909000000000006,95.116,83.250699999999995,79.974100000000007,72.522300000000001,88.058700000000002,86.970299999999995,84.474900000000005,91.112099999999998,94.511799999999994,82.689499999999995,87.354299999999995,75.806399999999996]
["2004-10-01",{"$f":"MONTH(Indice_UCI[[#This Row],[Período]])&YEAR(Indice_UCI[[#This Row],[Período]])","v":"102004"},84.266800000000003,95.803899999999999,83.588999999999999,79.345299999999995,72.380399999999995,88.781999999999996,89.652500000000003,83.371899999999997,90.977199999999996,94.207899999999995,85.457899999999995,87.287499999999994,78.2684]
["2004-11-01",{"$f":"MONTH(Indice_UCI[[#This Row],[Período]])&YEAR(Indice_UCI[[#This Row],[Período]])","v":"112004"},83.353099999999998,94.806100000000001,82.680300000000003,77.360699999999994,74.407899999999998,86.517399999999995,89.412700000000001,74.862899999999996,91.086100000000002,93.239699999999999,84.129599999999996,86.872399999999999,78.118700000000004]
["2004-12-01",{"$f":"MONTH(Indice_UCI[[#This Row],[Período]])&YEAR(Indice_UCI[[#This Row],[Período]])","v":"122004"},82.546599999999998,95.218800000000002,81.802199999999999,76.712299999999999,80.407799999999995,83.1143,90.238500000000002,68.754800000000003,90.5839,91.819299999999998,86.415599999999998,83.090299999999999,77.875699999999995]
["2005-01-01",{"$f":"MONTH(Indice_UCI[[#This Row],[Período]])&YEAR(Indice_UCI[[#This Row],[Período]])","v":"12005"},82.503799999999998,94.634399999999999,81.791200000000003,74.458100000000002,67.769099999999995,87.960800000000006,86.439499999999995,89.667400000000001,90.793999999999997,92.472999999999999,86.802899999999994,86.194999999999993,80.660799999999995]
["2005-02-01",{"$f":"MONTH(Indice_UCI[[#This Row],[Período]])&YEAR(Indice_UCI[[#This Row],[Período]])","v":"22005"},81.956199999999995,93.526799999999994,81.276499999999999,73.7791,66.746200000000002,88.809399999999997,87.301000000000002,90.156000000000006,89.876999999999995,90.718100000000007,85.406800000000004,85.9024,79.469200000000001]
["2005-03-01",{"$f":"MONTH(Indice_UCI[[#This Row],[Período]])&YEAR(Indice_UCI[[#This Row],[Período]])","v":"32005"},83.712199999999996,94.752700000000004,83.063599999999994,74.905699999999996,69.37,89.6173,91.298699999999997,90.233099999999993,91.834199999999996,94.020600000000002,84.790599999999998,87.602400000000003,81.660600000000002]
["2005-04-01",{"$f":"MONTH(Indice_UCI[[#This Row],[Período]])&YEAR(Indice_UCI[[#This Row],[Período]])","v":"42005"},83.757000000000005,93.497600000000006,83.184799999999996,74.776399999999995,67.254599999999996,89.411500000000004,86.580299999999994,88.711399999999998,90.837400000000002,93.860699999999994,83.852800000000002,86.721100000000007,82.0929]
["2005-05-01",{"$f":"MONTH(Indice_UCI[[#This Row],[Período]])&YEAR(Indice_UCI[[#This Row],[Período]])","v":"52005"},83.527900000000002,94.468400000000003,82.885199999999998,75.204599999999999,66.209500000000006,87.404899999999998,83.423699999999997,75.233099999999993,92.648399999999995,92.146900000000002,84.444800000000001,87.247100000000003,80.577100000000002]
["2005-06-01",{"$f":"MONTH(Indice_UCI[[#This Row],[Período]])&YEAR(Indice_UCI[[#This Row],[Período]])","v":"62005"},84.069900000000004,96.8262,83.320599999999999,76.820300000000003,65.119299999999996,89.081599999999995,90.437899999999999,95.023399999999995,92.302700000000002,91.178299999999993,84.076300000000003,86.043899999999994,82.214799999999997]
["2005-07-01",{"$f":"MONTH(Indice_UCI[[#This Row],[Período]])&YEAR(Indice_UCI[[#This Row],[Período]])","v":"72005"},83.451700000000002,97.926900000000003,82.601399999999998,75.553799999999995,67.063800000000001,86.461100000000002,89.888900000000007,95.953100000000006,92.474800000000002,91.140100000000004,81.685699999999997,86.65,82.441400000000002]
["2005-08-01",{"$f":"MONTH(Indice_UCI[[#This Row],[Período]])&YEAR(Indice_UCI[[#This Row],[Período]])","v":"82005"},87.150999999999996,97.102099999999993,83.8352,79.373500000000007,68.780299999999997,90.114900000000006,90.508799999999994,95.562600000000003,92.602099999999993,92.417699999999996,82.360399999999998,87.183400000000006,82.474599999999995]
["2005-09-01",{"$f":"MONTH(Indice_UCI[[#This Row],[Período]])&YEAR(Indice_UCI[[#This Row],[Período]])","v":"92005"},84.451099999999997,97.4315,83.688699999999997,79.775199999999998,68.544300000000007,86.053100000000001,82.587000000000003,95.034300000000002,92.274900000000002,89.893500000000003,84.557299999999998,87.340400000000002,84.338999999999999]
["2005-10-01",{"$f":"MONTH(Indice_UCI[[#This Row],[Período]])&YEAR(Indice_UCI[[#This Row],[Período]])","v":"102005"},84.793300000000002,96.009699999999995,84.134399999999999,80.003200000000007,70.461100000000002,84.523899999999998,90.172499999999999,94.870500000000007,91.385400000000004,90.855199999999996,86.904700000000005,87.485900000000001,83.107299999999995]
["2005-11-01",{"$f":"MONTH(Indice_UCI[[#This Row],[Período]])&YEAR(Indice_UCI[[#This Row],[Período]])","v":"112005"},83.535600000000002,96.106899999999996,82.7971,78.505200000000002,71.016099999999994,83.241600000000005,90.224400000000003,58.024000000000001,92.244200000000006,89.628799999999998,86.742400000000004,84.764099999999999,81.829599999999999]
["2005-12-01",{"$f":"MONTH(Indice_UCI[[#This Row],[Período]])&YEAR(Indice_UCI[[#This Row],[Período]])","v":"122005"},82.004300000000001,96.0197,81.180999999999997,75.417599999999993,69.546899999999994,75.273799999999994,87.297300000000007,54.375,88.416200000000003,87.854500000000002,88.713999999999999,79.475999999999999,82.057199999999995]
["2006-01-01",{"$f":"MONTH(Indice_UCI[[#This Row],[Período]])&YEAR(Indice_UCI[[#This Row],[Período]])","v":"12006"},80.190799999999996,95.771100000000004,79.275599999999997,71.492000000000004,63.880299999999998,79.619100000000003,87.671400000000006,49.692700000000002,87.640199999999993,88.596599999999995,86.095399999999998,83.076599999999999,84.436599999999999]
["2006-02-01",{"$f":"MONTH(Indice_UCI[[#This Row],[Período]])&YEAR(Indice_UCI[[#This Row],[Período]])","v":"22006"},80.096299999999999,94.042299999999997,79.277000000000001,67.570300000000003,63.124400000000001,81.463399999999993,87.406999999999996,71.6541,87.264899999999997,88.302300000000002,88.156000000000006,82.393699999999995,84.66]
["2006-03-01",{"$f":"MONTH(Indice_UCI[[#This Row],[Período]])&YEAR(Indice_UCI[[#This Row],[Período]])","v":"32006"},80.406899999999993,88.603999999999999,79.933999999999997,69.539000000000001,71.160300000000007,82.097300000000004,90.329400000000007,67.108699999999999,87.639600000000002,92.965100000000007,85.865399999999994,83.183400000000006,83.654300000000006]
["2006-04-01",{"$f":"MONTH(Indice_UCI[[#This Row],[Período]])&YEAR(Indice_UCI[[#This Row],[Período]])","v":"42006"},80.183700000000002,93.216700000000003,79.431899999999999,69.988500000000002,71.788600000000002,81.438400000000001,86.023499999999999,56.897799999999997,85.749600000000001,88.919899999999998,87.923900000000003,83.873199999999997,83.6751]
["2006-05-01",{"$f":"MONTH(Indice_UCI[[#This Row],[Período]])&YEAR(Indice_UCI[[#This Row],[Período]])","v":"52006"},81.748800000000003,91.447699999999998,81.189300000000003,71.3703,65.856499999999997,82.715000000000003,86.904300000000006,92.468100000000007,89.251499999999993,90.653300000000002,90.824100000000001,84.299899999999994,84.752499999999998]
["2006-06-01",{"$f":"MONTH(Indice_UCI[[#This Row],[Período]])&YEAR(Indice_UCI[[#This Row],[Período]])","v":"62006"},82.129099999999994,91.094300000000004,81.611999999999995,74.532799999999995,62.330199999999998,83.031199999999998,84.134699999999995,94.238299999999995,87.546599999999998,93.521600000000007,86.973399999999998,82.002300000000005,83.978200000000001]
["2006-07-01",{"$f":"MONTH(Indice_UCI[[#This Row],[Período]])&YEAR(Indice_UCI[[#This Row],[Período]])","v":"72006"},82.144599999999997,94.4499,81.434799999999996,75.479500000000002,61.479100000000003,83.360900000000001,87.638300000000001,93.981899999999996,88.065299999999993,92.259600000000006,85.325699999999998,82.765299999999996,84.024500000000003]
["2006-08-01",{"$f":"MONTH(Indice_UCI[[#This Row],[Período]])&YEAR(Indice_UCI[[#This Row],[Período]])","v":"82006"},83.831199999999995,96.173900000000003,83.119200000000006,76.735600000000005,73.194599999999994,84.697599999999994,88.373800000000003,94.999099999999999,88.911000000000001,92.962299999999999,86.804100000000005,86.155500000000004,85.224599999999995]
["2006-09-01",{"$f":"MONTH(Indice_UCI[[#This Row],[Período]])&YEAR(Indice_UCI[[#This Row],[Período]])","v":"92006"},83.886700000000005,97.015799999999999,83.129400000000004,77.378,73.811499999999995,84.875500000000002,87.920699999999997,93.3108,88.038200000000003,91.6023,88.359399999999994,84.886300000000006,85.286900000000003]
["2006-10-01",{"$f":"MONTH(Indice_UCI[[#This Row],[Período]])&YEAR(Indice_UCI[[#This Row],[Período]])","v":"102006"},84.565399999999997,96.015900000000002,83.904899999999998,76.278300000000002,73.821200000000005,85.921999999999997,89.648200000000003,89.616900000000001,88.61,92.915400000000005,91.680700000000002,83.877600000000001,86.052899999999994]
["2006-11-01",{"$f":"MONTH(Indice_UCI[[#This Row],[Período]])&YEAR(Indice_UCI[[#This Row],[Período]])","v":"112006"},85.832499999999996,94.416300000000007,85.337400000000002,78.952799999999996,75.0749,86.884799999999998,85.297700000000006,86.558599999999998,90.027799999999999,90.540700000000001,92.892700000000005,80.441299999999998,86.490600000000001]
["2006-12-01",{"$f":"MONTH(Indice_UCI[[#This Row],[Período]])&YEAR(Indice_UCI[[#This Row],[Período]])","v":"122006"},83.728200000000001,94.410600000000002,83.111999999999995,75.608800000000002,78.509900000000002,80.508600000000001,89.919799999999995,79.875200000000007,86.959100000000007,93.409700000000001,90.498500000000007,80.672700000000006,86.346100000000007]
["2007-01-01",{"$f":"MONTH(Indice_UCI[[#This Row],[Período]])&YEAR(Indice_UCI[[#This Row],[Período]])","v":"12007"},84.461399999999998,94.395600000000002,83.888400000000004,76.554900000000004,74.684200000000004,83.17,90.138000000000005,82.74,88.280500000000004,90.686899999999994,88.474000000000004,82.465299999999999,88.122100000000003]
["2007-02-01",{"$f":"MONTH(Indice_UCI[[#This Row],[Período]])&YEAR(Indice_UCI[[#This Row],[Período]])","v":"22007"},83.863900000000001,95.213999999999999,83.209199999999996,74.951400000000007,67.109099999999998,83.5792,81.130399999999995,76.360799999999998,86.7376,90.913499999999999,90.192800000000005,80.600300000000004,88.020300000000006]
["2007-03-01",{"$f":"MONTH(Indice_UCI[[#This Row],[Período]])&YEAR(Indice_UCI[[#This Row],[Período]])","v":"32007"},85.593500000000006,96.6434,84.956100000000006,77.100499999999997,70.632999999999996,88.785700000000006,83.115399999999994,71.610100000000003,88.192800000000005,92.691199999999995,90.088700000000003,82.478999999999999,88.534400000000005]
["2007-04-01",{"$f":"MONTH(Indice_UCI[[#This Row],[Período]])&YEAR(Indice_UCI[[#This Row],[Período]])","v":"42007"},84.920400000000001,93.956999999999994,84.399100000000004,74.532300000000006,72.645499999999998,87.044600000000003,81.397800000000004,63.172699999999999,87.412700000000001,91.082099999999997,92.120999999999995,82.334100000000007,88.559399999999997]
["2007-05-01",{"$f":"MONTH(Indice_UCI[[#This Row],[Período]])&YEAR(Indice_UCI[[#This Row],[Período]])","v":"52007"},86.690799999999996,95.055599999999998,87.150999999999996,76.964500000000001,73.510800000000003,89.240700000000004,85.126499999999993,88.316000000000003,88.801599999999993,93.780699999999996,92.298699999999997,83.212299999999999,88.736000000000004]
["2007-06-01",{"$f":"MONTH(Indice_UCI[[#This Row],[Período]])&YEAR(Indice_UCI[[#This Row],[Período]])","v":"62007"},85.625399999999999,97.072000000000003,84.965100000000007,75.690100000000001,63.241700000000002,88.718100000000007,85.556200000000004,92.617000000000004,89.075699999999998,92.894300000000001,90.754900000000006,81.163499999999999,89.314899999999994]
["2007-07-01",{"$f":"MONTH(Indice_UCI[[#This Row],[Período]])&YEAR(Indice_UCI[[#This Row],[Período]])","v":"72007"},85.821299999999994,97.381299999999996,85.154499999999999,76.564599999999999,66.554199999999994,88.626400000000004,88.536600000000007,94.310299999999998,89.878299999999996,92.253699999999995,89.928700000000006,82.284800000000004,89.209100000000007]
["2007-08-01",{"$f":"MONTH(Indice_UCI[[#This Row],[Período]])&YEAR(Indice_UCI[[#This Row],[Período]])","v":"82007"},87.913899999999998,98.3078,87.314400000000006,77.1708,71.807400000000001,88.716800000000006,88.831400000000002,93.637500000000003,89.543999999999997,94.057199999999995,91.011799999999994,83.371600000000001,94.328699999999998]
["2007-09-01",{"$f":"MONTH(Indice_UCI[[#This Row],[Período]])&YEAR(Indice_UCI[[#This Row],[Período]])","v":"92007"},87.696200000000005,94.707099999999997,87.291700000000006,79.420199999999994,74.704300000000003,83.625,84.707800000000006,91.266800000000003,88.5989,94.016400000000004,90.914900000000003,82.505600000000001,92.016800000000003]
["2007-10-01",{"$f":"MONTH(Indice_UCI[[#This Row],[Período]])&YEAR(Indice_UCI[[#This Row],[Período]])","v":"102007"},87.877099999999999,95.477900000000005,87.438599999999994,79.674000000000007,75.603200000000001,85.831699999999998,83.137900000000002,91.287099999999995,89.994100000000003,92.921899999999994,89.990600000000001,84.784700000000001,91.229500000000002]
["2007-11-01",{"$f":"MONTH(Indice_UCI[[#This Row],[Período]])&YEAR(Indice_UCI[[#This Row],[Período]])","v":"112007"},87.500399999999999,94.378200000000007,87.1036,79.741799999999998,80.507499999999993,84.951700000000002,86.580699999999993,83.831999999999994,88.648099999999999,89.460800000000006,90.966200000000001,82.798900000000003,91.754000000000005]
["2007-12-01",{"$f":"MONTH(Indice_UCI[[#This Row],[Período]])&YEAR(Indice_UCI[[#This Row],[Período]])","v":"122007"},86.234899999999996,96.089699999999993,87.150999999999996,76.782700000000006,81.386499999999998,78.748000000000005,87.403000000000006,66.430000000000007,89.591200000000001,92.404399999999995,91.115099999999998,80.986699999999999,91.201499999999996]
["2008-01-01",{"$f":"MONTH(Indice_UCI[[#This Row],[Período]])&YEAR(Indice_UCI[[#This Row],[Período]])","v":"12008"},85.857200000000006,95.659199999999998,85.291799999999995,78.033199999999994,77.683499999999995,82.206100000000006,89.1815,63.955399999999997,89.466700000000003,91.6995,90.972999999999999,84.884600000000006,91.245199999999997]
["2008-02-01",{"$f":"MONTH(Indice_UCI[[#This Row],[Período]])&YEAR(Indice_UCI[[#This Row],[Período]])","v":"22008"},84.6417,96.180099999999996,83.976100000000002,77.237499999999997,65.910399999999996,83.146699999999996,88.214200000000005,55.607599999999998,87.639899999999997,91.441900000000004,89.835599999999999,85.874399999999994,90.155900000000003]
["2008-03-01",{"$f":"MONTH(Indice_UCI[[#This Row],[Período]])&YEAR(Indice_UCI[[#This Row],[Período]])","v":"32008"},85.298599999999993,95.962699999999998,84.683499999999995,78.136099999999999,65.399600000000007,86.249399999999994,85.024100000000004,60.694499999999998,87.689099999999996,92.195899999999995,87.778499999999994,85.037599999999998,91.749300000000005]
["2008-04-01",{"$f":"MONTH(Indice_UCI[[#This Row],[Período]])&YEAR(Indice_UCI[[#This Row],[Período]])","v":"42008"},86.118099999999998,94.9255,85.61,79.762900000000002,66.740499999999997,88.321399999999997,68.1464,65.558999999999997,88.385300000000001,91.032799999999995,91.344899999999996,85.034899999999993,91.886099999999999]
["2008-05-01",{"$f":"MONTH(Indice_UCI[[#This Row],[Período]])&YEAR(Indice_UCI[[#This Row],[Período]])","v":"52008"},86.370500000000007,94.823700000000002,87.150999999999996,79.825599999999994,70.403099999999995,88.783600000000007,84.105099999999993,65.895300000000006,89.495800000000003,92.407499999999999,93.491900000000001,87.498500000000007,91.862399999999994]
["2008-06-01",{"$f":"MONTH(Indice_UCI[[#This Row],[Período]])&YEAR(Indice_UCI[[#This Row],[Período]])","v":"62008"},86.463399999999993,95.501800000000003,87.150999999999996,79.686999999999998,65.643199999999993,89.336699999999993,87.764300000000006,85.527100000000004,90.081699999999998,91.264200000000002,92.807199999999995,89.098600000000005,91.857399999999998]
["2008-07-01",{"$f":"MONTH(Indice_UCI[[#This Row],[Período]])&YEAR(Indice_UCI[[#This Row],[Período]])","v":"72008"},87.585899999999995,96.359899999999996,87.079800000000006,80.8005,65.876099999999994,89.572100000000006,88.601200000000006,90.06,90.330799999999996,94.825299999999999,93.34,88.605800000000002,91.965999999999994]
["2008-08-01",{"$f":"MONTH(Indice_UCI[[#This Row],[Período]])&YEAR(Indice_UCI[[#This Row],[Período]])","v":"82008"},87.591300000000004,94.475999999999999,87.194199999999995,81.239000000000004,70.549000000000007,89.212900000000005,87.666799999999995,90.601799999999997,89.783500000000004,92.797600000000003,92.380600000000001,87.349800000000002,89.387299999999996]
["2008-09-01",{"$f":"MONTH(Indice_UCI[[#This Row],[Período]])&YEAR(Indice_UCI[[#This Row],[Período]])","v":"92008"},87.6096,95.783500000000004,86.763400000000004,81.099999999999994,70.686300000000003,89.684799999999996,85.204700000000003,89.748000000000005,90.966300000000004,93.650700000000001,92.304299999999998,88.959699999999998,88.531800000000004]
["2008-10-01",{"$f":"MONTH(Indice_UCI[[#This Row],[Período]])&YEAR(Indice_UCI[[#This Row],[Período]])","v":"102008"},87.4923,96.023200000000003,86.763400000000004,81.017499999999998,72.948599999999999,90.142499999999998,88.360399999999998,87.760300000000001,90.951800000000006,91.972800000000007,93.105000000000004,89.525199999999998,86.328000000000003]
["2008-11-01",{"$f":"MONTH(Indice_UCI[[#This Row],[Período]])&YEAR(Indice_UCI[[#This Row],[Período]])","v":"112008"},85.230999999999995,97.088899999999995,84.546999999999997,80.251800000000003,72.609800000000007,84.877099999999999,88.304900000000004,86.641000000000005,86.115399999999994,84.911199999999994,91.088999999999999,87.3369,82.342100000000002]
["2008-12-01",{"$f":"MONTH(Indice_UCI[[#This Row],[Período]])&YEAR(Indice_UCI[[#This Row],[Período]])","v":"122008"},80.764899999999997,94.793899999999994,79.955600000000004,80.010900000000007,76.413499999999999,78.0732,86.132199999999997,78.665000000000006,83.518699999999995,67.429100000000005,87.300399999999996,81.342100000000002,79.373800000000003]
["2009-01-01",{"$f":"MONTH(Indice_UCI[[#This Row],[Período]])&YEAR(Indice_UCI[[#This Row],[Período]])","v":"12009"},76.816999999999993,81.949799999999996,76.520899999999997,77.290599999999998,75.685900000000004,79.849000000000004,87.001499999999993,30.553999999999998,82.04,63.234000000000002,85.865200000000002,83.972899999999996,82.112300000000005]
["2009-02-01",{"$f":"MONTH(Indice_UCI[[#This Row],[Período]])&YEAR(Indice_UCI[[#This Row],[Período]])","v":"22009"},77.526499999999999,81.048400000000001,77.323300000000003,77.0625,64.696100000000001,78.935500000000005,85.6417,26.9345,79.494200000000006,67.267300000000006,86.782700000000006,82.429400000000001,82.6554]
["2009-03-01",{"$f":"MONTH(Indice_UCI[[#This Row],[Período]])&YEAR(Indice_UCI[[#This Row],[Período]])","v":"32009"},79.667000000000002,84.548000000000002,79.385499999999993,78.812299999999993,70.840500000000006,81.754000000000005,85.667000000000002,29.448499999999999,84.645499999999998,69.356099999999998,84.779700000000005,87.177800000000005,83.469200000000001]
["2009-04-01",{"$f":"MONTH(Indice_UCI[[#This Row],[Período]])&YEAR(Indice_UCI[[#This Row],[Período]])","v":"42009"},81.084800000000001,86.908699999999996,80.748800000000003,79.875600000000006,66.365899999999996,83.506299999999996,77.890299999999996,69.922399999999996,83.767300000000006,63.454900000000002,84.0261,85.798599999999993,83.143199999999993]
["2009-05-01",{"$f":"MONTH(Indice_UCI[[#This Row],[Período]])&YEAR(Indice_UCI[[#This Row],[Período]])","v":"52009"},82.294700000000006,93.139200000000002,81.6691,80.224000000000004,72.606499999999997,86.269099999999995,83.436199999999999,72.792000000000002,83.312600000000003,69.577600000000004,86.341800000000006,86.748599999999996,85.174800000000005]
["2009-06-01",{"$f":"MONTH(Indice_UCI[[#This Row],[Período]])&YEAR(Indice_UCI[[#This Row],[Período]])","v":"62009"},82.205600000000004,94.0167,81.524299999999997,81.246399999999994,67.347300000000004,86.937899999999999,85.227099999999993,83.584800000000001,86.140500000000003,70.439700000000002,83.632300000000001,86.134900000000002,87.296400000000006]
["2009-07-01",{"$f":"MONTH(Indice_UCI[[#This Row],[Período]])&YEAR(Indice_UCI[[#This Row],[Período]])","v":"72009"},82.388199999999998,95.749200000000002,81.617500000000007,80.818299999999994,66.990700000000004,87.258799999999994,87.255300000000005,89.525300000000001,84.997900000000001,72.490300000000005,81.086799999999997,87.623599999999996,87.584100000000007]
["2009-08-01",{"$f":"MONTH(Indice_UCI[[#This Row],[Período]])&YEAR(Indice_UCI[[#This Row],[Período]])","v":"82009"},83.748800000000003,97.002300000000005,82.984300000000005,80.373400000000004,67.688000000000002,88.825100000000006,85.799199999999999,88.022599999999997,83.866,72.225099999999998,83.234899999999996,84.386899999999997,90.594300000000004]
["2009-09-01",{"$f":"MONTH(Indice_UCI[[#This Row],[Período]])&YEAR(Indice_UCI[[#This Row],[Período]])","v":"92009"},84.315700000000007,96.282300000000006,83.625399999999999,80.894300000000001,72.544600000000003,87.430800000000005,83.691599999999994,85.464600000000004,83.356999999999999,73.447800000000001,87.284800000000004,84.783799999999999,89.996200000000002]
["2009-10-01",{"$f":"MONTH(Indice_UCI[[#This Row],[Período]])&YEAR(Indice_UCI[[#This Row],[Período]])","v":"102009"},84.819400000000002,96.710300000000004,84.133499999999998,80.744299999999996,70.461200000000005,87.240899999999996,84.410700000000006,82.662000000000006,85.626499999999993,75.129199999999997,86.79,85.167599999999993,89.546899999999994]
["2009-11-01",{"$f":"MONTH(Indice_UCI[[#This Row],[Período]])&YEAR(Indice_UCI[[#This Row],[Período]])","v":"112009"},84.234300000000005,97.078500000000005,83.493399999999994,80.492999999999995,71.893799999999999,86.147999999999996,87.426100000000005,66.009200000000007,82.628900000000002,74.032799999999995,88.147199999999998,84.609300000000005,88.690200000000004]
["2009-12-01",{"$f":"MONTH(Indice_UCI[[#This Row],[Período]])&YEAR(Indice_UCI[[#This Row],[Período]])","v":"122009"},83.064999999999998,96.749700000000004,82.275499999999994,79.844200000000001,73.907399999999996,83.876900000000006,87.279300000000006,67.197599999999994,84.853200000000001,77.8202,87.288499999999999,83.807599999999994,87.638999999999996]
["2010-01-01",{"$f":"MONTH(Indice_UCI[[#This Row],[Período]])&YEAR(Indice_UCI[[#This Row],[Período]])","v":"12010"},82.405600000000007,96.049899999999994,81.618499999999997,79.431100000000001,70.325800000000001,85.418400000000005,87.8934,63.656199999999998,84.336799999999997,80.6173,90.393600000000006,83.701099999999997,85.6755]
["2010-02-01",{"$f":"MONTH(Indice_UCI[[#This Row],[Período]])&YEAR(Indice_UCI[[#This Row],[Período]])","v":"22010"},83.160700000000006,96.365600000000001,82.398899999999998,77.666799999999995,68.830500000000001,88.025700000000001,88.1297,53.956800000000001,84.876099999999994,83.641099999999994,89.262900000000002,83.538700000000006,88.319199999999995]
["2010-03-01",{"$f":"MONTH(Indice_UCI[[#This Row],[Período]])&YEAR(Indice_UCI[[#This Row],[Período]])","v":"32010"},84.973699999999994,97.120900000000006,84.272999999999996,77.598399999999998,68.744600000000005,89.489000000000004,86.4816,49.033299999999997,87.330200000000005,86.271299999999997,90.19,85.350899999999996,90.965599999999995]
["2010-04-01",{"$f":"MONTH(Indice_UCI[[#This Row],[Período]])&YEAR(Indice_UCI[[#This Row],[Período]])","v":"42010"},85.371600000000001,95.836399999999998,84.767899999999997,80.094399999999993,67.653999999999996,89.546899999999994,74.252200000000002,71.593599999999995,83.980199999999996,87.628200000000007,89.358500000000006,86.172200000000004,90.569800000000001]
["2010-05-01",{"$f":"MONTH(Indice_UCI[[#This Row],[Período]])&YEAR(Indice_UCI[[#This Row],[Período]])","v":"52010"},85.799899999999994,97.284300000000002,85.1374,80.767499999999998,66.749300000000005,89.7303,88.1678,53.176699999999997,85.689300000000003,89.727800000000002,88.8476,86.145399999999995,90.452699999999993]
["2010-06-01",{"$f":"MONTH(Indice_UCI[[#This Row],[Período]])&YEAR(Indice_UCI[[#This Row],[Período]])","v":"62010"},85.047300000000007,96.4666,84.388599999999997,81.182199999999995,68.419200000000004,89.285899999999998,88.337400000000002,67.346199999999996,87.415099999999995,90.049300000000002,90.624200000000002,86.239199999999997,90.000399999999999]
["2010-07-01",{"$f":"MONTH(Indice_UCI[[#This Row],[Período]])&YEAR(Indice_UCI[[#This Row],[Período]])","v":"72010"},86.591800000000006,96.135099999999994,86.041300000000007,80.185599999999994,67.125699999999995,89.43,86.772900000000007,85.968000000000004,88.789199999999994,90.715000000000003,92.174800000000005,88.031999999999996,91.250900000000001]
["2010-08-01",{"$f":"MONTH(Indice_UCI[[#This Row],[Período]])&YEAR(Indice_UCI[[#This Row],[Período]])","v":"82010"},86.555499999999995,98.197800000000001,87.150999999999996,79.746600000000001,70.664100000000005,89.5535,87.165199999999999,88.008499999999998,90.442999999999998,86.730099999999993,92.306700000000006,86.617199999999997,90.792100000000005]
["2010-09-01",{"$f":"MONTH(Indice_UCI[[#This Row],[Período]])&YEAR(Indice_UCI[[#This Row],[Período]])","v":"92010"},85.031999999999996,96.988900000000001,84.342200000000005,79.261399999999995,68.460800000000006,89.945499999999996,84.481499999999997,82.772499999999994,90.246300000000005,91.329400000000007,92.197100000000006,87.600800000000007,91.332400000000007]
["2010-10-01",{"$f":"MONTH(Indice_UCI[[#This Row],[Período]])&YEAR(Indice_UCI[[#This Row],[Período]])","v":"102010"},87.150999999999996,96.755200000000002,85.9315,79.400000000000006,70.915499999999994,89.423900000000003,84.796000000000006,80.709599999999995,87.655299999999997,89.475899999999996,91.671800000000005,85.724900000000005,91.068600000000004]
["2010-11-01",{"$f":"MONTH(Indice_UCI[[#This Row],[Período]])&YEAR(Indice_UCI[[#This Row],[Período]])","v":"112010"},86.615600000000001,96.355900000000005,86.043400000000005,79.523300000000006,68.341800000000006,89.880899999999997,85.685500000000005,70.236800000000002,87.870999999999995,89.048699999999997,90.787999999999997,87.536699999999996,88.980599999999995]
["2010-12-01",{"$f":"MONTH(Indice_UCI[[#This Row],[Período]])&YEAR(Indice_UCI[[#This Row],[Período]])","v":"122010"},81.285300000000007,96.978700000000003,80.363399999999999,77.554199999999994,72.378699999999995,87.246399999999994,81.8429,41.244900000000001,87.438000000000002,84.502399999999994,88.861699999999999,87.706500000000005,89.227900000000005]
["2011-01-01",{"$f":"MONTH(Indice_UCI[[#This Row],[Período]])&YEAR(Indice_UCI[[#This Row],[Período]])","v":"12011"},82.929100000000005,95.892499999999998,82.167599999999993,73.892499999999998,68.256399999999999,88.171999999999997,83.926400000000001,44.615699999999997,89.578000000000003,83.792299999999997,90.355199999999996,86.276799999999994,87.197400000000002]
["2011-02-01",{"$f":"MONTH(Indice_UCI[[#This Row],[Período]])&YEAR(Indice_UCI[[#This Row],[Período]])","v":"22011"},84.045299999999997,95.126199999999997,83.394400000000005,73.068899999999999,64.603999999999999,88.668499999999995,88.37,40.503399999999999,89.138000000000005,88.305599999999998,90.741799999999998,86.7316,90.542500000000004]
["2011-03-01",{"$f":"MONTH(Indice_UCI[[#This Row],[Período]])&YEAR(Indice_UCI[[#This Row],[Período]])","v":"32011"},84.713999999999999,96.827100000000002,84.002399999999994,73.869500000000002,65.602199999999996,88.822599999999994,88.088499999999996,29.760999999999999,90.099400000000003,90.865700000000004,90.534400000000005,88.222499999999997,89.090299999999999]
["2011-04-01",{"$f":"MONTH(Indice_UCI[[#This Row],[Período]])&YEAR(Indice_UCI[[#This Row],[Período]])","v":"42011"},84.788899999999998,96.751499999999993,84.086200000000005,76.25,55.5715,87.007800000000003,84.971100000000007,41.029600000000002,89.073999999999998,88.795100000000005,90.080799999999996,86.388400000000004,87.819800000000001]
["2011-05-01",{"$f":"MONTH(Indice_UCI[[#This Row],[Período]])&YEAR(Indice_UCI[[#This Row],[Período]])","v":"52011"},86.314599999999999,96.726699999999994,85.703000000000003,78.704499999999996,64.215999999999994,88.393500000000003,88.019599999999997,48.094999999999999,90.239699999999999,90.322800000000001,92.111800000000002,87.924999999999997,89.643199999999993]
["2011-06-01",{"$f":"MONTH(Indice_UCI[[#This Row],[Período]])&YEAR(Indice_UCI[[#This Row],[Período]])","v":"62011"},86.173400000000001,97.219800000000006,86.047399999999996,79.0869,61.953000000000003,87.162499999999994,88.639499999999998,79.380600000000001,90.553399999999996,89.832800000000006,92.040400000000005,88.267399999999995,90.445899999999995]
["2011-07-01",{"$f":"MONTH(Indice_UCI[[#This Row],[Período]])&YEAR(Indice_UCI[[#This Row],[Período]])","v":"72011"},86.173400000000001,97.371399999999994,85.953699999999998,79.157300000000006,64.569699999999997,87.082300000000004,88.418199999999999,87.390299999999996,89.688599999999994,87.765799999999999,88.900499999999994,88.024199999999993,90.027500000000003]
["2011-08-01",{"$f":"MONTH(Indice_UCI[[#This Row],[Período]])&YEAR(Indice_UCI[[#This Row],[Período]])","v":"82011"},87.685299999999998,96.475399999999993,87.168999999999997,80.542000000000002,63.863599999999998,87.310699999999997,88.1387,85.462199999999996,91.112300000000005,90.3797,89.5929,88.646299999999997,91.469399999999993]
["2011-09-01",{"$f":"MONTH(Indice_UCI[[#This Row],[Período]])&YEAR(Indice_UCI[[#This Row],[Período]])","v":"92011"},86.667299999999997,98.333699999999993,85.981899999999996,79.680199999999999,66.479299999999995,87.510599999999997,77.895700000000005,88.776200000000003,90.5702,88.885400000000004,89.005399999999995,86.082700000000003,90.074700000000007]
["2011-10-01",{"$f":"MONTH(Indice_UCI[[#This Row],[Período]])&YEAR(Indice_UCI[[#This Row],[Período]])","v":"102011"},85.950199999999995,97.655799999999999,85.262600000000006,77.650400000000005,66.639099999999999,87.389600000000002,89.431399999999996,81.658500000000004,90.995599999999996,87.007999999999996,88.188299999999998,87.364400000000003,88.987899999999996]
["2011-11-01",{"$f":"MONTH(Indice_UCI[[#This Row],[Período]])&YEAR(Indice_UCI[[#This Row],[Período]])","v":"112011"},85.732200000000006,98.347999999999999,84.991100000000003,77.4315,66.445300000000003,88.262100000000004,89.033000000000001,86.731200000000001,91.066800000000001,87.410600000000002,89.711500000000001,87.488399999999999,88.2209]
["2011-12-01",{"$f":"MONTH(Indice_UCI[[#This Row],[Período]])&YEAR(Indice_UCI[[#This Row],[Período]])","v":"122011"},84.193600000000004,98.722099999999998,83.340199999999996,74.350499999999997,66.444000000000003,86.569599999999994,88.0642,79.672200000000004,87.879900000000006,86.246799999999993,88.401399999999995,88.034300000000002,83.833399999999997]
["2012-01-01",{"$f":"MONTH(Indice_UCI[[#This Row],[Período]])&YEAR(Indice_UCI[[#This Row],[Período]])","v":"12012"},83.932599999999994,97.172200000000004,83.154899999999998,78.149799999999999,62.329900000000002,86.487799999999993,88.243799999999993,55.533299999999997,88.069100000000006,84.560599999999994,89.330399999999997,88.421000000000006,88.894499999999994]
["2012-02-01",{"$f":"MONTH(Indice_UCI[[#This Row],[Período]])&YEAR(Indice_UCI[[#This Row],[Período]])","v":"22012"},83.199399999999997,97.547499999999999,82.356499999999997,78.515699999999995,59.878700000000002,87.605599999999995,89.217299999999994,49.227899999999998,87.658299999999997,86.68,87.216300000000004,88.485900000000001,85.860600000000005]
["2012-03-01",{"$f":"MONTH(Indice_UCI[[#This Row],[Período]])&YEAR(Indice_UCI[[#This Row],[Período]])","v":"32012"},83.526700000000005,96.814099999999996,82.746099999999998,76.622600000000006,61.321100000000001,87.706800000000001,89.828500000000005,32.686599999999999,88.492599999999996,87.065399999999997,89.0505,89.420699999999997,86.254499999999993]
["2012-04-01",{"$f":"MONTH(Indice_UCI[[#This Row],[Período]])&YEAR(Indice_UCI[[#This Row],[Período]])","v":"42012"},83.809399999999997,98.025800000000004,82.974299999999999,77.860299999999995,57.818100000000001,86.883099999999999,90.381900000000002,42.340600000000002,87.566699999999997,87.264099999999999,84.882599999999996,87.824399999999997,88.499700000000004]
["2012-05-01",{"$f":"MONTH(Indice_UCI[[#This Row],[Período]])&YEAR(Indice_UCI[[#This Row],[Período]])","v":"52012"},84.525099999999995,96.7089,83.809399999999997,77.341899999999995,60.973300000000002,87.574299999999994,90.256,57.728900000000003,87.489800000000002,85.932500000000005,87.466700000000003,89.862499999999997,87.720500000000001]
["2012-06-01",{"$f":"MONTH(Indice_UCI[[#This Row],[Período]])&YEAR(Indice_UCI[[#This Row],[Período]])","v":"62012"},87.150999999999996,96.654799999999994,83.415899999999993,78.767200000000003,61.478400000000001,87.655000000000001,88.279700000000005,67.738399999999999,88.051299999999998,86.631500000000003,86.831500000000005,89.111999999999995,87.923000000000002]
["2012-07-01",{"$f":"MONTH(Indice_UCI[[#This Row],[Período]])&YEAR(Indice_UCI[[#This Row],[Período]])","v":"72012"},84.894099999999995,96.837699999999998,84.192499999999995,79.685500000000005,66.194500000000005,87.387500000000003,88.773300000000006,70.454800000000006,86.234499999999997,86.129400000000004,85.077399999999997,89.750799999999998,90.861099999999993]
["2012-08-01",{"$f":"MONTH(Indice_UCI[[#This Row],[Período]])&YEAR(Indice_UCI[[#This Row],[Período]])","v":"82012"},87.150999999999996,97.0501,85.513099999999994,79.646900000000002,70.494699999999995,87.664400000000001,89.084299999999999,70.773099999999999,87.663700000000006,88.811599999999999,83.176699999999997,90.828500000000005,91.426900000000003]
["2012-09-01",{"$f":"MONTH(Indice_UCI[[#This Row],[Período]])&YEAR(Indice_UCI[[#This Row],[Período]])","v":"92012"},85.7423,96.989099999999993,85.081599999999995,81.186000000000007,78.509200000000007,87.512299999999996,89.487799999999993,82.068799999999996,86.351799999999997,89.360299999999995,84.748099999999994,88.656999999999996,90.552499999999995]
["2012-10-01",{"$f":"MONTH(Indice_UCI[[#This Row],[Período]])&YEAR(Indice_UCI[[#This Row],[Período]])","v":"102012"},87.150999999999996,97.099500000000006,84.843699999999998,80.598600000000005,82.186899999999994,87.152000000000001,85.171000000000006,86.566400000000002,83.962199999999996,88.983500000000006,87.968900000000005,89.043599999999998,90.075199999999995]
["2012-11-01",{"$f":"MONTH(Indice_UCI[[#This Row],[Período]])&YEAR(Indice_UCI[[#This Row],[Período]])","v":"112012"},85.578400000000002,97.100499999999997,84.901600000000002,81.636799999999994,82.883600000000001,87.403999999999996,88.194400000000002,78.231099999999998,85.552899999999994,87.037099999999995,86.526899999999998,87.671400000000006,90.274600000000007]
["2012-12-01",{"$f":"MONTH(Indice_UCI[[#This Row],[Período]])&YEAR(Indice_UCI[[#This Row],[Período]])","v":"122012"},84.827299999999994,96.970200000000006,84.114000000000004,82.0976,86.123000000000005,85.063599999999994,86.977199999999996,76.131500000000003,84.621700000000004,87.597999999999999,84.190899999999999,88.349400000000003,91.539199999999994]
["2013-01-01",{"$f":"MONTH(Indice_UCI[[#This Row],[Período]])&YEAR(Indice_UCI[[#This Row],[Período]])","v":"12013"},84.4071,97.934399999999997,83.612399999999994,81.257400000000004,82.424000000000007,86.170199999999994,88.475999999999999,52.027500000000003,86.4636,87.008600000000001,78.168000000000006,89.655299999999997,91.773899999999998]
["2013-02-01",{"$f":"MONTH(Indice_UCI[[#This Row],[Período]])&YEAR(Indice_UCI[[#This Row],[Período]])","v":"22013"},81.642300000000006,96.522300000000001,80.768199999999993,77.669200000000004,65.352000000000004,85.644099999999995,88.824299999999994,42.580100000000002,85.247,84.851299999999995,74.397300000000001,88.793800000000005,81.869500000000002]
["2013-03-01",{"$f":"MONTH(Indice_UCI[[#This Row],[Período]])&YEAR(Indice_UCI[[#This Row],[Período]])","v":"32013"},84.040400000000005,96.526799999999994,83.307000000000002,80.346000000000004,63.5413,85.746899999999997,89.998699999999999,57.7211,86.058499999999995,86.088300000000004,87.125200000000007,90.175899999999999,88.327699999999993]
["2013-04-01",{"$f":"MONTH(Indice_UCI[[#This Row],[Período]])&YEAR(Indice_UCI[[#This Row],[Período]])","v":"42013"},87.150999999999996,96.040099999999995,84.621600000000001,82.117000000000004,53.012999999999998,87.406700000000001,89.321600000000004,62.242400000000004,86.853700000000003,89.101299999999995,89.058199999999999,90.254499999999993,88.722399999999993]
["2013-05-01",{"$f":"MONTH(Indice_UCI[[#This Row],[Período]])&YEAR(Indice_UCI[[#This Row],[Período]])","v":"52013"},86.173400000000001,97.222999999999999,85.126499999999993,84.206299999999999,60.535299999999999,87.964100000000002,89.080399999999997,73.092500000000001,87.347499999999997,90.408900000000003,86.135099999999994,89.017600000000002,89.712000000000003]
["2013-06-01",{"$f":"MONTH(Indice_UCI[[#This Row],[Período]])&YEAR(Indice_UCI[[#This Row],[Período]])","v":"62013"},85.117099999999994,96.819699999999997,84.441999999999993,84.595299999999995,62.528599999999997,88.255300000000005,88.171400000000006,81.791600000000003,86.422399999999996,88.954499999999996,84.701099999999997,90.776499999999999,90.404300000000006]
["2013-07-01",{"$f":"MONTH(Indice_UCI[[#This Row],[Período]])&YEAR(Indice_UCI[[#This Row],[Período]])","v":"72013"},84.2453,96.431899999999999,83.542299999999997,85.655699999999996,59.655900000000003,87.683700000000002,88.711600000000004,79.1631,88.162899999999993,89.49,78.156999999999996,91.014200000000002,89.165899999999993]
["2013-08-01",{"$f":"MONTH(Indice_UCI[[#This Row],[Período]])&YEAR(Indice_UCI[[#This Row],[Período]])","v":"82013"},85.392799999999994,96.279200000000003,84.764799999999994,85.917599999999993,62.867100000000001,88.272599999999997,87.507800000000003,81.640799999999999,85.914400000000001,89.487300000000005,85.628399999999999,90.926299999999998,89.934899999999999]
["2013-09-01",{"$f":"MONTH(Indice_UCI[[#This Row],[Período]])&YEAR(Indice_UCI[[#This Row],[Período]])","v":"92013"},84.073599999999999,96.003799999999998,83.385400000000004,83.552000000000007,60.125999999999998,88.050899999999999,76.029300000000006,80.266199999999998,85.420900000000003,88.868799999999993,85.023200000000003,89.5304,89.6113]
["2013-10-01",{"$f":"MONTH(Indice_UCI[[#This Row],[Período]])&YEAR(Indice_UCI[[#This Row],[Período]])","v":"102013"},84.914000000000001,96.765900000000002,84.2303,84.333799999999997,60.315199999999997,87.609399999999994,88.234300000000005,81.986800000000002,86.839799999999997,87.4161,86.306600000000003,89.938100000000006,90.584999999999994]
["2013-11-01",{"$f":"MONTH(Indice_UCI[[#This Row],[Período]])&YEAR(Indice_UCI[[#This Row],[Período]])","v":"112013"},87.150999999999996,97.043800000000005,84.736800000000002,83.510599999999997,86.769800000000004,87.769499999999994,88.485600000000005,82.331800000000001,86.593599999999995,87.155900000000003,85.19,88.216800000000006,90.160399999999996]
["2013-12-01",{"$f":"MONTH(Indice_UCI[[#This Row],[Período]])&YEAR(Indice_UCI[[#This Row],[Período]])","v":"122013"},87.150999999999996,97.564800000000005,83.468199999999996,84.893299999999996,90.606899999999996,85.840800000000002,87.823800000000006,76.614800000000002,85.91,80.989900000000006,78.635400000000004,90.117400000000004,91.569599999999994]
["2014-01-01",{"$f":"MONTH(Indice_UCI[[#This Row],[Período]])&YEAR(Indice_UCI[[#This Row],[Período]])","v":"12014"},85.6006,96.572500000000005,84.956100000000006,84.191699999999997,86.559399999999997,86.959000000000003,88.585400000000007,63.637300000000003,88.524500000000003,82.074600000000004,84.700100000000006,89.956199999999995,90.683400000000006]
["2014-02-01",{"$f":"MONTH(Indice_UCI[[#This Row],[Período]])&YEAR(Indice_UCI[[#This Row],[Período]])","v":"22014"},84.494900000000001,96.993799999999993,83.7607,81.534800000000004,80.406999999999996,87.184200000000004,89.510099999999994,58.675699999999999,87.947299999999998,82.694900000000004,80.284499999999994,88.3172,91.086299999999994]
["2014-03-01",{"$f":"MONTH(Indice_UCI[[#This Row],[Período]])&YEAR(Indice_UCI[[#This Row],[Período]])","v":"32014"},87.150999999999996,96.470399999999998,83.661799999999999,80.238900000000001,85.203900000000004,87.332899999999995,89.796499999999995,57.142699999999998,86.538200000000003,84.043599999999998,79.025700000000001,89.694100000000006,90.470200000000006]
["2014-04-01",{"$f":"MONTH(Indice_UCI[[#This Row],[Período]])&YEAR(Indice_UCI[[#This Row],[Período]])","v":"42014"},84.863200000000006,96.394400000000005,84.185900000000004,83.135900000000007,76.125799999999998,82.841700000000003,89.848500000000001,53.1023,86.001400000000004,84.177400000000006,81.996099999999998,88.681299999999993,90.204300000000003]
["2014-05-01",{"$f":"MONTH(Indice_UCI[[#This Row],[Período]])&YEAR(Indice_UCI[[#This Row],[Período]])","v":"52014"},85.942899999999995,95.474699999999999,85.382999999999996,82.6023,82.107299999999995,82.923000000000002,87.822400000000002,70.292299999999997,88.222499999999997,84.769000000000005,83.346999999999994,88.140199999999993,90.590500000000006]
["2014-06-01",{"$f":"MONTH(Indice_UCI[[#This Row],[Período]])&YEAR(Indice_UCI[[#This Row],[Período]])","v":"62014"},83.740700000000004,96.676699999999997,82.980800000000002,85.427099999999996,81.334900000000005,87.394499999999994,88.093299999999999,72.591499999999996,84.061300000000003,84.69,76.614800000000002,90.201899999999995,89.247100000000003]
["2014-07-01",{"$f":"MONTH(Indice_UCI[[#This Row],[Período]])&YEAR(Indice_UCI[[#This Row],[Período]])","v":"72014"},85.608099999999993,98.463899999999995,84.852900000000005,84.099199999999996,78.808400000000006,88.1173,91.430199999999999,73.738600000000005,87.370199999999997,83.012500000000003,80.067499999999995,87.923900000000003,89.228700000000003]
["2014-08-01",{"$f":"MONTH(Indice_UCI[[#This Row],[Período]])&YEAR(Indice_UCI[[#This Row],[Período]])","v":"82014"},86.035399999999996,96.896900000000002,85.397300000000001,83.796300000000002,77.137799999999999,88.250900000000001,90.253,78.198099999999997,86.885900000000007,81.769599999999997,78.938599999999994,87.794799999999995,90.0274]
["2014-09-01",{"$f":"MONTH(Indice_UCI[[#This Row],[Período]])&YEAR(Indice_UCI[[#This Row],[Período]])","v":"92014"},85.961500000000001,96.158100000000005,85.362499999999997,82.072000000000003,75.506799999999998,88.091099999999997,75.0548,78.680199999999999,86.281899999999993,83.617800000000003,81.355500000000006,91.489099999999993,91.287000000000006]
["2014-10-01",{"$f":"MONTH(Indice_UCI[[#This Row],[Período]])&YEAR(Indice_UCI[[#This Row],[Período]])","v":"102014"},86.173400000000001,96.545199999999994,85.979299999999995,83.419799999999995,80.802300000000002,88.447000000000003,90.465999999999994,74.531999999999996,85.730099999999993,81.303299999999993,83.522099999999995,90.776799999999994,91.638499999999993]
["2014-11-01",{"$f":"MONTH(Indice_UCI[[#This Row],[Período]])&YEAR(Indice_UCI[[#This Row],[Período]])","v":"112014"},84.58,96.653000000000006,83.870800000000003,82.572800000000001,88.583600000000004,88.459400000000002,89.024900000000002,70.978899999999996,81.026200000000003,76.595200000000006,81.347700000000003,88.669600000000003,89.225099999999998]
["2014-12-01",{"$f":"MONTH(Indice_UCI[[#This Row],[Período]])&YEAR(Indice_UCI[[#This Row],[Período]])","v":"122014"},84.386899999999997,97.401499999999999,83.622299999999996,85.950999999999993,91.251599999999996,86.150800000000004,90.465800000000002,67.991600000000005,84.822900000000004,77.72,76.896000000000001,90.755700000000004,89.973200000000006]
["2015-01-01",{"$f":"MONTH(Indice_UCI[[#This Row],[Período]])&YEAR(Indice_UCI[[#This Row],[Período]])","v":"12015"},84.221199999999996,96.042400000000001,83.526799999999994,84.690799999999996,87.341700000000003,85.661100000000005,89.668999999999997,75.535700000000006,84.565399999999997,75.779399999999995,76.860900000000001,88.064400000000006,89.591200000000001]
["2015-02-01",{"$f":"MONTH(Indice_UCI[[#This Row],[Período]])&YEAR(Indice_UCI[[#This Row],[Período]])","v":"22015"},83.3476,96.768799999999999,82.559200000000004,85.058300000000003,70.798900000000003,86.605599999999995,90.284400000000005,49.522599999999997,84.396000000000001,76.278000000000006,75.558800000000005,87.009399999999999,89.995099999999994]
["2015-03-01",{"$f":"MONTH(Indice_UCI[[#This Row],[Período]])&YEAR(Indice_UCI[[#This Row],[Período]])","v":"32015"},84.528999999999996,97.378200000000007,83.774199999999993,84.001300000000001,73.873099999999994,88.131299999999996,90.655100000000004,55.931100000000001,84.484200000000001,75.597399999999993,83.834299999999999,89.849100000000007,90.813999999999993]
["2015-04-01",{"$f":"MONTH(Indice_UCI[[#This Row],[Período]])&YEAR(Indice_UCI[[#This Row],[Período]])","v":"42015"},83.134699999999995,97.215400000000002,82.307500000000005,84.311199999999999,67.787099999999995,83.238500000000002,80.792000000000002,62.475499999999997,84.327799999999996,73.589200000000005,75.286000000000001,86.005499999999998,89.802300000000002]
["2015-05-01",{"$f":"MONTH(Indice_UCI[[#This Row],[Período]])&YEAR(Indice_UCI[[#This Row],[Período]])","v":"52015"},83.582300000000004,95.819900000000004,82.863399999999999,84.749399999999994,78.635300000000001,81.933400000000006,88.118499999999997,89.322900000000004,82.710800000000006,74.533100000000005,73.979100000000003,87.228800000000007,89.516000000000005]
["2015-06-01",{"$f":"MONTH(Indice_UCI[[#This Row],[Período]])&YEAR(Indice_UCI[[#This Row],[Período]])","v":"62015"},81.716899999999995,98.400899999999993,80.736800000000002,85.629099999999994,76.054000000000002,76.688400000000001,88.065799999999996,69.381399999999999,84.6922,72.023700000000005,71.573400000000007,86.144000000000005,88.272800000000004]
["2015-07-01",{"$f":"MONTH(Indice_UCI[[#This Row],[Período]])&YEAR(Indice_UCI[[#This Row],[Período]])","v":"72015"},81.474500000000006,98.3553,80.482900000000001,84.8917,77.832700000000003,77.878900000000002,89.465400000000002,72.963899999999995,84.664699999999996,68.471199999999996,74.381699999999995,85.655500000000004,86.774000000000001]
["2015-08-01",{"$f":"MONTH(Indice_UCI[[#This Row],[Período]])&YEAR(Indice_UCI[[#This Row],[Período]])","v":"82015"},82.1995,97.595799999999997,81.295000000000002,84.609399999999994,81.360799999999998,78.674800000000005,92.133600000000001,74.904499999999999,86.0732,69.196399999999997,70.978499999999997,86.675600000000003,90.25]
["2015-09-01",{"$f":"MONTH(Indice_UCI[[#This Row],[Período]])&YEAR(Indice_UCI[[#This Row],[Período]])","v":"92015"},82.3339,97.638499999999993,81.434799999999996,86.442300000000003,85.65,80.537899999999993,75.2577,83.212900000000005,83.774500000000003,73.067599999999999,77.620500000000007,86.776600000000002,87.102599999999995]
["2015-10-01",{"$f":"MONTH(Indice_UCI[[#This Row],[Período]])&YEAR(Indice_UCI[[#This Row],[Período]])","v":"102015"},82.425799999999995,98.373999999999995,81.488900000000001,87.191199999999995,84.842200000000005,78.695499999999996,89.457700000000003,77.403099999999995,86.647800000000004,75.098399999999998,74.681799999999996,83.4024,89.693299999999994]
["2015-11-01",{"$f":"MONTH(Indice_UCI[[#This Row],[Período]])&YEAR(Indice_UCI[[#This Row],[Período]])","v":"112015"},81.141999999999996,94.695099999999996,80.3459,85.692099999999996,88.194599999999994,74.951899999999995,66.606499999999997,80.635199999999998,81.3643,70.777799999999999,73.478800000000007,81.800600000000003,89.528800000000004]
["2015-12-01",{"$f":"MONTH(Indice_UCI[[#This Row],[Período]])&YEAR(Indice_UCI[[#This Row],[Período]])","v":"122015"},80.268699999999995,98.212800000000001,79.200100000000006,85.164400000000001,90.875900000000001,68.470299999999995,88.673599999999993,90.880200000000002,73.895600000000002,66.931299999999993,72.098200000000006,84.751300000000001,89.778999999999996]
["2016-01-01",{"$f":"MONTH(Indice_UCI[[#This Row],[Período]])&YEAR(Indice_UCI[[#This Row],[Período]])","v":"12016"},79.417000000000002,96.373699999999999,78.407300000000006,81.433599999999998,85.888499999999993,73.248099999999994,88.576300000000003,74.108400000000003,79.427300000000002,71.4148,76.442499999999995,80.615600000000001,76.692700000000002]
["2016-02-01",{"$f":"MONTH(Indice_UCI[[#This Row],[Período]])&YEAR(Indice_UCI[[#This Row],[Período]])","v":"22016"},78.603999999999999,96.197199999999995,77.556299999999993,81.711100000000002,76.349599999999995,80.902500000000003,88.828500000000005,74.836699999999993,84.739900000000006,69.960599999999999,70.505200000000002,81.720100000000002,61.9557]
["2016-03-01",{"$f":"MONTH(Indice_UCI[[#This Row],[Período]])&YEAR(Indice_UCI[[#This Row],[Período]])","v":"32016"},79.540400000000005,97.537700000000001,78.468599999999995,81.031199999999998,81.6892,81.222200000000001,88.603399999999993,75.931700000000006,74.040000000000006,73.930899999999994,79.510599999999997,82.021199999999993,61.3962]
["2016-04-01",{"$f":"MONTH(Indice_UCI[[#This Row],[Período]])&YEAR(Indice_UCI[[#This Row],[Período]])","v":"42016"},79.456000000000003,96.005899999999997,78.470399999999998,82.039000000000001,84.196200000000005,81.215599999999995,84.439499999999995,77.814400000000006,77.952600000000004,71.568100000000001,74.816900000000004,82.312899999999999,61.288600000000002]
["2016-05-01",{"$f":"MONTH(Indice_UCI[[#This Row],[Período]])&YEAR(Indice_UCI[[#This Row],[Período]])","v":"52016"},79.488699999999994,96.466200000000001,78.477699999999999,82.825800000000001,82.349900000000005,78.052199999999999,86.864400000000003,90.419600000000003,73.714799999999997,72.364699999999999,76.976100000000002,81.216999999999999,62.534799999999997]
["2016-06-01",{"$f":"MONTH(Indice_UCI[[#This Row],[Período]])&YEAR(Indice_UCI[[#This Row],[Período]])","v":"62016"},78.768199999999993,96.918499999999995,77.687399999999997,81.731700000000004,78.701400000000007,81.279200000000003,85.879400000000004,92.500600000000006,73.804699999999997,71.933599999999998,71.8583,86.664000000000001,63.058300000000003]
["2016-07-01",{"$f":"MONTH(Indice_UCI[[#This Row],[Período]])&YEAR(Indice_UCI[[#This Row],[Período]])","v":"72016"},77.970200000000006,97.260499999999993,76.821399999999997,81.946600000000004,76.464100000000002,81.484800000000007,85.480599999999995,85,75.983800000000002,70.260000000000005,69.1417,82.575000000000003,59.244300000000003]
["2016-08-01",{"$f":"MONTH(Indice_UCI[[#This Row],[Período]])&YEAR(Indice_UCI[[#This Row],[Período]])","v":"82016"},79.094099999999997,92.655500000000004,78.284499999999994,82.142499999999998,69.186099999999996,82.042699999999996,85.692899999999995,89.512900000000002,78.355900000000005,72.123099999999994,75.052099999999996,81.982699999999994,58.941200000000002]
["2016-09-01",{"$f":"MONTH(Indice_UCI[[#This Row],[Período]])&YEAR(Indice_UCI[[#This Row],[Período]])","v":"92016"},78.494200000000006,91.279600000000002,77.730999999999995,82.221999999999994,83.992699999999999,82.8048,85.231200000000001,85.029799999999994,76.350399999999993,73.738200000000006,69.771500000000003,84.626300000000001,54.257399999999997]
["2016-10-01",{"$f":"MONTH(Indice_UCI[[#This Row],[Período]])&YEAR(Indice_UCI[[#This Row],[Período]])","v":"102016"},76.460999999999999,93.135599999999997,75.468000000000004,78.402799999999999,86.706599999999995,80.375900000000001,68.738200000000006,77.995000000000005,76.705100000000002,70.409599999999998,69.303600000000003,81.306600000000003,51.078299999999999]
["2016-11-01",{"$f":"MONTH(Indice_UCI[[#This Row],[Período]])&YEAR(Indice_UCI[[#This Row],[Período]])","v":"112016"},76.363900000000001,91.752499999999998,75.447400000000002,77.711200000000005,86.750399999999999,79.1995,88.047200000000004,80.042599999999993,75.004999999999995,64.684799999999996,69.018299999999996,81.149900000000002,56.379300000000001]
["2016-12-01",{"$f":"MONTH(Indice_UCI[[#This Row],[Período]])&YEAR(Indice_UCI[[#This Row],[Período]])","v":"122016"},75.031599999999997,91.599800000000002,74.044899999999998,80.5184,91.4131,70.460300000000004,88.760300000000001,80.957599999999999,72.863900000000001,60.224899999999998,63.933,81.242999999999995,58.174300000000002]
["2017-01-01",{"$f":"MONTH(Indice_UCI[[#This Row],[Período]])&YEAR(Indice_UCI[[#This Row],[Período]])","v":"12017"},77.017099999999999,87.240499999999997,76.408199999999994,80.734200000000001,81.823899999999995,79.241500000000002,88.404499999999999,69.940899999999999,74.858599999999996,68.566900000000004,73.206900000000005,82.751199999999997,58.260199999999998]
["2017-02-01",{"$f":"MONTH(Indice_UCI[[#This Row],[Período]])&YEAR(Indice_UCI[[#This Row],[Período]])","v":"22017"},76.541200000000003,88.266000000000005,75.829400000000007,79.972200000000001,77.386899999999997,81.610500000000002,92.099199999999996,65.567099999999996,73.587800000000001,65.581199999999995,63.129899999999999,82.237700000000004,59.594000000000001]
["2017-03-01",{"$f":"MONTH(Indice_UCI[[#This Row],[Período]])&YEAR(Indice_UCI[[#This Row],[Período]])","v":"32017"},78.447199999999995,93.001800000000003,77.563699999999997,79.969200000000001,80.003299999999996,83.585899999999995,92.094099999999997,67.402100000000004,75.739800000000002,73.016900000000007,76.357500000000002,83.310299999999998,59.328699999999998]
["2017-04-01",{"$f":"MONTH(Indice_UCI[[#This Row],[Período]])&YEAR(Indice_UCI[[#This Row],[Período]])","v":"42017"},74.560699999999997,88.347499999999997,73.723799999999997,79.592600000000004,73.370900000000006,82.716300000000004,92.209500000000006,82.8,73.727500000000006,60.085900000000002,65.023300000000006,78.7547,57.226199999999999]
["2017-05-01",{"$f":"MONTH(Indice_UCI[[#This Row],[Período]])&YEAR(Indice_UCI[[#This Row],[Período]])","v":"52017"},78.5959,90.994699999999995,77.843199999999996,82.174400000000006,75.0458,81.020499999999998,92.077200000000005,86.812200000000004,73.455399999999997,73.269800000000004,78.710499999999996,81.103099999999998,62.553699999999999]
["2017-06-01",{"$f":"MONTH(Indice_UCI[[#This Row],[Período]])&YEAR(Indice_UCI[[#This Row],[Período]])","v":"62017"},77.434100000000001,94.950400000000002,76.370800000000003,83.846100000000007,72.328500000000005,79.735500000000002,92.182900000000004,87.710899999999995,73.396900000000002,69.380200000000002,80.425799999999995,83.789299999999997,63.409700000000001]
["2017-07-01",{"$f":"MONTH(Indice_UCI[[#This Row],[Período]])&YEAR(Indice_UCI[[#This Row],[Período]])","v":"72017"},79.181399999999996,91.368700000000004,78.441599999999994,83.712500000000006,75.191800000000001,81.707999999999998,91.947199999999995,91.443399999999997,73.3887,68.994399999999999,84.605000000000004,82.621099999999998,65.419799999999995]
["2017-08-01",{"$f":"MONTH(Indice_UCI[[#This Row],[Período]])&YEAR(Indice_UCI[[#This Row],[Período]])","v":"82017"},81.129000000000005,94.377899999999997,80.324700000000007,83.408600000000007,81.991299999999995,83.102199999999996,89.598600000000005,90.223299999999995,73.589299999999994,70.501599999999996,84.106399999999994,82.358999999999995,67.4392]
["2017-09-01",{"$f":"MONTH(Indice_UCI[[#This Row],[Período]])&YEAR(Indice_UCI[[#This Row],[Período]])","v":"92017"},80.773499999999999,93.163499999999999,80.019499999999994,83.6755,84.561000000000007,87.365899999999996,89.872299999999996,76.336799999999997,77.596400000000003,71.041499999999999,80.643600000000006,83.673199999999994,65.635900000000007]
["2017-10-01",{"$f":"MONTH(Indice_UCI[[#This Row],[Período]])&YEAR(Indice_UCI[[#This Row],[Período]])","v":"102017"},80.646500000000003,93.504000000000005,79.864099999999993,83.360900000000001,85.4452,87.791399999999996,71.067099999999996,69.921599999999998,78.151200000000003,72.473299999999995,83.616299999999995,82.7166,65.997600000000006]
["2017-11-01",{"$f":"MONTH(Indice_UCI[[#This Row],[Período]])&YEAR(Indice_UCI[[#This Row],[Período]])","v":"112017"},79.516300000000001,95.141099999999994,78.5655,82.772599999999997,88.325000000000003,85.073099999999997,89.960800000000006,77.160399999999996,76.368399999999994,68.834199999999996,76.747,78.838899999999995,66.601500000000001]
["2017-12-01",{"$f":"MONTH(Indice_UCI[[#This Row],[Período]])&YEAR(Indice_UCI[[#This Row],[Período]])","v":"122017"},77.927800000000005,95.0184,76.890299999999996,79.614199999999997,90.613100000000003,79.381900000000002,89.284599999999998,73.2166,76.274900000000002,66.229500000000002,79.574399999999997,80.245199999999997,67.945400000000006]
["2018-01-01",{"$f":"MONTH(Indice_UCI[[#This Row],[Período]])&YEAR(Indice_UCI[[#This Row],[Período]])","v":"12018"},79.508799999999994,91.904399999999995,78.756299999999996,79.572599999999994,79.782799999999995,83.468999999999994,88.446600000000004,68.297499999999999,77.361000000000004,75.495900000000006,77.914199999999994,80.284199999999998,69.700199999999995]
["2018-02-01",{"$f":"MONTH(Indice_UCI[[#This Row],[Período]])&YEAR(Indice_UCI[[#This Row],[Período]])","v":"22018"},78.345699999999994,89.275300000000001,77.682299999999998,78.448999999999998,70.268799999999999,86.693100000000001,89.563800000000001,64.975399999999993,77.2761,68.322199999999995,74.190299999999993,80.354600000000005,65.829499999999996]
["2018-03-01",{"$f":"MONTH(Indice_UCI[[#This Row],[Período]])&YEAR(Indice_UCI[[#This Row],[Período]])","v":"32018"},79.786900000000003,90.721699999999998,79.123099999999994,80.9148,75.724699999999999,86.578400000000002,90.470500000000001,74.5535,78.080200000000005,75.188999999999993,68.389399999999995,80.337299999999999,67.091800000000006]
["2018-04-01",{"$f":"MONTH(Indice_UCI[[#This Row],[Período]])&YEAR(Indice_UCI[[#This Row],[Período]])","v":"42018"},80.421599999999998,91.036199999999994,79.777299999999997,80.964799999999997,80.055599999999998,84.978300000000004,89.236900000000006,84.506200000000007,79.945099999999996,63.699300000000001,77.407200000000003,79.021299999999997,74.955100000000002]
["2018-05-01",{"$f":"MONTH(Indice_UCI[[#This Row],[Período]])&YEAR(Indice_UCI[[#This Row],[Período]])","v":"52018"},78.756399999999999,89.083600000000004,78.129499999999993,78.344099999999997,53.788699999999999,82.263599999999997,89.772099999999995,84.633099999999999,77.785499999999999,68.257400000000004,75.182699999999997,76.923500000000004,70.142200000000003]
["2018-06-01",{"$f":"MONTH(Indice_UCI[[#This Row],[Período]])&YEAR(Indice_UCI[[#This Row],[Período]])","v":"62018"},79.261700000000005,93.834599999999995,78.377099999999999,81.5077,74.869100000000003,83.596199999999996,91.264600000000002,84.630099999999999,78.099100000000007,69.010099999999994,64.162800000000004,78.5077,77.454899999999995]
["2018-07-01",{"$f":"MONTH(Indice_UCI[[#This Row],[Período]])&YEAR(Indice_UCI[[#This Row],[Período]])","v":"72018"},79.348600000000005,95.250399999999999,78.383300000000006,80.965199999999996,74.174899999999994,84.479600000000005,91.490399999999994,87.807299999999998,80.248500000000007,69.981899999999996,63.475200000000001,77.283100000000005,77.602900000000005]
["2018-08-01",{"$f":"MONTH(Indice_UCI[[#This Row],[Período]])&YEAR(Indice_UCI[[#This Row],[Período]])","v":"82018"},80.581199999999995,94.536500000000004,79.734099999999998,82.252499999999998,68.047899999999998,86.350999999999999,91.744100000000003,86.011300000000006,81.1357,73.573499999999996,63.529200000000003,77.563299999999998,75.691299999999998]
["2018-09-01",{"$f":"MONTH(Indice_UCI[[#This Row],[Período]])&YEAR(Indice_UCI[[#This Row],[Período]])","v":"92018"},80.502600000000001,93.719800000000006,79.700199999999995,82.154799999999994,67.749399999999994,87.948800000000006,91.880499999999998,86.553799999999995,80.660799999999995,73.655299999999997,67.771199999999993,78.447000000000003,72.329300000000003]
["2018-10-01",{"$f":"MONTH(Indice_UCI[[#This Row],[Período]])&YEAR(Indice_UCI[[#This Row],[Período]])","v":"102018"},80.856200000000001,95.831299999999999,79.947199999999995,83.099299999999999,73.938299999999998,87.337900000000005,81.985299999999995,87.088099999999997,81.107200000000006,74.191100000000006,68.162599999999998,84.542900000000003,69.203400000000002]
["2018-11-01",{"$f":"MONTH(Indice_UCI[[#This Row],[Período]])&YEAR(Indice_UCI[[#This Row],[Período]])","v":"112018"},80.240499999999997,97.031899999999993,79.221199999999996,81.209199999999996,77.9816,80.376000000000005,89.066500000000005,78.785200000000003,80.554900000000004,69.185299999999998,70.270099999999999,81.984099999999998,70.461500000000001]
["2018-12-01",{"$f":"MONTH(Indice_UCI[[#This Row],[Período]])&YEAR(Indice_UCI[[#This Row],[Período]])","v":"122018"},78.963800000000006,98.425700000000006,77.782499999999999,80.449399999999997,84.096900000000005,75.102199999999996,88.244699999999995,72.697299999999998,81.162999999999997,66.255600000000001,70.530299999999997,81.550200000000004,65.539900000000003]
["2019-01-01",{"$f":"MONTH(Indice_UCI[[#This Row],[Período]])&YEAR(Indice_UCI[[#This Row],[Período]])","v":"12019"},80.417000000000002,98.400800000000004,79.325299999999999,80.202600000000004,77.912099999999995,82.632999999999996,88.121200000000002,69.244399999999999,80.008499999999998,74.735900000000001,75.927300000000002,85.219200000000001,68.124399999999994]
["2019-02-01",{"$f":"MONTH(Indice_UCI[[#This Row],[Período]])&YEAR(Indice_UCI[[#This Row],[Período]])","v":"22019"},77.917400000000001,68.424599999999998,78.493600000000001,78.641800000000003,73.804900000000004,83.222099999999998,87.930700000000002,70.972700000000003,80.352500000000006,70.446600000000004,74.841099999999997,79.4482,69.710800000000006]
["2019-03-01",{"$f":"MONTH(Indice_UCI[[#This Row],[Período]])&YEAR(Indice_UCI[[#This Row],[Período]])","v":"32019"},78.902299999999997,68.095600000000005,79.558300000000003,78.694299999999998,72.440299999999993,82.039599999999993,86.8185,77.959400000000002,81.272900000000007,74.801400000000001,81.1541,77.786799999999999,66.247100000000003]
["2019-04-01",{"$f":"MONTH(Indice_UCI[[#This Row],[Período]])&YEAR(Indice_UCI[[#This Row],[Período]])","v":"42019"},79.434100000000001,66.081699999999998,80.244699999999995,80.056799999999996,76.258899999999997,84.427700000000002,89.103700000000003,83.500699999999995,81.357600000000005,73.295599999999993,82.3142,80.984999999999999,70.714100000000002]
["2019-05-01",{"$f":"MONTH(Indice_UCI[[#This Row],[Período]])&YEAR(Indice_UCI[[#This Row],[Período]])","v":"52019"},81.107799999999997,65.096999999999994,82.079700000000003,80.572800000000001,78.945899999999995,85.065600000000003,88.883799999999994,87.800399999999996,81.531199999999998,78.087599999999995,84.062600000000003,82.399600000000007,72.300700000000006]
["2019-06-01",{"$f":"MONTH(Indice_UCI[[#This Row],[Período]])&YEAR(Indice_UCI[[#This Row],[Período]])","v":"62019"},78.218000000000004,68.8125,78.789000000000001,83.061199999999999,78.974100000000007,82.099599999999995,88.986199999999997,88.185100000000006,76.864400000000003,73.895799999999994,83.429599999999994,79.377300000000005,69.432599999999994]
["2019-07-01",{"$f":"MONTH(Indice_UCI[[#This Row],[Período]])&YEAR(Indice_UCI[[#This Row],[Período]])","v":"72019"},81.094800000000006,73.471199999999996,81.557599999999994,81.029600000000002,73.969800000000006,84.864800000000002,89.070499999999996,90.198599999999999,82.540199999999999,70.130600000000001,85.298299999999998,79.976500000000001,71.658000000000001]
["2019-08-01",{"$f":"MONTH(Indice_UCI[[#This Row],[Período]])&YEAR(Indice_UCI[[#This Row],[Período]])","v":"82019"},81.294399999999996,76.571399999999997,81.581100000000006,80.697699999999998,73.038499999999999,86.933000000000007,89.201899999999995,86.238200000000006,81.716200000000001,70.756699999999995,84.373400000000004,79.989599999999996,73.126599999999996]
["2019-09-01",{"$f":"MONTH(Indice_UCI[[#This Row],[Período]])&YEAR(Indice_UCI[[#This Row],[Período]])","v":"92019"},80.811599999999999,76.963700000000003,81.045199999999994,81.371600000000001,73.886399999999995,85.341200000000001,92.498999999999995,76.3613,80.410200000000003,66.7239,86.773799999999994,80.156599999999997,72.174199999999999]
["2019-10-01",{"$f":"MONTH(Indice_UCI[[#This Row],[Período]])&YEAR(Indice_UCI[[#This Row],[Período]])","v":"102019"},81.532799999999995,78.749399999999994,81.701800000000006,79.809200000000004,76.548400000000001,82.136700000000005,89.467299999999994,62.1736,81.897400000000005,73.188999999999993,86.727000000000004,81.771699999999996,71.856399999999994]
["2019-11-01",{"$f":"MONTH(Indice_UCI[[#This Row],[Período]])&YEAR(Indice_UCI[[#This Row],[Período]])","v":"112019"},81.952799999999996,81.238600000000005,81.996200000000002,79.314599999999999,74.823400000000007,85.712900000000005,86.431399999999996,71.861000000000004,80.898300000000006,73.863299999999995,84.745099999999994,81.897000000000006,75.334599999999995]
["2019-12-01",{"$f":"MONTH(Indice_UCI[[#This Row],[Período]])&YEAR(Indice_UCI[[#This Row],[Período]])","v":"122019"},81.113299999999995,81.110699999999994,81.113399999999999,79.642099999999999,87.974100000000007,81.848299999999995,85.99,80.493099999999998,79.432500000000005,69.570400000000006,80.361900000000006,82.866100000000003,75.603999999999999]
["2020-01-01",{"$f":"MONTH(Indice_UCI[[#This Row],[Período]])&YEAR(Indice_UCI[[#This Row],[Período]])","v":"12020"},80.7166,78.692400000000006,80.839500000000001,78.972399999999993,81.626800000000003,82.515100000000004,88.8352,74.854799999999997,79.503699999999995,69.730599999999995,80.728399999999993,82.0244,74.213200000000001]
["2020-02-01",{"$f":"MONTH(Indice_UCI[[#This Row],[Período]])&YEAR(Indice_UCI[[#This Row],[Período]])","v":"22020"},80.568899999999999,79.741799999999998,80.619100000000003,78.756699999999995,72.919799999999995,85.126300000000001,87.724599999999995,68.235799999999998,80.156999999999996,68.412199999999999,77.390600000000006,82.9803,79.391800000000003]
["2020-03-01",{"$f":"MONTH(Indice_UCI[[#This Row],[Período]])&YEAR(Indice_UCI[[#This Row],[Período]])","v":"32020"},78.042299999999997,77.775300000000001,78.058599999999998,79.883799999999994,49.610100000000003,80.276899999999998,88.415800000000004,70.514899999999997,80.027500000000003,66.398499999999999,74.959299999999999,82.332700000000003,72.389499999999998]
["2020-04-01",{"$f":"MONTH(Indice_UCI[[#This Row],[Período]])&YEAR(Indice_UCI[[#This Row],[Período]])","v":"42020"},70.385999999999996,79.152199999999993,69.853800000000007,83.286000000000001,32.067500000000003,57.777799999999999,88.278099999999995,44.9011,77.301500000000004,63.646700000000003,67.562399999999997,79.947599999999994,39.080399999999997]
["2020-05-01",{"$f":"MONTH(Indice_UCI[[#This Row],[Período]])&YEAR(Indice_UCI[[#This Row],[Período]])","v":"52020"},73.751499999999993,82.3322,73.230599999999995,83.3703,49.6036,68.070899999999995,85.538499999999999,56,73.117599999999996,64.193799999999996,72.481300000000005,77.879499999999993,61.146999999999998]
["2020-06-01",{"$f":"MONTH(Indice_UCI[[#This Row],[Período]])&YEAR(Indice_UCI[[#This Row],[Período]])","v":"62020"},73.879900000000006,76.648200000000003,73.711799999999997,84.041700000000006,72.028599999999997,63.357900000000001,86.479799999999997,72.849900000000005,80.827200000000005,60.728499999999997,76.039500000000004,72.6434,63.374699999999997]
["2020-07-01",{"$f":"MONTH(Indice_UCI[[#This Row],[Período]])&YEAR(Indice_UCI[[#This Row],[Período]])","v":"72020"},77.304599999999994,82.660600000000002,76.979500000000002,83.291399999999996,72.649900000000002,71.498099999999994,86.933099999999996,77.500299999999996,80.160799999999995,67.781300000000002,79.623400000000004,74.198899999999995,64.058599999999998]
["2020-08-01",{"$f":"MONTH(Indice_UCI[[#This Row],[Período]])&YEAR(Indice_UCI[[#This Row],[Período]])","v":"82020"},81.433300000000003,81.890199999999993,81.405600000000007,83.662300000000002,82.090900000000005,82.583299999999994,85.267300000000006,79.744900000000001,86.469700000000003,73.032300000000006,80.069199999999995,76.796000000000006,75.574299999999994]
["2020-09-01",{"$f":"MONTH(Indice_UCI[[#This Row],[Período]])&YEAR(Indice_UCI[[#This Row],[Período]])","v":"92020"},83.242800000000003,83.793000000000006,83.209400000000002,84.147400000000005,84.325100000000006,88.035499999999999,87.658500000000004,80.725800000000007,88.416600000000003,66.6524,86.054100000000005,82.206400000000002,76.644599999999997]
["2020-10-01",{"$f":"MONTH(Indice_UCI[[#This Row],[Período]])&YEAR(Indice_UCI[[#This Row],[Período]])","v":"102020"},84.302599999999998,83.0959,84.375799999999998,83.552999999999997,87.412999999999997,86.995800000000003,86.253,86.408100000000005,90.993200000000002,73.485900000000001,85.997900000000001,81.313299999999998,80.082800000000006]
["2020-11-01",{"$f":"MONTH(Indice_UCI[[#This Row],[Período]])&YEAR(Indice_UCI[[#This Row],[Período]])","v":"112020"},82.691000000000003,83.776200000000003,82.625100000000003,81.903800000000004,88.317499999999995,88.763800000000003,88.319199999999995,87.726100000000002,91.275999999999996,73.4512,85.643900000000002,81.763599999999997,80.670500000000004]
["2020-12-01",{"$f":"MONTH(Indice_UCI[[#This Row],[Período]])&YEAR(Indice_UCI[[#This Row],[Período]])","v":"122020"},82.620800000000003,91.830699999999993,82.061700000000002,82.8142,90.195899999999995,84.621300000000005,87.541300000000007,90.341200000000001,71.786000000000001,75.061999999999998,82.578599999999994,83.537499999999994,78.556100000000001]
["2021-01-01",{"$f":"MONTH(Indice_UCI[[#This Row],[Período]])&YEAR(Indice_UCI[[#This Row],[Período]])","v":"12021"},81.763000000000005,82.143299999999996,81.739999999999995,80.765299999999996,85.360799999999998,84.742400000000004,87.888999999999996,86.128100000000003,90.436000000000007,72.020700000000005,87.273499999999999,80.674700000000001,80.644599999999997]
["2021-02-01",{"$f":"MONTH(Indice_UCI[[#This Row],[Período]])&YEAR(Indice_UCI[[#This Row],[Período]])","v":"22021"},82.565799999999996,85.450500000000005,82.390699999999995,79.283600000000007,75.854500000000002,86.533299999999997,87.028400000000005,81.387100000000004,89.675600000000003,70.789599999999993,85.539100000000005,79.484499999999997,82.152100000000004]
["2021-03-01",{"$f":"MONTH(Indice_UCI[[#This Row],[Período]])&YEAR(Indice_UCI[[#This Row],[Período]])","v":"32021"},82.524100000000004,86.535899999999998,82.280600000000007,79.774799999999999,65.778599999999997,86.132900000000006,86.953400000000002,77.414900000000003,90.948400000000007,70.631,85.653099999999995,80.820700000000002,84.615300000000005]
["2021-04-01",{"$f":"MONTH(Indice_UCI[[#This Row],[Período]])&YEAR(Indice_UCI[[#This Row],[Período]])","v":"42021"},83.471000000000004,85.828299999999999,83.3279,81.691999999999993,68.799000000000007,83.764300000000006,87.090100000000007,86.055499999999995,90.112499999999997,74.116100000000003,84.669600000000003,80.873699999999999,89.568399999999997]
["2021-05-01",{"$f":"MONTH(Indice_UCI[[#This Row],[Período]])&YEAR(Indice_UCI[[#This Row],[Período]])","v":"52021"},84.014600000000002,81.8262,84.147499999999994,81.975300000000004,86.207800000000006,86.249399999999994,87.759500000000003,83.646100000000004,92.075100000000006,77.202399999999997,79.444699999999997,82.121700000000004,89.496300000000005]
["2021-06-01",{"$f":"MONTH(Indice_UCI[[#This Row],[Período]])&YEAR(Indice_UCI[[#This Row],[Período]])","v":"62021"},83.882199999999997,85.020300000000006,83.813199999999995,83.357500000000002,79.465699999999998,81.143100000000004,88.700800000000001,85.255600000000001,91.830299999999994,76.051100000000005,81.948599999999999,81.995800000000003,86.207800000000006]
["2021-07-01",{"$f":"MONTH(Indice_UCI[[#This Row],[Período]])&YEAR(Indice_UCI[[#This Row],[Período]])","v":"72021"},84.322199999999995,88.221999999999994,84.085400000000007,82.615899999999996,71.893600000000006,84.853200000000001,88.334400000000002,89.282399999999996,92.013999999999996,74.109099999999998,82.863399999999999,82.997699999999995,88.589799999999997]
["2021-08-01",{"$f":"MONTH(Indice_UCI[[#This Row],[Período]])&YEAR(Indice_UCI[[#This Row],[Período]])","v":"82021"},84.634299999999996,89.386700000000005,84.345799999999997,82.366100000000003,78.058499999999995,87.190200000000004,86.281700000000001,92.017200000000003,92.291499999999999,75.683300000000003,85.318299999999994,85.050200000000004,89.509799999999998]
["2021-09-01",{"$f":"MONTH(Indice_UCI[[#This Row],[Período]])&YEAR(Indice_UCI[[#This Row],[Período]])","v":"92021"},83.105000000000004,85.677199999999999,82.948899999999995,80.607200000000006,81.968400000000003,83.976500000000001,88.842799999999997,94.26,92.737499999999997,73.272099999999995,81.309399999999997,84.332300000000004,82.817700000000002]
["2021-10-01",{"$f":"MONTH(Indice_UCI[[#This Row],[Período]])&YEAR(Indice_UCI[[#This Row],[Período]])","v":"102021"},82.330799999999996,85.705299999999994,82.126000000000005,81.824299999999994,80.859300000000005,82.700599999999994,88.2209,86.022599999999997,90.882800000000003,73.247600000000006,82.963200000000001,83.3322,73.842299999999994]
["2021-11-01",{"$f":"MONTH(Indice_UCI[[#This Row],[Período]])&YEAR(Indice_UCI[[#This Row],[Período]])","v":"112021"},82.085300000000004,84.615600000000001,81.931700000000006,83.048599999999993,82.648499999999999,84.972999999999999,87.882199999999997,83.379099999999994,90.878,75.821200000000005,84.334900000000005,81.887,71.339200000000005]
["2021-12-01",{"$f":"MONTH(Indice_UCI[[#This Row],[Período]])&YEAR(Indice_UCI[[#This Row],[Período]])","v":"122021"},76.993799999999993,84.724599999999995,76.524500000000003,82.695499999999996,86.937399999999997,77.538300000000007,86.185599999999994,84.671999999999997,91.597999999999999,73.270499999999998,82.483699999999999,79.636600000000001,71.232900000000001]
["2022-01-01",{"$f":"MONTH(Indice_UCI[[#This Row],[Período]])&YEAR(Indice_UCI[[#This Row],[Período]])","v":"12022"},81.819900000000004,80.042100000000005,81.927800000000005,81.091200000000001,67.988699999999994,80.604200000000006,83.2727,84.439099999999996,89.478499999999997,68.966499999999996,86.754499999999993,82.2864,74.249200000000002]
["2022-02-01",{"$f":"MONTH(Indice_UCI[[#This Row],[Período]])&YEAR(Indice_UCI[[#This Row],[Período]])","v":"22022"},82.537599999999998,82.754499999999993,82.524500000000003,78.767300000000006,73.382999999999996,80.962800000000001,85.604200000000006,80.533100000000005,89.581699999999998,71.867800000000003,82.237399999999994,85.075199999999995,82.385000000000005]
["2022-03-01",{"$f":"MONTH(Indice_UCI[[#This Row],[Período]])&YEAR(Indice_UCI[[#This Row],[Período]])","v":"32022"},84.589699999999993,86.828000000000003,84.453800000000001,81.164100000000005,82.404300000000006,84.011499999999998,85.575699999999998,79.468999999999994,91.281199999999998,78.578100000000006,84.807000000000002,86.544600000000003,82.518500000000003]
["2022-04-01",{"$f":"MONTH(Indice_UCI[[#This Row],[Período]])&YEAR(Indice_UCI[[#This Row],[Período]])","v":"42022"},83.442700000000002,82.397999999999996,83.506100000000004,79.003799999999998,84.096500000000006,83.928600000000003,83.4666,85.048299999999998,91.350999999999999,73.139600000000002,86.110500000000002,77.093599999999995,81.241799999999998]
["2022-05-01",{"$f":"MONTH(Indice_UCI[[#This Row],[Período]])&YEAR(Indice_UCI[[#This Row],[Período]])","v":"52022"},84.257599999999996,72.928200000000004,84.945300000000003,81.741900000000001,86.09,85.818899999999999,80.488,89.85,94.377799999999993,75.656000000000006,82.942999999999998,79.183700000000002,80.695999999999998]
["2022-06-01",{"$f":"MONTH(Indice_UCI[[#This Row],[Período]])&YEAR(Indice_UCI[[#This Row],[Período]])","v":"62022"},83.476100000000002,87.459400000000002,83.234300000000005,81.164500000000004,79.126800000000003,83.221100000000007,77.334400000000002,91.021299999999997,93.310299999999998,74.153700000000001,80.816900000000004,76.3005,76.780199999999994]
["2022-07-01",{"$f":"MONTH(Indice_UCI[[#This Row],[Período]])&YEAR(Indice_UCI[[#This Row],[Período]])","v":"72022"},83.519099999999995,85.301900000000003,83.410899999999998,82.2029,80.499200000000002,84.243600000000001,83.394999999999996,87.710599999999999,93.241500000000002,73.760300000000001,80.605500000000006,80.416399999999996,77.953900000000004]
["2022-08-01",{"$f":"MONTH(Indice_UCI[[#This Row],[Período]])&YEAR(Indice_UCI[[#This Row],[Período]])","v":"82022"},83.666399999999996,79.9041,83.8947,83.095699999999994,80.010400000000004,83.276799999999994,80.078599999999994,91.570300000000003,94.027299999999997,66.868899999999996,81.554000000000002,81.222399999999993,80.402500000000003]
["2022-09-01",{"$f":"MONTH(Indice_UCI[[#This Row],[Período]])&YEAR(Indice_UCI[[#This Row],[Período]])","v":"92022"},82.6708,81.815299999999993,82.722800000000007,79.939800000000005,80.892300000000006,82.062600000000003,81.210300000000004,90.131699999999995,91.436999999999998,71.164599999999993,80.382499999999993,78.673400000000001,79.769499999999994]
["2022-10-01",{"$f":"MONTH(Indice_UCI[[#This Row],[Período]])&YEAR(Indice_UCI[[#This Row],[Período]])","v":"102022"},82.576999999999998,79.442800000000005,82.767200000000003,81.021900000000002,80.078800000000001,80.705399999999997,81.745000000000005,88.645899999999997,86.003699999999995,73.470699999999994,81.983400000000003,79.982399999999998,79.858699999999999]
["2022-11-01",{"$f":"MONTH(Indice_UCI[[#This Row],[Período]])&YEAR(Indice_UCI[[#This Row],[Período]])","v":"112022"},83.188299999999998,85.9636,83.019900000000007,80.959599999999995,85.036600000000007,73.453100000000006,82.069000000000003,87.002799999999993,85.130799999999994,74.719099999999997,85.773300000000006,78.742500000000007,82.349900000000005]
["2022-12-01",{"$f":"MONTH(Indice_UCI[[#This Row],[Período]])&YEAR(Indice_UCI[[#This Row],[Período]])","v":"122022"},79.948499999999996,82.490899999999996,79.7941,80.588099999999997,85.869600000000005,70.589699999999993,82.462299999999999,84.170299999999997,74.9255,73.514700000000005,80.840299999999999,79.828900000000004,79.638199999999998]
["2023-01-01",{"$f":"MONTH(Indice_UCI[[#This Row],[Período]])&YEAR(Indice_UCI[[#This Row],[Período]])","v":"12023"},80.0154,55.348700000000001,81.512699999999995,79.714200000000005,82.734200000000001,72.657200000000003,88.927800000000005,85.167500000000004,85.291499999999999,71.574399999999997,88.7393,79.142899999999997,78.492199999999997]
["2023-02-01",{"$f":"MONTH(Indice_UCI[[#This Row],[Período]])&YEAR(Indice_UCI[[#This Row],[Período]])","v":"22023"},79.138199999999998,79.275099999999995,79.129900000000006,70.959400000000002,81.941900000000004,73.925899999999999,80.287199999999999,80.978700000000003,80.899299999999997,66.690899999999999,75.654499999999999,77.751300000000001,81.494299999999996]